{"text_format":"1","workbook":"xlsx","n_sheets":6,"sheets":["Výstup","Výpočet srážek","Výpočet čistého příjmu","Statistická data 2024","Kategorie a legenda","CZ-NACE"],"not_rendered":{"charts":1,"images":0,"macros":1,"external_links":0,"defined_names":18,"comments":2,"pivot_tables":0},"unopened":[],"bounds":{"document_bytes":16777216,"sheet_cells":100000,"rows_first":2000,"rows_last":500,"rows_between":2000,"halvings":0,"cell_chars":16384,"cell_head_chars":4096},"cells_cut":0,"cells_raw":0,"read":"whole","date_system":"1900"}

{"sheet":"Výstup","index":0,"n_rows":210,"n_cols":16,"rows_kept":210,"cut":false,"hidden":false,"merged":[[4,1,4,2],[20,1,20,2]]}
[]
[null,"Jméno a příjmení"]
[null,"Spisová značka"]
[]
[null,"Údaje pro určení výše hrubých příjmů na základě statistických dat za rok 2024"]
[null,{"$f":"TabPohlaví[[#Headers],[Pohlaví]]","v":"Pohlaví"},"Žena"]
[null,{"$f":"TabVěk[[#Headers],[Věk]]","v":"Věk"},"do 34 let    "]
[null,{"$f":"TabVzdělání[[#Headers],[Vzdělání]]","v":"Vzdělání"},"Střední s maturitou a vyšší odborné"]
[null,{"$f":"TabObor[[#Headers],[Obor činnosti dle CZ-NACE]]","v":"Obor činnosti dle CZ-NACE"},"1. Souhrnná data bez rozlišení oborů",""]
[null,{"$f":"TabRegion[[#Headers],[Region]]","v":"Region"},"1. Hlavní město Praha"]
[null,"Úvazek",1]
[null,"Počet osob s podobnými charakteristikami",{"$f":"IFERROR(IF(VLOOKUP(1,StatData[],13,0)<>\"*\",VLOOKUP(1,StatData[],13,0),Chyba),Chyba)","v":33309.484375}]
[]
[null,"Vyhodnocení příjmového potenciálu dlužníka"]
[null,"Aktuální hrubé příjmy dlužníka",39685]
[null,"Nejvyšší minulé hrubé příjmy dlužníka",43341]
[null,"Požadovaný percentil příjmů",30]
[null,"Požadovaná výše hrubých příjmů",{"$f":"VLOOKUP(C17,B31:C58,2,0)","v":34628}]
[null,"Porovnání s dlužníky v oddlužení v roce 2023",{"$f":"\"Požadovaná výše hrubých příjmů je vyšší než u \"& FIXED(VLOOKUP($C$17,E110:M137,9,0)*100,1)& \" % průměrných dlužníků v oddlužení.\"","v":"Požadovaná výše hrubých příjmů je vyšší než u 83,1 % průměrných dlužníků v oddlužení."}]
[]
[null,"Údaje pro výpočet výše čistých příjmů \n(pro více informací vizte list Výpočet čistého příjmu)"]
[null,"Sleva na poplatníka","Ano"]
[null,"Počet dětí, na které je uplatňován daňový bonus",1]
[null,"Z toho počet dětí s průkazem ZTP/P",0]
[null,"Postižení","Ne"]
[null,"Sleva na manžela / manželku","Ne"]
[null,"Sleva na pojistném pro pracující důchodce","Ne"]
[]
[null,"Tab. 1: Distribuce příjmů osob s vybranými charakteristikami"]
[null,{"$f":"TabPercentil[[#All],[Percentil]]","v":"Percentil"},"Hrubé příjmy osob s podobnými charakteristikami","Čisté příjmy osob s podobnými charakteristikami"]
[null,5,{"$f":"IFERROR(ROUND(VLOOKUP(1,StatData[],VLOOKUP(B31,TabPercentil[],2,0),0),0)*Úvazek, NA())","v":22433},{"$f":"'Výpočet čistého příjmu'!J7","v":20292}]
[null,7.5,{"$f":"IFERROR(ROUND(VLOOKUP(1,StatData[],VLOOKUP(B32,TabPercentil[],2,0),0),0)*Úvazek, NA())","v":24779},{"$f":"'Výpočet čistého příjmu'!J8","v":22020}]
[null,10,{"$f":"IFERROR(ROUND(VLOOKUP(1,StatData[],VLOOKUP(B33,TabPercentil[],2,0),0),0)*Úvazek, NA())","v":26553},{"$f":"'Výpočet čistého příjmu'!J9","v":23319}]
[null,12.5,{"$f":"IFERROR(ROUND(VLOOKUP(1,StatData[],VLOOKUP(B34,TabPercentil[],2,0),0),0)*Úvazek, NA())","v":28272},{"$f":"'Výpočet čistého příjmu'!J10","v":24583}]
[null,15,{"$f":"IFERROR(ROUND(VLOOKUP(1,StatData[],VLOOKUP(B35,TabPercentil[],2,0),0),0)*Úvazek, NA())","v":29600},{"$f":"'Výpočet čistého příjmu'!J11","v":25563}]
[null,17.5,{"$f":"IFERROR(ROUND(VLOOKUP(1,StatData[],VLOOKUP(B36,TabPercentil[],2,0),0),0)*Úvazek, NA())","v":30541},{"$f":"'Výpočet čistého příjmu'!J12","v":26244}]
[null,20,{"$f":"IFERROR(ROUND(VLOOKUP(1,StatData[],VLOOKUP(B37,TabPercentil[],2,0),0),0)*Úvazek, NA())","v":31452},{"$f":"'Výpočet čistého příjmu'!J13","v":26914}]
[null,22.5,{"$f":"IFERROR(ROUND(VLOOKUP(1,StatData[],VLOOKUP(B38,TabPercentil[],2,0),0),0)*Úvazek, NA())","v":32404},{"$f":"'Výpočet čistého příjmu'!J14","v":27606}]
[null,25,{"$f":"IFERROR(ROUND(VLOOKUP(1,StatData[],VLOOKUP(B39,TabPercentil[],2,0),0),0)*Úvazek, NA())","v":33056},{"$f":"'Výpočet čistého příjmu'!J15","v":28093}]
[null,27.5,{"$f":"IFERROR(ROUND(VLOOKUP(1,StatData[],VLOOKUP(B40,TabPercentil[],2,0),0),0)*Úvazek, NA())","v":33873},{"$f":"'Výpočet čistého příjmu'!J16","v":28695}]
[null,30,{"$f":"IFERROR(ROUND(VLOOKUP(1,StatData[],VLOOKUP(B41,TabPercentil[],2,0),0),0)*Úvazek, NA())","v":34628},{"$f":"'Výpočet čistého příjmu'!J17","v":29242}]
[null,32.5,{"$f":"IFERROR(ROUND(VLOOKUP(1,StatData[],VLOOKUP(B42,TabPercentil[],2,0),0),0)*Úvazek, NA())","v":35389},{"$f":"'Výpočet čistého příjmu'!J18","v":29810}]
[null,35,{"$f":"IFERROR(ROUND(VLOOKUP(1,StatData[],VLOOKUP(B43,TabPercentil[],2,0),0),0)*Úvazek, NA())","v":36058},{"$f":"'Výpočet čistého příjmu'!J19","v":30296}]
[null,37.5,{"$f":"IFERROR(ROUND(VLOOKUP(1,StatData[],VLOOKUP(B44,TabPercentil[],2,0),0),0)*Úvazek, NA())","v":36655},{"$f":"'Výpočet čistého příjmu'!J20","v":30734}]
[null,40,{"$f":"IFERROR(ROUND(VLOOKUP(1,StatData[],VLOOKUP(B45,TabPercentil[],2,0),0),0)*Úvazek, NA())","v":37477},{"$f":"'Výpočet čistého příjmu'!J21","v":31341}]
[null,42.5,{"$f":"IFERROR(ROUND(VLOOKUP(1,StatData[],VLOOKUP(B46,TabPercentil[],2,0),0),0)*Úvazek, NA())","v":38116},{"$f":"'Výpočet čistého příjmu'!J22","v":31800}]
[null,45,{"$f":"IFERROR(ROUND(VLOOKUP(1,StatData[],VLOOKUP(B47,TabPercentil[],2,0),0),0)*Úvazek, NA())","v":38868},{"$f":"'Výpočet čistého příjmu'!J23","v":32360}]
[null,47.5,{"$f":"IFERROR(ROUND(VLOOKUP(1,StatData[],VLOOKUP(B48,TabPercentil[],2,0),0),0)*Úvazek, NA())","v":39664},{"$f":"'Výpočet čistého příjmu'!J24","v":32944}]
[null,50,{"$f":"IFERROR(ROUND(VLOOKUP(1,StatData[],VLOOKUP(B49,TabPercentil[],2,0),0),0)*Úvazek, NA())","v":40562},{"$f":"'Výpočet čistého příjmu'!J25","v":33603}]
[null,55,{"$f":"IFERROR(ROUND(VLOOKUP(1,StatData[],VLOOKUP(B50,TabPercentil[],2,0),0),0)*Úvazek, NA())","v":42075},{"$f":"'Výpočet čistého příjmu'!J26","v":34715}]
[null,60,{"$f":"IFERROR(ROUND(VLOOKUP(1,StatData[],VLOOKUP(B51,TabPercentil[],2,0),0),0)*Úvazek, NA())","v":43744},{"$f":"'Výpočet čistého příjmu'!J27","v":35936}]
[null,65,{"$f":"IFERROR(ROUND(VLOOKUP(1,StatData[],VLOOKUP(B52,TabPercentil[],2,0),0),0)*Úvazek, NA())","v":45576},{"$f":"'Výpočet čistého příjmu'!J28","v":37286}]
[null,70,{"$f":"IFERROR(ROUND(VLOOKUP(1,StatData[],VLOOKUP(B53,TabPercentil[],2,0),0),0)*Úvazek, NA())","v":47473},{"$f":"'Výpočet čistého příjmu'!J29","v":38677}]
[null,75,{"$f":"IFERROR(ROUND(VLOOKUP(1,StatData[],VLOOKUP(B54,TabPercentil[],2,0),0),0)*Úvazek, NA())","v":50047},{"$f":"'Výpočet čistého příjmu'!J30","v":40562}]
[null,80,{"$f":"IFERROR(ROUND(VLOOKUP(1,StatData[],VLOOKUP(B55,TabPercentil[],2,0),0),0)*Úvazek, NA())","v":53217},{"$f":"'Výpočet čistého příjmu'!J31","v":42885}]
[null,85,{"$f":"IFERROR(ROUND(VLOOKUP(1,StatData[],VLOOKUP(B56,TabPercentil[],2,0),0),0)*Úvazek, NA())","v":57094},{"$f":"'Výpočet čistého příjmu'!J32","v":45742}]
[null,90,{"$f":"IFERROR(ROUND(VLOOKUP(1,StatData[],VLOOKUP(B57,TabPercentil[],2,0),0),0)*Úvazek, NA())","v":62401},{"$f":"'Výpočet čistého příjmu'!J33","v":49623}]
[null,95,{"$f":"IFERROR(ROUND(VLOOKUP(1,StatData[],VLOOKUP(B58,TabPercentil[],2,0),0),0)*Úvazek, NA())","v":73220},{"$f":"'Výpočet čistého příjmu'!J34","v":57568}]
[]
[]
[]
[]
[]
[]
[]
[]
[]
[]
[]
[]
[]
[]
[]
[]
[]
[]
[]
[]
[]
[]
[]
[]
[]
[]
[]
[]
[]
[]
[]
[]
[]
[]
[]
[]
[]
[]
[]
[]
[]
[]
[]
[]
[]
[]
[]
[]
[]
[null,"Údaje pro výpočet výše čisté mzdy:",null,null,"Tab. 1: Distribuce příjmů",null,null,null,null,null,null,null,null,null,"Tab. 2: Skutečná výše splátek dlužníků v oddlužení"]
[null,"Počet dětí, na které je uplatňována daňová sleva",1,null,{"$f":"TabPercentil[[#All],[Percentil]]","v":"Percentil"},"Hrubá mzda ","Čistá mzda","Výše srážky","Závazný příslib","Splátka do SK celkem",{"$f":"\"Celkem za \"&\nDoba&\" měsíců\"","v":"Celkem za 36 měsíců"},"Míra uspok. ze SK","Percentil skutečných splátek",null,"Percentil","Skutečné splátky"]
[null,null,null,null,5,{"$f":"IFERROR(ROUND(VLOOKUP(1,StatData[],VLOOKUP(E110,TabPercentil[],2,0),0),0)*Úvazek, NA())","v":22433},{"$f":"'Výpočet čistého příjmu'!J7","v":20292},{"$f":"'Výpočet srážek'!B41","v":2940},{"$f":"IF(Příslib-H110>0,Příslib-H110,0)","v":0},{"$f":"H110+I110+TřetíOsoba","v":2940},{"$f":"((H110+I110+TřetíOsoba)*Doba)+MimořádnáSplátka","v":105840},{"$f":"(K110-Přednostní)/Nepřednostní","v":0.133272},{"$f":"IF(ISNUMBER(((INDEX($O$110:$O$210,MATCH(H110,$P$110:$P$210,1)+1)-INDEX($O$110:$O$210,MATCH(H110,$P$110:$P$210,1)))/(INDEX($P$110:$P$210,MATCH(H110,$P$110:$P$210,1)+1)-INDEX($P$110:$P$210,MATCH(H110,$P$110:$P$210,1)))*H110+(INDEX($O$110:$O$210,MATCH(H110,$P$110:$P$210,1))-(INDEX($O$110:$O$210,MATCH(H110,$P$110:$P$210,1)+1)-INDEX($O$110:$O$210,MATCH(H110,$P$110:$P$210,1)))/(INDEX($P$110:$P$210,MATCH(H110,$P$110:$P$210,1)+1)-INDEX($P$110:$P$210,MATCH(H110,$P$110:$P$210,1)))*INDEX($P$110:$P$210,MATCH(H110,$P$110:$P$210,1))))/100),(((INDEX($O$110:$O$210,MATCH(H110,$P$110:$P$210,1)+1)-INDEX($O$110:$O$210,MATCH(H110,$P$110:$P$210,1)))/(INDEX($P$110:$P$210,MATCH(H110,$P$110:$P$210,1)+1)-INDEX($P$110:$P$210,MATCH(H110,$P$110:$P$210,1)))*H110+(INDEX($O$110:$O$210,MATCH(H110,$P$110:$P$210,1))-(INDEX($O$110:$O$210,MATCH(H110,$P$110:$P$210,1)+1)-INDEX($O$110:$O$210,MATCH(H110,$P$110:$P$210,1)))/(INDEX($P$110:$P$210,MATCH(H110,$P$110:$P$210,1)+1)-INDEX($P$110:$P$210,MATCH(H110,$P$110:$P$210,1)))*INDEX($P$110:$P$210,MATCH(H110,$P$110:$P$210,1))))/100),0.95)","v":0.4078947368421052},null,0,0]
[null,"Údaje pro výpočet výše insolvenční srážky ze mzdy:",null,null,7.5,{"$f":"IFERROR(ROUND(VLOOKUP(1,StatData[],VLOOKUP(E111,TabPercentil[],2,0),0),0)*Úvazek, NA())","v":24779},{"$f":"'Výpočet čistého příjmu'!J8","v":22020},{"$f":"'Výpočet srážek'!B42","v":4092},0,4092,147312,0.21621599999999999,{"$f":"IF(ISNUMBER(((INDEX($O$110:$O$210,MATCH(H111,$P$110:$P$210,1)+1)-INDEX($O$110:$O$210,MATCH(H111,$P$110:$P$210,1)))/(INDEX($P$110:$P$210,MATCH(H111,$P$110:$P$210,1)+1)-INDEX($P$110:$P$210,MATCH(H111,$P$110:$P$210,1)))*H111+(INDEX($O$110:$O$210,MATCH(H111,$P$110:$P$210,1))-(INDEX($O$110:$O$210,MATCH(H111,$P$110:$P$210,1)+1)-INDEX($O$110:$O$210,MATCH(H111,$P$110:$P$210,1)))/(INDEX($P$110:$P$210,MATCH(H111,$P$110:$P$210,1)+1)-INDEX($P$110:$P$210,MATCH(H111,$P$110:$P$210,1)))*INDEX($P$110:$P$210,MATCH(H111,$P$110:$P$210,1))))/100),(((INDEX($O$110:$O$210,MATCH(H111,$P$110:$P$210,1)+1)-INDEX($O$110:$O$210,MATCH(H111,$P$110:$P$210,1)))/(INDEX($P$110:$P$210,MATCH(H111,$P$110:$P$210,1)+1)-INDEX($P$110:$P$210,MATCH(H111,$P$110:$P$210,1)))*H111+(INDEX($O$110:$O$210,MATCH(H111,$P$110:$P$210,1))-(INDEX($O$110:$O$210,MATCH(H111,$P$110:$P$210,1)+1)-INDEX($O$110:$O$210,MATCH(H111,$P$110:$P$210,1)))/(INDEX($P$110:$P$210,MATCH(H111,$P$110:$P$210,1)+1)-INDEX($P$110:$P$210,MATCH(H111,$P$110:$P$210,1)))*INDEX($P$110:$P$210,MATCH(H111,$P$110:$P$210,1))))/100),0.95)","v":0.53920000000000001},null,1,0]
[null,"Počet zohledňovaných osob, kterým je dlužník povinen poskytovat výživné",1,null,10,{"$f":"IFERROR(ROUND(VLOOKUP(1,StatData[],VLOOKUP(E112,TabPercentil[],2,0),0),0)*Úvazek, NA())","v":26553},{"$f":"'Výpočet čistého příjmu'!J9","v":23319},{"$f":"'Výpočet srážek'!B43","v":4958},0,4958,178488,0.27856799999999998,0.60719999999999996,null,2,0]
[null,null,null,null,12.5,{"$f":"IFERROR(ROUND(VLOOKUP(1,StatData[],VLOOKUP(E113,TabPercentil[],2,0),0),0)*Úvazek, NA())","v":28272},{"$f":"'Výpočet čistého příjmu'!J10","v":24583},{"$f":"'Výpočet srážek'!B44","v":5800},0,5800,208800,0.33919199999999999,0.67335000000000012,null,3,0]
[null,"Údaje pro výpočet předpokládané míry uspokojení a průměrné výše splátky:",null,null,15,{"$f":"IFERROR(ROUND(VLOOKUP(1,StatData[],VLOOKUP(E114,TabPercentil[],2,0),0),0)*Úvazek, NA())","v":29600},{"$f":"'Výpočet čistého příjmu'!J11","v":25563},{"$f":"'Výpočet srážek'!B45","v":6454},0,6454,232344,0.38628000000000001,0.71684931506849314,null,4,0]
[null,"Doba plnění splátkového kalendáře v měsících",36,null,17.5,{"$f":"IFERROR(ROUND(VLOOKUP(1,StatData[],VLOOKUP(E115,TabPercentil[],2,0),0),0)*Úvazek, NA())","v":30541},{"$f":"'Výpočet čistého příjmu'!J12","v":26244},{"$f":"'Výpočet srážek'!B46","v":6908},0,6908,248688,0.41896800000000001,0.74070175438596497,null,5,0]
[null,"Celková výše přednostních pohledávek",{"$f":"36*1089","v":39204},null,20,{"$f":"IFERROR(ROUND(VLOOKUP(1,StatData[],VLOOKUP(E116,TabPercentil[],2,0),0),0)*Úvazek, NA())","v":31452},{"$f":"'Výpočet čistého příjmu'!J13","v":26914},{"$f":"'Výpočet srážek'!B47","v":7354},0,7354,264744,0.45107999999999998,0.76600840336134457,null,6,0]
[null,"Celková výše pohledávek nezajištěných věřitelů",500000,null,22.5,{"$f":"IFERROR(ROUND(VLOOKUP(1,StatData[],VLOOKUP(E117,TabPercentil[],2,0),0),0)*Úvazek, NA())","v":32404},{"$f":"'Výpočet čistého příjmu'!J14","v":27606},{"$f":"'Výpočet srážek'!B48","v":7816},0,7816,281376,0.484344,0.7894495412844037,null,7,0]
[null,"Závazný příslib dlužníka do částky",0,null,25,{"$f":"IFERROR(ROUND(VLOOKUP(1,StatData[],VLOOKUP(E118,TabPercentil[],2,0),0),0)*Úvazek, NA())","v":33056},{"$f":"'Výpočet čistého příjmu'!J15","v":28093},{"$f":"'Výpočet srážek'!B49","v":8140},0,8140,293040,0.50767200000000001,0.80536398467432946,null,8,0]
[null,"Pravidelné plnění třetí osoby",0,null,27.5,{"$f":"IFERROR(ROUND(VLOOKUP(1,StatData[],VLOOKUP(E119,TabPercentil[],2,0),0),0)*Úvazek, NA())","v":33873},{"$f":"'Výpočet čistého příjmu'!J16","v":28695},{"$f":"'Výpočet srážek'!B50","v":8542},0,8542,307512,0.53661599999999998,0.81946127946127945,null,9,0]
[null,"Mimořádná splátka",0,null,30,{"$f":"IFERROR(ROUND(VLOOKUP(1,StatData[],VLOOKUP(E120,TabPercentil[],2,0),0),0)*Úvazek, NA())","v":34628},{"$f":"'Výpočet čistého příjmu'!J17","v":29242},{"$f":"'Výpočet srážek'!B51","v":8906},0,8906,320616,0.56282399999999999,0.83099009900990095,null,10,0]
[null,null,null,null,32.5,{"$f":"IFERROR(ROUND(VLOOKUP(1,StatData[],VLOOKUP(E121,TabPercentil[],2,0),0),0)*Úvazek, NA())","v":35389},{"$f":"'Výpočet čistého příjmu'!J18","v":29810},{"$f":"'Výpočet srážek'!B52","v":9286},0,9286,334296,0.59018400000000004,0.84634615384615386,null,11,0]
[null,null,null,null,35,{"$f":"IFERROR(ROUND(VLOOKUP(1,StatData[],VLOOKUP(E122,TabPercentil[],2,0),0),0)*Úvazek, NA())","v":36058},{"$f":"'Výpočet čistého příjmu'!J19","v":30296},{"$f":"'Výpočet srážek'!B53","v":9610},0,9610,345960,0.61351199999999995,0.85648148148148151,null,12,0]
[null,null,null,null,37.5,{"$f":"IFERROR(ROUND(VLOOKUP(1,StatData[],VLOOKUP(E123,TabPercentil[],2,0),0),0)*Úvazek, NA())","v":36655},{"$f":"'Výpočet čistého příjmu'!J20","v":30734},{"$f":"'Výpočet srážek'!B54","v":9902},0,9902,356472,0.63453599999999999,0.86644927536231875,null,13,0]
[null,"Požadovaná výše splátky",{"$f":"VLOOKUP($C$17,E110:L137,4,0)","v":8906},null,40,{"$f":"IFERROR(ROUND(VLOOKUP(1,StatData[],VLOOKUP(E124,TabPercentil[],2,0),0),0)*Úvazek, NA())","v":37477},{"$f":"'Výpočet čistého příjmu'!J21","v":31341},{"$f":"'Výpočet srážek'!B55","v":10306},0,10306,371016,0.66362399999999999,0.88125592417061616,null,14,300]
[null,"Míra uspokojení ze SK",{"$f":"VLOOKUP($C$17,E110:L137,8,0)","v":0.56282399999999999},null,42.5,{"$f":"IFERROR(ROUND(VLOOKUP(1,StatData[],VLOOKUP(E125,TabPercentil[],2,0),0),0)*Úvazek, NA())","v":38116},{"$f":"'Výpočet čistého příjmu'!J22","v":31800},{"$f":"'Výpočet srážek'!B56","v":10612},0,10612,382032,0.68565600000000004,0.88850710900473939,null,15,623]
[null,null,null,null,45,{"$f":"IFERROR(ROUND(VLOOKUP(1,StatData[],VLOOKUP(E126,TabPercentil[],2,0),0),0)*Úvazek, NA())","v":38868},{"$f":"'Výpočet čistého příjmu'!J23","v":32360},{"$f":"'Výpočet srážek'!B57","v":10986},0,10986,395496,0.712584,0.89749397590361435,null,16,1000]
[null,"Vyhodnocení majetkových poměrů dlužníka",null,null,47.5,{"$f":"IFERROR(ROUND(VLOOKUP(1,StatData[],VLOOKUP(E127,TabPercentil[],2,0),0),0)*Úvazek, NA())","v":39664},{"$f":"'Výpočet čistého příjmu'!J24","v":32944},{"$f":"'Výpočet srážek'!B58","v":11374},0,11374,409464,0.74051999999999996,0.9064545454545454,null,17,1183]
[null,"Výtěžek zpeněžení",50000,null,50,{"$f":"IFERROR(ROUND(VLOOKUP(1,StatData[],VLOOKUP(E128,TabPercentil[],2,0),0),0)*Úvazek, NA())","v":40562},{"$f":"'Výpočet čistého příjmu'!J25","v":33603},{"$f":"'Výpočet srážek'!B59","v":11814},0,11814,425304,0.7722,0.91604255319148931,null,18,1392]
[null,"Míra uspokojení z výtěžku",{"$f":"C128/Nepřednostní","v":0.1},null,55,{"$f":"IFERROR(ROUND(VLOOKUP(1,StatData[],VLOOKUP(E129,TabPercentil[],2,0),0),0)*Úvazek, NA())","v":42075},{"$f":"'Výpočet čistého příjmu'!J26","v":34715},{"$f":"'Výpočet srážek'!B60","v":12556},0,12556,452016,0.82562400000000002,0.92973730297723289,null,19,1541]
[null,null,null,null,60,{"$f":"IFERROR(ROUND(VLOOKUP(1,StatData[],VLOOKUP(E130,TabPercentil[],2,0),0),0)*Úvazek, NA())","v":43744},{"$f":"'Výpočet čistého příjmu'!J27","v":35936},{"$f":"'Výpočet srážek'!B61","v":13370},0,13370,481320,0.88423200000000002,0.94148886283704569,null,20,1668]
[null,"Výsledek",null,null,65,{"$f":"IFERROR(ROUND(VLOOKUP(1,StatData[],VLOOKUP(E131,TabPercentil[],2,0),0),0)*Úvazek, NA())","v":45576},{"$f":"'Výpočet čistého příjmu'!J28","v":37286},{"$f":"'Výpočet srážek'!B62","v":14270},0,14270,513720,0.94903199999999999,0.95169260700389113,null,21,1800]
[null,"Celková míra uspokojení",{"$f":"C129+C125","v":0.66282399999999997},null,70,{"$f":"IFERROR(ROUND(VLOOKUP(1,StatData[],VLOOKUP(E132,TabPercentil[],2,0),0),0)*Úvazek, NA())","v":47473},{"$f":"'Výpočet čistého příjmu'!J29","v":38677},{"$f":"'Výpočet srážek'!B63","v":15196},0,15196,547056,1.0157039999999999,0.96052516411378552,null,22,1957]
[null,null,null,null,75,{"$f":"IFERROR(ROUND(VLOOKUP(1,StatData[],VLOOKUP(E133,TabPercentil[],2,0),0),0)*Úvazek, NA())","v":50047},{"$f":"'Výpočet čistého příjmu'!J30","v":40562},{"$f":"'Výpočet srážek'!B64","v":16454},0,16454,592344,1.1062799999999999,0.96970094821298314,null,23,2050]
[null,"Percentil skutečných splátek dlužníků v oddlužení",{"$f":"VLOOKUP($C$17,E110:L137,9,0)","v":{"$error":"#REF!"}},null,80,{"$f":"IFERROR(ROUND(VLOOKUP(1,StatData[],VLOOKUP(E134,TabPercentil[],2,0),0),0)*Úvazek, NA())","v":53217},{"$f":"'Výpočet čistého příjmu'!J31","v":42885},{"$f":"'Výpočet srážek'!B65","v":18002},0,18002,648072,1.2177359999999999,0.97689702517162469,null,24,2180]
[null,null,null,null,85,{"$f":"IFERROR(ROUND(VLOOKUP(1,StatData[],VLOOKUP(E135,TabPercentil[],2,0),0),0)*Úvazek, NA())","v":57094},{"$f":"'Výpočet čistého příjmu'!J32","v":45742},{"$f":"'Výpočet srážek'!B66","v":20331.5},0,20331.5,731934,1.3854599999999999,0.98466657247810119,null,25,2200]
[null,null,null,null,90,{"$f":"IFERROR(ROUND(VLOOKUP(1,StatData[],VLOOKUP(E136,TabPercentil[],2,0),0),0)*Úvazek, NA())","v":62401},{"$f":"'Výpočet čistého příjmu'!J33","v":49623},{"$f":"'Výpočet srážek'!B67","v":24212.5},0,24212.5,871650,1.664892,0.99090965092402472,null,26,2202]
[null,null,null,null,95,{"$f":"IFERROR(ROUND(VLOOKUP(1,StatData[],VLOOKUP(E137,TabPercentil[],2,0),0),0)*Úvazek, NA())","v":73220},{"$f":"'Výpočet čistého příjmu'!J34","v":57568},{"$f":"'Výpočet srážek'!B68","v":32157.5},0,32157.5,1157670,2.2369319999999999,0.99453502167465202,null,27,2292]
[null,null,null,null,null,null,null,null,null,null,null,null,null,null,28,2300]
[null,null,null,null,null,null,null,null,null,null,null,null,null,null,29,2310]
[null,null,null,null,null,null,null,null,null,null,null,null,null,null,30,2376]
[null,null,null,null,null,null,null,null,null,null,null,null,null,null,31,2400]
[null,null,null,null,null,null,null,null,null,null,null,null,null,null,32,2474]
[null,null,null,null,null,null,null,null,null,null,null,null,null,null,33,2500]
[null,null,null,null,null,null,null,null,null,null,null,null,null,null,34,2500]
[null,null,null,null,null,null,null,null,null,null,null,null,null,null,35,2500]
[null,null,null,null,null,null,null,null,null,null,null,null,null,null,36,2527]
[null,null,null,null,null,null,null,null,null,null,null,null,null,null,37,2600]
[null,null,null,null,null,null,null,null,null,null,null,null,null,null,38,2688]
[null,null,null,null,null,null,null,null,null,null,null,null,null,null,39,2754]
[null,null,null,null,null,null,null,null,null,null,null,null,null,null,40,2850]
[null,null,null,null,null,null,null,null,null,null,null,null,null,null,41,2964]
[null,null,null,null,null,null,null,null,null,null,null,null,null,null,42,3000]
[null,null,null,null,null,null,null,null,null,null,null,null,null,null,43,3000]
[null,null,null,null,null,null,null,null,null,null,null,null,null,null,44,3097]
[null,null,null,null,null,null,null,null,null,null,null,null,null,null,45,3200]
[null,null,null,null,null,null,null,null,null,null,null,null,null,null,46,3326]
[null,null,null,null,null,null,null,null,null,null,null,null,null,null,47,3458]
[null,null,null,null,null,null,null,null,null,null,null,null,null,null,48,3500]
[null,null,null,null,null,null,null,null,null,null,null,null,null,null,49,3600]
[null,null,null,null,null,null,null,null,null,null,null,null,null,null,50,3718]
[null,null,null,null,null,null,null,null,null,null,null,null,null,null,51,3858]
[null,null,null,null,null,null,null,null,null,null,null,null,null,null,52,3970]
[null,null,null,null,null,null,null,null,null,null,null,null,null,null,53,4000]
[null,null,null,null,null,null,null,null,null,null,null,null,null,null,54,4100]
[null,null,null,null,null,null,null,null,null,null,null,null,null,null,55,4210]
[null,null,null,null,null,null,null,null,null,null,null,null,null,null,56,4338]
[null,null,null,null,null,null,null,null,null,null,null,null,null,null,57,4462]
[null,null,null,null,null,null,null,null,null,null,null,null,null,null,58,4578]
[null,null,null,null,null,null,null,null,null,null,null,null,null,null,59,4700]
[null,null,null,null,null,null,null,null,null,null,null,null,null,null,60,4850]
[null,null,null,null,null,null,null,null,null,null,null,null,null,null,61,5000]
[null,null,null,null,null,null,null,null,null,null,null,null,null,null,62,5000]
[null,null,null,null,null,null,null,null,null,null,null,null,null,null,63,5114]
[null,null,null,null,null,null,null,null,null,null,null,null,null,null,64,5267]
[null,null,null,null,null,null,null,null,null,null,null,null,null,null,65,5424]
[null,null,null,null,null,null,null,null,null,null,null,null,null,null,66,5558]
[null,null,null,null,null,null,null,null,null,null,null,null,null,null,67,5733]
[null,null,null,null,null,null,null,null,null,null,null,null,null,null,68,5933]
[null,null,null,null,null,null,null,null,null,null,null,null,null,null,69,6002]
[null,null,null,null,null,null,null,null,null,null,null,null,null,null,70,6166]
[null,null,null,null,null,null,null,null,null,null,null,null,null,null,71,6354]
[null,null,null,null,null,null,null,null,null,null,null,null,null,null,72,6500]
[null,null,null,null,null,null,null,null,null,null,null,null,null,null,73,6699]
[null,null,null,null,null,null,null,null,null,null,null,null,null,null,74,6900]
[null,null,null,null,null,null,null,null,null,null,null,null,null,null,75,7014]
[null,null,null,null,null,null,null,null,null,null,null,null,null,null,76,7211]
[null,null,null,null,null,null,null,null,null,null,null,null,null,null,77,7449]
[null,null,null,null,null,null,null,null,null,null,null,null,null,null,78,7610]
[null,null,null,null,null,null,null,null,null,null,null,null,null,null,79,7828]
[null,null,null,null,null,null,null,null,null,null,null,null,null,null,80,8000]
[null,null,null,null,null,null,null,null,null,null,null,null,null,null,81,8261]
[null,null,null,null,null,null,null,null,null,null,null,null,null,null,82,8558]
[null,null,null,null,null,null,null,null,null,null,null,null,null,null,83,8886]
[null,null,null,null,null,null,null,null,null,null,null,null,null,null,84,9088]
[null,null,null,null,null,null,null,null,null,null,null,null,null,null,85,9400]
[null,null,null,null,null,null,null,null,null,null,null,null,null,null,86,9724]
[null,null,null,null,null,null,null,null,null,null,null,null,null,null,87,10000]
[null,null,null,null,null,null,null,null,null,null,null,null,null,null,88,10253]
[null,null,null,null,null,null,null,null,null,null,null,null,null,null,89,10675]
[null,null,null,null,null,null,null,null,null,null,null,null,null,null,90,11090]
[null,null,null,null,null,null,null,null,null,null,null,null,null,null,91,11530]
[null,null,null,null,null,null,null,null,null,null,null,null,null,null,92,12000]
[null,null,null,null,null,null,null,null,null,null,null,null,null,null,93,12571]
[null,null,null,null,null,null,null,null,null,null,null,null,null,null,94,13243]
[null,null,null,null,null,null,null,null,null,null,null,null,null,null,95,14096]
[null,null,null,null,null,null,null,null,null,null,null,null,null,null,96,15124]
[null,null,null,null,null,null,null,null,null,null,null,null,null,null,97,16495]
[null,null,null,null,null,null,null,null,null,null,null,null,null,null,98,18680]
[null,null,null,null,null,null,null,null,null,null,null,null,null,null,99,22219]
[null,null,null,null,null,null,null,null,null,null,null,null,null,null,100,44134]

{"sheet":"Výpočet srážek","index":1,"n_rows":68,"n_cols":29,"rows_kept":68,"cut":false,"hidden":true,"merged":[]}
["Od 1. 1. 2024 do 31. 12. 2024",{"$f":"TRANSPOSE(OblČistáMzda)","v":20292},22020,23319,24583,25563,26244,26914,27606,28093,28695,29242,29810,30296,30734,31341,31800,32360,32944,33603,34715,35936,37286,38677,40562,42885,45742,49623,57568]
["Nastavení (koeficienty dlužník, vyživovaná osoba, srážka bez omezení nad, paušální náhrada pro Zle, minimální mzda)",{"$f":"2/3","v":0.66666666666666663},{"$f":"1/4","v":0.25},1.5,50,18900]
["Minimální srážka",0,0,0,0,0,0,0,0,0,0,0,0,0,0,0,0,0,0,0,0,0,0,0,0,0,0,0,0]
["Životní minimum jednotlivce",4860,{"$f":"B4","v":4860},{"$f":"C4","v":4860},4860,4860,4860,4860,4860,4860,4860,4860,4860,4860,4860,4860,4860,4860,4860,4860,4860,4860,4860,4860,4860,4860,4860,4860,4860]
["NNB (bydlení v bytech užívaných na základě nájemní smlouvy, jedna osoba, 50 000+ obyvatel obce)",14197,14197,14197,14197,14197,14197,14197,14197,14197,14197,14197,14197,14197,14197,14197,14197,14197,14197,14197,14197,14197,14197,14197,14197,14197,14197,14197,14197]
["Zvýšení NNB",0,0,0,0,0,0,0,0,0,0,0,0,0,0,0,0,0,0,0,0,0,0,0,0,0,0,0,0]
["Navýšení NNB",0,0,0,0,0,0,0,0,0,0,0,0,0,0,0,0,0,0,0,0,0,0,0,0,0,0,0,0]
["Celkem: Normativní náklady na bydlení ",{"$f":"B5+B6+B7","v":14197},14197,{"$f":"C8","v":14197},14197,14197,14197,14197,14197,14197,14197,14197,14197,14197,14197,14197,14197,14197,{"$f":"R8","v":14197},14197,14197,14197,14197,14197,14197,14197,14197,14197,14197]
["Součet ŽM A NNB",{"$f":"B4+B8","v":19057},19057,{"$f":"C9","v":19057},19057,19057,19057,19057,19057,19057,19057,19057,19057,19057,19057,19057,19057,19057,19057,19057,19057,19057,19057,19057,19057,19057,19057,19057,19057]
["Výše čisté mzdy",{"$f":"B1","v":20292},{"$f":"C1","v":22020},23319,24583,25563,26244,26914,27606,28093,28695,29242,29810,30296,30734,31341,31800,32360,32944,33603,34715,35936,37286,38677,40562,42885,45742,49623,57568]
["Počet dětí",{"$f":"Vyživovaní","v":1},{"$f":"B11","v":1},1,1,1,1,1,1,1,1,1,1,1,1,1,1,1,{"$f":"R11","v":1},1,1,1,1,1,1,1,1,1,1]
["Manželka",0,0,0,0,0,0,0,0,0,0,0,0,0,0,0,0,0,0,0,0,0,0,0,0,0,0,0,0]
["Sraženo minimální srážkou",{"$f":"B10-B14","v":0},{"$f":"C10-C14","v":0},{"$f":"D10-D14","v":0},0,0,0,0,0,0,0,0,0,0,0,0,0,0,0,0,0,0,0,0,0,0,0,0,0]
["Zbytek po minimální srážce",{"$f":"IF(B10-B3>0,B10-B3,0)","v":20292},{"$f":"IF(C10-C3>0,C10-C3,0)","v":22020},{"$f":"IF(D10-D3>0,D10-D3,0)","v":23319},24583,25563,26244,26914,27606,28093,28695,29242,29810,30296,30734,31341,31800,32360,32944,33603,34715,35936,37286,38677,40562,42885,45742,49623,57568]
["Nezabavitelná částka",{"$f":"$B$2*(B4+B8)+(B11+B12)*$C$2*$B$2*(B4+B8)","v":15880.833333333332},{"$f":"$B$2*(C4+C8)+(C11+C12)*$C$2*$B$2*(C4+C8)","v":15880.833333333332},{"$f":"$B$2*(D4+D8)+(D11+D12)*$C$2*$B$2*(D4+D8)","v":15880.833333333332},15880.833333333332,15880.833333333332,15880.833333333332,15880.833333333332,15880.833333333332,15880.833333333332,15880.833333333332,15880.833333333332,15880.833333333332,15880.833333333332,15880.833333333332,15880.833333333332,15880.833333333332,15880.833333333332,15880.833333333332,15880.833333333332,15880.833333333332,15880.833333333332,15880.833333333332,15880.833333333332,15880.833333333332,15880.833333333332,15880.833333333332,15880.833333333332,15880.833333333332]
["- na dlužníka",{"$f":"$B$2*(B4+B8)","v":12704.666666666666},{"$f":"$B$2*(C4+C8)","v":12704.666666666666},{"$f":"$B$2*(D4+D8)","v":12704.666666666666},12704.666666666666,12704.666666666666,12704.666666666666,12704.666666666666,12704.666666666666,12704.666666666666,12704.666666666666,12704.666666666666,12704.666666666666,12704.666666666666,12704.666666666666,12704.666666666666,12704.666666666666,12704.666666666666,12704.666666666666,12704.666666666666,12704.666666666666,12704.666666666666,12704.666666666666,12704.666666666666,12704.666666666666,12704.666666666666,12704.666666666666,12704.666666666666,12704.666666666666]
["- na vyživované osoby",{"$f":"(B11+B12)*$C$2*$B$2*(B4+B8)","v":3176.1666666666665},{"$f":"(C11+C12)*$C$2*$B$2*(C4+C8)","v":3176.1666666666665},{"$f":"(D11+D12)*$C$2*$B$2*(D4+D8)","v":3176.1666666666665},3176.1666666666665,3176.1666666666665,3176.1666666666665,3176.1666666666665,3176.1666666666665,3176.1666666666665,3176.1666666666665,3176.1666666666665,3176.1666666666665,3176.1666666666665,3176.1666666666665,3176.1666666666665,3176.1666666666665,3176.1666666666665,3176.1666666666665,3176.1666666666665,3176.1666666666665,3176.1666666666665,3176.1666666666665,3176.1666666666665,3176.1666666666665,3176.1666666666665,3176.1666666666665,3176.1666666666665,3176.1666666666665]
["Nezabavitelná částka se zaokrouhlením nahoru",{"$f":"CEILING(B15,1)","v":15881},{"$f":"CEILING(C15,1)","v":15881},{"$f":"CEILING(D15,1)","v":15881},15881,15881,15881,15881,15881,15881,15881,15881,15881,15881,15881,15881,15881,15881,15881,15881,15881,15881,15881,15881,15881,15881,15881,15881,15881]
["Zbytek čisté mzdy",{"$f":"IF(B14-B18<0,0,B14-B18)","v":4411},{"$f":"IF(C14-C18<0,0,C14-C18)","v":6139},{"$f":"IF(D14-D18<0,0,D14-D18)","v":7438},8702,9682,10363,11033,11725,12212,12814,13361,13929,14415,14853,15460,15919,16479,17063,17722,18834,20055,21405,22796,24681,27004,29861,33742,41687]
["Srážka bez omezení nad zbytek čisté mzdy (1,5x(ŽM+NNB))",{"$f":"$D$2*(B4+B8)","v":28585.5},{"$f":"$D$2*(C4+C8)","v":28585.5},{"$f":"$D$2*(D4+D8)","v":28585.5},28585.5,28585.5,28585.5,28585.5,28585.5,28585.5,28585.5,28585.5,28585.5,28585.5,28585.5,28585.5,28585.5,28585.5,28585.5,28585.5,28585.5,28585.5,28585.5,28585.5,28585.5,28585.5,28585.5,28585.5,28585.5]
["Srážka bez omezení nad čistou mzdu (NČ + 1,5x(ŽM+NNB))",{"$f":"B18+B20","v":44466.5},{"$f":"C18+C20","v":44466.5},{"$f":"D18+D20","v":44466.5},44466.5,44466.5,44466.5,44466.5,44466.5,44466.5,44466.5,44466.5,44466.5,44466.5,44466.5,44466.5,44466.5,44466.5,44466.5,44466.5,44466.5,44466.5,44466.5,44466.5,44466.5,44466.5,44466.5,44466.5,44466.5]
["Výše srážky bez omezení pro věřitele",{"$f":"IF(B19-B20>0,B19-B20,0)","v":0},{"$f":"IF(C19-C20>0,C19-C20,0)","v":0},{"$f":"IF(D19-D20>0,D19-D20,0)","v":0},0,0,0,0,0,0,0,0,0,0,0,0,0,0,0,0,0,0,0,0,0,0,1275.5,5156.5,13101.5]
["Srážka s omezením z částky",{"$f":"B19-B22","v":4411},{"$f":"C19-C22","v":6139},{"$f":"D19-D22","v":7438},8702,9682,10363,11033,11725,12212,12814,13361,13929,14415,14853,15460,15919,16479,17063,17722,18834,20055,21405,22796,24681,27004,28585.5,28585.5,28585.5]
["- zaokrouhlené dolů na číslo dělitelné třemi",{"$f":"FLOOR(B23/3,1)*3","v":4410},{"$f":"FLOOR(C23/3,1)*3","v":6138},{"$f":"FLOOR(D23/3,1)*3","v":7437},8700,9681,10362,11031,11724,12210,12813,13359,13929,14415,14853,15459,15918,16479,17061,17721,18834,20055,21405,22794,24681,27003,28584,28584,28584]
["- zbytek po zaokrouhlení dolů pro dlužníka",{"$f":"B23-B24","v":1},{"$f":"C23-C24","v":1},{"$f":"D23-D24","v":1},2,1,1,2,1,2,1,2,0,0,0,1,1,0,2,1,0,0,0,2,0,1,1.5,1.5,1.5]
["Insolvence, přednostní pohledávky"]
["- jedna třetina dlužníkovi",{"$f":"B24/3","v":1470},{"$f":"C24/3","v":2046},{"$f":"D24/3","v":2479},2900,3227,3454,3677,3908,4070,4271,4453,4643,4805,4951,5153,5306,5493,5687,5907,6278,6685,7135,7598,8227,9001,9528,9528,9528]
["- dvě třetiny věřitelům",{"$f":"B24/3*2","v":2940},{"$f":"C24/3*2","v":4092},{"$f":"D24/3*2","v":4958},5800,6454,6908,7354,7816,8140,8542,8906,9286,9610,9902,10306,10612,10986,11374,11814,12556,13370,14270,15196,16454,18002,19056,19056,19056]
["Dlužníku připadne celkem",{"$f":"IF(B14<(B18+B25+B27),B14,B18+B25+B27)","v":17352},{"$f":"IF(C14<(C18+C25+C27),C14,C18+C25+C27)","v":17928},{"$f":"IF(D14<(D18+D25+D27),D14,D18+D25+D27)","v":18361},18783,19109,19336,19560,19790,19953,20153,20336,20524,20686,20832,21035,21188,21374,21570,21789,22159,22566,23016,23481,24108,24883,25410.5,25410.5,25410.5]
["Věřitelům připadne celkem",{"$f":"B13+B22+B28","v":2940},{"$f":"C13+C22+C28","v":4092},{"$f":"D13+D22+D28","v":4958},5800,6454,6908,7354,7816,8140,8542,8906,9286,9610,9902,10306,10612,10986,11374,11814,12556,13370,14270,15196,16454,18002,20331.5,24212.5,32157.5]
["Exekuce, nepřednostní pohledávky"]
["- dvě třetiny dlužníku",{"$f":"B24/3*2","v":2940},{"$f":"C24/3*2","v":4092},{"$f":"D24/3*2","v":4958},5800,6454,6908,7354,7816,8140,8542,8906,9286,9610,9902,10306,10612,10986,11374,11814,12556,13370,14270,15196,16454,18002,19056,19056,19056]
["- jedna třetina věřitelům",{"$f":"B24/3*1","v":1470},{"$f":"C24/3*1","v":2046},{"$f":"D24/3*1","v":2479},2900,3227,3454,3677,3908,4070,4271,4453,4643,4805,4951,5153,5306,5493,5687,5907,6278,6685,7135,7598,8227,9001,9528,9528,9528]
["Dlužníku připadne celkem",{"$f":"IF(B14<(B18+B25+B32),B14,B18+B25+B32)","v":18822},{"$f":"IF(C14<(C18+C25+C32),C14,C18+C25+C32)","v":19974},{"$f":"IF(D14<(D18+D25+D32),D14,D18+D25+D32)","v":20840},21683,22336,22790,23237,23698,24023,24424,24789,25167,25491,25783,26188,26494,26867,27257,27696,28437,29251,30151,31079,32335,33884,34938.5,34938.5,34938.5]
["Věřitelům připadne celkem",{"$f":"B13+B22+B33","v":1470},{"$f":"C13+C22+C33","v":2046},{"$f":"D13+D22+D33","v":2479},2900,3227,3454,3677,3908,4070,4271,4453,4643,4805,4951,5153,5306,5493,5687,5907,6278,6685,7135,7598,8227,9001,10803.5,14684.5,22629.5]
["Pokud plátce mzdy uplatňuje paušální náhradu"]
["- Věřitelům připadne celkem",{"$f":"B35-B38","v":1420},{"$f":"C35-C38","v":1996},{"$f":"D35-D38","v":2429},2850,3177,3404,3627,3858,4020,4221,4403,4593,4755,4901,5103,5256,5443,5637,5857,6228,6635,7085,7548,8177,8951,10753.5,14634.5,22579.5]
["- Plátci mzdy připadne celkem",{"$f":"IF(CEILING(B35/3,1)<$E$2,CEILING(B35/3,1), $E$2)","v":50},{"$f":"IF(CEILING(C35/3,1)<$E$2,CEILING(C35/3,1), $E$2)","v":50},{"$f":"IF(CEILING(D35/3,1)<$E$2,CEILING(D35/3,1), $E$2)","v":50},50,50,50,50,50,50,50,50,50,50,50,50,50,50,50,50,50,50,50,50,50,50,50,50,50]
[]
[null,"Výše srážky"]
[null,{"$f":"TRANSPOSE(B30:AC30)","v":2940}]
[null,4092]
[null,4958]
[null,5800]
[null,6454]
[null,6908]
[null,7354]
[null,7816]
[null,8140]
[null,8542]
[null,8906]
[null,9286]
[null,9610]
[null,9902]
[null,10306]
[null,10612]
[null,10986]
[null,11374]
[null,11814]
[null,12556]
[null,13370]
[null,14270]
[null,15196]
[null,16454]
[null,18002]
[null,20331.5]
[null,24212.5]
[null,32157.5]

{"sheet":"Výpočet čistého příjmu","index":2,"n_rows":34,"n_cols":12,"rows_kept":34,"cut":false,"hidden":false,"merged":[[22,1,24,2],[1,1,2,2]]}
[]
[null,"Údaje pro určení výše čistých příjmů na základě nastavení účinného v roce 2024 a 2025:"]
[]
[]
[null,"Kontrolní výpočet (výsledek se zobrazuje jen níže jako Čistý příjem)",null,null,"Daně",null,null,"Automatický přepočet"]
[null,"Hrubý příjem",33333,null,"Daň ze mzdy",0.15,null,{"$f":"TabPercentil[[#All],[Percentil]]","v":"Percentil"},"Hrubý příjem","Čistý příjem",null," "]
[null,null,null,null,"Sleva na poplatníka",2570,null,5,{"$f":"Výstup!C31","v":22433},{"$f":"MIN((I7-ROUNDUP((IF(I7>100,ROUNDUP(I7,-2), ROUNDUP(I7,0)))*$F$6,0)-ROUNDUP(IF(Výstup!$C$27=\"Ne\", I7*$F$10, 0)+I7*$F$11,0)-ROUNDUP(I7*$F$14,0)+IF(Výstup!$C$22=\"Ano\",$F$7,0)+IF(Výstup!$C$23>=1, $F$17, 0) + IF(Výstup!$C$23>=2, $F$18, 0) + IF(Výstup!$C$23>=3, (Výstup!$C$23-2)*$F$19, 0) + IF(AND(Výstup!$C$23=1, Výstup!$C$24=1),$F$17,0) + IF(AND(Výstup!$C$23=2, Výstup!$C$24=2), $F$17+$F$18) + IF(AND(Výstup!$C$23=2, Výstup!$C$24=1), $F$18) + IF(Výstup!$C$23>2, IF(Výstup!$C$23-Výstup!$C$24 > 1, Výstup!$C$24*$F$19)) + IF(Výstup!$C$23>2, IF(Výstup!$C$23-Výstup!$C$24 = 1, (Výstup!$C$24-1)*$F$19+$F$18)) + IF(Výstup!$C$23>2, IF(Výstup!$C$23-Výstup!$C$24 = 0, (Výstup!$C$24-2)*$F$19+$F$18+$F$17))+VLOOKUP(Výstup!$C$25,$E$22:$F$25,2,FALSE)+VLOOKUP(Výstup!$C$26,$E$28:$F$30,2,FALSE)),I7)","v":20292}]
[null,"Daně / odvody",null,null,null,null,null,7.5,{"$f":"Výstup!C32","v":24779},{"$f":"MIN((I8-ROUNDUP((IF(I8>100,ROUNDUP(I8,-2), ROUNDUP(I8,0)))*$F$6,0)-ROUNDUP(IF(Výstup!$C$27=\"Ne\", I8*$F$10, 0)+I8*$F$11,0)-ROUNDUP(I8*$F$14,0)+IF(Výstup!$C$22=\"Ano\",$F$7,0)+IF(Výstup!$C$23>=1, $F$17, 0) + IF(Výstup!$C$23>=2, $F$18, 0) + IF(Výstup!$C$23>=3, (Výstup!$C$23-2)*$F$19, 0) + IF(AND(Výstup!$C$23=1, Výstup!$C$24=1),$F$17,0) + IF(AND(Výstup!$C$23=2, Výstup!$C$24=2), $F$17+$F$18) + IF(AND(Výstup!$C$23=2, Výstup!$C$24=1), $F$18) + IF(Výstup!$C$23>2, IF(Výstup!$C$23-Výstup!$C$24 > 1, Výstup!$C$24*$F$19)) + IF(Výstup!$C$23>2, IF(Výstup!$C$23-Výstup!$C$24 = 1, (Výstup!$C$24-1)*$F$19+$F$18)) + IF(Výstup!$C$23>2, IF(Výstup!$C$23-Výstup!$C$24 = 0, (Výstup!$C$24-2)*$F$19+$F$18+$F$17))+VLOOKUP(Výstup!$C$25,$E$22:$F$25,2,FALSE)+VLOOKUP(Výstup!$C$26,$E$28:$F$30,2,FALSE)),I8)","v":22020}]
[null,"Základ daně",{"$f":"IF(C6>100,ROUNDUP(C6,-2), ROUNDUP(C6,0))","v":33400},null,"Sociální pojištění",null,null,10,{"$f":"Výstup!C33","v":26553},{"$f":"MIN((I9-ROUNDUP((IF(I9>100,ROUNDUP(I9,-2), ROUNDUP(I9,0)))*$F$6,0)-ROUNDUP(IF(Výstup!$C$27=\"Ne\", I9*$F$10, 0)+I9*$F$11,0)-ROUNDUP(I9*$F$14,0)+IF(Výstup!$C$22=\"Ano\",$F$7,0)+IF(Výstup!$C$23>=1, $F$17, 0) + IF(Výstup!$C$23>=2, $F$18, 0) + IF(Výstup!$C$23>=3, (Výstup!$C$23-2)*$F$19, 0) + IF(AND(Výstup!$C$23=1, Výstup!$C$24=1),$F$17,0) + IF(AND(Výstup!$C$23=2, Výstup!$C$24=2), $F$17+$F$18) + IF(AND(Výstup!$C$23=2, Výstup!$C$24=1), $F$18) + IF(Výstup!$C$23>2, IF(Výstup!$C$23-Výstup!$C$24 > 1, Výstup!$C$24*$F$19)) + IF(Výstup!$C$23>2, IF(Výstup!$C$23-Výstup!$C$24 = 1, (Výstup!$C$24-1)*$F$19+$F$18)) + IF(Výstup!$C$23>2, IF(Výstup!$C$23-Výstup!$C$24 = 0, (Výstup!$C$24-2)*$F$19+$F$18+$F$17))+VLOOKUP(Výstup!$C$25,$E$22:$F$25,2,FALSE)+VLOOKUP(Výstup!$C$26,$E$28:$F$30,2,FALSE)),I9)","v":23319}]
[null,"Daň FO",{"$f":"ROUNDUP(C9*F6,0)","v":5010},null,"Důchodové poj.",6.5000000000000002E-2,null,12.5,{"$f":"Výstup!C34","v":28272},{"$f":"MIN((I10-ROUNDUP((IF(I10>100,ROUNDUP(I10,-2), ROUNDUP(I10,0)))*$F$6,0)-ROUNDUP(IF(Výstup!$C$27=\"Ne\", I10*$F$10, 0)+I10*$F$11,0)-ROUNDUP(I10*$F$14,0)+IF(Výstup!$C$22=\"Ano\",$F$7,0)+IF(Výstup!$C$23>=1, $F$17, 0) + IF(Výstup!$C$23>=2, $F$18, 0) + IF(Výstup!$C$23>=3, (Výstup!$C$23-2)*$F$19, 0) + IF(AND(Výstup!$C$23=1, Výstup!$C$24=1),$F$17,0) + IF(AND(Výstup!$C$23=2, Výstup!$C$24=2), $F$17+$F$18) + IF(AND(Výstup!$C$23=2, Výstup!$C$24=1), $F$18) + IF(Výstup!$C$23>2, IF(Výstup!$C$23-Výstup!$C$24 > 1, Výstup!$C$24*$F$19)) + IF(Výstup!$C$23>2, IF(Výstup!$C$23-Výstup!$C$24 = 1, (Výstup!$C$24-1)*$F$19+$F$18)) + IF(Výstup!$C$23>2, IF(Výstup!$C$23-Výstup!$C$24 = 0, (Výstup!$C$24-2)*$F$19+$F$18+$F$17))+VLOOKUP(Výstup!$C$25,$E$22:$F$25,2,FALSE)+VLOOKUP(Výstup!$C$26,$E$28:$F$30,2,FALSE)),I10)","v":24583}]
[null,"Sociální pojištění",{"$f":"ROUNDUP(C6*(F10+F11),0)","v":2367},null,"Nemocenské poj.",6.0000000000000001E-3,null,15,{"$f":"Výstup!C35","v":29600},{"$f":"MIN((I11-ROUNDUP((IF(I11>100,ROUNDUP(I11,-2), ROUNDUP(I11,0)))*$F$6,0)-ROUNDUP(IF(Výstup!$C$27=\"Ne\", I11*$F$10, 0)+I11*$F$11,0)-ROUNDUP(I11*$F$14,0)+IF(Výstup!$C$22=\"Ano\",$F$7,0)+IF(Výstup!$C$23>=1, $F$17, 0) + IF(Výstup!$C$23>=2, $F$18, 0) + IF(Výstup!$C$23>=3, (Výstup!$C$23-2)*$F$19, 0) + IF(AND(Výstup!$C$23=1, Výstup!$C$24=1),$F$17,0) + IF(AND(Výstup!$C$23=2, Výstup!$C$24=2), $F$17+$F$18) + IF(AND(Výstup!$C$23=2, Výstup!$C$24=1), $F$18) + IF(Výstup!$C$23>2, IF(Výstup!$C$23-Výstup!$C$24 > 1, Výstup!$C$24*$F$19)) + IF(Výstup!$C$23>2, IF(Výstup!$C$23-Výstup!$C$24 = 1, (Výstup!$C$24-1)*$F$19+$F$18)) + IF(Výstup!$C$23>2, IF(Výstup!$C$23-Výstup!$C$24 = 0, (Výstup!$C$24-2)*$F$19+$F$18+$F$17))+VLOOKUP(Výstup!$C$25,$E$22:$F$25,2,FALSE)+VLOOKUP(Výstup!$C$26,$E$28:$F$30,2,FALSE)),I11)","v":25563}]
[null,"Zdravotní pojištění",{"$f":"ROUNDUP(C6*F14,0)","v":1500},null,null,null,null,17.5,{"$f":"Výstup!C36","v":30541},{"$f":"MIN((I12-ROUNDUP((IF(I12>100,ROUNDUP(I12,-2), ROUNDUP(I12,0)))*$F$6,0)-ROUNDUP(IF(Výstup!$C$27=\"Ne\", I12*$F$10, 0)+I12*$F$11,0)-ROUNDUP(I12*$F$14,0)+IF(Výstup!$C$22=\"Ano\",$F$7,0)+IF(Výstup!$C$23>=1, $F$17, 0) + IF(Výstup!$C$23>=2, $F$18, 0) + IF(Výstup!$C$23>=3, (Výstup!$C$23-2)*$F$19, 0) + IF(AND(Výstup!$C$23=1, Výstup!$C$24=1),$F$17,0) + IF(AND(Výstup!$C$23=2, Výstup!$C$24=2), $F$17+$F$18) + IF(AND(Výstup!$C$23=2, Výstup!$C$24=1), $F$18) + IF(Výstup!$C$23>2, IF(Výstup!$C$23-Výstup!$C$24 > 1, Výstup!$C$24*$F$19)) + IF(Výstup!$C$23>2, IF(Výstup!$C$23-Výstup!$C$24 = 1, (Výstup!$C$24-1)*$F$19+$F$18)) + IF(Výstup!$C$23>2, IF(Výstup!$C$23-Výstup!$C$24 = 0, (Výstup!$C$24-2)*$F$19+$F$18+$F$17))+VLOOKUP(Výstup!$C$25,$E$22:$F$25,2,FALSE)+VLOOKUP(Výstup!$C$26,$E$28:$F$30,2,FALSE)),I12)","v":26244}]
[null,null,null,null,"Zdravotní pojištění",null,null,20,{"$f":"Výstup!C37","v":31452},{"$f":"MIN((I13-ROUNDUP((IF(I13>100,ROUNDUP(I13,-2), ROUNDUP(I13,0)))*$F$6,0)-ROUNDUP(IF(Výstup!$C$27=\"Ne\", I13*$F$10, 0)+I13*$F$11,0)-ROUNDUP(I13*$F$14,0)+IF(Výstup!$C$22=\"Ano\",$F$7,0)+IF(Výstup!$C$23>=1, $F$17, 0) + IF(Výstup!$C$23>=2, $F$18, 0) + IF(Výstup!$C$23>=3, (Výstup!$C$23-2)*$F$19, 0) + IF(AND(Výstup!$C$23=1, Výstup!$C$24=1),$F$17,0) + IF(AND(Výstup!$C$23=2, Výstup!$C$24=2), $F$17+$F$18) + IF(AND(Výstup!$C$23=2, Výstup!$C$24=1), $F$18) + IF(Výstup!$C$23>2, IF(Výstup!$C$23-Výstup!$C$24 > 1, Výstup!$C$24*$F$19)) + IF(Výstup!$C$23>2, IF(Výstup!$C$23-Výstup!$C$24 = 1, (Výstup!$C$24-1)*$F$19+$F$18)) + IF(Výstup!$C$23>2, IF(Výstup!$C$23-Výstup!$C$24 = 0, (Výstup!$C$24-2)*$F$19+$F$18+$F$17))+VLOOKUP(Výstup!$C$25,$E$22:$F$25,2,FALSE)+VLOOKUP(Výstup!$C$26,$E$28:$F$30,2,FALSE)),I13)","v":26914}]
[null,"Slevy / bonusy",null,null,"Zdravotní pojištění",4.4999999999999998E-2,null,22.5,{"$f":"Výstup!C38","v":32404},{"$f":"MIN((I14-ROUNDUP((IF(I14>100,ROUNDUP(I14,-2), ROUNDUP(I14,0)))*$F$6,0)-ROUNDUP(IF(Výstup!$C$27=\"Ne\", I14*$F$10, 0)+I14*$F$11,0)-ROUNDUP(I14*$F$14,0)+IF(Výstup!$C$22=\"Ano\",$F$7,0)+IF(Výstup!$C$23>=1, $F$17, 0) + IF(Výstup!$C$23>=2, $F$18, 0) + IF(Výstup!$C$23>=3, (Výstup!$C$23-2)*$F$19, 0) + IF(AND(Výstup!$C$23=1, Výstup!$C$24=1),$F$17,0) + IF(AND(Výstup!$C$23=2, Výstup!$C$24=2), $F$17+$F$18) + IF(AND(Výstup!$C$23=2, Výstup!$C$24=1), $F$18) + IF(Výstup!$C$23>2, IF(Výstup!$C$23-Výstup!$C$24 > 1, Výstup!$C$24*$F$19)) + IF(Výstup!$C$23>2, IF(Výstup!$C$23-Výstup!$C$24 = 1, (Výstup!$C$24-1)*$F$19+$F$18)) + IF(Výstup!$C$23>2, IF(Výstup!$C$23-Výstup!$C$24 = 0, (Výstup!$C$24-2)*$F$19+$F$18+$F$17))+VLOOKUP(Výstup!$C$25,$E$22:$F$25,2,FALSE)+VLOOKUP(Výstup!$C$26,$E$28:$F$30,2,FALSE)),I14)","v":27606}]
[null,"Sleva na poplatníka",{"$f":"IF(Výstup!C22=\"Ano\", F7, 0)","v":2570},null,null,null,null,25,{"$f":"Výstup!C39","v":33056},{"$f":"MIN((I15-ROUNDUP((IF(I15>100,ROUNDUP(I15,-2), ROUNDUP(I15,0)))*$F$6,0)-ROUNDUP(IF(Výstup!$C$27=\"Ne\", I15*$F$10, 0)+I15*$F$11,0)-ROUNDUP(I15*$F$14,0)+IF(Výstup!$C$22=\"Ano\",$F$7,0)+IF(Výstup!$C$23>=1, $F$17, 0) + IF(Výstup!$C$23>=2, $F$18, 0) + IF(Výstup!$C$23>=3, (Výstup!$C$23-2)*$F$19, 0) + IF(AND(Výstup!$C$23=1, Výstup!$C$24=1),$F$17,0) + IF(AND(Výstup!$C$23=2, Výstup!$C$24=2), $F$17+$F$18) + IF(AND(Výstup!$C$23=2, Výstup!$C$24=1), $F$18) + IF(Výstup!$C$23>2, IF(Výstup!$C$23-Výstup!$C$24 > 1, Výstup!$C$24*$F$19)) + IF(Výstup!$C$23>2, IF(Výstup!$C$23-Výstup!$C$24 = 1, (Výstup!$C$24-1)*$F$19+$F$18)) + IF(Výstup!$C$23>2, IF(Výstup!$C$23-Výstup!$C$24 = 0, (Výstup!$C$24-2)*$F$19+$F$18+$F$17))+VLOOKUP(Výstup!$C$25,$E$22:$F$25,2,FALSE)+VLOOKUP(Výstup!$C$26,$E$28:$F$30,2,FALSE)),I15)","v":28093}]
[null,"Daňový bonus na děti",{"$f":"IF(Výstup!$C$23>=1, $F$17, 0) + IF(Výstup!$C$23>=2, $F$18, 0) + IF(Výstup!$C$23>=3, (Výstup!$C$23-2)*$F$19, 0) + IF(AND(Výstup!$C$23=1, Výstup!$C$24=1),$F$17,0) + IF(AND(Výstup!$C$23=2, Výstup!$C$24=2), $F$17+$F$18) + IF(AND(Výstup!$C$23=2, Výstup!$C$24=1), $F$18) + IF(Výstup!$C$23>2, IF(Výstup!$C$23-Výstup!$C$24 > 1, Výstup!$C$24*$F$19)) + IF(Výstup!$C$23>2, IF(Výstup!$C$23-Výstup!$C$24 = 1, (Výstup!$C$24-1)*$F$19+$F$18)) + IF(Výstup!$C$23>2, IF(Výstup!$C$23-Výstup!$C$24 = 0, (Výstup!$C$24-2)*$F$19+$F$18+$F$17))","v":1267},null,"Počet dětí (daňový bonus)",null,null,27.5,{"$f":"Výstup!C40","v":33873},{"$f":"MIN((I16-ROUNDUP((IF(I16>100,ROUNDUP(I16,-2), ROUNDUP(I16,0)))*$F$6,0)-ROUNDUP(IF(Výstup!$C$27=\"Ne\", I16*$F$10, 0)+I16*$F$11,0)-ROUNDUP(I16*$F$14,0)+IF(Výstup!$C$22=\"Ano\",$F$7,0)+IF(Výstup!$C$23>=1, $F$17, 0) + IF(Výstup!$C$23>=2, $F$18, 0) + IF(Výstup!$C$23>=3, (Výstup!$C$23-2)*$F$19, 0) + IF(AND(Výstup!$C$23=1, Výstup!$C$24=1),$F$17,0) + IF(AND(Výstup!$C$23=2, Výstup!$C$24=2), $F$17+$F$18) + IF(AND(Výstup!$C$23=2, Výstup!$C$24=1), $F$18) + IF(Výstup!$C$23>2, IF(Výstup!$C$23-Výstup!$C$24 > 1, Výstup!$C$24*$F$19)) + IF(Výstup!$C$23>2, IF(Výstup!$C$23-Výstup!$C$24 = 1, (Výstup!$C$24-1)*$F$19+$F$18)) + IF(Výstup!$C$23>2, IF(Výstup!$C$23-Výstup!$C$24 = 0, (Výstup!$C$24-2)*$F$19+$F$18+$F$17))+VLOOKUP(Výstup!$C$25,$E$22:$F$25,2,FALSE)+VLOOKUP(Výstup!$C$26,$E$28:$F$30,2,FALSE)),I16)","v":28695}]
[null,"Postižení",{"$f":"VLOOKUP(Výstup!C25,E22:F25,2,FALSE)","v":0},null,1,1267,null,30,{"$f":"Výstup!C41","v":34628},{"$f":"MIN((I17-ROUNDUP((IF(I17>100,ROUNDUP(I17,-2), ROUNDUP(I17,0)))*$F$6,0)-ROUNDUP(IF(Výstup!$C$27=\"Ne\", I17*$F$10, 0)+I17*$F$11,0)-ROUNDUP(I17*$F$14,0)+IF(Výstup!$C$22=\"Ano\",$F$7,0)+IF(Výstup!$C$23>=1, $F$17, 0) + IF(Výstup!$C$23>=2, $F$18, 0) + IF(Výstup!$C$23>=3, (Výstup!$C$23-2)*$F$19, 0) + IF(AND(Výstup!$C$23=1, Výstup!$C$24=1),$F$17,0) + IF(AND(Výstup!$C$23=2, Výstup!$C$24=2), $F$17+$F$18) + IF(AND(Výstup!$C$23=2, Výstup!$C$24=1), $F$18) + IF(Výstup!$C$23>2, IF(Výstup!$C$23-Výstup!$C$24 > 1, Výstup!$C$24*$F$19)) + IF(Výstup!$C$23>2, IF(Výstup!$C$23-Výstup!$C$24 = 1, (Výstup!$C$24-1)*$F$19+$F$18)) + IF(Výstup!$C$23>2, IF(Výstup!$C$23-Výstup!$C$24 = 0, (Výstup!$C$24-2)*$F$19+$F$18+$F$17))+VLOOKUP(Výstup!$C$25,$E$22:$F$25,2,FALSE)+VLOOKUP(Výstup!$C$26,$E$28:$F$30,2,FALSE)),I17)","v":29242}]
[null,"Sleva na manžela / manželku",{"$f":"VLOOKUP(Výstup!C26,E28:F30,2,FALSE)","v":0},null,2,1860,null,32.5,{"$f":"Výstup!C42","v":35389},{"$f":"MIN((I18-ROUNDUP((IF(I18>100,ROUNDUP(I18,-2), ROUNDUP(I18,0)))*$F$6,0)-ROUNDUP(IF(Výstup!$C$27=\"Ne\", I18*$F$10, 0)+I18*$F$11,0)-ROUNDUP(I18*$F$14,0)+IF(Výstup!$C$22=\"Ano\",$F$7,0)+IF(Výstup!$C$23>=1, $F$17, 0) + IF(Výstup!$C$23>=2, $F$18, 0) + IF(Výstup!$C$23>=3, (Výstup!$C$23-2)*$F$19, 0) + IF(AND(Výstup!$C$23=1, Výstup!$C$24=1),$F$17,0) + IF(AND(Výstup!$C$23=2, Výstup!$C$24=2), $F$17+$F$18) + IF(AND(Výstup!$C$23=2, Výstup!$C$24=1), $F$18) + IF(Výstup!$C$23>2, IF(Výstup!$C$23-Výstup!$C$24 > 1, Výstup!$C$24*$F$19)) + IF(Výstup!$C$23>2, IF(Výstup!$C$23-Výstup!$C$24 = 1, (Výstup!$C$24-1)*$F$19+$F$18)) + IF(Výstup!$C$23>2, IF(Výstup!$C$23-Výstup!$C$24 = 0, (Výstup!$C$24-2)*$F$19+$F$18+$F$17))+VLOOKUP(Výstup!$C$25,$E$22:$F$25,2,FALSE)+VLOOKUP(Výstup!$C$26,$E$28:$F$30,2,FALSE)),I18)","v":29810}]
[null,"Sleva na pojistném pro pracující důchodce",{"$f":"IF(Výstup!C27=\"Ano\", C6*F10, 0)","v":0},null,3,2320,null,35,{"$f":"Výstup!C43","v":36058},{"$f":"MIN((I19-ROUNDUP((IF(I19>100,ROUNDUP(I19,-2), ROUNDUP(I19,0)))*$F$6,0)-ROUNDUP(IF(Výstup!$C$27=\"Ne\", I19*$F$10, 0)+I19*$F$11,0)-ROUNDUP(I19*$F$14,0)+IF(Výstup!$C$22=\"Ano\",$F$7,0)+IF(Výstup!$C$23>=1, $F$17, 0) + IF(Výstup!$C$23>=2, $F$18, 0) + IF(Výstup!$C$23>=3, (Výstup!$C$23-2)*$F$19, 0) + IF(AND(Výstup!$C$23=1, Výstup!$C$24=1),$F$17,0) + IF(AND(Výstup!$C$23=2, Výstup!$C$24=2), $F$17+$F$18) + IF(AND(Výstup!$C$23=2, Výstup!$C$24=1), $F$18) + IF(Výstup!$C$23>2, IF(Výstup!$C$23-Výstup!$C$24 > 1, Výstup!$C$24*$F$19)) + IF(Výstup!$C$23>2, IF(Výstup!$C$23-Výstup!$C$24 = 1, (Výstup!$C$24-1)*$F$19+$F$18)) + IF(Výstup!$C$23>2, IF(Výstup!$C$23-Výstup!$C$24 = 0, (Výstup!$C$24-2)*$F$19+$F$18+$F$17))+VLOOKUP(Výstup!$C$25,$E$22:$F$25,2,FALSE)+VLOOKUP(Výstup!$C$26,$E$28:$F$30,2,FALSE)),I19)","v":30296}]
[null,null,null,null,null,null,null,37.5,{"$f":"Výstup!C44","v":36655},{"$f":"MIN((I20-ROUNDUP((IF(I20>100,ROUNDUP(I20,-2), ROUNDUP(I20,0)))*$F$6,0)-ROUNDUP(IF(Výstup!$C$27=\"Ne\", I20*$F$10, 0)+I20*$F$11,0)-ROUNDUP(I20*$F$14,0)+IF(Výstup!$C$22=\"Ano\",$F$7,0)+IF(Výstup!$C$23>=1, $F$17, 0) + IF(Výstup!$C$23>=2, $F$18, 0) + IF(Výstup!$C$23>=3, (Výstup!$C$23-2)*$F$19, 0) + IF(AND(Výstup!$C$23=1, Výstup!$C$24=1),$F$17,0) + IF(AND(Výstup!$C$23=2, Výstup!$C$24=2), $F$17+$F$18) + IF(AND(Výstup!$C$23=2, Výstup!$C$24=1), $F$18) + IF(Výstup!$C$23>2, IF(Výstup!$C$23-Výstup!$C$24 > 1, Výstup!$C$24*$F$19)) + IF(Výstup!$C$23>2, IF(Výstup!$C$23-Výstup!$C$24 = 1, (Výstup!$C$24-1)*$F$19+$F$18)) + IF(Výstup!$C$23>2, IF(Výstup!$C$23-Výstup!$C$24 = 0, (Výstup!$C$24-2)*$F$19+$F$18+$F$17))+VLOOKUP(Výstup!$C$25,$E$22:$F$25,2,FALSE)+VLOOKUP(Výstup!$C$26,$E$28:$F$30,2,FALSE)),I20)","v":30734}]
[null,"Čistý příjem",{"$f":"ROUNDUP(MIN((C6-SUM(C10:C12)+SUM(C15:C19)),C6),0)","v":28293},null,"Postižení",null,null,40,{"$f":"Výstup!C45","v":37477},{"$f":"MIN((I21-ROUNDUP((IF(I21>100,ROUNDUP(I21,-2), ROUNDUP(I21,0)))*$F$6,0)-ROUNDUP(IF(Výstup!$C$27=\"Ne\", I21*$F$10, 0)+I21*$F$11,0)-ROUNDUP(I21*$F$14,0)+IF(Výstup!$C$22=\"Ano\",$F$7,0)+IF(Výstup!$C$23>=1, $F$17, 0) + IF(Výstup!$C$23>=2, $F$18, 0) + IF(Výstup!$C$23>=3, (Výstup!$C$23-2)*$F$19, 0) + IF(AND(Výstup!$C$23=1, Výstup!$C$24=1),$F$17,0) + IF(AND(Výstup!$C$23=2, Výstup!$C$24=2), $F$17+$F$18) + IF(AND(Výstup!$C$23=2, Výstup!$C$24=1), $F$18) + IF(Výstup!$C$23>2, IF(Výstup!$C$23-Výstup!$C$24 > 1, Výstup!$C$24*$F$19)) + IF(Výstup!$C$23>2, IF(Výstup!$C$23-Výstup!$C$24 = 1, (Výstup!$C$24-1)*$F$19+$F$18)) + IF(Výstup!$C$23>2, IF(Výstup!$C$23-Výstup!$C$24 = 0, (Výstup!$C$24-2)*$F$19+$F$18+$F$17))+VLOOKUP(Výstup!$C$25,$E$22:$F$25,2,FALSE)+VLOOKUP(Výstup!$C$26,$E$28:$F$30,2,FALSE)),I21)","v":31341}]
[null,null,null,null,"Ne",0,null,42.5,{"$f":"Výstup!C46","v":38116},{"$f":"MIN((I22-ROUNDUP((IF(I22>100,ROUNDUP(I22,-2), ROUNDUP(I22,0)))*$F$6,0)-ROUNDUP(IF(Výstup!$C$27=\"Ne\", I22*$F$10, 0)+I22*$F$11,0)-ROUNDUP(I22*$F$14,0)+IF(Výstup!$C$22=\"Ano\",$F$7,0)+IF(Výstup!$C$23>=1, $F$17, 0) + IF(Výstup!$C$23>=2, $F$18, 0) + IF(Výstup!$C$23>=3, (Výstup!$C$23-2)*$F$19, 0) + IF(AND(Výstup!$C$23=1, Výstup!$C$24=1),$F$17,0) + IF(AND(Výstup!$C$23=2, Výstup!$C$24=2), $F$17+$F$18) + IF(AND(Výstup!$C$23=2, Výstup!$C$24=1), $F$18) + IF(Výstup!$C$23>2, IF(Výstup!$C$23-Výstup!$C$24 > 1, Výstup!$C$24*$F$19)) + IF(Výstup!$C$23>2, IF(Výstup!$C$23-Výstup!$C$24 = 1, (Výstup!$C$24-1)*$F$19+$F$18)) + IF(Výstup!$C$23>2, IF(Výstup!$C$23-Výstup!$C$24 = 0, (Výstup!$C$24-2)*$F$19+$F$18+$F$17))+VLOOKUP(Výstup!$C$25,$E$22:$F$25,2,FALSE)+VLOOKUP(Výstup!$C$26,$E$28:$F$30,2,FALSE)),I22)","v":31800}]
[null,"Výpočet zohledňuje, že daňový bonus není postižitelný srážkami ze mzdy nebo jiných příjmů, a proto čistý příjem nemůže být vyšší než hrubý příjem. V tomto ohledu se nástroj odchyluje od běžného výpočtu čisté mzdy.",null,null,"1. / 2. stupeň",210,null,45,{"$f":"Výstup!C47","v":38868},{"$f":"MIN((I23-ROUNDUP((IF(I23>100,ROUNDUP(I23,-2), ROUNDUP(I23,0)))*$F$6,0)-ROUNDUP(IF(Výstup!$C$27=\"Ne\", I23*$F$10, 0)+I23*$F$11,0)-ROUNDUP(I23*$F$14,0)+IF(Výstup!$C$22=\"Ano\",$F$7,0)+IF(Výstup!$C$23>=1, $F$17, 0) + IF(Výstup!$C$23>=2, $F$18, 0) + IF(Výstup!$C$23>=3, (Výstup!$C$23-2)*$F$19, 0) + IF(AND(Výstup!$C$23=1, Výstup!$C$24=1),$F$17,0) + IF(AND(Výstup!$C$23=2, Výstup!$C$24=2), $F$17+$F$18) + IF(AND(Výstup!$C$23=2, Výstup!$C$24=1), $F$18) + IF(Výstup!$C$23>2, IF(Výstup!$C$23-Výstup!$C$24 > 1, Výstup!$C$24*$F$19)) + IF(Výstup!$C$23>2, IF(Výstup!$C$23-Výstup!$C$24 = 1, (Výstup!$C$24-1)*$F$19+$F$18)) + IF(Výstup!$C$23>2, IF(Výstup!$C$23-Výstup!$C$24 = 0, (Výstup!$C$24-2)*$F$19+$F$18+$F$17))+VLOOKUP(Výstup!$C$25,$E$22:$F$25,2,FALSE)+VLOOKUP(Výstup!$C$26,$E$28:$F$30,2,FALSE)),I23)","v":32360}]
[null,null,null,null,"3. stupeň",420,null,47.5,{"$f":"Výstup!C48","v":39664},{"$f":"MIN((I24-ROUNDUP((IF(I24>100,ROUNDUP(I24,-2), ROUNDUP(I24,0)))*$F$6,0)-ROUNDUP(IF(Výstup!$C$27=\"Ne\", I24*$F$10, 0)+I24*$F$11,0)-ROUNDUP(I24*$F$14,0)+IF(Výstup!$C$22=\"Ano\",$F$7,0)+IF(Výstup!$C$23>=1, $F$17, 0) + IF(Výstup!$C$23>=2, $F$18, 0) + IF(Výstup!$C$23>=3, (Výstup!$C$23-2)*$F$19, 0) + IF(AND(Výstup!$C$23=1, Výstup!$C$24=1),$F$17,0) + IF(AND(Výstup!$C$23=2, Výstup!$C$24=2), $F$17+$F$18) + IF(AND(Výstup!$C$23=2, Výstup!$C$24=1), $F$18) + IF(Výstup!$C$23>2, IF(Výstup!$C$23-Výstup!$C$24 > 1, Výstup!$C$24*$F$19)) + IF(Výstup!$C$23>2, IF(Výstup!$C$23-Výstup!$C$24 = 1, (Výstup!$C$24-1)*$F$19+$F$18)) + IF(Výstup!$C$23>2, IF(Výstup!$C$23-Výstup!$C$24 = 0, (Výstup!$C$24-2)*$F$19+$F$18+$F$17))+VLOOKUP(Výstup!$C$25,$E$22:$F$25,2,FALSE)+VLOOKUP(Výstup!$C$26,$E$28:$F$30,2,FALSE)),I24)","v":32944}]
[null,null,null,null,"ZTP/P",1345,null,50,{"$f":"Výstup!C49","v":40562},{"$f":"MIN((I25-ROUNDUP((IF(I25>100,ROUNDUP(I25,-2), ROUNDUP(I25,0)))*$F$6,0)-ROUNDUP(IF(Výstup!$C$27=\"Ne\", I25*$F$10, 0)+I25*$F$11,0)-ROUNDUP(I25*$F$14,0)+IF(Výstup!$C$22=\"Ano\",$F$7,0)+IF(Výstup!$C$23>=1, $F$17, 0) + IF(Výstup!$C$23>=2, $F$18, 0) + IF(Výstup!$C$23>=3, (Výstup!$C$23-2)*$F$19, 0) + IF(AND(Výstup!$C$23=1, Výstup!$C$24=1),$F$17,0) + IF(AND(Výstup!$C$23=2, Výstup!$C$24=2), $F$17+$F$18) + IF(AND(Výstup!$C$23=2, Výstup!$C$24=1), $F$18) + IF(Výstup!$C$23>2, IF(Výstup!$C$23-Výstup!$C$24 > 1, Výstup!$C$24*$F$19)) + IF(Výstup!$C$23>2, IF(Výstup!$C$23-Výstup!$C$24 = 1, (Výstup!$C$24-1)*$F$19+$F$18)) + IF(Výstup!$C$23>2, IF(Výstup!$C$23-Výstup!$C$24 = 0, (Výstup!$C$24-2)*$F$19+$F$18+$F$17))+VLOOKUP(Výstup!$C$25,$E$22:$F$25,2,FALSE)+VLOOKUP(Výstup!$C$26,$E$28:$F$30,2,FALSE)),I25)","v":33603}]
[null,null,null,null,null,null,null,55,{"$f":"Výstup!C50","v":42075},{"$f":"MIN((I26-ROUNDUP((IF(I26>100,ROUNDUP(I26,-2), ROUNDUP(I26,0)))*$F$6,0)-ROUNDUP(IF(Výstup!$C$27=\"Ne\", I26*$F$10, 0)+I26*$F$11,0)-ROUNDUP(I26*$F$14,0)+IF(Výstup!$C$22=\"Ano\",$F$7,0)+IF(Výstup!$C$23>=1, $F$17, 0) + IF(Výstup!$C$23>=2, $F$18, 0) + IF(Výstup!$C$23>=3, (Výstup!$C$23-2)*$F$19, 0) + IF(AND(Výstup!$C$23=1, Výstup!$C$24=1),$F$17,0) + IF(AND(Výstup!$C$23=2, Výstup!$C$24=2), $F$17+$F$18) + IF(AND(Výstup!$C$23=2, Výstup!$C$24=1), $F$18) + IF(Výstup!$C$23>2, IF(Výstup!$C$23-Výstup!$C$24 > 1, Výstup!$C$24*$F$19)) + IF(Výstup!$C$23>2, IF(Výstup!$C$23-Výstup!$C$24 = 1, (Výstup!$C$24-1)*$F$19+$F$18)) + IF(Výstup!$C$23>2, IF(Výstup!$C$23-Výstup!$C$24 = 0, (Výstup!$C$24-2)*$F$19+$F$18+$F$17))+VLOOKUP(Výstup!$C$25,$E$22:$F$25,2,FALSE)+VLOOKUP(Výstup!$C$26,$E$28:$F$30,2,FALSE)),I26)","v":34715}]
[null,null,null,null,"Sleva na manžela / manželku",null,null,60,{"$f":"Výstup!C51","v":43744},{"$f":"MIN((I27-ROUNDUP((IF(I27>100,ROUNDUP(I27,-2), ROUNDUP(I27,0)))*$F$6,0)-ROUNDUP(IF(Výstup!$C$27=\"Ne\", I27*$F$10, 0)+I27*$F$11,0)-ROUNDUP(I27*$F$14,0)+IF(Výstup!$C$22=\"Ano\",$F$7,0)+IF(Výstup!$C$23>=1, $F$17, 0) + IF(Výstup!$C$23>=2, $F$18, 0) + IF(Výstup!$C$23>=3, (Výstup!$C$23-2)*$F$19, 0) + IF(AND(Výstup!$C$23=1, Výstup!$C$24=1),$F$17,0) + IF(AND(Výstup!$C$23=2, Výstup!$C$24=2), $F$17+$F$18) + IF(AND(Výstup!$C$23=2, Výstup!$C$24=1), $F$18) + IF(Výstup!$C$23>2, IF(Výstup!$C$23-Výstup!$C$24 > 1, Výstup!$C$24*$F$19)) + IF(Výstup!$C$23>2, IF(Výstup!$C$23-Výstup!$C$24 = 1, (Výstup!$C$24-1)*$F$19+$F$18)) + IF(Výstup!$C$23>2, IF(Výstup!$C$23-Výstup!$C$24 = 0, (Výstup!$C$24-2)*$F$19+$F$18+$F$17))+VLOOKUP(Výstup!$C$25,$E$22:$F$25,2,FALSE)+VLOOKUP(Výstup!$C$26,$E$28:$F$30,2,FALSE)),I27)","v":35936}]
[null,null,null,null,"Ne",0,null,65,{"$f":"Výstup!C52","v":45576},{"$f":"MIN((I28-ROUNDUP((IF(I28>100,ROUNDUP(I28,-2), ROUNDUP(I28,0)))*$F$6,0)-ROUNDUP(IF(Výstup!$C$27=\"Ne\", I28*$F$10, 0)+I28*$F$11,0)-ROUNDUP(I28*$F$14,0)+IF(Výstup!$C$22=\"Ano\",$F$7,0)+IF(Výstup!$C$23>=1, $F$17, 0) + IF(Výstup!$C$23>=2, $F$18, 0) + IF(Výstup!$C$23>=3, (Výstup!$C$23-2)*$F$19, 0) + IF(AND(Výstup!$C$23=1, Výstup!$C$24=1),$F$17,0) + IF(AND(Výstup!$C$23=2, Výstup!$C$24=2), $F$17+$F$18) + IF(AND(Výstup!$C$23=2, Výstup!$C$24=1), $F$18) + IF(Výstup!$C$23>2, IF(Výstup!$C$23-Výstup!$C$24 > 1, Výstup!$C$24*$F$19)) + IF(Výstup!$C$23>2, IF(Výstup!$C$23-Výstup!$C$24 = 1, (Výstup!$C$24-1)*$F$19+$F$18)) + IF(Výstup!$C$23>2, IF(Výstup!$C$23-Výstup!$C$24 = 0, (Výstup!$C$24-2)*$F$19+$F$18+$F$17))+VLOOKUP(Výstup!$C$25,$E$22:$F$25,2,FALSE)+VLOOKUP(Výstup!$C$26,$E$28:$F$30,2,FALSE)),I28)","v":37286}]
[null,null,null,null,"Ano",2070,null,70,{"$f":"Výstup!C53","v":47473},{"$f":"MIN((I29-ROUNDUP((IF(I29>100,ROUNDUP(I29,-2), ROUNDUP(I29,0)))*$F$6,0)-ROUNDUP(IF(Výstup!$C$27=\"Ne\", I29*$F$10, 0)+I29*$F$11,0)-ROUNDUP(I29*$F$14,0)+IF(Výstup!$C$22=\"Ano\",$F$7,0)+IF(Výstup!$C$23>=1, $F$17, 0) + IF(Výstup!$C$23>=2, $F$18, 0) + IF(Výstup!$C$23>=3, (Výstup!$C$23-2)*$F$19, 0) + IF(AND(Výstup!$C$23=1, Výstup!$C$24=1),$F$17,0) + IF(AND(Výstup!$C$23=2, Výstup!$C$24=2), $F$17+$F$18) + IF(AND(Výstup!$C$23=2, Výstup!$C$24=1), $F$18) + IF(Výstup!$C$23>2, IF(Výstup!$C$23-Výstup!$C$24 > 1, Výstup!$C$24*$F$19)) + IF(Výstup!$C$23>2, IF(Výstup!$C$23-Výstup!$C$24 = 1, (Výstup!$C$24-1)*$F$19+$F$18)) + IF(Výstup!$C$23>2, IF(Výstup!$C$23-Výstup!$C$24 = 0, (Výstup!$C$24-2)*$F$19+$F$18+$F$17))+VLOOKUP(Výstup!$C$25,$E$22:$F$25,2,FALSE)+VLOOKUP(Výstup!$C$26,$E$28:$F$30,2,FALSE)),I29)","v":38677}]
[null,null,null,null,"Ano (ZTP)",4140,null,75,{"$f":"Výstup!C54","v":50047},{"$f":"MIN((I30-ROUNDUP((IF(I30>100,ROUNDUP(I30,-2), ROUNDUP(I30,0)))*$F$6,0)-ROUNDUP(IF(Výstup!$C$27=\"Ne\", I30*$F$10, 0)+I30*$F$11,0)-ROUNDUP(I30*$F$14,0)+IF(Výstup!$C$22=\"Ano\",$F$7,0)+IF(Výstup!$C$23>=1, $F$17, 0) + IF(Výstup!$C$23>=2, $F$18, 0) + IF(Výstup!$C$23>=3, (Výstup!$C$23-2)*$F$19, 0) + IF(AND(Výstup!$C$23=1, Výstup!$C$24=1),$F$17,0) + IF(AND(Výstup!$C$23=2, Výstup!$C$24=2), $F$17+$F$18) + IF(AND(Výstup!$C$23=2, Výstup!$C$24=1), $F$18) + IF(Výstup!$C$23>2, IF(Výstup!$C$23-Výstup!$C$24 > 1, Výstup!$C$24*$F$19)) + IF(Výstup!$C$23>2, IF(Výstup!$C$23-Výstup!$C$24 = 1, (Výstup!$C$24-1)*$F$19+$F$18)) + IF(Výstup!$C$23>2, IF(Výstup!$C$23-Výstup!$C$24 = 0, (Výstup!$C$24-2)*$F$19+$F$18+$F$17))+VLOOKUP(Výstup!$C$25,$E$22:$F$25,2,FALSE)+VLOOKUP(Výstup!$C$26,$E$28:$F$30,2,FALSE)),I30)","v":40562}]
[null,null,null,null,null,null,null,80,{"$f":"Výstup!C55","v":53217},{"$f":"MIN((I31-ROUNDUP((IF(I31>100,ROUNDUP(I31,-2), ROUNDUP(I31,0)))*$F$6,0)-ROUNDUP(IF(Výstup!$C$27=\"Ne\", I31*$F$10, 0)+I31*$F$11,0)-ROUNDUP(I31*$F$14,0)+IF(Výstup!$C$22=\"Ano\",$F$7,0)+IF(Výstup!$C$23>=1, $F$17, 0) + IF(Výstup!$C$23>=2, $F$18, 0) + IF(Výstup!$C$23>=3, (Výstup!$C$23-2)*$F$19, 0) + IF(AND(Výstup!$C$23=1, Výstup!$C$24=1),$F$17,0) + IF(AND(Výstup!$C$23=2, Výstup!$C$24=2), $F$17+$F$18) + IF(AND(Výstup!$C$23=2, Výstup!$C$24=1), $F$18) + IF(Výstup!$C$23>2, IF(Výstup!$C$23-Výstup!$C$24 > 1, Výstup!$C$24*$F$19)) + IF(Výstup!$C$23>2, IF(Výstup!$C$23-Výstup!$C$24 = 1, (Výstup!$C$24-1)*$F$19+$F$18)) + IF(Výstup!$C$23>2, IF(Výstup!$C$23-Výstup!$C$24 = 0, (Výstup!$C$24-2)*$F$19+$F$18+$F$17))+VLOOKUP(Výstup!$C$25,$E$22:$F$25,2,FALSE)+VLOOKUP(Výstup!$C$26,$E$28:$F$30,2,FALSE)),I31)","v":42885}]
[null,null,null,null,null,null,null,85,{"$f":"Výstup!C56","v":57094},{"$f":"MIN((I32-ROUNDUP((IF(I32>100,ROUNDUP(I32,-2), ROUNDUP(I32,0)))*$F$6,0)-ROUNDUP(IF(Výstup!$C$27=\"Ne\", I32*$F$10, 0)+I32*$F$11,0)-ROUNDUP(I32*$F$14,0)+IF(Výstup!$C$22=\"Ano\",$F$7,0)+IF(Výstup!$C$23>=1, $F$17, 0) + IF(Výstup!$C$23>=2, $F$18, 0) + IF(Výstup!$C$23>=3, (Výstup!$C$23-2)*$F$19, 0) + IF(AND(Výstup!$C$23=1, Výstup!$C$24=1),$F$17,0) + IF(AND(Výstup!$C$23=2, Výstup!$C$24=2), $F$17+$F$18) + IF(AND(Výstup!$C$23=2, Výstup!$C$24=1), $F$18) + IF(Výstup!$C$23>2, IF(Výstup!$C$23-Výstup!$C$24 > 1, Výstup!$C$24*$F$19)) + IF(Výstup!$C$23>2, IF(Výstup!$C$23-Výstup!$C$24 = 1, (Výstup!$C$24-1)*$F$19+$F$18)) + IF(Výstup!$C$23>2, IF(Výstup!$C$23-Výstup!$C$24 = 0, (Výstup!$C$24-2)*$F$19+$F$18+$F$17))+VLOOKUP(Výstup!$C$25,$E$22:$F$25,2,FALSE)+VLOOKUP(Výstup!$C$26,$E$28:$F$30,2,FALSE)),I32)","v":45742}]
[null,null,null,null,null,null,null,90,{"$f":"Výstup!C57","v":62401},{"$f":"MIN((I33-ROUNDUP((IF(I33>100,ROUNDUP(I33,-2), ROUNDUP(I33,0)))*$F$6,0)-ROUNDUP(IF(Výstup!$C$27=\"Ne\", I33*$F$10, 0)+I33*$F$11,0)-ROUNDUP(I33*$F$14,0)+IF(Výstup!$C$22=\"Ano\",$F$7,0)+IF(Výstup!$C$23>=1, $F$17, 0) + IF(Výstup!$C$23>=2, $F$18, 0) + IF(Výstup!$C$23>=3, (Výstup!$C$23-2)*$F$19, 0) + IF(AND(Výstup!$C$23=1, Výstup!$C$24=1),$F$17,0) + IF(AND(Výstup!$C$23=2, Výstup!$C$24=2), $F$17+$F$18) + IF(AND(Výstup!$C$23=2, Výstup!$C$24=1), $F$18) + IF(Výstup!$C$23>2, IF(Výstup!$C$23-Výstup!$C$24 > 1, Výstup!$C$24*$F$19)) + IF(Výstup!$C$23>2, IF(Výstup!$C$23-Výstup!$C$24 = 1, (Výstup!$C$24-1)*$F$19+$F$18)) + IF(Výstup!$C$23>2, IF(Výstup!$C$23-Výstup!$C$24 = 0, (Výstup!$C$24-2)*$F$19+$F$18+$F$17))+VLOOKUP(Výstup!$C$25,$E$22:$F$25,2,FALSE)+VLOOKUP(Výstup!$C$26,$E$28:$F$30,2,FALSE)),I33)","v":49623}]
[null,null,null,null,null,null,null,95,{"$f":"Výstup!C58","v":73220},{"$f":"MIN((I34-ROUNDUP((IF(I34>100,ROUNDUP(I34,-2), ROUNDUP(I34,0)))*$F$6,0)-ROUNDUP(IF(Výstup!$C$27=\"Ne\", I34*$F$10, 0)+I34*$F$11,0)-ROUNDUP(I34*$F$14,0)+IF(Výstup!$C$22=\"Ano\",$F$7,0)+IF(Výstup!$C$23>=1, $F$17, 0) + IF(Výstup!$C$23>=2, $F$18, 0) + IF(Výstup!$C$23>=3, (Výstup!$C$23-2)*$F$19, 0) + IF(AND(Výstup!$C$23=1, Výstup!$C$24=1),$F$17,0) + IF(AND(Výstup!$C$23=2, Výstup!$C$24=2), $F$17+$F$18) + IF(AND(Výstup!$C$23=2, Výstup!$C$24=1), $F$18) + IF(Výstup!$C$23>2, IF(Výstup!$C$23-Výstup!$C$24 > 1, Výstup!$C$24*$F$19)) + IF(Výstup!$C$23>2, IF(Výstup!$C$23-Výstup!$C$24 = 1, (Výstup!$C$24-1)*$F$19+$F$18)) + IF(Výstup!$C$23>2, IF(Výstup!$C$23-Výstup!$C$24 = 0, (Výstup!$C$24-2)*$F$19+$F$18+$F$17))+VLOOKUP(Výstup!$C$25,$E$22:$F$25,2,FALSE)+VLOOKUP(Výstup!$C$26,$E$28:$F$30,2,FALSE)),I34)","v":57568}]

{"sheet":"Statistická data 2024","index":3,"n_rows":559,"n_cols":42,"rows_kept":559,"cut":false,"hidden":false,"merged":[]}
["Shoda","Shoda: Seskupený CZ-NACE","Shoda: Region","Shoda: Vzdělání","Shoda: Pohlaví","Shoda: Věk","Řádek číslo","Seskupený CZ-NACE","Region","Vzdělání","Pohlaví","Věk","Počet zaměstnanců ","Průměr","p5","p7.5","p10","p12.5","p15","p17.5","p20","p22.5","p25","p27.5","p30","p32.5","p35","p37.5","p40","p42.5","p45","p47.5","p50","p55","p60","p65","p70","p75","p80","p85","p90","p95"]
[{"$f":"IF(AND(StatData[[#This Row],[Shoda: Seskupený CZ-NACE]],StatData[[#This Row],[Shoda: Region]],StatData[[#This Row],[Shoda: Vzdělání]],StatData[[#This Row],[Shoda: Pohlaví]],StatData[[#This Row],[Shoda: Věk]]),1,0)","v":0},{"$f":"IF(StatData[[#This Row],[Seskupený CZ-NACE]]=VLOOKUP(Obor,TabObor[],2,0),1,0)","v":1},{"$f":"IF(StatData[[#This Row],[Region]]=VLOOKUP(Region,TabRegion[],2,0),1,0)","v":1},{"$f":"IF(StatData[[#This Row],[Vzdělání]]=Vzdělání,1,0)","v":0},{"$f":"IF(StatData[[#This Row],[Pohlaví]]=Pohlaví,1,0)","v":0},{"$f":"IF(StatData[[#This Row],[Věk]]=Věk,1,0)","v":1},1,"Celkem",1,"Základní a nedokončené  ","Muž","do 34 let    ",7325.33251953125,35599.332346080002,19245.5833244034,19315.060772836401,19523.083299999998,19638.523628582399,20259.122500200599,21277.232288486099,21867.5355176667,22821.453699999998,23613.8884,24366.035547250001,24992.171399999999,26077.754033556201,26867.923491559101,27930.2275226124,29324.3588375213,30503.129872843401,31669.877560771802,32751.858472921202,33575.450635138099,35117.700916867703,36894.780470007499,38914.842691604703,40965.982724105197,42899.257666412399,46081.086630463898,49410.399363279699,53650.6104034893,61642.156055144798]
[{"$f":"IF(AND(StatData[[#This Row],[Shoda: Seskupený CZ-NACE]],StatData[[#This Row],[Shoda: Region]],StatData[[#This Row],[Shoda: Vzdělání]],StatData[[#This Row],[Shoda: Pohlaví]],StatData[[#This Row],[Shoda: Věk]]),1,0)","v":0},{"$f":"IF(StatData[[#This Row],[Seskupený CZ-NACE]]=VLOOKUP(Obor,TabObor[],2,0),1,0)","v":1},{"$f":"IF(StatData[[#This Row],[Region]]=VLOOKUP(Region,TabRegion[],2,0),1,0)","v":1},{"$f":"IF(StatData[[#This Row],[Vzdělání]]=Vzdělání,1,0)","v":0},{"$f":"IF(StatData[[#This Row],[Pohlaví]]=Pohlaví,1,0)","v":0},{"$f":"IF(StatData[[#This Row],[Věk]]=Věk,1,0)","v":0},2,"Celkem",1,"Základní a nedokončené  ","Muž","35 až 54 let ",9568.154296875,39940.777205088503,19011.306697750999,19171.8595696667,19549.583299999998,19773.221991166702,19971.580600000001,20298.681659999998,20431.9768,20988.25,22076.411359500002,22573.433390595601,23936.583299999998,24807.4166,25942.952310275301,27580.346590487199,28728.9881566195,30159.997899999998,32419.896520157599,33912.205508928702,35528.2487526353,37612.790507721402,39779.347052368903,42077.6787040454,44325.909829329998,47900.2818825992,50984.334770529698,55885.8988513804,63126.840108492899,73524.1034905735]
[{"$f":"IF(AND(StatData[[#This Row],[Shoda: Seskupený CZ-NACE]],StatData[[#This Row],[Shoda: Region]],StatData[[#This Row],[Shoda: Vzdělání]],StatData[[#This Row],[Shoda: Pohlaví]],StatData[[#This Row],[Shoda: Věk]]),1,0)","v":0},{"$f":"IF(StatData[[#This Row],[Seskupený CZ-NACE]]=VLOOKUP(Obor,TabObor[],2,0),1,0)","v":1},{"$f":"IF(StatData[[#This Row],[Region]]=VLOOKUP(Region,TabRegion[],2,0),1,0)","v":1},{"$f":"IF(StatData[[#This Row],[Vzdělání]]=Vzdělání,1,0)","v":0},{"$f":"IF(StatData[[#This Row],[Pohlaví]]=Pohlaví,1,0)","v":0},{"$f":"IF(StatData[[#This Row],[Věk]]=Věk,1,0)","v":0},3,"Celkem",1,"Základní a nedokončené  ","Muž","55 a více let",3224.31762695313,38227.230555287897,19155.496382833298,19317.314228794101,19800.012633650898,19984.185392416701,20038.648399500002,21118.659534499999,21809.706850848699,22605.1666,23421.353800000001,24063.098351595501,24971.111400000002,25709.267380862901,27048.7200986713,27966.844937549999,28517.5617340305,29969.769324971901,31572.2174135801,33066.009782327499,33889.590703979396,35803.519243431103,38072.359505050503,40619.470132042698,43162.069296221802,46303.198389808902,49873.952683192001,55147.9205733567,61097.070441714,67813.681434841899]
[{"$f":"IF(AND(StatData[[#This Row],[Shoda: Seskupený CZ-NACE]],StatData[[#This Row],[Shoda: Region]],StatData[[#This Row],[Shoda: Vzdělání]],StatData[[#This Row],[Shoda: Pohlaví]],StatData[[#This Row],[Shoda: Věk]]),1,0)","v":0},{"$f":"IF(StatData[[#This Row],[Seskupený CZ-NACE]]=VLOOKUP(Obor,TabObor[],2,0),1,0)","v":1},{"$f":"IF(StatData[[#This Row],[Region]]=VLOOKUP(Region,TabRegion[],2,0),1,0)","v":1},{"$f":"IF(StatData[[#This Row],[Vzdělání]]=Vzdělání,1,0)","v":0},{"$f":"IF(StatData[[#This Row],[Pohlaví]]=Pohlaví,1,0)","v":1},{"$f":"IF(StatData[[#This Row],[Věk]]=Věk,1,0)","v":1},4,"Celkem",1,"Základní a nedokončené  ","Žena","do 34 let    ",5287.8779296875,35381.594695072898,21360.555716765,21735.476699999999,22734.062159735699,23042.504099999998,24694.323100000001,25474.903727638499,26305.1139,27016.408332406201,27983.800221252401,28674.3927415287,29576.647115229,30133.9695866773,30884.1580533577,31597.920849528899,32193.1082319907,32702.919669974901,33345.479720743802,33945.3367783875,34447.444373687104,35769.732796575699,36714.751832680398,37485.930804691103,38915.877310257798,41003.824560118199,41895.6256399087,44685.816699733899,48442.387203246799,54107.302875171503]
[{"$f":"IF(AND(StatData[[#This Row],[Shoda: Seskupený CZ-NACE]],StatData[[#This Row],[Shoda: Region]],StatData[[#This Row],[Shoda: Vzdělání]],StatData[[#This Row],[Shoda: Pohlaví]],StatData[[#This Row],[Shoda: Věk]]),1,0)","v":0},{"$f":"IF(StatData[[#This Row],[Seskupený CZ-NACE]]=VLOOKUP(Obor,TabObor[],2,0),1,0)","v":1},{"$f":"IF(StatData[[#This Row],[Region]]=VLOOKUP(Region,TabRegion[],2,0),1,0)","v":1},{"$f":"IF(StatData[[#This Row],[Vzdělání]]=Vzdělání,1,0)","v":0},{"$f":"IF(StatData[[#This Row],[Pohlaví]]=Pohlaví,1,0)","v":1},{"$f":"IF(StatData[[#This Row],[Věk]]=Věk,1,0)","v":0},5,"Celkem",1,"Základní a nedokončené  ","Žena","35 až 54 let ",8434.966796875,33585.561063037203,18926.0445,19022.000184561399,19649.989799999999,20232.6666,21365.402399999999,21793.436771500001,22168.083299999998,22789.203000000001,23528.759300000002,24462.1443,25333.669966887999,26073.9166,27054.5357683701,27707.965760903098,28655.0712588112,29669.1849,30551.6469206363,31506.9666005457,32336.6123405586,33508.714344456101,34665.735106987202,35958.026804810397,37404.376029077903,39241.3350876478,40806.752537060202,43678.926122388999,48330.358267742697,55642.163072821299]
[{"$f":"IF(AND(StatData[[#This Row],[Shoda: Seskupený CZ-NACE]],StatData[[#This Row],[Shoda: Region]],StatData[[#This Row],[Shoda: Vzdělání]],StatData[[#This Row],[Shoda: Pohlaví]],StatData[[#This Row],[Shoda: Věk]]),1,0)","v":0},{"$f":"IF(StatData[[#This Row],[Seskupený CZ-NACE]]=VLOOKUP(Obor,TabObor[],2,0),1,0)","v":1},{"$f":"IF(StatData[[#This Row],[Region]]=VLOOKUP(Region,TabRegion[],2,0),1,0)","v":1},{"$f":"IF(StatData[[#This Row],[Vzdělání]]=Vzdělání,1,0)","v":0},{"$f":"IF(StatData[[#This Row],[Pohlaví]]=Pohlaví,1,0)","v":1},{"$f":"IF(StatData[[#This Row],[Věk]]=Věk,1,0)","v":0},6,"Celkem",1,"Základní a nedokončené  ","Žena","55 a více let",3722.91796875,31977.7407384246,18931.105155364901,19566.370800000001,19920.941999999999,20660.161899999999,21487.049599999998,22004.297519916701,22567.777900000001,23331.5,23782.334511447501,24557.711299999999,25258.75,25736.5733,26452.938699999999,27210.848485087201,27966.083299999998,28644.133127698999,29357.085619537102,30068.4928897844,30881.9313,32231.75,33358.202851416398,34430.345999999998,35452.837691803797,36661.054844096398,38318.206923379599,40645.005051346197,44533.016306455298,50468.381504436104]
[{"$f":"IF(AND(StatData[[#This Row],[Shoda: Seskupený CZ-NACE]],StatData[[#This Row],[Shoda: Region]],StatData[[#This Row],[Shoda: Vzdělání]],StatData[[#This Row],[Shoda: Pohlaví]],StatData[[#This Row],[Shoda: Věk]]),1,0)","v":0},{"$f":"IF(StatData[[#This Row],[Seskupený CZ-NACE]]=VLOOKUP(Obor,TabObor[],2,0),1,0)","v":1},{"$f":"IF(StatData[[#This Row],[Region]]=VLOOKUP(Region,TabRegion[],2,0),1,0)","v":1},{"$f":"IF(StatData[[#This Row],[Vzdělání]]=Vzdělání,1,0)","v":0},{"$f":"IF(StatData[[#This Row],[Pohlaví]]=Pohlaví,1,0)","v":0},{"$f":"IF(StatData[[#This Row],[Věk]]=Věk,1,0)","v":1},7,"Celkem",1,"Střední bez maturity","Muž","do 34 let    ",13203.4716796875,38470.494628237997,19314.98641075,19893.25,20208.937607083299,21234.622417069299,21740.1666,22578.230608472699,22873.728899999998,23329.8292733206,24030.841427686999,25758.123299999999,27762.3092254041,29034.063304107,30439.321524482501,31608.564340287099,33172.499429014802,34456.854125489903,35184.935503741101,36136.1987969193,36774.718153373797,38723.760867573103,40522.879427461899,42705.812276476703,45191.4251881288,47737.622528127002,50915.199920986197,54432.750294417099,58660.5061939484,64529.254716368603]
[{"$f":"IF(AND(StatData[[#This Row],[Shoda: Seskupený CZ-NACE]],StatData[[#This Row],[Shoda: Region]],StatData[[#This Row],[Shoda: Vzdělání]],StatData[[#This Row],[Shoda: Pohlaví]],StatData[[#This Row],[Shoda: Věk]]),1,0)","v":0},{"$f":"IF(StatData[[#This Row],[Seskupený CZ-NACE]]=VLOOKUP(Obor,TabObor[],2,0),1,0)","v":1},{"$f":"IF(StatData[[#This Row],[Region]]=VLOOKUP(Region,TabRegion[],2,0),1,0)","v":1},{"$f":"IF(StatData[[#This Row],[Vzdělání]]=Vzdělání,1,0)","v":0},{"$f":"IF(StatData[[#This Row],[Pohlaví]]=Pohlaví,1,0)","v":0},{"$f":"IF(StatData[[#This Row],[Věk]]=Věk,1,0)","v":0},8,"Celkem",1,"Střední bez maturity","Muž","35 až 54 let ",38530.85546875,41593.999502074803,19741.281561702999,20209.005528000002,20876.4749392577,21682.6666,21823.722688499998,22502.3632,23079.353619681999,23891.0229,24299.926278750001,25997.200892749999,27148.719728895001,29196.079342606801,30575.997783262999,32297.222667345799,33980.563454731498,35408.027275162298,36593.1369161763,37921.125051720599,39124.981150525397,41415.401532642398,44287.144964834399,46877.601271616797,49540.505280959303,52515.1067432934,55729.046455800701,59806.580295088897,64816.511005944099,73687.047822441004]
[{"$f":"IF(AND(StatData[[#This Row],[Shoda: Seskupený CZ-NACE]],StatData[[#This Row],[Shoda: Region]],StatData[[#This Row],[Shoda: Vzdělání]],StatData[[#This Row],[Shoda: Pohlaví]],StatData[[#This Row],[Shoda: Věk]]),1,0)","v":0},{"$f":"IF(StatData[[#This Row],[Seskupený CZ-NACE]]=VLOOKUP(Obor,TabObor[],2,0),1,0)","v":1},{"$f":"IF(StatData[[#This Row],[Region]]=VLOOKUP(Region,TabRegion[],2,0),1,0)","v":1},{"$f":"IF(StatData[[#This Row],[Vzdělání]]=Vzdělání,1,0)","v":0},{"$f":"IF(StatData[[#This Row],[Pohlaví]]=Pohlaví,1,0)","v":0},{"$f":"IF(StatData[[#This Row],[Věk]]=Věk,1,0)","v":0},9,"Celkem",1,"Střední bez maturity","Muž","55 a více let",18476.078125,41812.101273599998,20200.784509249999,21152.118867249999,22568.25,23408.75,24490,25835.333299999998,27303.510288122601,28436.970346869301,29704.805303481699,30818.614944763602,31529.756371287898,32738.701077994901,33734.662734637401,34680.466099999998,35809.778790447803,36645.740861995102,37707.973529332899,38839.857493442003,39812.553969425397,41641.285161784799,43977.954204055502,46321.628321806202,48597.014317698602,51428.943664684797,54416.979580522602,58091.5346576679,62716.987781991302,69246.373027807305]
[{"$f":"IF(AND(StatData[[#This Row],[Shoda: Seskupený CZ-NACE]],StatData[[#This Row],[Shoda: Region]],StatData[[#This Row],[Shoda: Vzdělání]],StatData[[#This Row],[Shoda: Pohlaví]],StatData[[#This Row],[Shoda: Věk]]),1,0)","v":0},{"$f":"IF(StatData[[#This Row],[Seskupený CZ-NACE]]=VLOOKUP(Obor,TabObor[],2,0),1,0)","v":1},{"$f":"IF(StatData[[#This Row],[Region]]=VLOOKUP(Region,TabRegion[],2,0),1,0)","v":1},{"$f":"IF(StatData[[#This Row],[Vzdělání]]=Vzdělání,1,0)","v":0},{"$f":"IF(StatData[[#This Row],[Pohlaví]]=Pohlaví,1,0)","v":1},{"$f":"IF(StatData[[#This Row],[Věk]]=Věk,1,0)","v":1},10,"Celkem",1,"Střední bez maturity","Žena","do 34 let    ",6767.02880859375,32866.9843578457,19975.047200000001,20014.8184771667,21305.194500000001,21755.022560792098,21853.740699999998,22077.058199999999,22466.125199999999,22779.045467818501,24813.476299999998,25906.3312525,26945.858890305401,27400.817228022101,28157.152144395001,28874.1666,29680.932199999999,30452.373200000002,31301.337346818698,31775.1058313705,32164.975161533501,33499.321659008601,34710.747490633497,35834.603699211999,37179.2053074672,38698.057217069298,40206.270416856903,42686.069513759801,45548.144925846696,50131.230563221601]
[{"$f":"IF(AND(StatData[[#This Row],[Shoda: Seskupený CZ-NACE]],StatData[[#This Row],[Shoda: Region]],StatData[[#This Row],[Shoda: Vzdělání]],StatData[[#This Row],[Shoda: Pohlaví]],StatData[[#This Row],[Shoda: Věk]]),1,0)","v":0},{"$f":"IF(StatData[[#This Row],[Seskupený CZ-NACE]]=VLOOKUP(Obor,TabObor[],2,0),1,0)","v":1},{"$f":"IF(StatData[[#This Row],[Region]]=VLOOKUP(Region,TabRegion[],2,0),1,0)","v":1},{"$f":"IF(StatData[[#This Row],[Vzdělání]]=Vzdělání,1,0)","v":0},{"$f":"IF(StatData[[#This Row],[Pohlaví]]=Pohlaví,1,0)","v":1},{"$f":"IF(StatData[[#This Row],[Věk]]=Věk,1,0)","v":0},11,"Celkem",1,"Střední bez maturity","Žena","35 až 54 let ",23475.0546875,35500.825162878296,20038.648399500002,21319.9166,21859.425689,22272.562079988002,23335.773399999998,24130.525399999999,25060.948034946301,26081.9276200329,27099.688563060201,27992.551896929599,28660.833299999998,29490.705160376201,30003.209647764401,30724.239351933898,31456.659514560401,32123.642029463001,32741.494939644901,33312.828124675601,34016.833299999998,35308.0573,36459.919569608101,37837.338834161703,39208.464488928403,40856.0360619001,43222.9459160099,45785.060825956498,49333.448382307899,56685.348252329]
[{"$f":"IF(AND(StatData[[#This Row],[Shoda: Seskupený CZ-NACE]],StatData[[#This Row],[Shoda: Region]],StatData[[#This Row],[Shoda: Vzdělání]],StatData[[#This Row],[Shoda: Pohlaví]],StatData[[#This Row],[Shoda: Věk]]),1,0)","v":0},{"$f":"IF(StatData[[#This Row],[Seskupený CZ-NACE]]=VLOOKUP(Obor,TabObor[],2,0),1,0)","v":1},{"$f":"IF(StatData[[#This Row],[Region]]=VLOOKUP(Region,TabRegion[],2,0),1,0)","v":1},{"$f":"IF(StatData[[#This Row],[Vzdělání]]=Vzdělání,1,0)","v":0},{"$f":"IF(StatData[[#This Row],[Pohlaví]]=Pohlaví,1,0)","v":1},{"$f":"IF(StatData[[#This Row],[Věk]]=Věk,1,0)","v":0},12,"Celkem",1,"Střední bez maturity","Žena","55 a více let",11709.23828125,33366.916791444397,19021.671417333298,20235.280125444198,20886.281133915301,21586.6666,22604.974699999999,23376,24044,24330.984151083299,25350.824512455001,26217.751899999999,26761.845707502602,27245.833299999998,27805.366991362102,28496.851381637702,29290.5,29982.139503236001,30757.8538927023,31391.8435527152,32040.542053867201,33348.6760703213,34639.122550869499,36027.647538797799,37158.221250698101,38946.197955235402,41111.159399224402,43648.436711779003,47279.949413338501,52197.795287168199]
[{"$f":"IF(AND(StatData[[#This Row],[Shoda: Seskupený CZ-NACE]],StatData[[#This Row],[Shoda: Region]],StatData[[#This Row],[Shoda: Vzdělání]],StatData[[#This Row],[Shoda: Pohlaví]],StatData[[#This Row],[Shoda: Věk]]),1,0)","v":0},{"$f":"IF(StatData[[#This Row],[Seskupený CZ-NACE]]=VLOOKUP(Obor,TabObor[],2,0),1,0)","v":1},{"$f":"IF(StatData[[#This Row],[Region]]=VLOOKUP(Region,TabRegion[],2,0),1,0)","v":1},{"$f":"IF(StatData[[#This Row],[Vzdělání]]=Vzdělání,1,0)","v":1},{"$f":"IF(StatData[[#This Row],[Pohlaví]]=Pohlaví,1,0)","v":0},{"$f":"IF(StatData[[#This Row],[Věk]]=Věk,1,0)","v":1},13,"Celkem",1,"Střední s maturitou a vyšší odborné","Muž","do 34 let    ",39915.3984375,53659.841592613797,22040.8135106667,23426.153288681799,25955.808199999999,29622.895333126198,31455.799454878699,33045.987996133801,34716.552887383899,36029.392119810298,37372.373391613801,38471.352147516598,39574.5606269169,40631.914715536201,41729.123787183402,42826.143150702701,43955.148389004098,44915.2285073936,45841.725715095003,46921.878019702897,48040.567123177498,50169.554740054999,52789.625429484498,55638.500983425598,59026.881207735103,62639.201778930597,67086.174577453494,73452.187536318103,83866.598607482607,102032.55149092501]
[{"$f":"IF(AND(StatData[[#This Row],[Shoda: Seskupený CZ-NACE]],StatData[[#This Row],[Shoda: Region]],StatData[[#This Row],[Shoda: Vzdělání]],StatData[[#This Row],[Shoda: Pohlaví]],StatData[[#This Row],[Shoda: Věk]]),1,0)","v":0},{"$f":"IF(StatData[[#This Row],[Seskupený CZ-NACE]]=VLOOKUP(Obor,TabObor[],2,0),1,0)","v":1},{"$f":"IF(StatData[[#This Row],[Region]]=VLOOKUP(Region,TabRegion[],2,0),1,0)","v":1},{"$f":"IF(StatData[[#This Row],[Vzdělání]]=Vzdělání,1,0)","v":1},{"$f":"IF(StatData[[#This Row],[Pohlaví]]=Pohlaví,1,0)","v":0},{"$f":"IF(StatData[[#This Row],[Věk]]=Věk,1,0)","v":0},14,"Celkem",1,"Střední s maturitou a vyšší odborné","Muž","35 až 54 let ",73248.6953125,67039.652823353899,21374.449799999999,22440.598030500001,24584.308874649902,27572.877474335099,30805.178378409,33811.755028087602,36412.130285104402,38348.9266717418,40077.982906314697,42002.268484123197,43886.038455391797,45454.103196866003,47319.552585120502,48974.717650524202,50694.930284294598,52459.3685574271,54071.961401419801,55500.071253201597,57264.270615396803,60539.526144014402,64247.983210156097,68253.987961205203,73448.351218819094,79862.820677261305,87843.833804443697,99210.010141267296,114966.19554532399,146938.26719468401]
[{"$f":"IF(AND(StatData[[#This Row],[Shoda: Seskupený CZ-NACE]],StatData[[#This Row],[Shoda: Region]],StatData[[#This Row],[Shoda: Vzdělání]],StatData[[#This Row],[Shoda: Pohlaví]],StatData[[#This Row],[Shoda: Věk]]),1,0)","v":0},{"$f":"IF(StatData[[#This Row],[Seskupený CZ-NACE]]=VLOOKUP(Obor,TabObor[],2,0),1,0)","v":1},{"$f":"IF(StatData[[#This Row],[Region]]=VLOOKUP(Region,TabRegion[],2,0),1,0)","v":1},{"$f":"IF(StatData[[#This Row],[Vzdělání]]=Vzdělání,1,0)","v":1},{"$f":"IF(StatData[[#This Row],[Pohlaví]]=Pohlaví,1,0)","v":0},{"$f":"IF(StatData[[#This Row],[Věk]]=Věk,1,0)","v":0},15,"Celkem",1,"Střední s maturitou a vyšší odborné","Muž","55 a více let",20642.330078125,55599.9844135003,21595.5,23434,24999.791823705898,27356.735320552401,29748.226382655899,31218.071160676202,32725.135830643601,34447.006924663699,36108.553687673098,37738.066625842497,38932.455944274203,40318.525827730999,41728.412556853698,42971.213968976699,44044.442640747999,45489.722406784298,46599.685045209801,47783.181767555201,49062.093936832702,51901.829934378999,55053.383704600397,58046.681522925799,61891.396310283097,64931.678378450997,70234.616110848001,76787.807001558904,86736.301328770307,108269.53231606301]
[{"$f":"IF(AND(StatData[[#This Row],[Shoda: Seskupený CZ-NACE]],StatData[[#This Row],[Shoda: Region]],StatData[[#This Row],[Shoda: Vzdělání]],StatData[[#This Row],[Shoda: Pohlaví]],StatData[[#This Row],[Shoda: Věk]]),1,0)","v":1},{"$f":"IF(StatData[[#This Row],[Seskupený CZ-NACE]]=VLOOKUP(Obor,TabObor[],2,0),1,0)","v":1},{"$f":"IF(StatData[[#This Row],[Region]]=VLOOKUP(Region,TabRegion[],2,0),1,0)","v":1},{"$f":"IF(StatData[[#This Row],[Vzdělání]]=Vzdělání,1,0)","v":1},{"$f":"IF(StatData[[#This Row],[Pohlaví]]=Pohlaví,1,0)","v":1},{"$f":"IF(StatData[[#This Row],[Věk]]=Věk,1,0)","v":1},16,"Celkem",1,"Střední s maturitou a vyšší odborné","Žena","do 34 let    ",33309.484375,43743.399608194697,22432.5851,24779.2282882135,26552.779272055101,28271.586771424601,29599.616541396299,30541.445208992802,31452.088977230502,32404.2786756727,33055.672219676497,33873.335861881897,34627.707686600799,35389.296190931404,36057.892091257498,36654.5265985613,37477.475600195503,38116.260092409502,38868.335621244703,39664.235811132603,40562.137087287803,42074.556054822002,43744.411567568,45576.056042969598,47473.304841761397,50047.008263062402,53217.414148985903,57094.091645818698,62400.998990785403,73220.447808555604]
[{"$f":"IF(AND(StatData[[#This Row],[Shoda: Seskupený CZ-NACE]],StatData[[#This Row],[Shoda: Region]],StatData[[#This Row],[Shoda: Vzdělání]],StatData[[#This Row],[Shoda: Pohlaví]],StatData[[#This Row],[Shoda: Věk]]),1,0)","v":0},{"$f":"IF(StatData[[#This Row],[Seskupený CZ-NACE]]=VLOOKUP(Obor,TabObor[],2,0),1,0)","v":1},{"$f":"IF(StatData[[#This Row],[Region]]=VLOOKUP(Region,TabRegion[],2,0),1,0)","v":1},{"$f":"IF(StatData[[#This Row],[Vzdělání]]=Vzdělání,1,0)","v":1},{"$f":"IF(StatData[[#This Row],[Pohlaví]]=Pohlaví,1,0)","v":1},{"$f":"IF(StatData[[#This Row],[Věk]]=Věk,1,0)","v":0},17,"Celkem",1,"Střední s maturitou a vyšší odborné","Žena","35 až 54 let ",77905.1953125,50235.753621588301,21945.710176000001,23796.6666,26406.5285,28339.995096957999,30313.634448247001,31742.6991853623,32905.895593454603,34174.229006397203,35365.554614696703,36311.271637820399,37133.0636102141,38120.742445589502,39009.780962968798,40101.972363932298,41070.387187228902,42029.482760929299,43040.902560917501,44118.572804029704,45081.770045698402,47216.956485243398,49627.563566153804,52063.281988757801,55014.242965676698,58316.575500803003,62767.064586335102,68346.629716864598,76183.617391805397,91902.430242681105]
[{"$f":"IF(AND(StatData[[#This Row],[Shoda: Seskupený CZ-NACE]],StatData[[#This Row],[Shoda: Region]],StatData[[#This Row],[Shoda: Vzdělání]],StatData[[#This Row],[Shoda: Pohlaví]],StatData[[#This Row],[Shoda: Věk]]),1,0)","v":0},{"$f":"IF(StatData[[#This Row],[Seskupený CZ-NACE]]=VLOOKUP(Obor,TabObor[],2,0),1,0)","v":1},{"$f":"IF(StatData[[#This Row],[Region]]=VLOOKUP(Region,TabRegion[],2,0),1,0)","v":1},{"$f":"IF(StatData[[#This Row],[Vzdělání]]=Vzdělání,1,0)","v":1},{"$f":"IF(StatData[[#This Row],[Pohlaví]]=Pohlaví,1,0)","v":1},{"$f":"IF(StatData[[#This Row],[Věk]]=Věk,1,0)","v":0},18,"Celkem",1,"Střední s maturitou a vyšší odborné","Žena","55 a více let",30517.470703125,48529.549053353199,23751.213100000001,25710.635945355501,28347.472324822102,30055.059423188399,31756.9570043575,33493.416599999997,34503.690638236498,35648.644200000002,36478.910474378201,37510.4954676177,38452.195535404499,39044.9526161178,39950.1012694495,40768.4892859346,41618.668967406004,42518.960968148502,43490.975551403499,44159.413419777004,45048.5275617035,46734.551105582199,48750.228351376703,50746.920597812597,53145.693946285399,56216.533172001298,59617.622035309403,64806.440537073402,71927.032933829803,83314.798839379]
[{"$f":"IF(AND(StatData[[#This Row],[Shoda: Seskupený CZ-NACE]],StatData[[#This Row],[Shoda: Region]],StatData[[#This Row],[Shoda: Vzdělání]],StatData[[#This Row],[Shoda: Pohlaví]],StatData[[#This Row],[Shoda: Věk]]),1,0)","v":0},{"$f":"IF(StatData[[#This Row],[Seskupený CZ-NACE]]=VLOOKUP(Obor,TabObor[],2,0),1,0)","v":1},{"$f":"IF(StatData[[#This Row],[Region]]=VLOOKUP(Region,TabRegion[],2,0),1,0)","v":1},{"$f":"IF(StatData[[#This Row],[Vzdělání]]=Vzdělání,1,0)","v":0},{"$f":"IF(StatData[[#This Row],[Pohlaví]]=Pohlaví,1,0)","v":0},{"$f":"IF(StatData[[#This Row],[Věk]]=Věk,1,0)","v":1},19,"Celkem",1,"Vysokoškolské ","Muž","do 34 let    ",38140.671875,75121.804500846498,30891.915700547699,35167.237030847296,38878.219175708502,40589.9431735568,42748.153114885601,44471.029680927,45948.851553263601,47537.8229126269,48940.649646297097,50264.668835090502,51721.457130869698,53068.866643279602,54701.4299666878,56088.977650789799,57505.550750578397,59128.4271549064,60743.561623902599,62502.849285420998,64385.2580814209,68574.267361655104,73162.733454448593,78309.617367074301,83850.332976076796,90584.976286742094,99069.476883790398,110393.591709051,124443.625881577,149174.53922332899]
[{"$f":"IF(AND(StatData[[#This Row],[Shoda: Seskupený CZ-NACE]],StatData[[#This Row],[Shoda: Region]],StatData[[#This Row],[Shoda: Vzdělání]],StatData[[#This Row],[Shoda: Pohlaví]],StatData[[#This Row],[Shoda: Věk]]),1,0)","v":0},{"$f":"IF(StatData[[#This Row],[Seskupený CZ-NACE]]=VLOOKUP(Obor,TabObor[],2,0),1,0)","v":1},{"$f":"IF(StatData[[#This Row],[Region]]=VLOOKUP(Region,TabRegion[],2,0),1,0)","v":1},{"$f":"IF(StatData[[#This Row],[Vzdělání]]=Vzdělání,1,0)","v":0},{"$f":"IF(StatData[[#This Row],[Pohlaví]]=Pohlaví,1,0)","v":0},{"$f":"IF(StatData[[#This Row],[Věk]]=Věk,1,0)","v":0},20,"Celkem",1,"Vysokoškolské ","Muž","35 až 54 let ",82866.3125,108501.294055748,32500.112940959702,38716.679996835701,43389.308301609002,46781.797799349602,50050.3617252642,52871.778469770201,55564.421842562697,57940.1474727889,60431.711528808402,63058.090762080799,65654.745152321906,68378.963704624795,70954.184223443503,73433.054782292398,76221.870680752094,79007.404493235794,81665.091325087793,84701.306410640405,87468.052232621805,94164.217161172899,101973.00455619099,109888.42820328999,119782.521048889,131518.32623935901,145538.18979885301,163859.87630392201,193344.82756060499,246698.465898542]
[{"$f":"IF(AND(StatData[[#This Row],[Shoda: Seskupený CZ-NACE]],StatData[[#This Row],[Shoda: Region]],StatData[[#This Row],[Shoda: Vzdělání]],StatData[[#This Row],[Shoda: Pohlaví]],StatData[[#This Row],[Shoda: Věk]]),1,0)","v":0},{"$f":"IF(StatData[[#This Row],[Seskupený CZ-NACE]]=VLOOKUP(Obor,TabObor[],2,0),1,0)","v":1},{"$f":"IF(StatData[[#This Row],[Region]]=VLOOKUP(Region,TabRegion[],2,0),1,0)","v":1},{"$f":"IF(StatData[[#This Row],[Vzdělání]]=Vzdělání,1,0)","v":0},{"$f":"IF(StatData[[#This Row],[Pohlaví]]=Pohlaví,1,0)","v":0},{"$f":"IF(StatData[[#This Row],[Věk]]=Věk,1,0)","v":0},21,"Celkem",1,"Vysokoškolské ","Muž","55 a více let",25680.95703125,87949.252711537702,24978.203464038499,28526.9845289154,33331.083299999998,37091.418074927198,40027.107574024303,42468.086705040601,45139.456672327899,46487.152381559303,48586.767436416398,50540.7645664706,51969.525684066299,53540.752198866299,55418.042380654602,57263.452756907798,59072.556148037198,60873.537419873799,62589.541088291699,65159.439186411502,67287.287483959401,72874.792788766499,78380.727144692195,84938.262549545703,92933.643428763302,100719.16442539899,111508.486925052,128790.30296683899,155514.834329042,209177.91740731499]
[{"$f":"IF(AND(StatData[[#This Row],[Shoda: Seskupený CZ-NACE]],StatData[[#This Row],[Shoda: Region]],StatData[[#This Row],[Shoda: Vzdělání]],StatData[[#This Row],[Shoda: Pohlaví]],StatData[[#This Row],[Shoda: Věk]]),1,0)","v":0},{"$f":"IF(StatData[[#This Row],[Seskupený CZ-NACE]]=VLOOKUP(Obor,TabObor[],2,0),1,0)","v":1},{"$f":"IF(StatData[[#This Row],[Region]]=VLOOKUP(Region,TabRegion[],2,0),1,0)","v":1},{"$f":"IF(StatData[[#This Row],[Vzdělání]]=Vzdělání,1,0)","v":0},{"$f":"IF(StatData[[#This Row],[Pohlaví]]=Pohlaví,1,0)","v":1},{"$f":"IF(StatData[[#This Row],[Věk]]=Věk,1,0)","v":1},22,"Celkem",1,"Vysokoškolské ","Žena","do 34 let    ",41636.44140625,58914.016249378401,30396.407726420901,32655.3191201997,35117.816361763398,36723.3218261125,38093.223067314597,39411.622186470297,40539.275243112701,41606.293355871698,42682.305017110797,43717.060042303798,44650.165855974003,45569.563930268603,46448.544708201101,47404.854000210296,48327.558544288098,49259.773786948397,50199.5979033966,51183.985175770198,52275.614451444497,54468.591424338803,57180.915680458696,60374.225177268803,64314.817786684202,68332.243333214501,73373.767480731403,79841.227712974796,90037.705972423893,109003.90786941]
[{"$f":"IF(AND(StatData[[#This Row],[Shoda: Seskupený CZ-NACE]],StatData[[#This Row],[Shoda: Region]],StatData[[#This Row],[Shoda: Vzdělání]],StatData[[#This Row],[Shoda: Pohlaví]],StatData[[#This Row],[Shoda: Věk]]),1,0)","v":0},{"$f":"IF(StatData[[#This Row],[Seskupený CZ-NACE]]=VLOOKUP(Obor,TabObor[],2,0),1,0)","v":1},{"$f":"IF(StatData[[#This Row],[Region]]=VLOOKUP(Region,TabRegion[],2,0),1,0)","v":1},{"$f":"IF(StatData[[#This Row],[Vzdělání]]=Vzdělání,1,0)","v":0},{"$f":"IF(StatData[[#This Row],[Pohlaví]]=Pohlaví,1,0)","v":1},{"$f":"IF(StatData[[#This Row],[Věk]]=Věk,1,0)","v":0},23,"Celkem",1,"Vysokoškolské ","Žena","35 až 54 let ",77106.0234375,74211.8508590782,30390.708486843501,34565.197399999997,37281.152191523302,39622.710213521801,41106.262536734597,43073.363892629,44566.465182976899,46093.674668264699,47548.538256813699,48945.580500629301,50250.1862996122,51537.853156382604,52787.876937709603,54122.2147822443,55571.858716881703,56935.439390721898,58411.808195414204,59845.490689807099,61552.048639072404,64859.051444426499,68828.610602835804,73226.901301038801,79058.848444043804,85932.1324186618,93620.017367508699,104231.22025316099,123205.142543038,156872.122106839]
[{"$f":"IF(AND(StatData[[#This Row],[Shoda: Seskupený CZ-NACE]],StatData[[#This Row],[Shoda: Region]],StatData[[#This Row],[Shoda: Vzdělání]],StatData[[#This Row],[Shoda: Pohlaví]],StatData[[#This Row],[Shoda: Věk]]),1,0)","v":0},{"$f":"IF(StatData[[#This Row],[Seskupený CZ-NACE]]=VLOOKUP(Obor,TabObor[],2,0),1,0)","v":1},{"$f":"IF(StatData[[#This Row],[Region]]=VLOOKUP(Region,TabRegion[],2,0),1,0)","v":1},{"$f":"IF(StatData[[#This Row],[Vzdělání]]=Vzdělání,1,0)","v":0},{"$f":"IF(StatData[[#This Row],[Pohlaví]]=Pohlaví,1,0)","v":1},{"$f":"IF(StatData[[#This Row],[Věk]]=Věk,1,0)","v":0},24,"Celkem",1,"Vysokoškolské ","Žena","55 a více let",19849.001953125,71442.234829706096,28809.459456665201,33526.888800000001,36997.361246900597,39806.554107334901,42005.1543982414,43831.999580164796,45467.996840420798,47258.747841792298,48932.321731938398,50313.191539735803,51683.0961913172,53038.430269899,54065.991468754903,55070.607105204501,56084.5366170997,57022.464755979403,57975.096020860597,59064.704987229903,60231.969578940501,62468.360433022499,65485.891888260099,69445.020771445503,74392.715226972403,80293.120680412394,88286.145624479497,98203.691859290106,114447.87969132701,145866.403832677]
[{"$f":"IF(AND(StatData[[#This Row],[Shoda: Seskupený CZ-NACE]],StatData[[#This Row],[Shoda: Region]],StatData[[#This Row],[Shoda: Vzdělání]],StatData[[#This Row],[Shoda: Pohlaví]],StatData[[#This Row],[Shoda: Věk]]),1,0)","v":0},{"$f":"IF(StatData[[#This Row],[Seskupený CZ-NACE]]=VLOOKUP(Obor,TabObor[],2,0),1,0)","v":1},{"$f":"IF(StatData[[#This Row],[Region]]=VLOOKUP(Region,TabRegion[],2,0),1,0)","v":0},{"$f":"IF(StatData[[#This Row],[Vzdělání]]=Vzdělání,1,0)","v":0},{"$f":"IF(StatData[[#This Row],[Pohlaví]]=Pohlaví,1,0)","v":0},{"$f":"IF(StatData[[#This Row],[Věk]]=Věk,1,0)","v":1},25,"Celkem",2,"Základní a nedokončené  ","Muž","do 34 let    ",15102.416015625,40731.314806682203,20289.529039905101,21310.554899999999,22231.333299999998,23306.006059134601,24767.061099999999,26260.052699356402,27730.4188367721,29067.917794236899,30279.285517432301,31535.369874194799,32562.263209720299,33393.302317633999,34251.447827770899,34996.0896866447,35871.376215051998,36647.165673379299,37482.238233953198,38421.104654109498,39178.094696873202,40866.4745445718,42490.2548627879,44389.000781848699,46493.372897061003,49011.311022711001,51905.210623617102,55476.480991851902,60267.728687927804,69042.684730015302]
[{"$f":"IF(AND(StatData[[#This Row],[Shoda: Seskupený CZ-NACE]],StatData[[#This Row],[Shoda: Region]],StatData[[#This Row],[Shoda: Vzdělání]],StatData[[#This Row],[Shoda: Pohlaví]],StatData[[#This Row],[Shoda: Věk]]),1,0)","v":0},{"$f":"IF(StatData[[#This Row],[Seskupený CZ-NACE]]=VLOOKUP(Obor,TabObor[],2,0),1,0)","v":1},{"$f":"IF(StatData[[#This Row],[Region]]=VLOOKUP(Region,TabRegion[],2,0),1,0)","v":0},{"$f":"IF(StatData[[#This Row],[Vzdělání]]=Vzdělání,1,0)","v":0},{"$f":"IF(StatData[[#This Row],[Pohlaví]]=Pohlaví,1,0)","v":0},{"$f":"IF(StatData[[#This Row],[Věk]]=Věk,1,0)","v":0},26,"Celkem",2,"Základní a nedokončené  ","Muž","35 až 54 let ",21016.419921875,41837.9317064262,19320.235799999999,19704.128700000001,21141.851955666702,21783.833299999998,22657.150139088601,23622.9883913954,25365.0988235646,26576.071695598901,28102.75,29834.9766672931,31067.112412282098,32443.308924352899,33731.0753551628,34993.243944163201,35930.669233787798,37028.1840812191,37999.3421445848,38754.800148312199,39740.958379197298,41699.991021257803,43664.806507540401,45440.906211369802,47770.342571637098,50355.012952961901,53601.786244433599,57530.679602182798,64267.581901083897,72486.988796481193]
[{"$f":"IF(AND(StatData[[#This Row],[Shoda: Seskupený CZ-NACE]],StatData[[#This Row],[Shoda: Region]],StatData[[#This Row],[Shoda: Vzdělání]],StatData[[#This Row],[Shoda: Pohlaví]],StatData[[#This Row],[Shoda: Věk]]),1,0)","v":0},{"$f":"IF(StatData[[#This Row],[Seskupený CZ-NACE]]=VLOOKUP(Obor,TabObor[],2,0),1,0)","v":1},{"$f":"IF(StatData[[#This Row],[Region]]=VLOOKUP(Region,TabRegion[],2,0),1,0)","v":0},{"$f":"IF(StatData[[#This Row],[Vzdělání]]=Vzdělání,1,0)","v":0},{"$f":"IF(StatData[[#This Row],[Pohlaví]]=Pohlaví,1,0)","v":0},{"$f":"IF(StatData[[#This Row],[Věk]]=Věk,1,0)","v":0},27,"Celkem",2,"Základní a nedokončené  ","Muž","55 a více let",5924.65771484375,37913.015472752799,19838.262157833298,20345.345022285601,20758.96,21428.533500000001,22440.206999999999,22932.825461609998,23572.8026355,24036.5304,24409.1666,26089.484400000001,27498.295470360201,28625.961982709799,29743.854476036999,30729.5085,31012.75,31807.446551686298,32693.077012300299,33527.961082711103,34248.677171193798,36212.845590685902,38124.419978594698,40046.785287182203,42424.437042957703,44754.5956380102,47313.533460188402,50530.276919013399,56470.798977689097,68171.638116403497]
[{"$f":"IF(AND(StatData[[#This Row],[Shoda: Seskupený CZ-NACE]],StatData[[#This Row],[Shoda: Region]],StatData[[#This Row],[Shoda: Vzdělání]],StatData[[#This Row],[Shoda: Pohlaví]],StatData[[#This Row],[Shoda: Věk]]),1,0)","v":0},{"$f":"IF(StatData[[#This Row],[Seskupený CZ-NACE]]=VLOOKUP(Obor,TabObor[],2,0),1,0)","v":1},{"$f":"IF(StatData[[#This Row],[Region]]=VLOOKUP(Region,TabRegion[],2,0),1,0)","v":0},{"$f":"IF(StatData[[#This Row],[Vzdělání]]=Vzdělání,1,0)","v":0},{"$f":"IF(StatData[[#This Row],[Pohlaví]]=Pohlaví,1,0)","v":1},{"$f":"IF(StatData[[#This Row],[Věk]]=Věk,1,0)","v":1},28,"Celkem",2,"Základní a nedokončené  ","Žena","do 34 let    ",8131.298828125,35071.882768607597,19653.303500000002,21134.842379757501,22276.655500000001,23352.277300000002,24574.959599999998,25616.888800000001,26484.374800095102,27225.885962246801,28128.728045509899,28622.703729636902,29213.317746397799,29876.774100415201,30419.366256445799,31061.657088606,31790.528711017301,32370.270053832301,32877.225869032001,33442.266893114298,33919.895490009403,34893.781678498599,36133.448527460998,37446.356722045603,38930.973677624002,40563.279440656603,42256.500528331097,44561.087422019198,47823.775180154298,54218.908145614798]
[{"$f":"IF(AND(StatData[[#This Row],[Shoda: Seskupený CZ-NACE]],StatData[[#This Row],[Shoda: Region]],StatData[[#This Row],[Shoda: Vzdělání]],StatData[[#This Row],[Shoda: Pohlaví]],StatData[[#This Row],[Shoda: Věk]]),1,0)","v":0},{"$f":"IF(StatData[[#This Row],[Seskupený CZ-NACE]]=VLOOKUP(Obor,TabObor[],2,0),1,0)","v":1},{"$f":"IF(StatData[[#This Row],[Region]]=VLOOKUP(Region,TabRegion[],2,0),1,0)","v":0},{"$f":"IF(StatData[[#This Row],[Vzdělání]]=Vzdělání,1,0)","v":0},{"$f":"IF(StatData[[#This Row],[Pohlaví]]=Pohlaví,1,0)","v":1},{"$f":"IF(StatData[[#This Row],[Věk]]=Věk,1,0)","v":0},29,"Celkem",2,"Základní a nedokončené  ","Žena","35 až 54 let ",16951.53515625,34432.453034253602,19646.752968333301,20533.2058,21495.801899999999,22376.686522358301,23080.4277,23868.1675,24676.307199999999,25166.236099999998,25969.1018,26716.6622652806,27432.495228215201,28095.471258821799,28770.338006400299,29417.640527102001,30272.0962,30957.922082423702,31662.2507977407,32395.738781378801,33001.913548374301,34424.189822193199,35700.801824298404,37101.929329981998,38633.5423699147,40376.057339860803,42281.434077587401,44545.081519407897,48067.800651753103,54483.365732669998]
[{"$f":"IF(AND(StatData[[#This Row],[Shoda: Seskupený CZ-NACE]],StatData[[#This Row],[Shoda: Region]],StatData[[#This Row],[Shoda: Vzdělání]],StatData[[#This Row],[Shoda: Pohlaví]],StatData[[#This Row],[Shoda: Věk]]),1,0)","v":0},{"$f":"IF(StatData[[#This Row],[Seskupený CZ-NACE]]=VLOOKUP(Obor,TabObor[],2,0),1,0)","v":1},{"$f":"IF(StatData[[#This Row],[Region]]=VLOOKUP(Region,TabRegion[],2,0),1,0)","v":0},{"$f":"IF(StatData[[#This Row],[Vzdělání]]=Vzdělání,1,0)","v":0},{"$f":"IF(StatData[[#This Row],[Pohlaví]]=Pohlaví,1,0)","v":1},{"$f":"IF(StatData[[#This Row],[Věk]]=Věk,1,0)","v":0},30,"Celkem",2,"Základní a nedokončené  ","Žena","55 a více let",6627.65283203125,31463.690841465901,19655.6666,19896.0586147059,20005.333299999998,20604.484199999999,21172.298699999999,22041.0615,22651.895,23112.732499999998,23771.0317,24358.25,24850.333299999998,25452.795099999999,25879,26515.330884665302,27273.6666,27652.529277648198,28398.686691120201,29064.8145193169,29725.103771998201,31060.473753947001,32398.323926676199,33872.283816261799,35452.918680134302,36824.536003675101,38584.770892712302,40611.1691718535,43385.087636949604,49180.863933692497]
[{"$f":"IF(AND(StatData[[#This Row],[Shoda: Seskupený CZ-NACE]],StatData[[#This Row],[Shoda: Region]],StatData[[#This Row],[Shoda: Vzdělání]],StatData[[#This Row],[Shoda: Pohlaví]],StatData[[#This Row],[Shoda: Věk]]),1,0)","v":0},{"$f":"IF(StatData[[#This Row],[Seskupený CZ-NACE]]=VLOOKUP(Obor,TabObor[],2,0),1,0)","v":1},{"$f":"IF(StatData[[#This Row],[Region]]=VLOOKUP(Region,TabRegion[],2,0),1,0)","v":0},{"$f":"IF(StatData[[#This Row],[Vzdělání]]=Vzdělání,1,0)","v":0},{"$f":"IF(StatData[[#This Row],[Pohlaví]]=Pohlaví,1,0)","v":0},{"$f":"IF(StatData[[#This Row],[Věk]]=Věk,1,0)","v":1},31,"Celkem",2,"Střední bez maturity","Muž","do 34 let    ",32732.7421875,42574.901215680002,21394.5674,22064.108415707298,22728.9856,23599.1083,25019.1666,26291.535008331499,27539.776644057802,28653.259316042,29869.782513400802,30895.040643842902,31836.615510080199,32940.673808625397,34109.286814257801,35092.209368359399,36153.726068094402,37054.3923153082,37977.634169436802,38679.577209960204,39514.239030944897,41535.559047085699,43505.5003034619,45685.467536802702,48107.961743030697,51189.697054498502,55312.617817039201,61052.7739534828,68888.873451130698,76039.966255976702]
[{"$f":"IF(AND(StatData[[#This Row],[Shoda: Seskupený CZ-NACE]],StatData[[#This Row],[Shoda: Region]],StatData[[#This Row],[Shoda: Vzdělání]],StatData[[#This Row],[Shoda: Pohlaví]],StatData[[#This Row],[Shoda: Věk]]),1,0)","v":0},{"$f":"IF(StatData[[#This Row],[Seskupený CZ-NACE]]=VLOOKUP(Obor,TabObor[],2,0),1,0)","v":1},{"$f":"IF(StatData[[#This Row],[Region]]=VLOOKUP(Region,TabRegion[],2,0),1,0)","v":0},{"$f":"IF(StatData[[#This Row],[Vzdělání]]=Vzdělání,1,0)","v":0},{"$f":"IF(StatData[[#This Row],[Pohlaví]]=Pohlaví,1,0)","v":0},{"$f":"IF(StatData[[#This Row],[Věk]]=Věk,1,0)","v":0},32,"Celkem",2,"Střední bez maturity","Muž","35 až 54 let ",91426.96875,44503.632192784797,21143.2978,22050.01485675,22752.5226,23706.4166,25680.4872,26927.884603514802,28337.3885580317,29939.667808834402,31391.562919604701,32795.539457025399,33868.447581610097,34913.124462022097,35886.614758675903,36940.735241452297,38026.957358548403,39009.466134500501,39933.402457197597,40861.326785050303,41810.338055781402,43640.941442959404,45630.802149312702,47740.344583965998,50293.263402658202,53498.515145724203,57595.850457733301,63444.364724423402,70921.2159820222,79304.442856527196]
[{"$f":"IF(AND(StatData[[#This Row],[Shoda: Seskupený CZ-NACE]],StatData[[#This Row],[Shoda: Region]],StatData[[#This Row],[Shoda: Vzdělání]],StatData[[#This Row],[Shoda: Pohlaví]],StatData[[#This Row],[Shoda: Věk]]),1,0)","v":0},{"$f":"IF(StatData[[#This Row],[Seskupený CZ-NACE]]=VLOOKUP(Obor,TabObor[],2,0),1,0)","v":1},{"$f":"IF(StatData[[#This Row],[Region]]=VLOOKUP(Region,TabRegion[],2,0),1,0)","v":0},{"$f":"IF(StatData[[#This Row],[Vzdělání]]=Vzdělání,1,0)","v":0},{"$f":"IF(StatData[[#This Row],[Pohlaví]]=Pohlaví,1,0)","v":0},{"$f":"IF(StatData[[#This Row],[Věk]]=Věk,1,0)","v":0},33,"Celkem",2,"Střední bez maturity","Muž","55 a více let",38372.26171875,42359.6121010715,22069.6309,22776.0036,24114.818281,25121.203099999999,26585.933221728501,27889.956725664098,28979.417000000001,30168.837916817301,31116.073630317402,32268.010686242302,33164.6779544815,34091.112345836002,35038.076316432402,35745.972798528797,36519.698787739799,37325.4390841438,38093.8499559501,38888.719135746003,39765.976175485797,41514.600615907897,43088.3232335555,44878.834694860197,47065.987655828998,49673.630855628297,53068.408719806997,57502.233572626603,62994.112005681098,74214.2196807726]
[{"$f":"IF(AND(StatData[[#This Row],[Shoda: Seskupený CZ-NACE]],StatData[[#This Row],[Shoda: Region]],StatData[[#This Row],[Shoda: Vzdělání]],StatData[[#This Row],[Shoda: Pohlaví]],StatData[[#This Row],[Shoda: Věk]]),1,0)","v":0},{"$f":"IF(StatData[[#This Row],[Seskupený CZ-NACE]]=VLOOKUP(Obor,TabObor[],2,0),1,0)","v":1},{"$f":"IF(StatData[[#This Row],[Region]]=VLOOKUP(Region,TabRegion[],2,0),1,0)","v":0},{"$f":"IF(StatData[[#This Row],[Vzdělání]]=Vzdělání,1,0)","v":0},{"$f":"IF(StatData[[#This Row],[Pohlaví]]=Pohlaví,1,0)","v":1},{"$f":"IF(StatData[[#This Row],[Věk]]=Věk,1,0)","v":1},34,"Celkem",2,"Střední bez maturity","Žena","do 34 let    ",10223.76171875,33513.221123887299,20158.7726,21041.045399999999,21756.866856249999,22462.809000000001,23300.9359,23790.7001248577,24464.0579,25249.878754186098,25950.0229895333,26327.7828772223,26703.580753411999,27013.128725168299,27788.425500000001,28547.8616,28983.070761838499,29406.965687028998,29943.886939047301,30546.5362026289,31181.1744573832,32523.5244475576,33882.053539986198,35107.766763302097,36603.446031695501,38224.610693290197,40512.358431760098,43012.074585320399,46554.337810920602,54923.5843712364]
[{"$f":"IF(AND(StatData[[#This Row],[Shoda: Seskupený CZ-NACE]],StatData[[#This Row],[Shoda: Region]],StatData[[#This Row],[Shoda: Vzdělání]],StatData[[#This Row],[Shoda: Pohlaví]],StatData[[#This Row],[Shoda: Věk]]),1,0)","v":0},{"$f":"IF(StatData[[#This Row],[Seskupený CZ-NACE]]=VLOOKUP(Obor,TabObor[],2,0),1,0)","v":1},{"$f":"IF(StatData[[#This Row],[Region]]=VLOOKUP(Region,TabRegion[],2,0),1,0)","v":0},{"$f":"IF(StatData[[#This Row],[Vzdělání]]=Vzdělání,1,0)","v":0},{"$f":"IF(StatData[[#This Row],[Pohlaví]]=Pohlaví,1,0)","v":1},{"$f":"IF(StatData[[#This Row],[Věk]]=Věk,1,0)","v":0},35,"Celkem",2,"Střední bez maturity","Žena","35 až 54 let ",53152.0703125,33702.282060057398,20020.117142499999,20342.912863833299,21022.104516098301,21802.8433,22430.25,23047.833299999998,23623.540934083299,24410.847300000001,24988.529299999998,25709.4166,26354.0440953408,27088.855559580599,27827.6898913779,28437.222258702401,29105.476885354001,29694.0260575252,30363.945884959499,30953.548281216801,31617.133494097499,32881.043851891103,34324.551005364097,35821.117081361102,37352.988084195298,39107.870964321002,41202.746407011698,43703.076945474197,47072.947446318103,55921.217297740499]
[{"$f":"IF(AND(StatData[[#This Row],[Shoda: Seskupený CZ-NACE]],StatData[[#This Row],[Shoda: Region]],StatData[[#This Row],[Shoda: Vzdělání]],StatData[[#This Row],[Shoda: Pohlaví]],StatData[[#This Row],[Shoda: Věk]]),1,0)","v":0},{"$f":"IF(StatData[[#This Row],[Seskupený CZ-NACE]]=VLOOKUP(Obor,TabObor[],2,0),1,0)","v":1},{"$f":"IF(StatData[[#This Row],[Region]]=VLOOKUP(Region,TabRegion[],2,0),1,0)","v":0},{"$f":"IF(StatData[[#This Row],[Vzdělání]]=Vzdělání,1,0)","v":0},{"$f":"IF(StatData[[#This Row],[Pohlaví]]=Pohlaví,1,0)","v":1},{"$f":"IF(StatData[[#This Row],[Věk]]=Věk,1,0)","v":0},36,"Celkem",2,"Střední bez maturity","Žena","55 a více let",21850.9609375,32652.105247384701,20067,21070.800599999999,21751.284800000001,22106.3411275053,22765.25,23148.566551544998,23845.943299999999,24484.015899999999,25118.4136,25692.157800000001,26302.319840790002,26701.053322994499,27306.653374329599,27791.1308272428,28297.2981586678,28884.332593753301,29503.861001647299,30130.067393410602,30644.8384084354,31800.382238016198,33262.282181763199,34531.4544683489,35965.473747579897,37615.114024806302,39755.521720040299,42092.723593037997,45138.738581338497,50985.577972397099]
[{"$f":"IF(AND(StatData[[#This Row],[Shoda: Seskupený CZ-NACE]],StatData[[#This Row],[Shoda: Region]],StatData[[#This Row],[Shoda: Vzdělání]],StatData[[#This Row],[Shoda: Pohlaví]],StatData[[#This Row],[Shoda: Věk]]),1,0)","v":0},{"$f":"IF(StatData[[#This Row],[Seskupený CZ-NACE]]=VLOOKUP(Obor,TabObor[],2,0),1,0)","v":1},{"$f":"IF(StatData[[#This Row],[Region]]=VLOOKUP(Region,TabRegion[],2,0),1,0)","v":0},{"$f":"IF(StatData[[#This Row],[Vzdělání]]=Vzdělání,1,0)","v":1},{"$f":"IF(StatData[[#This Row],[Pohlaví]]=Pohlaví,1,0)","v":0},{"$f":"IF(StatData[[#This Row],[Věk]]=Věk,1,0)","v":1},37,"Celkem",2,"Střední s maturitou a vyšší odborné","Muž","do 34 let    ",38915.3203125,48640.6974649033,22059.3684543333,23958.986199999999,27087.3366598143,29326.315606022399,31201.7518838096,32387.997227721102,34010.783647776298,34963.2298620972,36006.939373380199,36888.238760392902,37967.671745521897,39079.054770587099,40196.611014545997,41079.685133744497,41830.732013325003,42719.8193013583,43639.794842397401,44582.7364734976,45433.669561096598,47331.843143075799,49507.761104429803,52191.453664435801,55068.893408427597,58103.819172550102,61829.974066023897,67053.808621646298,74071.969563873499,83117.601172348295]
[{"$f":"IF(AND(StatData[[#This Row],[Shoda: Seskupený CZ-NACE]],StatData[[#This Row],[Shoda: Region]],StatData[[#This Row],[Shoda: Vzdělání]],StatData[[#This Row],[Shoda: Pohlaví]],StatData[[#This Row],[Shoda: Věk]]),1,0)","v":0},{"$f":"IF(StatData[[#This Row],[Seskupený CZ-NACE]]=VLOOKUP(Obor,TabObor[],2,0),1,0)","v":1},{"$f":"IF(StatData[[#This Row],[Region]]=VLOOKUP(Region,TabRegion[],2,0),1,0)","v":0},{"$f":"IF(StatData[[#This Row],[Vzdělání]]=Vzdělání,1,0)","v":1},{"$f":"IF(StatData[[#This Row],[Pohlaví]]=Pohlaví,1,0)","v":0},{"$f":"IF(StatData[[#This Row],[Věk]]=Věk,1,0)","v":0},38,"Celkem",2,"Střední s maturitou a vyšší odborné","Muž","35 až 54 let ",74863.1484375,57778.905678990799,22231.942192196599,24760.747599999999,27271.408786617201,30016.730911519899,32530.729794647599,34530.804451064199,36119.968607416398,37792.2157941396,39293.633210241802,40798.816032803101,42162.4993377012,43510.394338434096,44731.949640653896,45953.113348751198,47106.872542131903,48386.724409906499,49636.325554909199,50914.369464785901,52192.258537951901,54878.584623737697,57626.020717341802,60846.006305800001,64772.952128380697,69347.249373494094,74583.043141755305,81742.142859041604,91912.848996202301,105818.549372355]
[{"$f":"IF(AND(StatData[[#This Row],[Shoda: Seskupený CZ-NACE]],StatData[[#This Row],[Shoda: Region]],StatData[[#This Row],[Shoda: Vzdělání]],StatData[[#This Row],[Shoda: Pohlaví]],StatData[[#This Row],[Shoda: Věk]]),1,0)","v":0},{"$f":"IF(StatData[[#This Row],[Seskupený CZ-NACE]]=VLOOKUP(Obor,TabObor[],2,0),1,0)","v":1},{"$f":"IF(StatData[[#This Row],[Region]]=VLOOKUP(Region,TabRegion[],2,0),1,0)","v":0},{"$f":"IF(StatData[[#This Row],[Vzdělání]]=Vzdělání,1,0)","v":1},{"$f":"IF(StatData[[#This Row],[Pohlaví]]=Pohlaví,1,0)","v":0},{"$f":"IF(StatData[[#This Row],[Věk]]=Věk,1,0)","v":0},39,"Celkem",2,"Střední s maturitou a vyšší odborné","Muž","55 a více let",24797.021484375,51375.314881047903,21344.6741,23693.157032200899,25043.9166,27126.5680904578,28365.779066411498,29414.164023590401,30928.321863229601,32793.075729101402,34070.109867467901,35228.955320343797,36379.563901277797,37438.201410555397,38550.586885390301,39866.9350578866,41202.587816147599,42375.529567935802,43542.891302130301,44401.249900451803,45544.129797802598,48130.893384196599,50720.1667437383,53603.387268947998,56961.670745429299,60553.8686194404,64994.997268047802,70955.888333875104,82248.7087893875,96785.085192695798]
[{"$f":"IF(AND(StatData[[#This Row],[Shoda: Seskupený CZ-NACE]],StatData[[#This Row],[Shoda: Region]],StatData[[#This Row],[Shoda: Vzdělání]],StatData[[#This Row],[Shoda: Pohlaví]],StatData[[#This Row],[Shoda: Věk]]),1,0)","v":0},{"$f":"IF(StatData[[#This Row],[Seskupený CZ-NACE]]=VLOOKUP(Obor,TabObor[],2,0),1,0)","v":1},{"$f":"IF(StatData[[#This Row],[Region]]=VLOOKUP(Region,TabRegion[],2,0),1,0)","v":0},{"$f":"IF(StatData[[#This Row],[Vzdělání]]=Vzdělání,1,0)","v":1},{"$f":"IF(StatData[[#This Row],[Pohlaví]]=Pohlaví,1,0)","v":1},{"$f":"IF(StatData[[#This Row],[Věk]]=Věk,1,0)","v":1},40,"Celkem",2,"Střední s maturitou a vyšší odborné","Žena","do 34 let    ",25509.509765625,38494.039609860098,21970.6212821279,23087.846485583301,24585.020091958399,25916.479500000001,26829.764299999999,27903.614399999999,28686.614379054499,29512.807199999999,30069.384113826902,30630.9386486802,31198.9837234511,31855.2772202372,32616.171479505301,33122.929219171201,33739.759027966997,34419.135062114401,35115.387284508499,35663.416922353099,36279.328013882703,37715.593227746504,38995.130058531402,40395.678663632199,41995.092681926202,44046.6466210586,46304.892707353298,49637.859168322597,54572.248791377802,62577.879759802701]
[{"$f":"IF(AND(StatData[[#This Row],[Shoda: Seskupený CZ-NACE]],StatData[[#This Row],[Shoda: Region]],StatData[[#This Row],[Shoda: Vzdělání]],StatData[[#This Row],[Shoda: Pohlaví]],StatData[[#This Row],[Shoda: Věk]]),1,0)","v":0},{"$f":"IF(StatData[[#This Row],[Seskupený CZ-NACE]]=VLOOKUP(Obor,TabObor[],2,0),1,0)","v":1},{"$f":"IF(StatData[[#This Row],[Region]]=VLOOKUP(Region,TabRegion[],2,0),1,0)","v":0},{"$f":"IF(StatData[[#This Row],[Vzdělání]]=Vzdělání,1,0)","v":1},{"$f":"IF(StatData[[#This Row],[Pohlaví]]=Pohlaví,1,0)","v":1},{"$f":"IF(StatData[[#This Row],[Věk]]=Věk,1,0)","v":0},41,"Celkem",2,"Střední s maturitou a vyšší odborné","Žena","35 až 54 let ",89373.5390625,42794.031981377302,21986.7657987778,23738.090369641599,25482.030601583301,26805.963400000001,28053.247877899499,29167.445907152702,30399.285034692399,31213.5105281711,32186.406813502301,32803.667017018197,33524.5589242606,34397.637748839697,35062.6775678833,35811.555099083198,36574.2344020374,37280.059346937502,37958.118641952497,38696.8312732915,39391.7673764746,40916.614059669097,42726.638709910803,44423.048523239697,46534.316446438002,49204.340540630503,52737.070450368999,57128.987069062598,63887.578433128998,73929.436447886997]
[{"$f":"IF(AND(StatData[[#This Row],[Shoda: Seskupený CZ-NACE]],StatData[[#This Row],[Shoda: Region]],StatData[[#This Row],[Shoda: Vzdělání]],StatData[[#This Row],[Shoda: Pohlaví]],StatData[[#This Row],[Shoda: Věk]]),1,0)","v":0},{"$f":"IF(StatData[[#This Row],[Seskupený CZ-NACE]]=VLOOKUP(Obor,TabObor[],2,0),1,0)","v":1},{"$f":"IF(StatData[[#This Row],[Region]]=VLOOKUP(Region,TabRegion[],2,0),1,0)","v":0},{"$f":"IF(StatData[[#This Row],[Vzdělání]]=Vzdělání,1,0)","v":1},{"$f":"IF(StatData[[#This Row],[Pohlaví]]=Pohlaví,1,0)","v":1},{"$f":"IF(StatData[[#This Row],[Věk]]=Věk,1,0)","v":0},42,"Celkem",2,"Střední s maturitou a vyšší odborné","Žena","55 a více let",34477.140625,44510.601177565302,22792.454890998099,24399.138599999998,26216.67459359,27492.262299999999,29337.6829,30429.1829614663,31757.924728202601,32911.515583415203,33949.710731676802,34887.412499999999,35701.916352742599,36649.791690161597,37503.274770756798,38231.187634104899,39019.603985089998,39865.963743917397,40552.894006358598,41282.528374796297,41963.079871893598,43279.604047346402,44583.226495156698,46224.3521475499,48241.391132282399,50988.956262826301,54211.272892642701,58588.6060534891,65345.132946881298,75138.735749462299]
[{"$f":"IF(AND(StatData[[#This Row],[Shoda: Seskupený CZ-NACE]],StatData[[#This Row],[Shoda: Region]],StatData[[#This Row],[Shoda: Vzdělání]],StatData[[#This Row],[Shoda: Pohlaví]],StatData[[#This Row],[Shoda: Věk]]),1,0)","v":0},{"$f":"IF(StatData[[#This Row],[Seskupený CZ-NACE]]=VLOOKUP(Obor,TabObor[],2,0),1,0)","v":1},{"$f":"IF(StatData[[#This Row],[Region]]=VLOOKUP(Region,TabRegion[],2,0),1,0)","v":0},{"$f":"IF(StatData[[#This Row],[Vzdělání]]=Vzdělání,1,0)","v":0},{"$f":"IF(StatData[[#This Row],[Pohlaví]]=Pohlaví,1,0)","v":0},{"$f":"IF(StatData[[#This Row],[Věk]]=Věk,1,0)","v":1},43,"Celkem",2,"Vysokoškolské ","Muž","do 34 let    ",13849.9501953125,62834.4866082593,28040.0395873259,31508.447400000001,33968.000397987998,36510.1763898063,38315.048113294499,39986.825720968001,41193.027874018298,41969.496881261497,43071.796699781997,44159.239198503303,45410.191300465704,46423.956095781403,47603.884329984903,48506.084129224,49692.259081572403,50805.823855754497,51887.3760502683,53447.563195158298,55022.184944456298,58192.950499619503,61952.9941986259,66242.293927429098,70650.686779149502,76964.216727103005,84032.197541520902,90185.781409773204,99293.764524448605,114757.061637662]
[{"$f":"IF(AND(StatData[[#This Row],[Shoda: Seskupený CZ-NACE]],StatData[[#This Row],[Shoda: Region]],StatData[[#This Row],[Shoda: Vzdělání]],StatData[[#This Row],[Shoda: Pohlaví]],StatData[[#This Row],[Shoda: Věk]]),1,0)","v":0},{"$f":"IF(StatData[[#This Row],[Seskupený CZ-NACE]]=VLOOKUP(Obor,TabObor[],2,0),1,0)","v":1},{"$f":"IF(StatData[[#This Row],[Region]]=VLOOKUP(Region,TabRegion[],2,0),1,0)","v":0},{"$f":"IF(StatData[[#This Row],[Vzdělání]]=Vzdělání,1,0)","v":0},{"$f":"IF(StatData[[#This Row],[Pohlaví]]=Pohlaví,1,0)","v":0},{"$f":"IF(StatData[[#This Row],[Věk]]=Věk,1,0)","v":0},44,"Celkem",2,"Vysokoškolské ","Muž","35 až 54 let ",36470.3203125,84614.2633003909,27343.648004128499,32650.785024753699,37082.897002836398,40219.160524581603,42694.998981361801,44947.307503565098,46571.269123989703,48241.6349589319,50073.097399484599,51706.069661468398,53372.368013512103,55107.309486567603,56849.678766081299,58584.6260271969,60468.579808126902,62408.6894487752,64405.983177955699,66474.221893282898,68350.055205341196,73046.724274804204,78620.191876092504,84550.335447530699,92430.333608727698,99484.620803391095,109238.902580889,123480.957790361,144831.81734019899,186741.800867902]
[{"$f":"IF(AND(StatData[[#This Row],[Shoda: Seskupený CZ-NACE]],StatData[[#This Row],[Shoda: Region]],StatData[[#This Row],[Shoda: Vzdělání]],StatData[[#This Row],[Shoda: Pohlaví]],StatData[[#This Row],[Shoda: Věk]]),1,0)","v":0},{"$f":"IF(StatData[[#This Row],[Seskupený CZ-NACE]]=VLOOKUP(Obor,TabObor[],2,0),1,0)","v":1},{"$f":"IF(StatData[[#This Row],[Region]]=VLOOKUP(Region,TabRegion[],2,0),1,0)","v":0},{"$f":"IF(StatData[[#This Row],[Vzdělání]]=Vzdělání,1,0)","v":0},{"$f":"IF(StatData[[#This Row],[Pohlaví]]=Pohlaví,1,0)","v":0},{"$f":"IF(StatData[[#This Row],[Věk]]=Věk,1,0)","v":0},45,"Celkem",2,"Vysokoškolské ","Muž","55 a více let",15504.60546875,77575.566559960396,25234.9133216667,28427.429777201,29863.660301489399,31282.520053040502,33840.228575573499,36888.012789602297,39532.147535988697,41526.269380304097,43729.220118325,45253.807170446998,46693.9601326025,48687.7072998328,50280.331015745003,51603.219098035101,53566.845831871702,55306.486203003602,56686.126776804798,57910.366618548003,59964.415112349699,64356.931253508701,69417.405013576106,75670.134034960996,81692.399910462205,91261.260719102604,102410.995160461,117333.331196438,134499.72538270001,183850.10277497099]
[{"$f":"IF(AND(StatData[[#This Row],[Shoda: Seskupený CZ-NACE]],StatData[[#This Row],[Shoda: Region]],StatData[[#This Row],[Shoda: Vzdělání]],StatData[[#This Row],[Shoda: Pohlaví]],StatData[[#This Row],[Shoda: Věk]]),1,0)","v":0},{"$f":"IF(StatData[[#This Row],[Seskupený CZ-NACE]]=VLOOKUP(Obor,TabObor[],2,0),1,0)","v":1},{"$f":"IF(StatData[[#This Row],[Region]]=VLOOKUP(Region,TabRegion[],2,0),1,0)","v":0},{"$f":"IF(StatData[[#This Row],[Vzdělání]]=Vzdělání,1,0)","v":0},{"$f":"IF(StatData[[#This Row],[Pohlaví]]=Pohlaví,1,0)","v":1},{"$f":"IF(StatData[[#This Row],[Věk]]=Věk,1,0)","v":1},46,"Celkem",2,"Vysokoškolské ","Žena","do 34 let    ",15530.09765625,49916.552973432197,26709.435672368501,28725.426063403,30685.269613810899,32015.8036418296,32666.5240995157,34011.832823914199,35187.811709055,36042.849209966997,37027.753393677303,37735.024520268897,38515.277301844901,39075.677234259601,39697.558052904802,40638.854621096099,41544.210998317802,42353.744298106802,43028.816005896297,43903.603422763597,44781.958355736002,46203.965905200799,48396.441402676901,50785.0001757434,53657.909637577999,56810.372049288897,60503.285645198099,66074.409707624305,74307.719625088503,90994.855398990796]
[{"$f":"IF(AND(StatData[[#This Row],[Shoda: Seskupený CZ-NACE]],StatData[[#This Row],[Shoda: Region]],StatData[[#This Row],[Shoda: Vzdělání]],StatData[[#This Row],[Shoda: Pohlaví]],StatData[[#This Row],[Shoda: Věk]]),1,0)","v":0},{"$f":"IF(StatData[[#This Row],[Seskupený CZ-NACE]]=VLOOKUP(Obor,TabObor[],2,0),1,0)","v":1},{"$f":"IF(StatData[[#This Row],[Region]]=VLOOKUP(Region,TabRegion[],2,0),1,0)","v":0},{"$f":"IF(StatData[[#This Row],[Vzdělání]]=Vzdělání,1,0)","v":0},{"$f":"IF(StatData[[#This Row],[Pohlaví]]=Pohlaví,1,0)","v":1},{"$f":"IF(StatData[[#This Row],[Věk]]=Věk,1,0)","v":0},47,"Celkem",2,"Vysokoškolské ","Žena","35 až 54 let ",44879.7421875,58654.093488229402,28059.697500828799,31094.1467485799,33651.713034242603,35529.473594371302,37311.453260303097,38938.752382687999,40279.007993710802,41548.753122891401,42696.459115494501,43726.132485957402,44769.699973282201,45778.081459530898,46664.315065412004,47645.2421385872,48479.840231153401,49307.737618178799,50069.379688994202,50943.7408901257,51736.372092045298,53635.3141151952,55797.086258162999,58159.952423337301,61071.874698860898,64766.0506037788,70335.850510089396,77339.517409972497,89563.045274107397,108818.309782706]
[{"$f":"IF(AND(StatData[[#This Row],[Shoda: Seskupený CZ-NACE]],StatData[[#This Row],[Shoda: Region]],StatData[[#This Row],[Shoda: Vzdělání]],StatData[[#This Row],[Shoda: Pohlaví]],StatData[[#This Row],[Shoda: Věk]]),1,0)","v":0},{"$f":"IF(StatData[[#This Row],[Seskupený CZ-NACE]]=VLOOKUP(Obor,TabObor[],2,0),1,0)","v":1},{"$f":"IF(StatData[[#This Row],[Region]]=VLOOKUP(Region,TabRegion[],2,0),1,0)","v":0},{"$f":"IF(StatData[[#This Row],[Vzdělání]]=Vzdělání,1,0)","v":0},{"$f":"IF(StatData[[#This Row],[Pohlaví]]=Pohlaví,1,0)","v":1},{"$f":"IF(StatData[[#This Row],[Věk]]=Věk,1,0)","v":0},48,"Celkem",2,"Vysokoškolské ","Žena","55 a více let",13494.6123046875,62749.183358912,31498.114655903199,35225.020628111699,38240.219766667004,41016.6815639997,42816.158686787399,44218.754468572697,45566.3117992548,46983.617297667697,48266.006048342599,49482.331077964001,50323.511191753198,51306.400661902902,52213.698585241902,53008.549605697801,53725.957761520098,54436.7939566973,55165.703139080702,55802.146817572197,56436.206391986903,57889.998780169,59445.905393517802,61378.069070674501,64189.632432315797,68112.483589566895,74025.519685651903,83038.574212755193,93869.264699679596,110462.685341827]
[{"$f":"IF(AND(StatData[[#This Row],[Shoda: Seskupený CZ-NACE]],StatData[[#This Row],[Shoda: Region]],StatData[[#This Row],[Shoda: Vzdělání]],StatData[[#This Row],[Shoda: Pohlaví]],StatData[[#This Row],[Shoda: Věk]]),1,0)","v":0},{"$f":"IF(StatData[[#This Row],[Seskupený CZ-NACE]]=VLOOKUP(Obor,TabObor[],2,0),1,0)","v":1},{"$f":"IF(StatData[[#This Row],[Region]]=VLOOKUP(Region,TabRegion[],2,0),1,0)","v":0},{"$f":"IF(StatData[[#This Row],[Vzdělání]]=Vzdělání,1,0)","v":0},{"$f":"IF(StatData[[#This Row],[Pohlaví]]=Pohlaví,1,0)","v":0},{"$f":"IF(StatData[[#This Row],[Věk]]=Věk,1,0)","v":1},49,"Celkem",3,"Základní a nedokončené  ","Muž","do 34 let    ",33507.34765625,36304.486612802801,20257.682075471701,21558.608981150101,22154.794600000001,23129.2189,23993.229553509002,24951.583299999998,25680.211357430599,26368.267786235199,27186.253402546899,28276.066800000001,29263.1943949007,29970.731775493401,30712.312392338099,31503.615122893199,32174.768172023902,32893.790422047998,33534.6807010915,34163.182232847197,34828.537176530102,36178.299942462698,37810.898300957502,39361.147718753498,40947.775386768597,42720.4712744059,44817.642854581398,47280.917147871303,51238.766255414899,57247.479993824003]
[{"$f":"IF(AND(StatData[[#This Row],[Shoda: Seskupený CZ-NACE]],StatData[[#This Row],[Shoda: Region]],StatData[[#This Row],[Shoda: Vzdělání]],StatData[[#This Row],[Shoda: Pohlaví]],StatData[[#This Row],[Shoda: Věk]]),1,0)","v":0},{"$f":"IF(StatData[[#This Row],[Seskupený CZ-NACE]]=VLOOKUP(Obor,TabObor[],2,0),1,0)","v":1},{"$f":"IF(StatData[[#This Row],[Region]]=VLOOKUP(Region,TabRegion[],2,0),1,0)","v":0},{"$f":"IF(StatData[[#This Row],[Vzdělání]]=Vzdělání,1,0)","v":0},{"$f":"IF(StatData[[#This Row],[Pohlaví]]=Pohlaví,1,0)","v":0},{"$f":"IF(StatData[[#This Row],[Věk]]=Věk,1,0)","v":0},50,"Celkem",3,"Základní a nedokončené  ","Muž","35 až 54 let ",41413.484375,38292.628017766103,19749.4499748333,20759.8305,21646.575335877002,22307.151589749999,23384.135399999999,24050.139315500001,25382.132430586302,26176.064643600399,27306.419608666602,28731.494640880399,29740.556784112501,30641.470214502599,31554.2911530274,32553.329494152698,33354.412663230898,34147.2607515575,35011.211612253799,35852.1952580137,36464.631074736397,37986.614392340001,39584.978194565403,41251.252784060998,43012.118424844899,45070.532544086302,47292.850965361802,50041.213789706002,53975.981202812101,61937.245685077804]
[{"$f":"IF(AND(StatData[[#This Row],[Shoda: Seskupený CZ-NACE]],StatData[[#This Row],[Shoda: Region]],StatData[[#This Row],[Shoda: Vzdělání]],StatData[[#This Row],[Shoda: Pohlaví]],StatData[[#This Row],[Shoda: Věk]]),1,0)","v":0},{"$f":"IF(StatData[[#This Row],[Seskupený CZ-NACE]]=VLOOKUP(Obor,TabObor[],2,0),1,0)","v":1},{"$f":"IF(StatData[[#This Row],[Region]]=VLOOKUP(Region,TabRegion[],2,0),1,0)","v":0},{"$f":"IF(StatData[[#This Row],[Vzdělání]]=Vzdělání,1,0)","v":0},{"$f":"IF(StatData[[#This Row],[Pohlaví]]=Pohlaví,1,0)","v":0},{"$f":"IF(StatData[[#This Row],[Věk]]=Věk,1,0)","v":0},51,"Celkem",3,"Základní a nedokončené  ","Muž","55 a více let",12482.2314453125,35179.816640596597,19710.301200000002,20559.227119297,21317.083299999998,21910.1666,22661.199100000002,23197.621599999999,24071.946980252302,24953.364407204601,25862.299674114402,26647.7452715324,27432.981550709901,28104.698834887098,28800.2464856277,29585.597167274002,30310.792057357899,31157.3844947775,31929.394288677999,32631.463797812099,33245.241540681702,34658.350637915297,36132.604339332996,37412.979021308201,39334.365594177201,41271.216557587402,43507.666981164402,45995.629607786097,49810.9891032858,56843.165193267399]
[{"$f":"IF(AND(StatData[[#This Row],[Shoda: Seskupený CZ-NACE]],StatData[[#This Row],[Shoda: Region]],StatData[[#This Row],[Shoda: Vzdělání]],StatData[[#This Row],[Shoda: Pohlaví]],StatData[[#This Row],[Shoda: Věk]]),1,0)","v":0},{"$f":"IF(StatData[[#This Row],[Seskupený CZ-NACE]]=VLOOKUP(Obor,TabObor[],2,0),1,0)","v":1},{"$f":"IF(StatData[[#This Row],[Region]]=VLOOKUP(Region,TabRegion[],2,0),1,0)","v":0},{"$f":"IF(StatData[[#This Row],[Vzdělání]]=Vzdělání,1,0)","v":0},{"$f":"IF(StatData[[#This Row],[Pohlaví]]=Pohlaví,1,0)","v":1},{"$f":"IF(StatData[[#This Row],[Věk]]=Věk,1,0)","v":1},52,"Celkem",3,"Základní a nedokončené  ","Žena","do 34 let    ",19128.841796875,31762.784086195301,20066.663100000002,21196.5065,21716.061799999999,22048.157299999999,22956.207699999999,23345.160100000001,24150.396852833299,24737.8874,25513.834569143801,26047.809508002701,26666.482771330098,27282.248058620698,27874.6154944829,28344.5171929403,28967.9494271568,29496.572031604399,30018.332161070899,30541.9671389986,31042.369173682298,32039.851536680599,33013.3930765388,34182.067027923003,35306.6927860176,36601.311394414799,38024.335441475603,39794.741655324498,42142.947078774901,46254.170743851297]
[{"$f":"IF(AND(StatData[[#This Row],[Shoda: Seskupený CZ-NACE]],StatData[[#This Row],[Shoda: Region]],StatData[[#This Row],[Shoda: Vzdělání]],StatData[[#This Row],[Shoda: Pohlaví]],StatData[[#This Row],[Shoda: Věk]]),1,0)","v":0},{"$f":"IF(StatData[[#This Row],[Seskupený CZ-NACE]]=VLOOKUP(Obor,TabObor[],2,0),1,0)","v":1},{"$f":"IF(StatData[[#This Row],[Region]]=VLOOKUP(Region,TabRegion[],2,0),1,0)","v":0},{"$f":"IF(StatData[[#This Row],[Vzdělání]]=Vzdělání,1,0)","v":0},{"$f":"IF(StatData[[#This Row],[Pohlaví]]=Pohlaví,1,0)","v":1},{"$f":"IF(StatData[[#This Row],[Věk]]=Věk,1,0)","v":0},53,"Celkem",3,"Základní a nedokončené  ","Žena","35 až 54 let ",38187.2890625,31471.4238406162,19368.1876168333,20003.068899999998,20913.176599999999,21279.833299999998,21761,22404.478200000001,22958.278943065001,23661.810773500001,24294.583299999998,24891.353299999999,25568.044242370899,26160.022508636499,26670.838199999998,27265.5439007159,27916.206399999999,28554.249655576699,29172.874847413699,29742.604247332802,30330.8953041395,31479.826612758799,32606.989759567299,33899.769741751101,35231.447577491002,36556.148049167299,38111.005426358097,39956.158670583703,42647.474731877199,47728.779554588502]
[{"$f":"IF(AND(StatData[[#This Row],[Shoda: Seskupený CZ-NACE]],StatData[[#This Row],[Shoda: Region]],StatData[[#This Row],[Shoda: Vzdělání]],StatData[[#This Row],[Shoda: Pohlaví]],StatData[[#This Row],[Shoda: Věk]]),1,0)","v":0},{"$f":"IF(StatData[[#This Row],[Seskupený CZ-NACE]]=VLOOKUP(Obor,TabObor[],2,0),1,0)","v":1},{"$f":"IF(StatData[[#This Row],[Region]]=VLOOKUP(Region,TabRegion[],2,0),1,0)","v":0},{"$f":"IF(StatData[[#This Row],[Vzdělání]]=Vzdělání,1,0)","v":0},{"$f":"IF(StatData[[#This Row],[Pohlaví]]=Pohlaví,1,0)","v":1},{"$f":"IF(StatData[[#This Row],[Věk]]=Věk,1,0)","v":0},54,"Celkem",3,"Základní a nedokončené  ","Žena","55 a více let",16782.8828125,29031.922155775501,19234.530999999999,19718.209800000001,20096.250700000001,20634.177899999999,21091.127899999999,21474.924200000001,21793.436771500001,22182.790385376298,22540.5602,22916.997998777799,23293.305700000001,23733.107400000001,24185.322499999998,24607.085500000001,24985.833299999998,25484.402367480499,26035.422325240801,26612.083467778099,27147.483782511299,28285.349467895401,29480.051990718799,30848.015654496099,32250.367353746198,33807.232751042997,35439.347787902698,37359.644474148699,40001.435120294598,44318.752085613698]
[{"$f":"IF(AND(StatData[[#This Row],[Shoda: Seskupený CZ-NACE]],StatData[[#This Row],[Shoda: Region]],StatData[[#This Row],[Shoda: Vzdělání]],StatData[[#This Row],[Shoda: Pohlaví]],StatData[[#This Row],[Shoda: Věk]]),1,0)","v":0},{"$f":"IF(StatData[[#This Row],[Seskupený CZ-NACE]]=VLOOKUP(Obor,TabObor[],2,0),1,0)","v":1},{"$f":"IF(StatData[[#This Row],[Region]]=VLOOKUP(Region,TabRegion[],2,0),1,0)","v":0},{"$f":"IF(StatData[[#This Row],[Vzdělání]]=Vzdělání,1,0)","v":0},{"$f":"IF(StatData[[#This Row],[Pohlaví]]=Pohlaví,1,0)","v":0},{"$f":"IF(StatData[[#This Row],[Věk]]=Věk,1,0)","v":1},55,"Celkem",3,"Střední bez maturity","Muž","do 34 let    ",85674.0234375,38161.5716281477,20300.312408833299,21455.789369583301,22249.102523577101,23115.043300117599,24403.545375043599,25478.541729681401,26338.245390735701,27646.089016711499,28930.833299999998,29926.9142212728,30777.443940620298,31714.3390764986,32608.243319065401,33342.113010760797,34049.147066249199,34763.746824847003,35608.715877499999,36372.252154047703,37187.688716676501,38781.580217455703,40305.651112240703,41935.563697651203,43581.263947195002,45343.0141114617,47482.340389534598,50157.425158499398,54076.704462608701,60307.819120941102]
[{"$f":"IF(AND(StatData[[#This Row],[Shoda: Seskupený CZ-NACE]],StatData[[#This Row],[Shoda: Region]],StatData[[#This Row],[Shoda: Vzdělání]],StatData[[#This Row],[Shoda: Pohlaví]],StatData[[#This Row],[Shoda: Věk]]),1,0)","v":0},{"$f":"IF(StatData[[#This Row],[Seskupený CZ-NACE]]=VLOOKUP(Obor,TabObor[],2,0),1,0)","v":1},{"$f":"IF(StatData[[#This Row],[Region]]=VLOOKUP(Region,TabRegion[],2,0),1,0)","v":0},{"$f":"IF(StatData[[#This Row],[Vzdělání]]=Vzdělání,1,0)","v":0},{"$f":"IF(StatData[[#This Row],[Pohlaví]]=Pohlaví,1,0)","v":0},{"$f":"IF(StatData[[#This Row],[Věk]]=Věk,1,0)","v":0},56,"Celkem",3,"Střední bez maturity","Muž","35 až 54 let ",235331.734375,41059.916561568098,20496.25,21793.436771500001,22772.9166,24023.4912567424,25542.3247698163,26752.683657639602,28141.454575396801,29235.3512862139,30504.008331284502,31647.548859969102,32707.173374938,33782.5295733811,34707.649923035999,35564.505627626699,36375.497628688601,37229.335730309402,38032.904959999403,38835.281276586,39680.771241994,41330.822455612899,42987.104708605802,44695.761882940402,46498.0981002669,48585.701450021101,51110.611682831499,54302.100145082397,58774.374718157,66522.461363459093]
[{"$f":"IF(AND(StatData[[#This Row],[Shoda: Seskupený CZ-NACE]],StatData[[#This Row],[Shoda: Region]],StatData[[#This Row],[Shoda: Vzdělání]],StatData[[#This Row],[Shoda: Pohlaví]],StatData[[#This Row],[Shoda: Věk]]),1,0)","v":0},{"$f":"IF(StatData[[#This Row],[Seskupený CZ-NACE]]=VLOOKUP(Obor,TabObor[],2,0),1,0)","v":1},{"$f":"IF(StatData[[#This Row],[Region]]=VLOOKUP(Region,TabRegion[],2,0),1,0)","v":0},{"$f":"IF(StatData[[#This Row],[Vzdělání]]=Vzdělání,1,0)","v":0},{"$f":"IF(StatData[[#This Row],[Pohlaví]]=Pohlaví,1,0)","v":0},{"$f":"IF(StatData[[#This Row],[Věk]]=Věk,1,0)","v":0},57,"Celkem",3,"Střední bez maturity","Muž","55 a více let",108710.6640625,39359.882324557897,20888.757910833301,22042.514498749999,23328,24751.854800000001,25943.643418737902,27165.4301163809,28120.557380609702,29158.2021424304,30116.375795545398,31013.581874530999,31955.482395079001,32809.614841228897,33489.140969437802,34297.922196448802,35080.002147799198,35933.931323413897,36661.314577527002,37352.009763818198,38178.552237496602,39569.298629103003,41113.497509093097,42647.193421561598,44332.620361983303,46206.873822806498,48335.583487174401,51037.9687044526,55019.353844350197,61939.808331196698]
[{"$f":"IF(AND(StatData[[#This Row],[Shoda: Seskupený CZ-NACE]],StatData[[#This Row],[Shoda: Region]],StatData[[#This Row],[Shoda: Vzdělání]],StatData[[#This Row],[Shoda: Pohlaví]],StatData[[#This Row],[Shoda: Věk]]),1,0)","v":0},{"$f":"IF(StatData[[#This Row],[Seskupený CZ-NACE]]=VLOOKUP(Obor,TabObor[],2,0),1,0)","v":1},{"$f":"IF(StatData[[#This Row],[Region]]=VLOOKUP(Region,TabRegion[],2,0),1,0)","v":0},{"$f":"IF(StatData[[#This Row],[Vzdělání]]=Vzdělání,1,0)","v":0},{"$f":"IF(StatData[[#This Row],[Pohlaví]]=Pohlaví,1,0)","v":1},{"$f":"IF(StatData[[#This Row],[Věk]]=Věk,1,0)","v":1},58,"Celkem",3,"Střední bez maturity","Žena","do 34 let    ",28226.337890625,30456.633878708199,20257.311219616498,21003.75,21504.416880500001,21800.184979666701,22005.822700000001,22408.25,22974.005037642801,23433.856364325999,23864.48208175,24445.440900000001,24997.286681471898,25708,26215.227577084101,26741.376233837302,27299.537811111699,27803.665385230601,28277.489605215102,28788,29331.533100000001,30384.396033298701,31393.6040056891,32482.631435452899,33469.9962343238,34842.004333078097,36519.925264881902,38406.508832367603,41174.103130089898,45204.045971696498]
[{"$f":"IF(AND(StatData[[#This Row],[Shoda: Seskupený CZ-NACE]],StatData[[#This Row],[Shoda: Region]],StatData[[#This Row],[Shoda: Vzdělání]],StatData[[#This Row],[Shoda: Pohlaví]],StatData[[#This Row],[Shoda: Věk]]),1,0)","v":0},{"$f":"IF(StatData[[#This Row],[Seskupený CZ-NACE]]=VLOOKUP(Obor,TabObor[],2,0),1,0)","v":1},{"$f":"IF(StatData[[#This Row],[Region]]=VLOOKUP(Region,TabRegion[],2,0),1,0)","v":0},{"$f":"IF(StatData[[#This Row],[Vzdělání]]=Vzdělání,1,0)","v":0},{"$f":"IF(StatData[[#This Row],[Pohlaví]]=Pohlaví,1,0)","v":1},{"$f":"IF(StatData[[#This Row],[Věk]]=Věk,1,0)","v":0},59,"Celkem",3,"Střední bez maturity","Žena","35 až 54 let ",147082.859375,31375.5415662825,20018.4166,20820.9764,21479.726200000001,21973.927474179,22536.000394333299,23126.929379715501,23602.75,24201.1666,24781.387832877601,25255.1666,25763.656008596401,26292.176094803399,26828.932815281201,27357.688075233498,27887.7100381528,28339.7275894507,28822.776791307599,29306.083299999998,29818.5,30805.395946530902,31950.734064319699,33234.959683713998,34570.662262672296,36040.286125987201,37845.912856679701,39941.027672772099,42664.950914782101,47292.347591537298]
[{"$f":"IF(AND(StatData[[#This Row],[Shoda: Seskupený CZ-NACE]],StatData[[#This Row],[Shoda: Region]],StatData[[#This Row],[Shoda: Vzdělání]],StatData[[#This Row],[Shoda: Pohlaví]],StatData[[#This Row],[Shoda: Věk]]),1,0)","v":0},{"$f":"IF(StatData[[#This Row],[Seskupený CZ-NACE]]=VLOOKUP(Obor,TabObor[],2,0),1,0)","v":1},{"$f":"IF(StatData[[#This Row],[Region]]=VLOOKUP(Region,TabRegion[],2,0),1,0)","v":0},{"$f":"IF(StatData[[#This Row],[Vzdělání]]=Vzdělání,1,0)","v":0},{"$f":"IF(StatData[[#This Row],[Pohlaví]]=Pohlaví,1,0)","v":1},{"$f":"IF(StatData[[#This Row],[Věk]]=Věk,1,0)","v":0},60,"Celkem",3,"Střední bez maturity","Žena","55 a více let",67694.0234375,30665.799030793001,19729.1666,20419.083299999998,21016.8419314844,21513.25,21903.402572583302,22437.083299999998,22947.333299999998,23382.231599999999,23922.1816,24524.433300000001,25077.4425812052,25545.1941643225,26034.083299999998,26511.121727805199,26985.083299999998,27542.068036663699,28096.191990528001,28605.458708750401,29148.387308398102,30154.600175950101,31205.881730473298,32434.117328299901,33823.922132010899,35375.313506249302,37164.190626051801,39308.734232102397,41861.114094446901,46155.211442621898]
[{"$f":"IF(AND(StatData[[#This Row],[Shoda: Seskupený CZ-NACE]],StatData[[#This Row],[Shoda: Region]],StatData[[#This Row],[Shoda: Vzdělání]],StatData[[#This Row],[Shoda: Pohlaví]],StatData[[#This Row],[Shoda: Věk]]),1,0)","v":0},{"$f":"IF(StatData[[#This Row],[Seskupený CZ-NACE]]=VLOOKUP(Obor,TabObor[],2,0),1,0)","v":1},{"$f":"IF(StatData[[#This Row],[Region]]=VLOOKUP(Region,TabRegion[],2,0),1,0)","v":0},{"$f":"IF(StatData[[#This Row],[Vzdělání]]=Vzdělání,1,0)","v":1},{"$f":"IF(StatData[[#This Row],[Pohlaví]]=Pohlaví,1,0)","v":0},{"$f":"IF(StatData[[#This Row],[Věk]]=Věk,1,0)","v":1},61,"Celkem",3,"Střední s maturitou a vyšší odborné","Muž","do 34 let    ",106426.2890625,44959.288275871499,22697.8111228333,25154.514418604002,27101.350212680401,29040.162938373101,30418.7799082852,31454.5834624087,32560.4463351587,33469.556371377497,34430.222811153697,35410,36264.148420027901,37081.0884039784,37905.912625140998,38705.794707741697,39472.390022316999,40191.616403595101,41012.527004589101,41767.320885142799,42580.784168067999,44060.379357002901,45685.315905047901,47427.762135651799,49459.104020297498,51790.905117685797,54782.3789378851,58761.565015900698,64434.343797680398,73793.341731948094]
[{"$f":"IF(AND(StatData[[#This Row],[Shoda: Seskupený CZ-NACE]],StatData[[#This Row],[Shoda: Region]],StatData[[#This Row],[Shoda: Vzdělání]],StatData[[#This Row],[Shoda: Pohlaví]],StatData[[#This Row],[Shoda: Věk]]),1,0)","v":0},{"$f":"IF(StatData[[#This Row],[Seskupený CZ-NACE]]=VLOOKUP(Obor,TabObor[],2,0),1,0)","v":1},{"$f":"IF(StatData[[#This Row],[Region]]=VLOOKUP(Region,TabRegion[],2,0),1,0)","v":0},{"$f":"IF(StatData[[#This Row],[Vzdělání]]=Vzdělání,1,0)","v":1},{"$f":"IF(StatData[[#This Row],[Pohlaví]]=Pohlaví,1,0)","v":0},{"$f":"IF(StatData[[#This Row],[Věk]]=Věk,1,0)","v":0},62,"Celkem",3,"Střední s maturitou a vyšší odborné","Muž","35 až 54 let ",204344,52170.892508330602,21956.7863,24528.386418459599,26930.625796921599,29324.446300249499,31304.915163275899,33247.3060983498,34832.5010843731,36059.020302498997,37259.370711023097,38534.352135829198,39683.736614812202,40773.136644483202,41817.124277326402,42848.984456860497,43913.5972199967,44942.5294333645,45962.898908916999,47071.984972833001,48070.6881070905,50314.060089678504,52488.2536138633,54799.707517320603,57462.6662516633,60619.172743935102,64538.759259076003,70045.860400286794,78414.884582369094,94297.410944917006]
[{"$f":"IF(AND(StatData[[#This Row],[Shoda: Seskupený CZ-NACE]],StatData[[#This Row],[Shoda: Region]],StatData[[#This Row],[Shoda: Vzdělání]],StatData[[#This Row],[Shoda: Pohlaví]],StatData[[#This Row],[Shoda: Věk]]),1,0)","v":0},{"$f":"IF(StatData[[#This Row],[Seskupený CZ-NACE]]=VLOOKUP(Obor,TabObor[],2,0),1,0)","v":1},{"$f":"IF(StatData[[#This Row],[Region]]=VLOOKUP(Region,TabRegion[],2,0),1,0)","v":0},{"$f":"IF(StatData[[#This Row],[Vzdělání]]=Vzdělání,1,0)","v":1},{"$f":"IF(StatData[[#This Row],[Pohlaví]]=Pohlaví,1,0)","v":0},{"$f":"IF(StatData[[#This Row],[Věk]]=Věk,1,0)","v":0},63,"Celkem",3,"Střední s maturitou a vyšší odborné","Muž","55 a více let",70853.2578125,48392.841739592397,22122.266500000002,24185.25,26021.801299999999,26948.6181690671,28754.5,30301.490946414098,31555.387191397502,32737.089200444902,33916.978190666799,35018.4971402101,36140.459727777001,37256.290976626398,38366.136586779699,39458.555798505302,40372.090788283604,41386.390052990799,42368.933957689303,43391.696477801001,44312.989944643603,46442.246467357298,48610.855217585697,50794.357500506303,53442.958583447398,56267.923685607697,60036.310752993202,64875.883141373197,72045.271926694899,85150.170069162195]
[{"$f":"IF(AND(StatData[[#This Row],[Shoda: Seskupený CZ-NACE]],StatData[[#This Row],[Shoda: Region]],StatData[[#This Row],[Shoda: Vzdělání]],StatData[[#This Row],[Shoda: Pohlaví]],StatData[[#This Row],[Shoda: Věk]]),1,0)","v":0},{"$f":"IF(StatData[[#This Row],[Seskupený CZ-NACE]]=VLOOKUP(Obor,TabObor[],2,0),1,0)","v":1},{"$f":"IF(StatData[[#This Row],[Region]]=VLOOKUP(Region,TabRegion[],2,0),1,0)","v":0},{"$f":"IF(StatData[[#This Row],[Vzdělání]]=Vzdělání,1,0)","v":1},{"$f":"IF(StatData[[#This Row],[Pohlaví]]=Pohlaví,1,0)","v":1},{"$f":"IF(StatData[[#This Row],[Věk]]=Věk,1,0)","v":1},64,"Celkem",3,"Střední s maturitou a vyšší odborné","Žena","do 34 let    ",71081.53125,36447.192264648598,21799.207517810701,23118.786199999999,24065.297745441199,25145.25,26118.262548601801,26896.2546,27693.250099118999,28308.283360454101,28877.724209961601,29484.8502785173,30107.833299999998,30660.453341135901,31227.5683190134,31788.3863387899,32346.579738493299,33001.063227477498,33614.767204670301,34176.2514785444,34801.344186454102,35968.9713821162,37199.108941406601,38537.270134557701,39910.537186855603,41746.376899183597,43976.915887309398,46632.789208010901,50353.6172838571,56683.498106063998]
[{"$f":"IF(AND(StatData[[#This Row],[Shoda: Seskupený CZ-NACE]],StatData[[#This Row],[Shoda: Region]],StatData[[#This Row],[Shoda: Vzdělání]],StatData[[#This Row],[Shoda: Pohlaví]],StatData[[#This Row],[Shoda: Věk]]),1,0)","v":0},{"$f":"IF(StatData[[#This Row],[Seskupený CZ-NACE]]=VLOOKUP(Obor,TabObor[],2,0),1,0)","v":1},{"$f":"IF(StatData[[#This Row],[Region]]=VLOOKUP(Region,TabRegion[],2,0),1,0)","v":0},{"$f":"IF(StatData[[#This Row],[Vzdělání]]=Vzdělání,1,0)","v":1},{"$f":"IF(StatData[[#This Row],[Pohlaví]]=Pohlaví,1,0)","v":1},{"$f":"IF(StatData[[#This Row],[Věk]]=Věk,1,0)","v":0},65,"Celkem",3,"Střední s maturitou a vyšší odborné","Žena","35 až 54 let ",242602.21875,40390.4360621124,22121.964765048899,23553.576300000001,24900.154631079102,26038.955186718202,27087.2916,28001.336884462999,28921.938865555901,29840.548988983199,30583.248024417298,31313.554071414801,32096.749475071501,32860.199262638402,33559.733261636698,34208.909320764003,34903.480918020898,35594.75,36287.220394318698,37045.465647931902,37780.038921238403,39271.707966509101,40799.112865360003,42490.788544583098,44381.338222625804,46676.055340833402,49529.990479717599,53233.8020465195,58551.2530891895,67206.678284776805]
[{"$f":"IF(AND(StatData[[#This Row],[Shoda: Seskupený CZ-NACE]],StatData[[#This Row],[Shoda: Region]],StatData[[#This Row],[Shoda: Vzdělání]],StatData[[#This Row],[Shoda: Pohlaví]],StatData[[#This Row],[Shoda: Věk]]),1,0)","v":0},{"$f":"IF(StatData[[#This Row],[Seskupený CZ-NACE]]=VLOOKUP(Obor,TabObor[],2,0),1,0)","v":1},{"$f":"IF(StatData[[#This Row],[Region]]=VLOOKUP(Region,TabRegion[],2,0),1,0)","v":0},{"$f":"IF(StatData[[#This Row],[Vzdělání]]=Vzdělání,1,0)","v":1},{"$f":"IF(StatData[[#This Row],[Pohlaví]]=Pohlaví,1,0)","v":1},{"$f":"IF(StatData[[#This Row],[Věk]]=Věk,1,0)","v":0},66,"Celkem",3,"Střední s maturitou a vyšší odborné","Žena","55 a více let",98640.4296875,42477.5041617635,22189.4107,23761.008012333299,25103.266948766501,26441.083299999998,27558.595233706401,28732.206542381999,29743.2243464042,30724.4229177013,31589.3594290939,32635.619898671601,33624.713734949997,34671.113135080799,35598.355455340097,36416.8128713236,37160.533586384197,38051.914267760498,38857.744903102102,39589.4618426163,40325.427178161801,41801.539794487398,43313.401564969499,44893.394354203498,46821.079815916302,49219.286463272299,52219.600043943501,55926.828669675597,61422.900477809999,70680.665293861704]
[{"$f":"IF(AND(StatData[[#This Row],[Shoda: Seskupený CZ-NACE]],StatData[[#This Row],[Shoda: Region]],StatData[[#This Row],[Shoda: Vzdělání]],StatData[[#This Row],[Shoda: Pohlaví]],StatData[[#This Row],[Shoda: Věk]]),1,0)","v":0},{"$f":"IF(StatData[[#This Row],[Seskupený CZ-NACE]]=VLOOKUP(Obor,TabObor[],2,0),1,0)","v":1},{"$f":"IF(StatData[[#This Row],[Region]]=VLOOKUP(Region,TabRegion[],2,0),1,0)","v":0},{"$f":"IF(StatData[[#This Row],[Vzdělání]]=Vzdělání,1,0)","v":0},{"$f":"IF(StatData[[#This Row],[Pohlaví]]=Pohlaví,1,0)","v":0},{"$f":"IF(StatData[[#This Row],[Věk]]=Věk,1,0)","v":1},67,"Celkem",3,"Vysokoškolské ","Muž","do 34 let    ",47623.765625,58509.356951431102,27112.016497244502,30219.179602865701,32877.5,35023.581041367899,36479.563202903199,37951.472055318802,39289.919783096302,40659.455554252898,41886.715974754297,42911.329123276897,43817.298609682097,44996.463126637304,45917.113222613203,46815.288658056699,47717.032329581598,48706.489191665401,49689.163664106498,50674.138044735402,51724.395283858903,54212.135713691903,57035.346388253602,60343.895422455498,63980.2617990375,68502.418311638306,74064.2717944287,81279.369116207701,91248.907666807398,109749.404224832]
[{"$f":"IF(AND(StatData[[#This Row],[Shoda: Seskupený CZ-NACE]],StatData[[#This Row],[Shoda: Region]],StatData[[#This Row],[Shoda: Vzdělání]],StatData[[#This Row],[Shoda: Pohlaví]],StatData[[#This Row],[Shoda: Věk]]),1,0)","v":0},{"$f":"IF(StatData[[#This Row],[Seskupený CZ-NACE]]=VLOOKUP(Obor,TabObor[],2,0),1,0)","v":1},{"$f":"IF(StatData[[#This Row],[Region]]=VLOOKUP(Region,TabRegion[],2,0),1,0)","v":0},{"$f":"IF(StatData[[#This Row],[Vzdělání]]=Vzdělání,1,0)","v":0},{"$f":"IF(StatData[[#This Row],[Pohlaví]]=Pohlaví,1,0)","v":0},{"$f":"IF(StatData[[#This Row],[Věk]]=Věk,1,0)","v":0},68,"Celkem",3,"Vysokoškolské ","Muž","35 až 54 let ",123603.171875,75999.931527492707,26715.257873744398,30702.5868320109,34952.1490990108,38398.380191476397,40432.101188701497,42315.640310315699,44191.191035425698,45821.135226428101,47319.709771415197,48928.119601927297,50412.326227866302,51933.703573550702,53531.7845168555,55033.2025347331,56645.750466553203,58227.961272785702,59927.5676705312,61572.278706550103,63490.937085908801,67321.827799841005,71524.114608824006,76340.402571895102,82111.228610115795,89161.971838590107,97922.934368888702,109819.964325573,129009.32816821001,163807.214323483]
[{"$f":"IF(AND(StatData[[#This Row],[Shoda: Seskupený CZ-NACE]],StatData[[#This Row],[Shoda: Region]],StatData[[#This Row],[Shoda: Vzdělání]],StatData[[#This Row],[Shoda: Pohlaví]],StatData[[#This Row],[Shoda: Věk]]),1,0)","v":0},{"$f":"IF(StatData[[#This Row],[Seskupený CZ-NACE]]=VLOOKUP(Obor,TabObor[],2,0),1,0)","v":1},{"$f":"IF(StatData[[#This Row],[Region]]=VLOOKUP(Region,TabRegion[],2,0),1,0)","v":0},{"$f":"IF(StatData[[#This Row],[Vzdělání]]=Vzdělání,1,0)","v":0},{"$f":"IF(StatData[[#This Row],[Pohlaví]]=Pohlaví,1,0)","v":0},{"$f":"IF(StatData[[#This Row],[Věk]]=Věk,1,0)","v":0},69,"Celkem",3,"Vysokoškolské ","Muž","55 a více let",50294.203125,69269.165872653801,22352.5,25792.425284916699,28090.637728861399,30377.634788838299,32774.915238044399,35561.761915465897,38164.124053737898,40474.059657489401,41791.457319599402,42989.367523059598,44689.6045176552,46455.208847053298,48042.359007654297,49519.153629645501,50591.410614538101,51992.915309424803,53223.879089400602,54704.074493364198,56371.931080590002,59369.479802363698,63256.396607318296,68158.222126660505,73537.887414017794,80937.914716576604,89625.051096361698,100536.849930543,117879.76358591201,159749.19225949101]
[{"$f":"IF(AND(StatData[[#This Row],[Shoda: Seskupený CZ-NACE]],StatData[[#This Row],[Shoda: Region]],StatData[[#This Row],[Shoda: Vzdělání]],StatData[[#This Row],[Shoda: Pohlaví]],StatData[[#This Row],[Shoda: Věk]]),1,0)","v":0},{"$f":"IF(StatData[[#This Row],[Seskupený CZ-NACE]]=VLOOKUP(Obor,TabObor[],2,0),1,0)","v":1},{"$f":"IF(StatData[[#This Row],[Region]]=VLOOKUP(Region,TabRegion[],2,0),1,0)","v":0},{"$f":"IF(StatData[[#This Row],[Vzdělání]]=Vzdělání,1,0)","v":0},{"$f":"IF(StatData[[#This Row],[Pohlaví]]=Pohlaví,1,0)","v":1},{"$f":"IF(StatData[[#This Row],[Věk]]=Věk,1,0)","v":1},70,"Celkem",3,"Vysokoškolské ","Žena","do 34 let    ",52428.55078125,47366.189081315199,26576.281200000001,28532.968060209001,29981.7205359744,31354.552745147801,32414.2251,33582.781502737198,34471.913500000002,35370.632540557097,36230.161598867096,37006.474621924899,37775.346089362101,38409.743644085502,39143.957181363301,39889.7449050387,40565.169071534801,41288.653016323799,41870.461848679603,42531.090844612401,43162.4860120788,44563.057519153903,45974.805359682803,47580.724410160699,49574.198443365203,52166.768752474498,55534.364855057298,60163.301870098199,67853.802972980295,84192.638654973096]
[{"$f":"IF(AND(StatData[[#This Row],[Shoda: Seskupený CZ-NACE]],StatData[[#This Row],[Shoda: Region]],StatData[[#This Row],[Shoda: Vzdělání]],StatData[[#This Row],[Shoda: Pohlaví]],StatData[[#This Row],[Shoda: Věk]]),1,0)","v":0},{"$f":"IF(StatData[[#This Row],[Seskupený CZ-NACE]]=VLOOKUP(Obor,TabObor[],2,0),1,0)","v":1},{"$f":"IF(StatData[[#This Row],[Region]]=VLOOKUP(Region,TabRegion[],2,0),1,0)","v":0},{"$f":"IF(StatData[[#This Row],[Vzdělání]]=Vzdělání,1,0)","v":0},{"$f":"IF(StatData[[#This Row],[Pohlaví]]=Pohlaví,1,0)","v":1},{"$f":"IF(StatData[[#This Row],[Věk]]=Věk,1,0)","v":0},71,"Celkem",3,"Vysokoškolské ","Žena","35 až 54 let ",143816.828125,54743.072135898597,28866.169433607902,31420.867490316901,33361.388581961299,35031.169699054,36556.208310891001,37861.548905335898,39015.304232751601,40154.633502814097,41125.412436498496,41993.198423968999,42897.417559395697,43692.741825322802,44627.3641095817,45485.874839046497,46359.193381158897,47103.258362694702,47860.450767802802,48680.2163253279,49488.102633797796,51136.156751173701,52952.741838813301,54961.548788570399,57302.275265353099,60289.123012838601,64391.232980892797,70169.299979269796,79279.666831941402,97426.093951752104]
[{"$f":"IF(AND(StatData[[#This Row],[Shoda: Seskupený CZ-NACE]],StatData[[#This Row],[Shoda: Region]],StatData[[#This Row],[Shoda: Vzdělání]],StatData[[#This Row],[Shoda: Pohlaví]],StatData[[#This Row],[Shoda: Věk]]),1,0)","v":0},{"$f":"IF(StatData[[#This Row],[Seskupený CZ-NACE]]=VLOOKUP(Obor,TabObor[],2,0),1,0)","v":1},{"$f":"IF(StatData[[#This Row],[Region]]=VLOOKUP(Region,TabRegion[],2,0),1,0)","v":0},{"$f":"IF(StatData[[#This Row],[Vzdělání]]=Vzdělání,1,0)","v":0},{"$f":"IF(StatData[[#This Row],[Pohlaví]]=Pohlaví,1,0)","v":1},{"$f":"IF(StatData[[#This Row],[Věk]]=Věk,1,0)","v":0},72,"Celkem",3,"Vysokoškolské ","Žena","55 a více let",44166.48046875,59786.482164346402,26272.460633535899,30841.001465387501,34512.094208354298,37676.023109895301,40190.287248861001,42126.078531917199,43512.030717133501,44934.512430146802,46232.958963779602,47510.989216670401,48583.038683702798,49728.197956497701,50657.372838389798,51546.192742007501,52312.799169809601,52941.629450118999,53674.5118856833,54389.487748997497,54980.630467260897,56248.4279772183,57701.916013344096,59404.692122614797,61928.188310936603,65263.888689079802,70419.908762048799,77678.715918102505,87863.063145402906,106161.178139432]
[{"$f":"IF(AND(StatData[[#This Row],[Shoda: Seskupený CZ-NACE]],StatData[[#This Row],[Shoda: Region]],StatData[[#This Row],[Shoda: Vzdělání]],StatData[[#This Row],[Shoda: Pohlaví]],StatData[[#This Row],[Shoda: Věk]]),1,0)","v":0},{"$f":"IF(StatData[[#This Row],[Seskupený CZ-NACE]]=VLOOKUP(Obor,TabObor[],2,0),1,0)","v":0},{"$f":"IF(StatData[[#This Row],[Region]]=VLOOKUP(Region,TabRegion[],2,0),1,0)","v":1},{"$f":"IF(StatData[[#This Row],[Vzdělání]]=Vzdělání,1,0)","v":0},{"$f":"IF(StatData[[#This Row],[Pohlaví]]=Pohlaví,1,0)","v":0},{"$f":"IF(StatData[[#This Row],[Věk]]=Věk,1,0)","v":1},73,"Zemědělství a průmysl",1,"Střední bez maturity","Muž","do 34 let    ",2303.56079101563,37723.982293791298,18923.628152416699,18923.628152416699,19039.75,19982.113399999998,20355.4478977451,21234.622417069299,21446.994299999998,21485.333299999998,21855.752028583302,22251.605453997199,22870.75,23498.511253957498,23950.522700000001,26430.667000000001,28744.783160165502,30227.307999328499,31734.151387596201,34320.695678902703,35726.110697972901,37304.5915292227,39106.105269154003,42668.155446306002,46622.699877814703,49980.888613549803,52783.486318542396,56544.282116405098,61728.4005150144,69386.177779705497]
[{"$f":"IF(AND(StatData[[#This Row],[Shoda: Seskupený CZ-NACE]],StatData[[#This Row],[Shoda: Region]],StatData[[#This Row],[Shoda: Vzdělání]],StatData[[#This Row],[Shoda: Pohlaví]],StatData[[#This Row],[Shoda: Věk]]),1,0)","v":0},{"$f":"IF(StatData[[#This Row],[Seskupený CZ-NACE]]=VLOOKUP(Obor,TabObor[],2,0),1,0)","v":0},{"$f":"IF(StatData[[#This Row],[Region]]=VLOOKUP(Region,TabRegion[],2,0),1,0)","v":1},{"$f":"IF(StatData[[#This Row],[Vzdělání]]=Vzdělání,1,0)","v":0},{"$f":"IF(StatData[[#This Row],[Pohlaví]]=Pohlaví,1,0)","v":0},{"$f":"IF(StatData[[#This Row],[Věk]]=Věk,1,0)","v":0},74,"Zemědělství a průmysl",1,"Střední bez maturity","Muž","35 až 54 let ",7859.01123046875,42142.783312840998,19859,20317.711802531099,21043.742300000002,21491.368263513901,21783.831575,22055.161698126401,22709.7358591005,22886.083299999998,23966.773610676901,24078.341,26212.6751,27681.170274384302,30647.356522652099,34264.363741763002,36469.987113524599,37613.778385012702,38480.744337895703,39472.473645016697,40199.266010152503,44121.0737540236,46828.900663563902,48852.915529307997,50465.419532427397,52945.6993691233,56217.9673438358,60107.104240210901,65814.626394195802,75689.295912872694]
[{"$f":"IF(AND(StatData[[#This Row],[Shoda: Seskupený CZ-NACE]],StatData[[#This Row],[Shoda: Region]],StatData[[#This Row],[Shoda: Vzdělání]],StatData[[#This Row],[Shoda: Pohlaví]],StatData[[#This Row],[Shoda: Věk]]),1,0)","v":0},{"$f":"IF(StatData[[#This Row],[Seskupený CZ-NACE]]=VLOOKUP(Obor,TabObor[],2,0),1,0)","v":0},{"$f":"IF(StatData[[#This Row],[Region]]=VLOOKUP(Region,TabRegion[],2,0),1,0)","v":1},{"$f":"IF(StatData[[#This Row],[Vzdělání]]=Vzdělání,1,0)","v":0},{"$f":"IF(StatData[[#This Row],[Pohlaví]]=Pohlaví,1,0)","v":0},{"$f":"IF(StatData[[#This Row],[Věk]]=Věk,1,0)","v":0},75,"Zemědělství a průmysl",1,"Střední bez maturity","Muž","55 a více let",4120.05419921875,43146.055601036402,19568.7085625,21152.118867249999,21793.096645916699,22685.0569,26980.303318686802,27468.033214408599,29697.916735390601,30967.6395045565,31732.389235280702,32738.701077994901,33673.414271966802,34400.836283313001,36208.307056413003,36601.453804923098,36820.311437415803,38178.9044148291,39310.5885278063,40102.839005705297,41300.442887917503,42796.979549933298,45706.214857186198,47887.866856687302,50093.785885912403,52955.627143249003,55297.402867228499,59388.930681900303,64846.570231248297,72196.583746507706]
[{"$f":"IF(AND(StatData[[#This Row],[Shoda: Seskupený CZ-NACE]],StatData[[#This Row],[Shoda: Region]],StatData[[#This Row],[Shoda: Vzdělání]],StatData[[#This Row],[Shoda: Pohlaví]],StatData[[#This Row],[Shoda: Věk]]),1,0)","v":0},{"$f":"IF(StatData[[#This Row],[Seskupený CZ-NACE]]=VLOOKUP(Obor,TabObor[],2,0),1,0)","v":0},{"$f":"IF(StatData[[#This Row],[Region]]=VLOOKUP(Region,TabRegion[],2,0),1,0)","v":1},{"$f":"IF(StatData[[#This Row],[Vzdělání]]=Vzdělání,1,0)","v":0},{"$f":"IF(StatData[[#This Row],[Pohlaví]]=Pohlaví,1,0)","v":1},{"$f":"IF(StatData[[#This Row],[Věk]]=Věk,1,0)","v":1},76,"Zemědělství a průmysl",1,"Střední bez maturity","Žena","do 34 let    ","*","*","*","*","*","*","*","*","*","*","*","*","*","*","*","*","*","*","*","*","*","*","*","*","*","*","*","*","*","*"]
[{"$f":"IF(AND(StatData[[#This Row],[Shoda: Seskupený CZ-NACE]],StatData[[#This Row],[Shoda: Region]],StatData[[#This Row],[Shoda: Vzdělání]],StatData[[#This Row],[Shoda: Pohlaví]],StatData[[#This Row],[Shoda: Věk]]),1,0)","v":0},{"$f":"IF(StatData[[#This Row],[Seskupený CZ-NACE]]=VLOOKUP(Obor,TabObor[],2,0),1,0)","v":0},{"$f":"IF(StatData[[#This Row],[Region]]=VLOOKUP(Region,TabRegion[],2,0),1,0)","v":1},{"$f":"IF(StatData[[#This Row],[Vzdělání]]=Vzdělání,1,0)","v":0},{"$f":"IF(StatData[[#This Row],[Pohlaví]]=Pohlaví,1,0)","v":1},{"$f":"IF(StatData[[#This Row],[Věk]]=Věk,1,0)","v":0},77,"Zemědělství a průmysl",1,"Střední bez maturity","Žena","35 až 54 let ",845.77404785156295,33424.589567032002,19042.833299999998,"*",19070.0213,"*",19621.504116916702,"*",19621.504116916702,"*",21453.692967969499,"*",21859.425689,"*",21859.425689,"*",23757.485047390001,"*",29694.542580958601,"*",31360.0105,36084.938381040898,36178.005651469502,40045.783794617797,42830.687106461897,45785.060825956498,45785.060825956498,47367.648298914799,51674.081364599697,53822.023366616399]
[{"$f":"IF(AND(StatData[[#This Row],[Shoda: Seskupený CZ-NACE]],StatData[[#This Row],[Shoda: Region]],StatData[[#This Row],[Shoda: Vzdělání]],StatData[[#This Row],[Shoda: Pohlaví]],StatData[[#This Row],[Shoda: Věk]]),1,0)","v":0},{"$f":"IF(StatData[[#This Row],[Seskupený CZ-NACE]]=VLOOKUP(Obor,TabObor[],2,0),1,0)","v":0},{"$f":"IF(StatData[[#This Row],[Region]]=VLOOKUP(Region,TabRegion[],2,0),1,0)","v":1},{"$f":"IF(StatData[[#This Row],[Vzdělání]]=Vzdělání,1,0)","v":0},{"$f":"IF(StatData[[#This Row],[Pohlaví]]=Pohlaví,1,0)","v":1},{"$f":"IF(StatData[[#This Row],[Věk]]=Věk,1,0)","v":0},78,"Zemědělství a průmysl",1,"Střední bez maturity","Žena","55 a více let","*","*","*","*","*","*","*","*","*","*","*","*","*","*","*","*","*","*","*","*","*","*","*","*","*","*","*","*","*","*"]
[{"$f":"IF(AND(StatData[[#This Row],[Shoda: Seskupený CZ-NACE]],StatData[[#This Row],[Shoda: Region]],StatData[[#This Row],[Shoda: Vzdělání]],StatData[[#This Row],[Shoda: Pohlaví]],StatData[[#This Row],[Shoda: Věk]]),1,0)","v":0},{"$f":"IF(StatData[[#This Row],[Seskupený CZ-NACE]]=VLOOKUP(Obor,TabObor[],2,0),1,0)","v":0},{"$f":"IF(StatData[[#This Row],[Region]]=VLOOKUP(Region,TabRegion[],2,0),1,0)","v":1},{"$f":"IF(StatData[[#This Row],[Vzdělání]]=Vzdělání,1,0)","v":1},{"$f":"IF(StatData[[#This Row],[Pohlaví]]=Pohlaví,1,0)","v":0},{"$f":"IF(StatData[[#This Row],[Věk]]=Věk,1,0)","v":1},79,"Zemědělství a průmysl",1,"Střední s maturitou a vyšší odborné","Muž","do 34 let    ",3920.05126953125,44971.658171437201,18946.3736668333,18946.3736668333,20213.7376416638,20384.362849666701,22040.8135106667,22071.103955750001,22500.807000000001,23426.153288681799,28080.707940651999,30310.2040710074,32860.478673051002,33937.130870018103,35606.363984214702,36468.754699421901,36983.193853016201,38122.843577344698,38859.712202549803,40201.804021661301,41890.027064099602,44777.600374825102,47198.464837225001,51316.931430117598,53948.814029974601,58369.339548433403,61845.423553535402,65555.720325897593,71850.401824864894,76880.202915637099]
[{"$f":"IF(AND(StatData[[#This Row],[Shoda: Seskupený CZ-NACE]],StatData[[#This Row],[Shoda: Region]],StatData[[#This Row],[Shoda: Vzdělání]],StatData[[#This Row],[Shoda: Pohlaví]],StatData[[#This Row],[Shoda: Věk]]),1,0)","v":0},{"$f":"IF(StatData[[#This Row],[Seskupený CZ-NACE]]=VLOOKUP(Obor,TabObor[],2,0),1,0)","v":0},{"$f":"IF(StatData[[#This Row],[Region]]=VLOOKUP(Region,TabRegion[],2,0),1,0)","v":1},{"$f":"IF(StatData[[#This Row],[Vzdělání]]=Vzdělání,1,0)","v":1},{"$f":"IF(StatData[[#This Row],[Pohlaví]]=Pohlaví,1,0)","v":0},{"$f":"IF(StatData[[#This Row],[Věk]]=Věk,1,0)","v":0},80,"Zemědělství a průmysl",1,"Střední s maturitou a vyšší odborné","Muž","35 až 54 let ",7938.177734375,56118.011834019999,20405.224321000002,21807.6000443333,22026.9019221667,24030.804162418699,25199.789707317501,26207.96271,26389.1666,28913.110266007599,31995.0298448748,34866.133405910303,36521.570155533998,37363.434431581998,38930.518571994202,39933.985718871903,42113.122091846097,44488.861544432402,45960.659429901898,48151.6468493418,50203.422796715997,54511.963462047897,57795.528520092397,61950.349841592797,66880.443246590206,71681.152937657796,77722.405560099898,85583.146783647098,94361.378108510195,112163.395774309]
[{"$f":"IF(AND(StatData[[#This Row],[Shoda: Seskupený CZ-NACE]],StatData[[#This Row],[Shoda: Region]],StatData[[#This Row],[Shoda: Vzdělání]],StatData[[#This Row],[Shoda: Pohlaví]],StatData[[#This Row],[Shoda: Věk]]),1,0)","v":0},{"$f":"IF(StatData[[#This Row],[Seskupený CZ-NACE]]=VLOOKUP(Obor,TabObor[],2,0),1,0)","v":0},{"$f":"IF(StatData[[#This Row],[Region]]=VLOOKUP(Region,TabRegion[],2,0),1,0)","v":1},{"$f":"IF(StatData[[#This Row],[Vzdělání]]=Vzdělání,1,0)","v":1},{"$f":"IF(StatData[[#This Row],[Pohlaví]]=Pohlaví,1,0)","v":0},{"$f":"IF(StatData[[#This Row],[Věk]]=Věk,1,0)","v":0},81,"Zemědělství a průmysl",1,"Střední s maturitou a vyšší odborné","Muž","55 a více let",2767.99877929688,56082.557369215101,19615.6895,22029.5,23434,24774.637078961801,27940.239709069101,31698.396874505601,34017.266959416302,35119.002193286004,36345.277099760802,39265.5946493062,40060.927583480101,41608.143323568504,42408.876952368599,43356.192088900701,45131.263958908203,45961.007547804104,45961.007547804104,47648.865775283397,48852.915529307997,51173.850529624797,55211.882062991303,58119.635829119303,61712.450915034402,66679.101850467705,72304.855734814395,79580.118141419502,89494.225932619302,109257.060874223]
[{"$f":"IF(AND(StatData[[#This Row],[Shoda: Seskupený CZ-NACE]],StatData[[#This Row],[Shoda: Region]],StatData[[#This Row],[Shoda: Vzdělání]],StatData[[#This Row],[Shoda: Pohlaví]],StatData[[#This Row],[Shoda: Věk]]),1,0)","v":0},{"$f":"IF(StatData[[#This Row],[Seskupený CZ-NACE]]=VLOOKUP(Obor,TabObor[],2,0),1,0)","v":0},{"$f":"IF(StatData[[#This Row],[Region]]=VLOOKUP(Region,TabRegion[],2,0),1,0)","v":1},{"$f":"IF(StatData[[#This Row],[Vzdělání]]=Vzdělání,1,0)","v":1},{"$f":"IF(StatData[[#This Row],[Pohlaví]]=Pohlaví,1,0)","v":1},{"$f":"IF(StatData[[#This Row],[Věk]]=Věk,1,0)","v":1},82,"Zemědělství a průmysl",1,"Střední s maturitou a vyšší odborné","Žena","do 34 let    ",1042.98986816406,39452.679678031403,"*","*","*","*","*","*","*","*",24629.6764,"*","*","*","*","*","*","*","*","*",37533.170630774897,"*","*","*","*","*","*","*","*","*"]
[{"$f":"IF(AND(StatData[[#This Row],[Shoda: Seskupený CZ-NACE]],StatData[[#This Row],[Shoda: Region]],StatData[[#This Row],[Shoda: Vzdělání]],StatData[[#This Row],[Shoda: Pohlaví]],StatData[[#This Row],[Shoda: Věk]]),1,0)","v":0},{"$f":"IF(StatData[[#This Row],[Seskupený CZ-NACE]]=VLOOKUP(Obor,TabObor[],2,0),1,0)","v":0},{"$f":"IF(StatData[[#This Row],[Region]]=VLOOKUP(Region,TabRegion[],2,0),1,0)","v":1},{"$f":"IF(StatData[[#This Row],[Vzdělání]]=Vzdělání,1,0)","v":1},{"$f":"IF(StatData[[#This Row],[Pohlaví]]=Pohlaví,1,0)","v":1},{"$f":"IF(StatData[[#This Row],[Věk]]=Věk,1,0)","v":0},83,"Zemědělství a průmysl",1,"Střední s maturitou a vyšší odborné","Žena","35 až 54 let ",3616.36669921875,47128.9218265913,19314.922375245002,19956.945064083298,20419.426880750001,21964.277044259201,24594.833299999998,28886.6182830076,30772.679435599701,32264.860430663401,33103.684840478301,33892.780140474802,35365.554614696703,36249.867592501898,37041.564422672403,37101.9425640966,39453.1367002353,40074.982201190498,40914.9779223804,42321.1215374311,43690.272424510498,46008.885174905598,48645.585113557601,51539.912772403302,53948.767106406704,55851.391502554499,58930.3946748956,62838.5097333167,69369.464496978602,85558.430071875599]
[{"$f":"IF(AND(StatData[[#This Row],[Shoda: Seskupený CZ-NACE]],StatData[[#This Row],[Shoda: Region]],StatData[[#This Row],[Shoda: Vzdělání]],StatData[[#This Row],[Shoda: Pohlaví]],StatData[[#This Row],[Shoda: Věk]]),1,0)","v":0},{"$f":"IF(StatData[[#This Row],[Seskupený CZ-NACE]]=VLOOKUP(Obor,TabObor[],2,0),1,0)","v":0},{"$f":"IF(StatData[[#This Row],[Region]]=VLOOKUP(Region,TabRegion[],2,0),1,0)","v":1},{"$f":"IF(StatData[[#This Row],[Vzdělání]]=Vzdělání,1,0)","v":1},{"$f":"IF(StatData[[#This Row],[Pohlaví]]=Pohlaví,1,0)","v":1},{"$f":"IF(StatData[[#This Row],[Věk]]=Věk,1,0)","v":0},84,"Zemědělství a průmysl",1,"Střední s maturitou a vyšší odborné","Žena","55 a více let",1313.63586425781,55574.714427345702,21819.274043366298,26567.083299999998,30101.280978335199,33176.575930977699,34957.511953257897,36844.734880365497,36900.192681210799,37643.812765313101,39434.070381446203,39728.571073928899,40181.456511703502,40181.456511703502,40362.053322307998,41213.968651798103,42211.9965816927,43457.515462317802,43747.950798966602,44139.346375108697,45681.792719216297,48869.347463680402,51510.4463815614,54094.144471932901,57312.348578819503,61303.235035423699,64815.7176715307,70216.975713177802,75350.695000088206,98346.098827093301]
[{"$f":"IF(AND(StatData[[#This Row],[Shoda: Seskupený CZ-NACE]],StatData[[#This Row],[Shoda: Region]],StatData[[#This Row],[Shoda: Vzdělání]],StatData[[#This Row],[Shoda: Pohlaví]],StatData[[#This Row],[Shoda: Věk]]),1,0)","v":0},{"$f":"IF(StatData[[#This Row],[Seskupený CZ-NACE]]=VLOOKUP(Obor,TabObor[],2,0),1,0)","v":0},{"$f":"IF(StatData[[#This Row],[Region]]=VLOOKUP(Region,TabRegion[],2,0),1,0)","v":1},{"$f":"IF(StatData[[#This Row],[Vzdělání]]=Vzdělání,1,0)","v":0},{"$f":"IF(StatData[[#This Row],[Pohlaví]]=Pohlaví,1,0)","v":0},{"$f":"IF(StatData[[#This Row],[Věk]]=Věk,1,0)","v":1},85,"Zemědělství a průmysl",1,"Vysokoškolské ","Muž","do 34 let    ",1830.80749511719,70494.255499716397,20043.675562083299,20043.675562083299,25993.488904798302,30018.3899955696,30816.554934077001,30816.554934077001,33411.404472909897,39975.4969985715,44595.365680534604,46822.912170822099,48940.649646297097,50942.631125374799,53200.032576762802,55527.137572058396,56723.424208813303,57337.239623520298,57611.290154738701,59607.350567521302,61035.3553321504,64688.949799245202,68344.906465838794,72239.478289870502,76440.845998118195,81888.429503574996,88957.182841714297,99705.471577161996,115058.577151456,137608.81363223901]
[{"$f":"IF(AND(StatData[[#This Row],[Shoda: Seskupený CZ-NACE]],StatData[[#This Row],[Shoda: Region]],StatData[[#This Row],[Shoda: Vzdělání]],StatData[[#This Row],[Shoda: Pohlaví]],StatData[[#This Row],[Shoda: Věk]]),1,0)","v":0},{"$f":"IF(StatData[[#This Row],[Seskupený CZ-NACE]]=VLOOKUP(Obor,TabObor[],2,0),1,0)","v":0},{"$f":"IF(StatData[[#This Row],[Region]]=VLOOKUP(Region,TabRegion[],2,0),1,0)","v":1},{"$f":"IF(StatData[[#This Row],[Vzdělání]]=Vzdělání,1,0)","v":0},{"$f":"IF(StatData[[#This Row],[Pohlaví]]=Pohlaví,1,0)","v":0},{"$f":"IF(StatData[[#This Row],[Věk]]=Věk,1,0)","v":0},86,"Zemědělství a průmysl",1,"Vysokoškolské ","Muž","35 až 54 let ",4581.90673828125,113421.41817450299,35414.416284630301,35495.475662862496,35544.315214996503,39202.264991917298,45829.495271669097,49563.177507402099,54522.169492751702,59003.814136375098,63096.502714729999,66518.1147864464,68954.282721783005,71828.127806771605,74584.762461476697,77299.083760078807,80471.507052273693,83050.201162860205,85090.7729628659,87815.167111321498,90522.124621705007,97178.272016911695,103614.15462132001,109734.519757501,118091.537592643,128261.013733948,143454.130100045,165015.435648268,202501.248095366,283683.67329476599]
[{"$f":"IF(AND(StatData[[#This Row],[Shoda: Seskupený CZ-NACE]],StatData[[#This Row],[Shoda: Region]],StatData[[#This Row],[Shoda: Vzdělání]],StatData[[#This Row],[Shoda: Pohlaví]],StatData[[#This Row],[Shoda: Věk]]),1,0)","v":0},{"$f":"IF(StatData[[#This Row],[Seskupený CZ-NACE]]=VLOOKUP(Obor,TabObor[],2,0),1,0)","v":0},{"$f":"IF(StatData[[#This Row],[Region]]=VLOOKUP(Region,TabRegion[],2,0),1,0)","v":1},{"$f":"IF(StatData[[#This Row],[Vzdělání]]=Vzdělání,1,0)","v":0},{"$f":"IF(StatData[[#This Row],[Pohlaví]]=Pohlaví,1,0)","v":0},{"$f":"IF(StatData[[#This Row],[Věk]]=Věk,1,0)","v":0},87,"Zemědělství a průmysl",1,"Vysokoškolské ","Muž","55 a více let",1599.48132324219,98284.535974455794,25890.4670540636,26291.401244980301,28711.604035065098,30385.93132095,32946.836568305,41325.390682584097,45215.888107547202,46129.5783853885,46129.5783853885,47249.992746634802,51479.5233308975,53257.431838034703,53676.016119076201,56004.332006102799,58974.564320928599,60674.213860271098,62355.108987661799,66686.326246592798,70731.928041013205,76912.212756586596,85603.973261782899,91947.194289599705,99729.727615498094,108692.755651864,117059.540180904,136252.937402846,179665.80876198801,223335.88630391099]
[{"$f":"IF(AND(StatData[[#This Row],[Shoda: Seskupený CZ-NACE]],StatData[[#This Row],[Shoda: Region]],StatData[[#This Row],[Shoda: Vzdělání]],StatData[[#This Row],[Shoda: Pohlaví]],StatData[[#This Row],[Shoda: Věk]]),1,0)","v":0},{"$f":"IF(StatData[[#This Row],[Seskupený CZ-NACE]]=VLOOKUP(Obor,TabObor[],2,0),1,0)","v":0},{"$f":"IF(StatData[[#This Row],[Region]]=VLOOKUP(Region,TabRegion[],2,0),1,0)","v":1},{"$f":"IF(StatData[[#This Row],[Vzdělání]]=Vzdělání,1,0)","v":0},{"$f":"IF(StatData[[#This Row],[Pohlaví]]=Pohlaví,1,0)","v":1},{"$f":"IF(StatData[[#This Row],[Věk]]=Věk,1,0)","v":1},88,"Zemědělství a průmysl",1,"Vysokoškolské ","Žena","do 34 let    ",971.07708740234398,60897.7671602146,19900,21746.241928250001,29447.622249873599,33096.945617188598,36571.102734718603,37960.528918324402,40366.932096015502,42682.305017110797,43950.875966108601,45356.642367228997,46544.7197576736,47932.255906968399,48924.604370782501,50125.084585140597,51851.315996256497,52879.354559546999,54279.376602297198,54986.098370754997,56371.1872479921,59898.190523106197,63451.8242609808,66281.169693639094,68589.9015121876,72194.562022335507,75621.590599609,80318.848942623299,87370.130064019904,105723.488850347]
[{"$f":"IF(AND(StatData[[#This Row],[Shoda: Seskupený CZ-NACE]],StatData[[#This Row],[Shoda: Region]],StatData[[#This Row],[Shoda: Vzdělání]],StatData[[#This Row],[Shoda: Pohlaví]],StatData[[#This Row],[Shoda: Věk]]),1,0)","v":0},{"$f":"IF(StatData[[#This Row],[Seskupený CZ-NACE]]=VLOOKUP(Obor,TabObor[],2,0),1,0)","v":0},{"$f":"IF(StatData[[#This Row],[Region]]=VLOOKUP(Region,TabRegion[],2,0),1,0)","v":1},{"$f":"IF(StatData[[#This Row],[Vzdělání]]=Vzdělání,1,0)","v":0},{"$f":"IF(StatData[[#This Row],[Pohlaví]]=Pohlaví,1,0)","v":1},{"$f":"IF(StatData[[#This Row],[Věk]]=Věk,1,0)","v":0},89,"Zemědělství a průmysl",1,"Vysokoškolské ","Žena","35 až 54 let ",2606.90869140625,80281.8419777448,30432.9988504998,32061.930079100999,34021.968105123102,35750.6089916048,38375.012821287601,40768.9026711775,43722.0344342018,45799.976039835798,48951.423727078603,51482.181019724601,53168.585249326301,54665.215428789903,56110.147116015003,58727.6602362212,61145.481565619099,63333.635167736,65490.317274772802,66114.057574946506,67115.904948140203,70528.401576105505,77373.061184367602,82488.201079581704,88543.883463514896,94043.875746048696,101264.753115138,110634.137788281,131486.91914294701,175077.95413353399]
[{"$f":"IF(AND(StatData[[#This Row],[Shoda: Seskupený CZ-NACE]],StatData[[#This Row],[Shoda: Region]],StatData[[#This Row],[Shoda: Vzdělání]],StatData[[#This Row],[Shoda: Pohlaví]],StatData[[#This Row],[Shoda: Věk]]),1,0)","v":0},{"$f":"IF(StatData[[#This Row],[Seskupený CZ-NACE]]=VLOOKUP(Obor,TabObor[],2,0),1,0)","v":0},{"$f":"IF(StatData[[#This Row],[Region]]=VLOOKUP(Region,TabRegion[],2,0),1,0)","v":1},{"$f":"IF(StatData[[#This Row],[Vzdělání]]=Vzdělání,1,0)","v":0},{"$f":"IF(StatData[[#This Row],[Pohlaví]]=Pohlaví,1,0)","v":1},{"$f":"IF(StatData[[#This Row],[Věk]]=Věk,1,0)","v":0},90,"Zemědělství a průmysl",1,"Vysokoškolské ","Žena","55 a více let",405.64984130859398,79161.878843901897,33909.873198433001,"*",39924.145274280498,"*",42642.481878097497,"*",43747.894702527003,"*",48359.652487455802,"*",51707.003659203299,"*",55758.110871580902,"*",60413.936281040798,"*",63735.069050745697,"*",66388.845857474196,69718.197288430601,73228.694186990106,79807.758448908498,89728.759532797398,95799.808613657195,107016.932994692,121985.585022699,137450.28882902101,161902.06328228099]
[{"$f":"IF(AND(StatData[[#This Row],[Shoda: Seskupený CZ-NACE]],StatData[[#This Row],[Shoda: Region]],StatData[[#This Row],[Shoda: Vzdělání]],StatData[[#This Row],[Shoda: Pohlaví]],StatData[[#This Row],[Shoda: Věk]]),1,0)","v":0},{"$f":"IF(StatData[[#This Row],[Seskupený CZ-NACE]]=VLOOKUP(Obor,TabObor[],2,0),1,0)","v":0},{"$f":"IF(StatData[[#This Row],[Region]]=VLOOKUP(Region,TabRegion[],2,0),1,0)","v":0},{"$f":"IF(StatData[[#This Row],[Vzdělání]]=Vzdělání,1,0)","v":0},{"$f":"IF(StatData[[#This Row],[Pohlaví]]=Pohlaví,1,0)","v":0},{"$f":"IF(StatData[[#This Row],[Věk]]=Věk,1,0)","v":1},91,"Zemědělství a průmysl",2,"Střední bez maturity","Muž","do 34 let    ",5505.91357421875,37606.581035228701,18956.761906,20238.3148857704,21895.166454007802,22409.878244656,22667.6329091722,24372.851913888899,25207.264174833301,25919.1488196094,27594.466044060599,28607.7643903719,29701.3962132821,30127.241939896801,31146.678589047799,31770.378388953301,32444.755051717701,33994.356515434803,34918.803747751699,35583.171076597602,36437.267314029901,37545.799878005499,39288.640002631102,40364.167717514603,42382.947571566001,43698.038361884603,46389.6772657775,50968.665742814301,58031.3483377964,63023.922607971501]
[{"$f":"IF(AND(StatData[[#This Row],[Shoda: Seskupený CZ-NACE]],StatData[[#This Row],[Shoda: Region]],StatData[[#This Row],[Shoda: Vzdělání]],StatData[[#This Row],[Shoda: Pohlaví]],StatData[[#This Row],[Shoda: Věk]]),1,0)","v":0},{"$f":"IF(StatData[[#This Row],[Seskupený CZ-NACE]]=VLOOKUP(Obor,TabObor[],2,0),1,0)","v":0},{"$f":"IF(StatData[[#This Row],[Region]]=VLOOKUP(Region,TabRegion[],2,0),1,0)","v":0},{"$f":"IF(StatData[[#This Row],[Vzdělání]]=Vzdělání,1,0)","v":0},{"$f":"IF(StatData[[#This Row],[Pohlaví]]=Pohlaví,1,0)","v":0},{"$f":"IF(StatData[[#This Row],[Věk]]=Věk,1,0)","v":0},92,"Zemědělství a průmysl",2,"Střední bez maturity","Muž","35 až 54 let ",17034.703125,40135.017031622097,19316.121039545,20533.972896740401,21431.4571,22557.317413001801,23051.833299999998,26019.152973919401,26730.745751103099,28230.9799267403,29733.386702232499,30677.712001543001,32527.040076752299,33343.419198427997,34105.306614360597,34953.0390425101,35838.577810235998,36124.832563039003,37558.741985866502,38292.067283552402,39439.912723795896,41174.1766190505,42400.888320844097,43773.321698317101,45336.526033912203,47479.315092729703,50579.228946118099,53616.415157049203,58353.8968546959,66194.322215333304]
[{"$f":"IF(AND(StatData[[#This Row],[Shoda: Seskupený CZ-NACE]],StatData[[#This Row],[Shoda: Region]],StatData[[#This Row],[Shoda: Vzdělání]],StatData[[#This Row],[Shoda: Pohlaví]],StatData[[#This Row],[Shoda: Věk]]),1,0)","v":0},{"$f":"IF(StatData[[#This Row],[Seskupený CZ-NACE]]=VLOOKUP(Obor,TabObor[],2,0),1,0)","v":0},{"$f":"IF(StatData[[#This Row],[Region]]=VLOOKUP(Region,TabRegion[],2,0),1,0)","v":0},{"$f":"IF(StatData[[#This Row],[Vzdělání]]=Vzdělání,1,0)","v":0},{"$f":"IF(StatData[[#This Row],[Pohlaví]]=Pohlaví,1,0)","v":0},{"$f":"IF(StatData[[#This Row],[Věk]]=Věk,1,0)","v":0},93,"Zemědělství a průmysl",2,"Střední bez maturity","Muž","55 a více let",8775.2919921875,42064.965899328003,22996.187016176002,23769.1226491981,24293.996440666699,24610.4248370817,26510.635542266398,28112.925490441899,29735.089281873799,31774.209842155498,32944.598919188997,33764.319655286898,34819.624021850097,35508.929554166301,36204.288632415999,37306.830497220297,37994.987399966602,38584.800885963698,39175.149210769698,39924.144689642002,40359.2518502846,41846.551790837599,43019.109691514299,44176.782862951201,45856.982141298096,48917.5114846871,52399.099437970399,55738.723706384699,59796.680526453303,68656.845606405506]
[{"$f":"IF(AND(StatData[[#This Row],[Shoda: Seskupený CZ-NACE]],StatData[[#This Row],[Shoda: Region]],StatData[[#This Row],[Shoda: Vzdělání]],StatData[[#This Row],[Shoda: Pohlaví]],StatData[[#This Row],[Shoda: Věk]]),1,0)","v":0},{"$f":"IF(StatData[[#This Row],[Seskupený CZ-NACE]]=VLOOKUP(Obor,TabObor[],2,0),1,0)","v":0},{"$f":"IF(StatData[[#This Row],[Region]]=VLOOKUP(Region,TabRegion[],2,0),1,0)","v":0},{"$f":"IF(StatData[[#This Row],[Vzdělání]]=Vzdělání,1,0)","v":0},{"$f":"IF(StatData[[#This Row],[Pohlaví]]=Pohlaví,1,0)","v":1},{"$f":"IF(StatData[[#This Row],[Věk]]=Věk,1,0)","v":1},94,"Zemědělství a průmysl",2,"Střední bez maturity","Žena","do 34 let    ",548.11260986328102,32396.389806925199,"*","*","*","*","*","*","*","*",26467.394007332699,"*","*","*","*","*","*","*","*","*",29742.1709164559,"*","*","*","*",35409.708002591302,"*","*","*","*"]
[{"$f":"IF(AND(StatData[[#This Row],[Shoda: Seskupený CZ-NACE]],StatData[[#This Row],[Shoda: Region]],StatData[[#This Row],[Shoda: Vzdělání]],StatData[[#This Row],[Shoda: Pohlaví]],StatData[[#This Row],[Shoda: Věk]]),1,0)","v":0},{"$f":"IF(StatData[[#This Row],[Seskupený CZ-NACE]]=VLOOKUP(Obor,TabObor[],2,0),1,0)","v":0},{"$f":"IF(StatData[[#This Row],[Region]]=VLOOKUP(Region,TabRegion[],2,0),1,0)","v":0},{"$f":"IF(StatData[[#This Row],[Vzdělání]]=Vzdělání,1,0)","v":0},{"$f":"IF(StatData[[#This Row],[Pohlaví]]=Pohlaví,1,0)","v":1},{"$f":"IF(StatData[[#This Row],[Věk]]=Věk,1,0)","v":0},95,"Zemědělství a průmysl",2,"Střední bez maturity","Žena","35 až 54 let ",2596.21240234375,34366.004914770499,21440,22964.333299999998,22964.333299999998,23383.905200000001,24020.931150114,24582.3667532865,24651.4935,26264.077896324401,28177.8112913162,28406.8872440042,29220.140400894001,29231.808172019199,29231.808172019199,29680.6367377772,29961.5674405518,31451.744657664,33104.227900020902,33158.084494871197,33179.165882649802,34946.568836396502,35348.743610426798,37465.147036725401,38701.304716296399,40180.3012268854,41454.295061445897,43434.605894243898,44731.6277963393,52374.452596428397]
[{"$f":"IF(AND(StatData[[#This Row],[Shoda: Seskupený CZ-NACE]],StatData[[#This Row],[Shoda: Region]],StatData[[#This Row],[Shoda: Vzdělání]],StatData[[#This Row],[Shoda: Pohlaví]],StatData[[#This Row],[Shoda: Věk]]),1,0)","v":0},{"$f":"IF(StatData[[#This Row],[Seskupený CZ-NACE]]=VLOOKUP(Obor,TabObor[],2,0),1,0)","v":0},{"$f":"IF(StatData[[#This Row],[Region]]=VLOOKUP(Region,TabRegion[],2,0),1,0)","v":0},{"$f":"IF(StatData[[#This Row],[Vzdělání]]=Vzdělání,1,0)","v":0},{"$f":"IF(StatData[[#This Row],[Pohlaví]]=Pohlaví,1,0)","v":1},{"$f":"IF(StatData[[#This Row],[Věk]]=Věk,1,0)","v":0},96,"Zemědělství a průmysl",2,"Střední bez maturity","Žena","55 a více let",873.60296630859398,36509.262651424797,24969.033299999999,25270.888800000001,25866.887116539499,26861.110587850198,27791.1308272428,28619.381216084501,28908.324593988102,29114.418349883101,30940.281506097301,30940.281506097301,31087.783257037801,32035.259540724099,33255.736006294799,33304.948409027798,33952.0581182065,33952.0581182065,34530.611882926903,34566.298558553099,34566.298558553099,35049.514179551399,36549.623481010698,36901.024515463701,38247.734221927501,40232.039866606203,42881.330343276299,43552.658634475803,51217.274160332498,57978.121079703596]
[{"$f":"IF(AND(StatData[[#This Row],[Shoda: Seskupený CZ-NACE]],StatData[[#This Row],[Shoda: Region]],StatData[[#This Row],[Shoda: Vzdělání]],StatData[[#This Row],[Shoda: Pohlaví]],StatData[[#This Row],[Shoda: Věk]]),1,0)","v":0},{"$f":"IF(StatData[[#This Row],[Seskupený CZ-NACE]]=VLOOKUP(Obor,TabObor[],2,0),1,0)","v":0},{"$f":"IF(StatData[[#This Row],[Region]]=VLOOKUP(Region,TabRegion[],2,0),1,0)","v":0},{"$f":"IF(StatData[[#This Row],[Vzdělání]]=Vzdělání,1,0)","v":1},{"$f":"IF(StatData[[#This Row],[Pohlaví]]=Pohlaví,1,0)","v":0},{"$f":"IF(StatData[[#This Row],[Věk]]=Věk,1,0)","v":1},97,"Zemědělství a průmysl",2,"Střední s maturitou a vyšší odborné","Muž","do 34 let    ",4381.09326171875,44559.645213845099,21477.646799999999,23370.871394416699,26544.999353263502,28000.586407036699,30064.538261432099,30152.306748815499,31201.7518838096,33766.254376331097,34754.984916802699,34924.209390167198,35493.931608387502,35575.442491668597,36052.761384619203,37000.289704202398,38394.605784762098,40281.1537764022,40399.536484496602,41544.295135662498,42111.312646053899,44950.958094176902,46383.5069397642,48589.837653055103,51330.887659617598,54350.439369392901,56216.998951158799,60183.659409386797,63410.578410282498,72153.817915881504]
[{"$f":"IF(AND(StatData[[#This Row],[Shoda: Seskupený CZ-NACE]],StatData[[#This Row],[Shoda: Region]],StatData[[#This Row],[Shoda: Vzdělání]],StatData[[#This Row],[Shoda: Pohlaví]],StatData[[#This Row],[Shoda: Věk]]),1,0)","v":0},{"$f":"IF(StatData[[#This Row],[Seskupený CZ-NACE]]=VLOOKUP(Obor,TabObor[],2,0),1,0)","v":0},{"$f":"IF(StatData[[#This Row],[Region]]=VLOOKUP(Region,TabRegion[],2,0),1,0)","v":0},{"$f":"IF(StatData[[#This Row],[Vzdělání]]=Vzdělání,1,0)","v":1},{"$f":"IF(StatData[[#This Row],[Pohlaví]]=Pohlaví,1,0)","v":0},{"$f":"IF(StatData[[#This Row],[Věk]]=Věk,1,0)","v":0},98,"Zemědělství a průmysl",2,"Střední s maturitou a vyšší odborné","Muž","35 až 54 let ",9778.873046875,51698.449073629701,21071.576770833301,21450.991586675402,23603.463605768698,23910.201312249999,25022.25,26287.688717972102,27601.174260123,30565.650772196299,34082.867803109897,35111.953473816597,36404.9004515794,37945.917769187399,39521.478274554604,41729.800757332203,42765.9934247536,44038.099160041798,45622.770378866902,47691.3164828562,49223.532282399901,52318.197571513701,54759.854804046401,56812.5477307396,60209.861323393299,64258.9475788727,68622.170059033393,74986.804329716804,83475.884773407699,98145.058509075694]
[{"$f":"IF(AND(StatData[[#This Row],[Shoda: Seskupený CZ-NACE]],StatData[[#This Row],[Shoda: Region]],StatData[[#This Row],[Shoda: Vzdělání]],StatData[[#This Row],[Shoda: Pohlaví]],StatData[[#This Row],[Shoda: Věk]]),1,0)","v":0},{"$f":"IF(StatData[[#This Row],[Seskupený CZ-NACE]]=VLOOKUP(Obor,TabObor[],2,0),1,0)","v":0},{"$f":"IF(StatData[[#This Row],[Region]]=VLOOKUP(Region,TabRegion[],2,0),1,0)","v":0},{"$f":"IF(StatData[[#This Row],[Vzdělání]]=Vzdělání,1,0)","v":1},{"$f":"IF(StatData[[#This Row],[Pohlaví]]=Pohlaví,1,0)","v":0},{"$f":"IF(StatData[[#This Row],[Věk]]=Věk,1,0)","v":0},99,"Zemědělství a průmysl",2,"Střední s maturitou a vyšší odborné","Muž","55 a více let",4109.556640625,51664.968438926197,19605.9279564096,22006.882991333299,22961.4426253333,24877.471486974799,26032.967102574399,27307.593397782901,28240.0806159774,29899.264255919199,32772.716259399604,34322.814605036598,35153.276357271498,36963.436182055302,38229.791762934801,40094.993827280698,41859.531946964598,43525.449980253798,44960.393200625003,47171.377589524498,48490.936604608098,51305.022554233401,54646.4187604127,57217.858240171299,60202.653991190302,63597.210739680799,68567.800193899297,77214.600553356402,85785.173936388994,97734.021815037893]
[{"$f":"IF(AND(StatData[[#This Row],[Shoda: Seskupený CZ-NACE]],StatData[[#This Row],[Shoda: Region]],StatData[[#This Row],[Shoda: Vzdělání]],StatData[[#This Row],[Shoda: Pohlaví]],StatData[[#This Row],[Shoda: Věk]]),1,0)","v":0},{"$f":"IF(StatData[[#This Row],[Seskupený CZ-NACE]]=VLOOKUP(Obor,TabObor[],2,0),1,0)","v":0},{"$f":"IF(StatData[[#This Row],[Region]]=VLOOKUP(Region,TabRegion[],2,0),1,0)","v":0},{"$f":"IF(StatData[[#This Row],[Vzdělání]]=Vzdělání,1,0)","v":1},{"$f":"IF(StatData[[#This Row],[Pohlaví]]=Pohlaví,1,0)","v":1},{"$f":"IF(StatData[[#This Row],[Věk]]=Věk,1,0)","v":1},100,"Zemědělství a průmysl",2,"Střední s maturitou a vyšší odborné","Žena","do 34 let    ",1303.97180175781,40977.010606357901,20856.2507321667,21970.6212821279,23947.2608,28101.709342405898,29503.316326458698,30334.419474810798,30808.883968145801,31187.316292368501,31943.630111972601,32605.871299051701,33861.196836185001,34198.777672013501,34734.323404188799,35952.108639270802,36549.083790100398,37535.921698732804,38091.134921227298,38928.890561211301,39556.346289351903,40395.678663632199,41855.211519910103,42903.966678449397,45101.391557460403,47931.858244236297,50418.024614509501,53480.789198307401,58496.8659926935,65283.701327274197]
[{"$f":"IF(AND(StatData[[#This Row],[Shoda: Seskupený CZ-NACE]],StatData[[#This Row],[Shoda: Region]],StatData[[#This Row],[Shoda: Vzdělání]],StatData[[#This Row],[Shoda: Pohlaví]],StatData[[#This Row],[Shoda: Věk]]),1,0)","v":0},{"$f":"IF(StatData[[#This Row],[Seskupený CZ-NACE]]=VLOOKUP(Obor,TabObor[],2,0),1,0)","v":0},{"$f":"IF(StatData[[#This Row],[Region]]=VLOOKUP(Region,TabRegion[],2,0),1,0)","v":0},{"$f":"IF(StatData[[#This Row],[Vzdělání]]=Vzdělání,1,0)","v":1},{"$f":"IF(StatData[[#This Row],[Pohlaví]]=Pohlaví,1,0)","v":1},{"$f":"IF(StatData[[#This Row],[Věk]]=Věk,1,0)","v":0},101,"Zemědělství a průmysl",2,"Střední s maturitou a vyšší odborné","Žena","35 až 54 let ",5548.97802734375,42276.311403412699,19433.052165000001,20209.7346,21316.844465666702,22770.559799999999,24376.260121250001,25912.737058512001,27598.398710162201,29278.902497709201,30932.159495609099,32051.606138670999,33049.850119750299,33754.450984689902,34797.347449207897,35860.54452209,36817.207896298503,37756.705134320298,38331.2330615213,38843.558643942299,39642.271604968002,40577.1031081865,42172.2529371852,43625.367633093003,46341.924359828598,49054.375605868998,51986.744813069497,57037.7956772174,63836.934420240003,72953.062279772101]
[{"$f":"IF(AND(StatData[[#This Row],[Shoda: Seskupený CZ-NACE]],StatData[[#This Row],[Shoda: Region]],StatData[[#This Row],[Shoda: Vzdělání]],StatData[[#This Row],[Shoda: Pohlaví]],StatData[[#This Row],[Shoda: Věk]]),1,0)","v":0},{"$f":"IF(StatData[[#This Row],[Seskupený CZ-NACE]]=VLOOKUP(Obor,TabObor[],2,0),1,0)","v":0},{"$f":"IF(StatData[[#This Row],[Region]]=VLOOKUP(Region,TabRegion[],2,0),1,0)","v":0},{"$f":"IF(StatData[[#This Row],[Vzdělání]]=Vzdělání,1,0)","v":1},{"$f":"IF(StatData[[#This Row],[Pohlaví]]=Pohlaví,1,0)","v":1},{"$f":"IF(StatData[[#This Row],[Věk]]=Věk,1,0)","v":0},102,"Zemědělství a průmysl",2,"Střední s maturitou a vyšší odborné","Žena","55 a více let",2453.20556640625,43711.724033006802,23215.48464925,24980.975020499998,25353.75,26273.7632638219,26617.066491407299,29235.039708030901,30068.593524518801,31775.3265333327,32819.178955904201,33869.281853021399,33972.747833881003,35105.816709526203,36902.626186367197,38236.998576046703,38747.496356555203,39067.0030717396,40733.870585065299,41589.327912082699,42241.634394195898,44076.111528729401,44312.072771105202,46271.3159308717,46813.391081786598,49528.387760931801,52266.508375791702,56538.424757761197,62979.9415021901,73373.458316855598]
[{"$f":"IF(AND(StatData[[#This Row],[Shoda: Seskupený CZ-NACE]],StatData[[#This Row],[Shoda: Region]],StatData[[#This Row],[Shoda: Vzdělání]],StatData[[#This Row],[Shoda: Pohlaví]],StatData[[#This Row],[Shoda: Věk]]),1,0)","v":0},{"$f":"IF(StatData[[#This Row],[Seskupený CZ-NACE]]=VLOOKUP(Obor,TabObor[],2,0),1,0)","v":0},{"$f":"IF(StatData[[#This Row],[Region]]=VLOOKUP(Region,TabRegion[],2,0),1,0)","v":0},{"$f":"IF(StatData[[#This Row],[Vzdělání]]=Vzdělání,1,0)","v":0},{"$f":"IF(StatData[[#This Row],[Pohlaví]]=Pohlaví,1,0)","v":0},{"$f":"IF(StatData[[#This Row],[Věk]]=Věk,1,0)","v":1},103,"Zemědělství a průmysl",2,"Vysokoškolské ","Muž","do 34 let    ",1196.37561035156,50848.576879222899,18918.2643135,19508.9166,19560.333299999998,20797.846959999999,28043.533202717499,33514.068078460201,33514.068078460201,34201.0417221811,36962.8016995055,38315.048113294499,38315.048113294499,38553.491397640697,40309.709650076802,40638.060342161698,41268.167701006001,41268.167701006001,41568.888446793098,43783.400717973098,46639.183074188601,49816.663332045602,52769.003277947799,55425.683776252597,57393.426441204298,63278.313275477303,67712.857806127606,74248.352893112504,83556.059499129697,96521.569136422899]
[{"$f":"IF(AND(StatData[[#This Row],[Shoda: Seskupený CZ-NACE]],StatData[[#This Row],[Shoda: Region]],StatData[[#This Row],[Shoda: Vzdělání]],StatData[[#This Row],[Shoda: Pohlaví]],StatData[[#This Row],[Shoda: Věk]]),1,0)","v":0},{"$f":"IF(StatData[[#This Row],[Seskupený CZ-NACE]]=VLOOKUP(Obor,TabObor[],2,0),1,0)","v":0},{"$f":"IF(StatData[[#This Row],[Region]]=VLOOKUP(Region,TabRegion[],2,0),1,0)","v":0},{"$f":"IF(StatData[[#This Row],[Vzdělání]]=Vzdělání,1,0)","v":0},{"$f":"IF(StatData[[#This Row],[Pohlaví]]=Pohlaví,1,0)","v":0},{"$f":"IF(StatData[[#This Row],[Věk]]=Věk,1,0)","v":0},104,"Zemědělství a průmysl",2,"Vysokoškolské ","Muž","35 až 54 let ",3020.78930664063,77128.326710394598,23455.787338999999,27343.648004128499,31226.9600041761,37673.0341883113,42309.461726657297,44952.897656017398,46813.716565345298,48888.6495809279,50357.913496291003,51691.371501023197,53427.605880548501,55378.795474518702,56151.419870836697,57101.906827355902,57981.530317041099,59852.076037803803,62154.173688686002,63684.231213432497,64664.8361563078,68165.020499446095,74916.207021517199,81440.176807328404,87562.248999119794,95009.0452005564,99032.199805025593,109533.36762739001,126200.261290585,155238.459694077]
[{"$f":"IF(AND(StatData[[#This Row],[Shoda: Seskupený CZ-NACE]],StatData[[#This Row],[Shoda: Region]],StatData[[#This Row],[Shoda: Vzdělání]],StatData[[#This Row],[Shoda: Pohlaví]],StatData[[#This Row],[Shoda: Věk]]),1,0)","v":0},{"$f":"IF(StatData[[#This Row],[Seskupený CZ-NACE]]=VLOOKUP(Obor,TabObor[],2,0),1,0)","v":0},{"$f":"IF(StatData[[#This Row],[Region]]=VLOOKUP(Region,TabRegion[],2,0),1,0)","v":0},{"$f":"IF(StatData[[#This Row],[Vzdělání]]=Vzdělání,1,0)","v":0},{"$f":"IF(StatData[[#This Row],[Pohlaví]]=Pohlaví,1,0)","v":0},{"$f":"IF(StatData[[#This Row],[Věk]]=Věk,1,0)","v":0},105,"Zemědělství a průmysl",2,"Vysokoškolské ","Muž","55 a více let",1851.7822265625,70722.596075973706,25031.550140666699,27185.170480079902,29484.578568215398,29484.578568215398,29484.578568215398,33118.019774432098,34606.003065274701,37227.302436759899,37227.302436759899,37568.009746622498,39883.7052372986,45980.741770859902,48469.702540068,49362.466242260998,50526.5486483731,53729.483329907998,54823.533638112298,55318.334459337602,56650.604194183899,60186.720205772297,66304.007332209905,72834.873463540906,81620.193364804698,89491.348620997902,100523.483469967,111021.309985436,122857.372876191,144261.37724874599]
[{"$f":"IF(AND(StatData[[#This Row],[Shoda: Seskupený CZ-NACE]],StatData[[#This Row],[Shoda: Region]],StatData[[#This Row],[Shoda: Vzdělání]],StatData[[#This Row],[Shoda: Pohlaví]],StatData[[#This Row],[Shoda: Věk]]),1,0)","v":0},{"$f":"IF(StatData[[#This Row],[Seskupený CZ-NACE]]=VLOOKUP(Obor,TabObor[],2,0),1,0)","v":0},{"$f":"IF(StatData[[#This Row],[Region]]=VLOOKUP(Region,TabRegion[],2,0),1,0)","v":0},{"$f":"IF(StatData[[#This Row],[Vzdělání]]=Vzdělání,1,0)","v":0},{"$f":"IF(StatData[[#This Row],[Pohlaví]]=Pohlaví,1,0)","v":1},{"$f":"IF(StatData[[#This Row],[Věk]]=Věk,1,0)","v":1},106,"Zemědělství a průmysl",2,"Vysokoškolské ","Žena","do 34 let    ",585.81408691406295,45483.9841867375,22295.314619777801,"*",22770.1466,"*",26414.717699998801,"*",32040.995257152299,"*",32666.5240995157,"*",32666.5240995157,"*",36560.394688849701,"*",39488.770273933398,"*",42671.194718864397,"*",45843.080174760398,47695.086292761902,49229.777661838001,49913.362636277998,51909.626348584403,53324.9501931302,57534.953201513803,57534.953201513803,64119.911510954596,73732.099430407106]
[{"$f":"IF(AND(StatData[[#This Row],[Shoda: Seskupený CZ-NACE]],StatData[[#This Row],[Shoda: Region]],StatData[[#This Row],[Shoda: Vzdělání]],StatData[[#This Row],[Shoda: Pohlaví]],StatData[[#This Row],[Shoda: Věk]]),1,0)","v":0},{"$f":"IF(StatData[[#This Row],[Seskupený CZ-NACE]]=VLOOKUP(Obor,TabObor[],2,0),1,0)","v":0},{"$f":"IF(StatData[[#This Row],[Region]]=VLOOKUP(Region,TabRegion[],2,0),1,0)","v":0},{"$f":"IF(StatData[[#This Row],[Vzdělání]]=Vzdělání,1,0)","v":0},{"$f":"IF(StatData[[#This Row],[Pohlaví]]=Pohlaví,1,0)","v":1},{"$f":"IF(StatData[[#This Row],[Věk]]=Věk,1,0)","v":0},107,"Zemědělství a průmysl",2,"Vysokoškolské ","Žena","35 až 54 let ",2164.04052734375,51099.803998021802,19778.9166,23654.353494999999,25049.6666,26193.222670211999,26919.5111716678,28027.058623774399,30624.328402102499,33056.1750244711,34917.341628432201,34917.341628432201,35529.473594371302,35529.473594371302,39029.076015324303,40533.4691456293,41631.818651840898,42919.890978077899,42919.890978077899,44570.877528712903,45276.613047770203,47970.706276884397,50222.156511192399,53599.555191780899,56646.134284499298,59217.7873578816,66728.187829377901,73205.940302336399,83956.858985062601,97714.638449372695]
[{"$f":"IF(AND(StatData[[#This Row],[Shoda: Seskupený CZ-NACE]],StatData[[#This Row],[Shoda: Region]],StatData[[#This Row],[Shoda: Vzdělání]],StatData[[#This Row],[Shoda: Pohlaví]],StatData[[#This Row],[Shoda: Věk]]),1,0)","v":0},{"$f":"IF(StatData[[#This Row],[Seskupený CZ-NACE]]=VLOOKUP(Obor,TabObor[],2,0),1,0)","v":0},{"$f":"IF(StatData[[#This Row],[Region]]=VLOOKUP(Region,TabRegion[],2,0),1,0)","v":0},{"$f":"IF(StatData[[#This Row],[Vzdělání]]=Vzdělání,1,0)","v":0},{"$f":"IF(StatData[[#This Row],[Pohlaví]]=Pohlaví,1,0)","v":1},{"$f":"IF(StatData[[#This Row],[Věk]]=Věk,1,0)","v":0},108,"Zemědělství a průmysl",2,"Vysokoškolské ","Žena","55 a více let",411.54867553710898,60175.7531031568,34706.4953454239,"*",39592.577814008298,"*",39592.577814008298,"*",39592.577814008298,"*",41098.658172302901,"*",44920.957184163701,"*",47207.785388085897,"*",49055.493685013404,"*",51819.762692567099,"*",53760.173619457099,57460.220382824802,59764.973493067402,61125.9942060385,64660.371209994199,69334.481801915594,78148.4449553577,83842.313163562198,88457.592593024398,103017.71991969099]
[{"$f":"IF(AND(StatData[[#This Row],[Shoda: Seskupený CZ-NACE]],StatData[[#This Row],[Shoda: Region]],StatData[[#This Row],[Shoda: Vzdělání]],StatData[[#This Row],[Shoda: Pohlaví]],StatData[[#This Row],[Shoda: Věk]]),1,0)","v":0},{"$f":"IF(StatData[[#This Row],[Seskupený CZ-NACE]]=VLOOKUP(Obor,TabObor[],2,0),1,0)","v":0},{"$f":"IF(StatData[[#This Row],[Region]]=VLOOKUP(Region,TabRegion[],2,0),1,0)","v":0},{"$f":"IF(StatData[[#This Row],[Vzdělání]]=Vzdělání,1,0)","v":0},{"$f":"IF(StatData[[#This Row],[Pohlaví]]=Pohlaví,1,0)","v":0},{"$f":"IF(StatData[[#This Row],[Věk]]=Věk,1,0)","v":1},109,"Zemědělství a průmysl",3,"Střední bez maturity","Muž","do 34 let    ",16553.888671875,37033.4618178948,20299.768836916701,21712.747284757399,22310.9810260833,22768.5458,23801.0457411067,25033.525760995999,25607.971370356099,26143.550016836401,27033.820685763199,28277.526660875799,29392.764639883,29930.479272925499,30777.443940620298,31638.636384805101,32597.115562101899,33292.537589453699,33963.072515223597,34902.362477160001,35692.128713371902,37729.509849550399,39028.324186866099,40725.728141371903,42253.747870793297,43994.564549540701,46091.454065503,48627.835710884901,52936.0293812577,58531.715398587403]
[{"$f":"IF(AND(StatData[[#This Row],[Shoda: Seskupený CZ-NACE]],StatData[[#This Row],[Shoda: Region]],StatData[[#This Row],[Shoda: Vzdělání]],StatData[[#This Row],[Shoda: Pohlaví]],StatData[[#This Row],[Shoda: Věk]]),1,0)","v":0},{"$f":"IF(StatData[[#This Row],[Seskupený CZ-NACE]]=VLOOKUP(Obor,TabObor[],2,0),1,0)","v":0},{"$f":"IF(StatData[[#This Row],[Region]]=VLOOKUP(Region,TabRegion[],2,0),1,0)","v":0},{"$f":"IF(StatData[[#This Row],[Vzdělání]]=Vzdělání,1,0)","v":0},{"$f":"IF(StatData[[#This Row],[Pohlaví]]=Pohlaví,1,0)","v":0},{"$f":"IF(StatData[[#This Row],[Věk]]=Věk,1,0)","v":0},110,"Zemědělství a průmysl",3,"Střední bez maturity","Muž","35 až 54 let ",49943.21484375,39537.6684114608,20338.3649823245,21396.067414805701,22588.137341134501,23400.6288802206,24587.108495650598,25670.873168019301,26582.174742105799,27711.2016929971,28549.910674996601,29401.790533016101,30537.623584180401,31542.868995045599,32596.287448145598,33823.934518498303,34742.2370451272,35760.198825497297,36402.431723332098,37216.382515395999,38056.814985852601,39908.682702072903,41576.584435430603,43250.174258062798,45092.332770267603,47255.382994879103,49636.672543325403,52877.4269909328,58014.609568509797,65809.732716950602]
[{"$f":"IF(AND(StatData[[#This Row],[Shoda: Seskupený CZ-NACE]],StatData[[#This Row],[Shoda: Region]],StatData[[#This Row],[Shoda: Vzdělání]],StatData[[#This Row],[Shoda: Pohlaví]],StatData[[#This Row],[Shoda: Věk]]),1,0)","v":0},{"$f":"IF(StatData[[#This Row],[Seskupený CZ-NACE]]=VLOOKUP(Obor,TabObor[],2,0),1,0)","v":0},{"$f":"IF(StatData[[#This Row],[Region]]=VLOOKUP(Region,TabRegion[],2,0),1,0)","v":0},{"$f":"IF(StatData[[#This Row],[Vzdělání]]=Vzdělání,1,0)","v":0},{"$f":"IF(StatData[[#This Row],[Pohlaví]]=Pohlaví,1,0)","v":0},{"$f":"IF(StatData[[#This Row],[Věk]]=Věk,1,0)","v":0},111,"Zemědělství a průmysl",3,"Střední bez maturity","Muž","55 a více let",26276.822265625,39334.042810261701,20736.2390526667,21830.1311281667,22811.714199999999,25182.9166,26143.75,27192.727255907001,28091.8202355986,29158.059228902901,30064.434818993301,31097.694036233599,32042.5469459372,32796.782884763503,33499.305780900802,34147.913894363403,35132.477284734901,35933.931323413897,36590.071534947499,37417.0414805783,38259.180862884001,39777.145993180297,41315.147552361901,42674.073188465401,44351.710780941299,46268.685988958001,48436.858337820398,51302.691341121499,55248.608280766901,62023.610426424697]
[{"$f":"IF(AND(StatData[[#This Row],[Shoda: Seskupený CZ-NACE]],StatData[[#This Row],[Shoda: Region]],StatData[[#This Row],[Shoda: Vzdělání]],StatData[[#This Row],[Shoda: Pohlaví]],StatData[[#This Row],[Shoda: Věk]]),1,0)","v":0},{"$f":"IF(StatData[[#This Row],[Seskupený CZ-NACE]]=VLOOKUP(Obor,TabObor[],2,0),1,0)","v":0},{"$f":"IF(StatData[[#This Row],[Region]]=VLOOKUP(Region,TabRegion[],2,0),1,0)","v":0},{"$f":"IF(StatData[[#This Row],[Vzdělání]]=Vzdělání,1,0)","v":0},{"$f":"IF(StatData[[#This Row],[Pohlaví]]=Pohlaví,1,0)","v":1},{"$f":"IF(StatData[[#This Row],[Věk]]=Věk,1,0)","v":1},112,"Zemědělství a průmysl",3,"Střední bez maturity","Žena","do 34 let    ",946.185546875,29783.8358061164,19002.049174749998,"*",19002.049174749998,"*",19871.933700000001,"*",22065.4182,"*",22347.465337833299,"*",23177.831099999999,"*",23751.347908711501,"*",24028.654651227698,"*",25658.108274611499,"*",27178.530310054899,28948.1657630429,31198.962476446701,32276.039715575898,33346.490036364099,36310.325994280502,39357.849079917301,41769.806803335799,42691.600844413202,43847.636786407798]
[{"$f":"IF(AND(StatData[[#This Row],[Shoda: Seskupený CZ-NACE]],StatData[[#This Row],[Shoda: Region]],StatData[[#This Row],[Shoda: Vzdělání]],StatData[[#This Row],[Shoda: Pohlaví]],StatData[[#This Row],[Shoda: Věk]]),1,0)","v":0},{"$f":"IF(StatData[[#This Row],[Seskupený CZ-NACE]]=VLOOKUP(Obor,TabObor[],2,0),1,0)","v":0},{"$f":"IF(StatData[[#This Row],[Region]]=VLOOKUP(Region,TabRegion[],2,0),1,0)","v":0},{"$f":"IF(StatData[[#This Row],[Vzdělání]]=Vzdělání,1,0)","v":0},{"$f":"IF(StatData[[#This Row],[Pohlaví]]=Pohlaví,1,0)","v":1},{"$f":"IF(StatData[[#This Row],[Věk]]=Věk,1,0)","v":0},113,"Zemědělství a průmysl",3,"Střední bez maturity","Žena","35 až 54 let ",5583.7685546875,31084.1892126395,18990.5873208148,19580.083299999998,19732.9890091704,20300.1765254167,20853.148573131599,21303.566748249999,21884.833299999998,22761.296900000001,24006.322800000002,24967.7323,25330.883900000001,25879.776596744199,26258.208671396798,27048.748021289201,27391.674726139699,28011.7639949523,28559.3468578346,29121.859384078602,29997.699262276899,31244.8293565243,32259.082610003999,33902.099032508399,35250.571474490796,37267.626019275798,39254.103133804398,41100.3018074883,42595.850042533399,45617.844820543003]
[{"$f":"IF(AND(StatData[[#This Row],[Shoda: Seskupený CZ-NACE]],StatData[[#This Row],[Shoda: Region]],StatData[[#This Row],[Shoda: Vzdělání]],StatData[[#This Row],[Shoda: Pohlaví]],StatData[[#This Row],[Shoda: Věk]]),1,0)","v":0},{"$f":"IF(StatData[[#This Row],[Seskupený CZ-NACE]]=VLOOKUP(Obor,TabObor[],2,0),1,0)","v":0},{"$f":"IF(StatData[[#This Row],[Region]]=VLOOKUP(Region,TabRegion[],2,0),1,0)","v":0},{"$f":"IF(StatData[[#This Row],[Vzdělání]]=Vzdělání,1,0)","v":0},{"$f":"IF(StatData[[#This Row],[Pohlaví]]=Pohlaví,1,0)","v":1},{"$f":"IF(StatData[[#This Row],[Věk]]=Věk,1,0)","v":0},114,"Zemědělství a průmysl",3,"Střední bez maturity","Žena","55 a více let",3870.44506835938,31136.268586567901,19648.5,19844.132214507699,20497.562732330902,21417.4156,22517.024700000002,22932.608985932002,23164.9593494775,23282.058040715299,23843.765100000001,25011.4166,26296.252930970801,26493.869560646399,26917.020873144302,27448.351675897899,27602.460537426901,28140.883939291001,28536.924163370899,29356.766109893899,29901.104975639799,30893.2657137151,32264.0531262642,33781.980531732901,34814.928075957403,36111.751683637602,38551.193245556497,40115.6243107708,41625.980299800503,46201.798010279897]
[{"$f":"IF(AND(StatData[[#This Row],[Shoda: Seskupený CZ-NACE]],StatData[[#This Row],[Shoda: Region]],StatData[[#This Row],[Shoda: Vzdělání]],StatData[[#This Row],[Shoda: Pohlaví]],StatData[[#This Row],[Shoda: Věk]]),1,0)","v":0},{"$f":"IF(StatData[[#This Row],[Seskupený CZ-NACE]]=VLOOKUP(Obor,TabObor[],2,0),1,0)","v":0},{"$f":"IF(StatData[[#This Row],[Region]]=VLOOKUP(Region,TabRegion[],2,0),1,0)","v":0},{"$f":"IF(StatData[[#This Row],[Vzdělání]]=Vzdělání,1,0)","v":1},{"$f":"IF(StatData[[#This Row],[Pohlaví]]=Pohlaví,1,0)","v":0},{"$f":"IF(StatData[[#This Row],[Věk]]=Věk,1,0)","v":1},115,"Zemědělství a průmysl",3,"Střední s maturitou a vyšší odborné","Muž","do 34 let    ",12372.3251953125,45543.134297678997,21747.534405750001,23685.483844770399,25371.388827510102,26221.855118152602,27608.994119680599,28953.246632349299,30674.4904303191,31221.638390169799,32791.198331534899,33311.820603989298,33998.591835148502,35448.703758153097,36669.736470802804,37695.455328285003,38671.923697410202,39294.625721091601,40209.1927194952,41208.740524324799,42203.603838608797,44144.4976842709,46963.301689154898,48916.379323544803,50613.064692302702,54763.625771398198,58066.707961412998,62857.078693418604,69028.686571423299,79210.883630135097]
[{"$f":"IF(AND(StatData[[#This Row],[Shoda: Seskupený CZ-NACE]],StatData[[#This Row],[Shoda: Region]],StatData[[#This Row],[Shoda: Vzdělání]],StatData[[#This Row],[Shoda: Pohlaví]],StatData[[#This Row],[Shoda: Věk]]),1,0)","v":0},{"$f":"IF(StatData[[#This Row],[Seskupený CZ-NACE]]=VLOOKUP(Obor,TabObor[],2,0),1,0)","v":0},{"$f":"IF(StatData[[#This Row],[Region]]=VLOOKUP(Region,TabRegion[],2,0),1,0)","v":0},{"$f":"IF(StatData[[#This Row],[Vzdělání]]=Vzdělání,1,0)","v":1},{"$f":"IF(StatData[[#This Row],[Pohlaví]]=Pohlaví,1,0)","v":0},{"$f":"IF(StatData[[#This Row],[Věk]]=Věk,1,0)","v":0},116,"Zemědělství a průmysl",3,"Střední s maturitou a vyšší odborné","Muž","35 až 54 let ",27358.01171875,51910.508957519,20379.198403999999,21990.798021967301,23392.549900000002,25176.790892660101,26875.1671982558,29477.674325797001,31182.534601011601,33090.805620483603,34536.236720885703,35522.317463630301,36503.617378739102,38226.660827811997,39683.736614812202,40969.338631915503,42449.481762842202,43712.096049570799,45190.857447394003,46466.9034832209,47860.423830679603,50612.475595556898,53435.098985463097,56293.684377598598,59667.522803127802,63715.601645388699,68840.032028614194,75044.715511955001,82892.549560388594,95628.442800485995]
[{"$f":"IF(AND(StatData[[#This Row],[Shoda: Seskupený CZ-NACE]],StatData[[#This Row],[Shoda: Region]],StatData[[#This Row],[Shoda: Vzdělání]],StatData[[#This Row],[Shoda: Pohlaví]],StatData[[#This Row],[Shoda: Věk]]),1,0)","v":0},{"$f":"IF(StatData[[#This Row],[Seskupený CZ-NACE]]=VLOOKUP(Obor,TabObor[],2,0),1,0)","v":0},{"$f":"IF(StatData[[#This Row],[Region]]=VLOOKUP(Region,TabRegion[],2,0),1,0)","v":0},{"$f":"IF(StatData[[#This Row],[Vzdělání]]=Vzdělání,1,0)","v":1},{"$f":"IF(StatData[[#This Row],[Pohlaví]]=Pohlaví,1,0)","v":0},{"$f":"IF(StatData[[#This Row],[Věk]]=Věk,1,0)","v":0},117,"Zemědělství a průmysl",3,"Střední s maturitou a vyšší odborné","Muž","55 a více let",12601.119140625,50709.8739172391,23200.761425416698,24628.08227775,26165.962108771299,26518.461298122002,28396.457342631798,29391.219850496102,30847.7701069547,32179.821931295701,34326.6599795898,35150.452398613197,36148.538053018798,37500.956960095602,38847.384306434302,39928.2842651479,41403.497084593902,42539.038616551297,43472.371049996102,44198.968691445698,45852.781657952502,49007.798124676003,51031.522530648203,54162.599673663499,57168.199077405698,61810.184942906599,67922.906294213695,74245.871300924497,79962.444214026895,93457.057874019098]
[{"$f":"IF(AND(StatData[[#This Row],[Shoda: Seskupený CZ-NACE]],StatData[[#This Row],[Shoda: Region]],StatData[[#This Row],[Shoda: Vzdělání]],StatData[[#This Row],[Shoda: Pohlaví]],StatData[[#This Row],[Shoda: Věk]]),1,0)","v":0},{"$f":"IF(StatData[[#This Row],[Seskupený CZ-NACE]]=VLOOKUP(Obor,TabObor[],2,0),1,0)","v":0},{"$f":"IF(StatData[[#This Row],[Region]]=VLOOKUP(Region,TabRegion[],2,0),1,0)","v":0},{"$f":"IF(StatData[[#This Row],[Vzdělání]]=Vzdělání,1,0)","v":1},{"$f":"IF(StatData[[#This Row],[Pohlaví]]=Pohlaví,1,0)","v":1},{"$f":"IF(StatData[[#This Row],[Věk]]=Věk,1,0)","v":1},118,"Zemědělství a průmysl",3,"Střední s maturitou a vyšší odborné","Žena","do 34 let    ",2868.08618164063,34871.467903201403,20441.983165607999,21893.4482364127,21893.4482364127,21903.588452369098,23780.093529857299,23888.4310115833,23916.482969052999,25333.5199372467,26232.265102539801,27267.162535774602,28213.1433880931,28672.144896250298,29035.135708495902,29553.1307759968,30260.4122096949,30681.872591973399,30754.0636665518,31423.598489171902,32657.462242673701,34403.5056843989,35954.362293382699,37858.341865484799,39666.720277879504,41541.546797686497,43227.909369472502,46176.111732814199,49712.416295671603,56642.304251432397]
[{"$f":"IF(AND(StatData[[#This Row],[Shoda: Seskupený CZ-NACE]],StatData[[#This Row],[Shoda: Region]],StatData[[#This Row],[Shoda: Vzdělání]],StatData[[#This Row],[Shoda: Pohlaví]],StatData[[#This Row],[Shoda: Věk]]),1,0)","v":0},{"$f":"IF(StatData[[#This Row],[Seskupený CZ-NACE]]=VLOOKUP(Obor,TabObor[],2,0),1,0)","v":0},{"$f":"IF(StatData[[#This Row],[Region]]=VLOOKUP(Region,TabRegion[],2,0),1,0)","v":0},{"$f":"IF(StatData[[#This Row],[Vzdělání]]=Vzdělání,1,0)","v":1},{"$f":"IF(StatData[[#This Row],[Pohlaví]]=Pohlaví,1,0)","v":1},{"$f":"IF(StatData[[#This Row],[Věk]]=Věk,1,0)","v":0},119,"Zemědělství a průmysl",3,"Střední s maturitou a vyšší odborné","Žena","35 až 54 let ",14576.2529296875,39052.169813036598,21151.16698025,21812.838194249998,22061.069521916699,22831.276965305999,23826.430531166701,25000.4267,25836.187151333299,26243.0900068091,26763.4686063675,28150.3963014929,28737.228985522499,30135.524756744901,31163.2430246494,32279.608831119702,33338.9377216594,33863.449504677999,34611.731902015701,35445.4128732233,35944.760900891903,37793.142443163597,39687.1221799907,41521.957552773398,43364.523796837202,45977.276559817998,49303.390417866904,52527.602479725501,58944.328421425998,69617.813208298598]
[{"$f":"IF(AND(StatData[[#This Row],[Shoda: Seskupený CZ-NACE]],StatData[[#This Row],[Shoda: Region]],StatData[[#This Row],[Shoda: Vzdělání]],StatData[[#This Row],[Shoda: Pohlaví]],StatData[[#This Row],[Shoda: Věk]]),1,0)","v":0},{"$f":"IF(StatData[[#This Row],[Seskupený CZ-NACE]]=VLOOKUP(Obor,TabObor[],2,0),1,0)","v":0},{"$f":"IF(StatData[[#This Row],[Region]]=VLOOKUP(Region,TabRegion[],2,0),1,0)","v":0},{"$f":"IF(StatData[[#This Row],[Vzdělání]]=Vzdělání,1,0)","v":1},{"$f":"IF(StatData[[#This Row],[Pohlaví]]=Pohlaví,1,0)","v":1},{"$f":"IF(StatData[[#This Row],[Věk]]=Věk,1,0)","v":0},120,"Zemědělství a průmysl",3,"Střední s maturitou a vyšší odborné","Žena","55 a více let",7133.27783203125,40270.814750081103,20407.059061249998,21838.798503999999,22873.4166,22939.901779250002,23550.203600000001,26475.39142684,27198.018195913901,27900.7224985104,28740.831326657699,29763.637096796701,30637.231759493901,32099.914465547401,32656.342919893599,33504.1623369347,34561.520880994103,35294.2717465116,36004.496062709499,36567.129163152102,37584.782194318497,40985.855947325799,42165.582329439501,43772.881722234102,45523.935956790097,47943.044426452303,50247.722833874897,54034.602394631504,60340.919844408498,67928.680523512099]
[{"$f":"IF(AND(StatData[[#This Row],[Shoda: Seskupený CZ-NACE]],StatData[[#This Row],[Shoda: Region]],StatData[[#This Row],[Shoda: Vzdělání]],StatData[[#This Row],[Shoda: Pohlaví]],StatData[[#This Row],[Shoda: Věk]]),1,0)","v":0},{"$f":"IF(StatData[[#This Row],[Seskupený CZ-NACE]]=VLOOKUP(Obor,TabObor[],2,0),1,0)","v":0},{"$f":"IF(StatData[[#This Row],[Region]]=VLOOKUP(Region,TabRegion[],2,0),1,0)","v":0},{"$f":"IF(StatData[[#This Row],[Vzdělání]]=Vzdělání,1,0)","v":0},{"$f":"IF(StatData[[#This Row],[Pohlaví]]=Pohlaví,1,0)","v":0},{"$f":"IF(StatData[[#This Row],[Věk]]=Věk,1,0)","v":1},121,"Zemědělství a průmysl",3,"Vysokoškolské ","Muž","do 34 let    ",4032.11645507813,55768.872454767399,19784.647799988299,21814.422637084499,22042.514498749999,24999.977742250001,25300.917826102301,27435.153953967001,29414.879815902899,31728.345877915399,36893.8949587569,39712.408921764698,42020.455683225802,42911.329123276897,44614.5270859066,45825.630988696801,47219.428639033897,48779.089179404698,50066.825608731997,52228.647691553,53728.807899491301,55145.733684642997,57569.004871287601,61582.049233886202,66064.766094345905,70269.205251480802,76618.115977070906,82419.842500582497,88528.373064203493,104157.876966354]
[{"$f":"IF(AND(StatData[[#This Row],[Shoda: Seskupený CZ-NACE]],StatData[[#This Row],[Shoda: Region]],StatData[[#This Row],[Shoda: Vzdělání]],StatData[[#This Row],[Shoda: Pohlaví]],StatData[[#This Row],[Shoda: Věk]]),1,0)","v":0},{"$f":"IF(StatData[[#This Row],[Seskupený CZ-NACE]]=VLOOKUP(Obor,TabObor[],2,0),1,0)","v":0},{"$f":"IF(StatData[[#This Row],[Region]]=VLOOKUP(Region,TabRegion[],2,0),1,0)","v":0},{"$f":"IF(StatData[[#This Row],[Vzdělání]]=Vzdělání,1,0)","v":0},{"$f":"IF(StatData[[#This Row],[Pohlaví]]=Pohlaví,1,0)","v":0},{"$f":"IF(StatData[[#This Row],[Věk]]=Věk,1,0)","v":0},122,"Zemědělství a průmysl",3,"Vysokoškolské ","Muž","35 až 54 let ",11530.2255859375,74315.153440647497,21115.7585844961,23620.339101666701,28891.826741582401,30636.470307359901,34141.218180860298,37694.9905454166,40498.462037323501,42344.1983364888,44536.4181681767,47130.7098011497,49643.538283414899,51289.160165592803,52602.702450941702,54641.494475834203,56299.7842311676,58962.978331684099,60688.660963478302,62367.126705869297,64481.497279095602,68394.188218066207,73789.365601257799,79170.994465007301,84313.833961292694,91257.4670044183,98890.543078770002,107633.33003084701,125233.28852443599,152620.2574232]
[{"$f":"IF(AND(StatData[[#This Row],[Shoda: Seskupený CZ-NACE]],StatData[[#This Row],[Shoda: Region]],StatData[[#This Row],[Shoda: Vzdělání]],StatData[[#This Row],[Shoda: Pohlaví]],StatData[[#This Row],[Shoda: Věk]]),1,0)","v":0},{"$f":"IF(StatData[[#This Row],[Seskupený CZ-NACE]]=VLOOKUP(Obor,TabObor[],2,0),1,0)","v":0},{"$f":"IF(StatData[[#This Row],[Region]]=VLOOKUP(Region,TabRegion[],2,0),1,0)","v":0},{"$f":"IF(StatData[[#This Row],[Vzdělání]]=Vzdělání,1,0)","v":0},{"$f":"IF(StatData[[#This Row],[Pohlaví]]=Pohlaví,1,0)","v":0},{"$f":"IF(StatData[[#This Row],[Věk]]=Věk,1,0)","v":0},123,"Zemědělství a průmysl",3,"Vysokoškolské ","Muž","55 a více let",5628.5869140625,70934.7078076904,19918.107391333298,21380.134300000002,24439.701000000001,26699.1517956223,27030.892265447401,29190.976269147999,30698.729931449299,32774.915238044399,38896.5690945366,41299.826746034698,44230.4071459892,47755.367532416101,49887.139448379101,51413.281868013,52389.891638364701,53094.265399211399,55662.191287320697,57868.847087251299,59262.996342050297,63541.463852716297,68360.792430582194,73689.064442116505,82484.217921493895,89424.988540958293,96560.242557075006,109744.822313593,126132.049567785,162713.15326535699]
[{"$f":"IF(AND(StatData[[#This Row],[Shoda: Seskupený CZ-NACE]],StatData[[#This Row],[Shoda: Region]],StatData[[#This Row],[Shoda: Vzdělání]],StatData[[#This Row],[Shoda: Pohlaví]],StatData[[#This Row],[Shoda: Věk]]),1,0)","v":0},{"$f":"IF(StatData[[#This Row],[Seskupený CZ-NACE]]=VLOOKUP(Obor,TabObor[],2,0),1,0)","v":0},{"$f":"IF(StatData[[#This Row],[Region]]=VLOOKUP(Region,TabRegion[],2,0),1,0)","v":0},{"$f":"IF(StatData[[#This Row],[Vzdělání]]=Vzdělání,1,0)","v":0},{"$f":"IF(StatData[[#This Row],[Pohlaví]]=Pohlaví,1,0)","v":1},{"$f":"IF(StatData[[#This Row],[Věk]]=Věk,1,0)","v":1},124,"Zemědělství a průmysl",3,"Vysokoškolské ","Žena","do 34 let    ",2486.80493164063,43392.715664051,20608.898975497799,21095.9220327697,21861.583299999998,25918.9308702048,28622.1043861951,30854.281916929402,31709.227569496201,32023.971297046999,33763.177795596399,35037.510773305199,35686.322041574,36401.7444130609,38036.8539231252,38222.470774404203,38470.787194311699,39815.060528274596,40220.478362119298,40951.116552963897,43074.657665377999,44275.7925197285,44846.629676806697,46995.643555716299,48723.497907181401,50000.390602616797,52585.460180219598,55886.684629887997,60841.979012662101,71981.747709867006]
[{"$f":"IF(AND(StatData[[#This Row],[Shoda: Seskupený CZ-NACE]],StatData[[#This Row],[Shoda: Region]],StatData[[#This Row],[Shoda: Vzdělání]],StatData[[#This Row],[Shoda: Pohlaví]],StatData[[#This Row],[Shoda: Věk]]),1,0)","v":0},{"$f":"IF(StatData[[#This Row],[Seskupený CZ-NACE]]=VLOOKUP(Obor,TabObor[],2,0),1,0)","v":0},{"$f":"IF(StatData[[#This Row],[Region]]=VLOOKUP(Region,TabRegion[],2,0),1,0)","v":0},{"$f":"IF(StatData[[#This Row],[Vzdělání]]=Vzdělání,1,0)","v":0},{"$f":"IF(StatData[[#This Row],[Pohlaví]]=Pohlaví,1,0)","v":1},{"$f":"IF(StatData[[#This Row],[Věk]]=Věk,1,0)","v":0},125,"Zemědělství a průmysl",3,"Vysokoškolské ","Žena","35 až 54 let ",5962.3173828125,53254.179155459104,22034.213596666701,26250.1349593019,27884.2076356623,30061.014836700499,31681.615669503099,32762.061815070501,34732.686218252602,35734.450298367803,37704.600609924797,38565.426565425703,39861.410287635903,40708.566104694299,41358.703020242297,42451.5072000988,43420.6750948806,44856.452843159197,45600.997479450598,46678.159853538498,47308.459780614699,49318.027273594504,52361.888996757698,55193.956023863597,58040.160987733601,61099.668885366402,66391.836924224699,72822.032756888293,81724.5139772947,98095.5805429186]
[{"$f":"IF(AND(StatData[[#This Row],[Shoda: Seskupený CZ-NACE]],StatData[[#This Row],[Shoda: Region]],StatData[[#This Row],[Shoda: Vzdělání]],StatData[[#This Row],[Shoda: Pohlaví]],StatData[[#This Row],[Shoda: Věk]]),1,0)","v":0},{"$f":"IF(StatData[[#This Row],[Seskupený CZ-NACE]]=VLOOKUP(Obor,TabObor[],2,0),1,0)","v":0},{"$f":"IF(StatData[[#This Row],[Region]]=VLOOKUP(Region,TabRegion[],2,0),1,0)","v":0},{"$f":"IF(StatData[[#This Row],[Vzdělání]]=Vzdělání,1,0)","v":0},{"$f":"IF(StatData[[#This Row],[Pohlaví]]=Pohlaví,1,0)","v":1},{"$f":"IF(StatData[[#This Row],[Věk]]=Věk,1,0)","v":0},126,"Zemědělství a průmysl",3,"Vysokoškolské ","Žena","55 a více let",1646.87377929688,56876.4505435596,20429.8239509167,20429.8239509167,20429.8239509167,20429.8239509167,25593.158291319101,27800.796273053398,31853.849993531501,33722.798367132898,33722.798367132898,34345.073371988998,35381.889602196003,37468.436306046198,41493.568454554297,43798.879701128899,46493.229521680201,47719.892845340197,49683.246236346,51469.595704850697,51848.7742733103,55852.801713461798,58634.410955336498,61336.778980400399,65158.514295505403,70419.908762048799,73419.695559012893,79473.037246454798,89039.423383844303,105049.940023267]
[{"$f":"IF(AND(StatData[[#This Row],[Shoda: Seskupený CZ-NACE]],StatData[[#This Row],[Shoda: Region]],StatData[[#This Row],[Shoda: Vzdělání]],StatData[[#This Row],[Shoda: Pohlaví]],StatData[[#This Row],[Shoda: Věk]]),1,0)","v":0},{"$f":"IF(StatData[[#This Row],[Seskupený CZ-NACE]]=VLOOKUP(Obor,TabObor[],2,0),1,0)","v":0},{"$f":"IF(StatData[[#This Row],[Region]]=VLOOKUP(Region,TabRegion[],2,0),1,0)","v":1},{"$f":"IF(StatData[[#This Row],[Vzdělání]]=Vzdělání,1,0)","v":0},{"$f":"IF(StatData[[#This Row],[Pohlaví]]=Pohlaví,1,0)","v":0},{"$f":"IF(StatData[[#This Row],[Věk]]=Věk,1,0)","v":1},127,"Zpracovatelský průmysl",1,"Střední bez maturity","Muž","do 34 let    ",1525.44140625,43290.471767762501,18900.0000005,21625.752343339202,21661.806329999999,23544.419300000001,27359.6934077486,32717.988272927101,33644.697690126202,34443.543367181803,35281.474052261197,36530.593358546197,37446.873471090301,37706.042156285199,38157.589565572402,38978.873261798501,39464.423141090701,40206.141130214499,40592.478952888399,41092.394816727603,42274.587987344901,43715.287832753202,46281.408111127101,48675.024110052502,50118.638870324103,51871.168920455799,53921.106774430802,57399.4480541823,60545.2468614916,65104.910056100198]
[{"$f":"IF(AND(StatData[[#This Row],[Shoda: Seskupený CZ-NACE]],StatData[[#This Row],[Shoda: Region]],StatData[[#This Row],[Shoda: Vzdělání]],StatData[[#This Row],[Shoda: Pohlaví]],StatData[[#This Row],[Shoda: Věk]]),1,0)","v":0},{"$f":"IF(StatData[[#This Row],[Seskupený CZ-NACE]]=VLOOKUP(Obor,TabObor[],2,0),1,0)","v":0},{"$f":"IF(StatData[[#This Row],[Region]]=VLOOKUP(Region,TabRegion[],2,0),1,0)","v":1},{"$f":"IF(StatData[[#This Row],[Vzdělání]]=Vzdělání,1,0)","v":0},{"$f":"IF(StatData[[#This Row],[Pohlaví]]=Pohlaví,1,0)","v":0},{"$f":"IF(StatData[[#This Row],[Věk]]=Věk,1,0)","v":0},128,"Zpracovatelský průmysl",1,"Střední bez maturity","Muž","35 až 54 let ",4940.943359375,44885.3804582749,19314.98641075,19314.98641075,21008.333299999998,21782.607095083298,25705.603992635599,27675.0335808335,28680.680472636101,29782.427456254401,31354.224803922702,32615.812983222298,33801.254163371203,35390.728832938898,36365.696513086397,37943.325509739698,39050.667374983801,40658.204948869497,41529.256154264003,42679.743828275903,43834.065446742199,46558.827152905898,48519.531905340402,50611.449505091703,53689.1948246217,55712.313529049898,58436.485421004698,61403.959216356998,65444.672124378201,74809.304036176298]
[{"$f":"IF(AND(StatData[[#This Row],[Shoda: Seskupený CZ-NACE]],StatData[[#This Row],[Shoda: Region]],StatData[[#This Row],[Shoda: Vzdělání]],StatData[[#This Row],[Shoda: Pohlaví]],StatData[[#This Row],[Shoda: Věk]]),1,0)","v":0},{"$f":"IF(StatData[[#This Row],[Seskupený CZ-NACE]]=VLOOKUP(Obor,TabObor[],2,0),1,0)","v":0},{"$f":"IF(StatData[[#This Row],[Region]]=VLOOKUP(Region,TabRegion[],2,0),1,0)","v":1},{"$f":"IF(StatData[[#This Row],[Vzdělání]]=Vzdělání,1,0)","v":0},{"$f":"IF(StatData[[#This Row],[Pohlaví]]=Pohlaví,1,0)","v":0},{"$f":"IF(StatData[[#This Row],[Věk]]=Věk,1,0)","v":0},129,"Zpracovatelský průmysl",1,"Střední bez maturity","Muž","55 a více let",2189.34204101563,46164.720856282198,28946.607881867101,29718.2535730864,30601.944042421699,31069.036055111999,31362.687956892001,32392.8308722414,33944.255987366101,34432.037536936099,34916.195586130103,36552.078091253803,37704.3438242923,38475.945991001601,39616.927148393203,40227.4473581727,41102.956106172998,41699.716303457302,43304.619890444301,44180.839096046002,44744.808846821201,45876.225000395199,47885.22193539,49774.870243434198,52085.905886932,53815.896472811801,55557.169611993799,59734.421424899301,63851.731817363703,69045.739214870002]
[{"$f":"IF(AND(StatData[[#This Row],[Shoda: Seskupený CZ-NACE]],StatData[[#This Row],[Shoda: Region]],StatData[[#This Row],[Shoda: Vzdělání]],StatData[[#This Row],[Shoda: Pohlaví]],StatData[[#This Row],[Shoda: Věk]]),1,0)","v":0},{"$f":"IF(StatData[[#This Row],[Seskupený CZ-NACE]]=VLOOKUP(Obor,TabObor[],2,0),1,0)","v":0},{"$f":"IF(StatData[[#This Row],[Region]]=VLOOKUP(Region,TabRegion[],2,0),1,0)","v":1},{"$f":"IF(StatData[[#This Row],[Vzdělání]]=Vzdělání,1,0)","v":0},{"$f":"IF(StatData[[#This Row],[Pohlaví]]=Pohlaví,1,0)","v":1},{"$f":"IF(StatData[[#This Row],[Věk]]=Věk,1,0)","v":1},130,"Zpracovatelský průmysl",1,"Střední bez maturity","Žena","do 34 let    ",500.58258056640602,37995.463503518098,25920.549457289701,26547.0867,27867.633112289401,28359.7994165255,28359.7994165255,28359.7994165255,28359.7994165255,28479.302440698499,29497.512539653399,31091.061265442801,33047.841605355999,34097.027216792398,34191.744598491401,34272.379429135799,34736.562204408598,35347.894943854,35892.344684933603,37019.7009578328,37483.586834123402,38615.887870606603,39291.636475965097,41643.786303707398,42575.457357920503,43172.903664916601,45418.599926822499,47272.548184414802,48184.502789449798,52761.889837406001]
[{"$f":"IF(AND(StatData[[#This Row],[Shoda: Seskupený CZ-NACE]],StatData[[#This Row],[Shoda: Region]],StatData[[#This Row],[Shoda: Vzdělání]],StatData[[#This Row],[Shoda: Pohlaví]],StatData[[#This Row],[Shoda: Věk]]),1,0)","v":0},{"$f":"IF(StatData[[#This Row],[Seskupený CZ-NACE]]=VLOOKUP(Obor,TabObor[],2,0),1,0)","v":0},{"$f":"IF(StatData[[#This Row],[Region]]=VLOOKUP(Region,TabRegion[],2,0),1,0)","v":1},{"$f":"IF(StatData[[#This Row],[Vzdělání]]=Vzdělání,1,0)","v":0},{"$f":"IF(StatData[[#This Row],[Pohlaví]]=Pohlaví,1,0)","v":1},{"$f":"IF(StatData[[#This Row],[Věk]]=Věk,1,0)","v":0},131,"Zpracovatelský průmysl",1,"Střední bez maturity","Žena","35 až 54 let ",2631.55590820313,39414.982320898598,21950.132428000001,23496.736730916698,23496.736730916698,24308.842000000001,25659.764299999999,26872.753625185102,28127.823301636399,29408.290101707498,29828.397436985899,30593.403537442598,31462.126320663901,32284.187177029598,33398.661357102697,34567.3901193001,35699.724540618503,35699.724540618503,36184.099734462703,36956.620704332701,37961.678312808101,39126.975179298097,40514.525741777201,41460.695206233497,43261.820877639002,45191.4771970492,47185.686356680599,49776.683728906602,54144.820618138103,63111.610491677398]
[{"$f":"IF(AND(StatData[[#This Row],[Shoda: Seskupený CZ-NACE]],StatData[[#This Row],[Shoda: Region]],StatData[[#This Row],[Shoda: Vzdělání]],StatData[[#This Row],[Shoda: Pohlaví]],StatData[[#This Row],[Shoda: Věk]]),1,0)","v":0},{"$f":"IF(StatData[[#This Row],[Seskupený CZ-NACE]]=VLOOKUP(Obor,TabObor[],2,0),1,0)","v":0},{"$f":"IF(StatData[[#This Row],[Region]]=VLOOKUP(Region,TabRegion[],2,0),1,0)","v":1},{"$f":"IF(StatData[[#This Row],[Vzdělání]]=Vzdělání,1,0)","v":0},{"$f":"IF(StatData[[#This Row],[Pohlaví]]=Pohlaví,1,0)","v":1},{"$f":"IF(StatData[[#This Row],[Věk]]=Věk,1,0)","v":0},132,"Zpracovatelský průmysl",1,"Střední bez maturity","Žena","55 a více let",963.5244140625,38524.520577511903,22575.865903280301,23220.75,24882.083299999998,26691.149174735601,27120.971313321799,27543.5143212119,28237.1167862773,29163.147777912902,30294.402040102301,31585.257698438501,31859.1621034042,32702.674850915399,33727.873703398203,34338.7409307415,35302.9174752256,36254.195347120403,36557.362615040001,37198.869673023299,38022.229557180799,39535.134914037299,40948.292345804097,42142.6671808846,43013.585125737001,44248.546422548199,45729.748645039203,48387.941856111698,50536.697147701903,58277.797843129803]
[{"$f":"IF(AND(StatData[[#This Row],[Shoda: Seskupený CZ-NACE]],StatData[[#This Row],[Shoda: Region]],StatData[[#This Row],[Shoda: Vzdělání]],StatData[[#This Row],[Shoda: Pohlaví]],StatData[[#This Row],[Shoda: Věk]]),1,0)","v":0},{"$f":"IF(StatData[[#This Row],[Seskupený CZ-NACE]]=VLOOKUP(Obor,TabObor[],2,0),1,0)","v":0},{"$f":"IF(StatData[[#This Row],[Region]]=VLOOKUP(Region,TabRegion[],2,0),1,0)","v":1},{"$f":"IF(StatData[[#This Row],[Vzdělání]]=Vzdělání,1,0)","v":1},{"$f":"IF(StatData[[#This Row],[Pohlaví]]=Pohlaví,1,0)","v":0},{"$f":"IF(StatData[[#This Row],[Věk]]=Věk,1,0)","v":1},133,"Zpracovatelský průmysl",1,"Střední s maturitou a vyšší odborné","Muž","do 34 let    ",3125.60009765625,53360.8762094392,25952.437395396799,31792.119537910901,32701.543684088199,34601.848651961198,36132.807435481001,37213.118378040897,39025.642754995199,39948.622240343197,40731.960081199497,41968.575536307697,42937.3426641853,43970.664671724699,44624.099958672297,45427.851776587297,46328.837312832002,47702.139768605099,48144.337355692602,48884.497526656203,49866.465480123901,52003.397519663398,54643.022468604999,56808.232577206101,59430.095975908996,62378.309918040897,65360.077326570303,70702.426836941799,77010.879685428299,87190.920879034806]
[{"$f":"IF(AND(StatData[[#This Row],[Shoda: Seskupený CZ-NACE]],StatData[[#This Row],[Shoda: Region]],StatData[[#This Row],[Shoda: Vzdělání]],StatData[[#This Row],[Shoda: Pohlaví]],StatData[[#This Row],[Shoda: Věk]]),1,0)","v":0},{"$f":"IF(StatData[[#This Row],[Seskupený CZ-NACE]]=VLOOKUP(Obor,TabObor[],2,0),1,0)","v":0},{"$f":"IF(StatData[[#This Row],[Region]]=VLOOKUP(Region,TabRegion[],2,0),1,0)","v":1},{"$f":"IF(StatData[[#This Row],[Vzdělání]]=Vzdělání,1,0)","v":1},{"$f":"IF(StatData[[#This Row],[Pohlaví]]=Pohlaví,1,0)","v":0},{"$f":"IF(StatData[[#This Row],[Věk]]=Věk,1,0)","v":0},134,"Zpracovatelský průmysl",1,"Střední s maturitou a vyšší odborné","Muž","35 až 54 let ",6931.64208984375,65410.351481555001,19143.237250812501,20658.629765777801,25977.1162678857,32687.001268840799,36732.4455715039,39320.2700085623,40637.647360271199,41620.326721602898,43169.013398718103,45017.446832276401,45861.036493404397,47177.405967605599,48605.260658735002,50620.349829522303,51900.242614194103,52960.801620438397,53909.087591806201,54975.729245033202,56510.7429978613,60142.975388476902,63669.624119100801,68323.486321714503,73217.481723414894,78899.989993043593,84858.368402297405,95058.592487836795,106968.668185972,130351.229938017]
[{"$f":"IF(AND(StatData[[#This Row],[Shoda: Seskupený CZ-NACE]],StatData[[#This Row],[Shoda: Region]],StatData[[#This Row],[Shoda: Vzdělání]],StatData[[#This Row],[Shoda: Pohlaví]],StatData[[#This Row],[Shoda: Věk]]),1,0)","v":0},{"$f":"IF(StatData[[#This Row],[Seskupený CZ-NACE]]=VLOOKUP(Obor,TabObor[],2,0),1,0)","v":0},{"$f":"IF(StatData[[#This Row],[Region]]=VLOOKUP(Region,TabRegion[],2,0),1,0)","v":1},{"$f":"IF(StatData[[#This Row],[Vzdělání]]=Vzdělání,1,0)","v":1},{"$f":"IF(StatData[[#This Row],[Pohlaví]]=Pohlaví,1,0)","v":0},{"$f":"IF(StatData[[#This Row],[Věk]]=Věk,1,0)","v":0},135,"Zpracovatelský průmysl",1,"Střední s maturitou a vyšší odborné","Muž","55 a více let",1890.10205078125,59432.274983303803,31602.841330297098,32925.6030346072,33165.869892283699,35162.1368539287,37312.710226790201,38360.4516750728,39684.740896498202,41600.560561576902,42900.4142995613,43514.426095668998,43805.301647696302,45176.519098681303,45670.567170197603,47155.157046678403,47736.958732575302,48312.501056002002,49657.818220389898,49923.023470358501,50650.768473919197,52431.753163975198,54301.167779858501,56344.433469273397,59649.178430451801,64840.599251883701,69859.353631266902,80487.667641890002,88125.310867891894,111472.335806569]
[{"$f":"IF(AND(StatData[[#This Row],[Shoda: Seskupený CZ-NACE]],StatData[[#This Row],[Shoda: Region]],StatData[[#This Row],[Shoda: Vzdělání]],StatData[[#This Row],[Shoda: Pohlaví]],StatData[[#This Row],[Shoda: Věk]]),1,0)","v":0},{"$f":"IF(StatData[[#This Row],[Seskupený CZ-NACE]]=VLOOKUP(Obor,TabObor[],2,0),1,0)","v":0},{"$f":"IF(StatData[[#This Row],[Region]]=VLOOKUP(Region,TabRegion[],2,0),1,0)","v":1},{"$f":"IF(StatData[[#This Row],[Vzdělání]]=Vzdělání,1,0)","v":1},{"$f":"IF(StatData[[#This Row],[Pohlaví]]=Pohlaví,1,0)","v":1},{"$f":"IF(StatData[[#This Row],[Věk]]=Věk,1,0)","v":1},136,"Zpracovatelský průmysl",1,"Střední s maturitou a vyšší odborné","Žena","do 34 let    ",1645.49487304688,47288.651465981697,22678.939673618599,29006.8219281077,30077.3686901603,30848.080566856501,32066.881150685,33107.421382190798,33529.626859982804,34099.739352456403,35886.3262292078,37619.337741625903,37762.918581397302,39143.048489364897,40570.540152523397,41414.3313421575,41938.090049156803,43014.750341306601,43575.516004652301,43621.1409425604,44127.298620486297,46202.684153818802,48676.293622542697,49918.464596156897,51806.059775536101,53067.137389499701,56229.565740238198,60879.049548177201,66630.503906084195,74625.929375236694]
[{"$f":"IF(AND(StatData[[#This Row],[Shoda: Seskupený CZ-NACE]],StatData[[#This Row],[Shoda: Region]],StatData[[#This Row],[Shoda: Vzdělání]],StatData[[#This Row],[Shoda: Pohlaví]],StatData[[#This Row],[Shoda: Věk]]),1,0)","v":0},{"$f":"IF(StatData[[#This Row],[Seskupený CZ-NACE]]=VLOOKUP(Obor,TabObor[],2,0),1,0)","v":0},{"$f":"IF(StatData[[#This Row],[Region]]=VLOOKUP(Region,TabRegion[],2,0),1,0)","v":1},{"$f":"IF(StatData[[#This Row],[Vzdělání]]=Vzdělání,1,0)","v":1},{"$f":"IF(StatData[[#This Row],[Pohlaví]]=Pohlaví,1,0)","v":1},{"$f":"IF(StatData[[#This Row],[Věk]]=Věk,1,0)","v":0},137,"Zpracovatelský průmysl",1,"Střední s maturitou a vyšší odborné","Žena","35 až 54 let ",4680.96484375,49951.288355395503,22383.4297795942,25808.4342,27811.125837112599,29528.268679715798,31710.452373252399,32621.052599210601,33573.481696539697,34672.919216914503,35424.526572218601,35877.007577265198,37376.071955999003,38325.620590398903,38939.8253166289,39713.771571506899,40268.210608745103,41429.720309935503,42214.700842197301,43291.072834211103,44315.156719523002,46080.861025487502,49079.637861213501,52320.570778529,55170.926606396803,58367.096250586597,63495.706505473398,69953.456422084695,75963.617628748703,87543.937550665607]
[{"$f":"IF(AND(StatData[[#This Row],[Shoda: Seskupený CZ-NACE]],StatData[[#This Row],[Shoda: Region]],StatData[[#This Row],[Shoda: Vzdělání]],StatData[[#This Row],[Shoda: Pohlaví]],StatData[[#This Row],[Shoda: Věk]]),1,0)","v":0},{"$f":"IF(StatData[[#This Row],[Seskupený CZ-NACE]]=VLOOKUP(Obor,TabObor[],2,0),1,0)","v":0},{"$f":"IF(StatData[[#This Row],[Region]]=VLOOKUP(Region,TabRegion[],2,0),1,0)","v":1},{"$f":"IF(StatData[[#This Row],[Vzdělání]]=Vzdělání,1,0)","v":1},{"$f":"IF(StatData[[#This Row],[Pohlaví]]=Pohlaví,1,0)","v":1},{"$f":"IF(StatData[[#This Row],[Věk]]=Věk,1,0)","v":0},138,"Zpracovatelský průmysl",1,"Střední s maturitou a vyšší odborné","Žena","55 a více let",1189.86938476563,45780.029211889603,19969.333299999998,"*",25298.735000000001,"*",28061.243723538599,"*",32167.985590576602,"*",34905.986820132901,"*",37218.984614345703,"*",38232.377164414604,"*",38658.350957136499,"*",40011.136785006602,"*",42838.122548069798,45413.605844226702,47316.417640666703,49041.286593368503,50997.9605125292,54461.555181328498,57880.4420455199,62423.460121263,67950.367594990996,71927.032933829803]
[{"$f":"IF(AND(StatData[[#This Row],[Shoda: Seskupený CZ-NACE]],StatData[[#This Row],[Shoda: Region]],StatData[[#This Row],[Shoda: Vzdělání]],StatData[[#This Row],[Shoda: Pohlaví]],StatData[[#This Row],[Shoda: Věk]]),1,0)","v":0},{"$f":"IF(StatData[[#This Row],[Seskupený CZ-NACE]]=VLOOKUP(Obor,TabObor[],2,0),1,0)","v":0},{"$f":"IF(StatData[[#This Row],[Region]]=VLOOKUP(Region,TabRegion[],2,0),1,0)","v":1},{"$f":"IF(StatData[[#This Row],[Vzdělání]]=Vzdělání,1,0)","v":0},{"$f":"IF(StatData[[#This Row],[Pohlaví]]=Pohlaví,1,0)","v":0},{"$f":"IF(StatData[[#This Row],[Věk]]=Věk,1,0)","v":1},139,"Zpracovatelský průmysl",1,"Vysokoškolské ","Muž","do 34 let    ",2214.06420898438,79102.920963652505,45993.617528173803,47890.670927079598,50085.461092729201,51621.536958575503,53056.011721633797,53056.011721633797,54378.870024352203,55156.4942419461,56809.295008671303,57805.9520195082,59840.298305122902,61344.727643798098,63412.020691978403,65229.740593120201,66493.058403030998,67922.379125537496,70050.9060954632,71914.908483952895,73403.852965498605,76822.106733587003,80049.5174093682,83958.162756292804,87956.719094768094,91899.568003408102,97689.393201283194,105053.001238984,113305.761545416,136914.52551821401]
[{"$f":"IF(AND(StatData[[#This Row],[Shoda: Seskupený CZ-NACE]],StatData[[#This Row],[Shoda: Region]],StatData[[#This Row],[Shoda: Vzdělání]],StatData[[#This Row],[Shoda: Pohlaví]],StatData[[#This Row],[Shoda: Věk]]),1,0)","v":0},{"$f":"IF(StatData[[#This Row],[Seskupený CZ-NACE]]=VLOOKUP(Obor,TabObor[],2,0),1,0)","v":0},{"$f":"IF(StatData[[#This Row],[Region]]=VLOOKUP(Region,TabRegion[],2,0),1,0)","v":1},{"$f":"IF(StatData[[#This Row],[Vzdělání]]=Vzdělání,1,0)","v":0},{"$f":"IF(StatData[[#This Row],[Pohlaví]]=Pohlaví,1,0)","v":0},{"$f":"IF(StatData[[#This Row],[Věk]]=Věk,1,0)","v":0},140,"Zpracovatelský průmysl",1,"Vysokoškolské ","Muž","35 až 54 let ",5109.099609375,112706.61328552901,22716.0096311667,36214.663459435098,47850.656224578597,52493.946580700103,57865.067352526501,61475.199974630101,65550.046966882393,67911.686843132295,70870.606526648902,73137.339123433107,75945.828800157498,79300.510664575093,81297.018953365594,84452.170207842893,86135.762270011401,88374.595331978795,91556.277383330307,93740.888883242602,96899.0699088947,102929.954293377,108246.610483446,115234.86264441301,121308.073453409,131247.900240441,144088.003497242,158107.25801716899,185670.50352246701,243647.89197907699]
[{"$f":"IF(AND(StatData[[#This Row],[Shoda: Seskupený CZ-NACE]],StatData[[#This Row],[Shoda: Region]],StatData[[#This Row],[Shoda: Vzdělání]],StatData[[#This Row],[Shoda: Pohlaví]],StatData[[#This Row],[Shoda: Věk]]),1,0)","v":0},{"$f":"IF(StatData[[#This Row],[Seskupený CZ-NACE]]=VLOOKUP(Obor,TabObor[],2,0),1,0)","v":0},{"$f":"IF(StatData[[#This Row],[Region]]=VLOOKUP(Region,TabRegion[],2,0),1,0)","v":1},{"$f":"IF(StatData[[#This Row],[Vzdělání]]=Vzdělání,1,0)","v":0},{"$f":"IF(StatData[[#This Row],[Pohlaví]]=Pohlaví,1,0)","v":0},{"$f":"IF(StatData[[#This Row],[Věk]]=Věk,1,0)","v":0},141,"Zpracovatelský průmysl",1,"Vysokoškolské ","Muž","55 a více let",1393.25439453125,97140.380592816,19314.9864458333,22269.2595755,25949.933755499998,26666.857621841798,30418.722976879901,34760.383553884501,38345.0631527593,42468.086705040601,45517.487514296103,47456.394341216997,51201.484440970999,51653.3561304916,52688.198045297198,54116.6172567088,59018.781365313502,61361.821516938799,64015.6470061988,67532.234867204897,71894.510307129298,79278.539376757006,85824.263833133402,89618.501830482201,96090.633637950596,101946.59461861,112946.065083642,135231.005665431,172530.06563455201,284341.26409728901]
[{"$f":"IF(AND(StatData[[#This Row],[Shoda: Seskupený CZ-NACE]],StatData[[#This Row],[Shoda: Region]],StatData[[#This Row],[Shoda: Vzdělání]],StatData[[#This Row],[Shoda: Pohlaví]],StatData[[#This Row],[Shoda: Věk]]),1,0)","v":0},{"$f":"IF(StatData[[#This Row],[Seskupený CZ-NACE]]=VLOOKUP(Obor,TabObor[],2,0),1,0)","v":0},{"$f":"IF(StatData[[#This Row],[Region]]=VLOOKUP(Region,TabRegion[],2,0),1,0)","v":1},{"$f":"IF(StatData[[#This Row],[Vzdělání]]=Vzdělání,1,0)","v":0},{"$f":"IF(StatData[[#This Row],[Pohlaví]]=Pohlaví,1,0)","v":1},{"$f":"IF(StatData[[#This Row],[Věk]]=Věk,1,0)","v":1},142,"Zpracovatelský průmysl",1,"Vysokoškolské ","Žena","do 34 let    ",1757.35388183594,61474.934316061401,22121.846265749999,29857.1815427043,32860.773255049797,38565.483350199,40801.468687825902,42568.004764002202,43104.630140288602,43222.422129269202,44280.155020755803,45966.620889839403,47179.435699032198,48494.180168623803,50047.277398715203,51064.4271732544,51879.500600389198,52999.531013363798,54252.182481914999,55500.643187613197,56759.530990904997,59076.969416422202,61837.121021648003,65463.957831023603,68675.994385599202,72908.938958374303,78217.010882526301,83963.805415586496,92178.543449266406,107407.72941185]
[{"$f":"IF(AND(StatData[[#This Row],[Shoda: Seskupený CZ-NACE]],StatData[[#This Row],[Shoda: Region]],StatData[[#This Row],[Shoda: Vzdělání]],StatData[[#This Row],[Shoda: Pohlaví]],StatData[[#This Row],[Shoda: Věk]]),1,0)","v":0},{"$f":"IF(StatData[[#This Row],[Seskupený CZ-NACE]]=VLOOKUP(Obor,TabObor[],2,0),1,0)","v":0},{"$f":"IF(StatData[[#This Row],[Region]]=VLOOKUP(Region,TabRegion[],2,0),1,0)","v":1},{"$f":"IF(StatData[[#This Row],[Vzdělání]]=Vzdělání,1,0)","v":0},{"$f":"IF(StatData[[#This Row],[Pohlaví]]=Pohlaví,1,0)","v":1},{"$f":"IF(StatData[[#This Row],[Věk]]=Věk,1,0)","v":0},143,"Zpracovatelský průmysl",1,"Vysokoškolské ","Žena","35 až 54 let ",3271.32006835938,82960.292244279102,36945.3032176989,39044.833909872497,40774.457027878903,42867.288145324099,45679.894344060704,47893.229640044498,49310.499876263799,50665.384337467898,51642.234415676197,52986.108418106101,54004.087030404,56241.9887448343,57991.867978543203,59553.291714932202,59894.255169178898,61702.020214894401,63922.481586746901,66245.630062397497,68443.799304267697,73317.391713205507,77090.2659430942,81675.887807231004,85923.440027357006,94078.005557534998,103362.76523380099,115919.958062308,136723.58242256701,178051.62460694599]
[{"$f":"IF(AND(StatData[[#This Row],[Shoda: Seskupený CZ-NACE]],StatData[[#This Row],[Shoda: Region]],StatData[[#This Row],[Shoda: Vzdělání]],StatData[[#This Row],[Shoda: Pohlaví]],StatData[[#This Row],[Shoda: Věk]]),1,0)","v":0},{"$f":"IF(StatData[[#This Row],[Seskupený CZ-NACE]]=VLOOKUP(Obor,TabObor[],2,0),1,0)","v":0},{"$f":"IF(StatData[[#This Row],[Region]]=VLOOKUP(Region,TabRegion[],2,0),1,0)","v":1},{"$f":"IF(StatData[[#This Row],[Vzdělání]]=Vzdělání,1,0)","v":0},{"$f":"IF(StatData[[#This Row],[Pohlaví]]=Pohlaví,1,0)","v":1},{"$f":"IF(StatData[[#This Row],[Věk]]=Věk,1,0)","v":0},144,"Zpracovatelský průmysl",1,"Vysokoškolské ","Žena","55 a více let",371.69317626953102,85175.9429984616,19082.133300000001,"*",27992.384731194401,"*",38455.421317868597,"*",45301.090959912901,"*",47818.106678222997,"*",52871.3930752741,"*",56657.679743540903,"*",56657.679743540903,"*",60569.026678831098,"*",66979.572983312697,71471.064451138707,74188.836636479697,81365.695615831806,89749.056018299001,92312.530928968699,108490.27953018399,126440.150689385,149409.903191808,186225.18082208501]
[{"$f":"IF(AND(StatData[[#This Row],[Shoda: Seskupený CZ-NACE]],StatData[[#This Row],[Shoda: Region]],StatData[[#This Row],[Shoda: Vzdělání]],StatData[[#This Row],[Shoda: Pohlaví]],StatData[[#This Row],[Shoda: Věk]]),1,0)","v":0},{"$f":"IF(StatData[[#This Row],[Seskupený CZ-NACE]]=VLOOKUP(Obor,TabObor[],2,0),1,0)","v":0},{"$f":"IF(StatData[[#This Row],[Region]]=VLOOKUP(Region,TabRegion[],2,0),1,0)","v":0},{"$f":"IF(StatData[[#This Row],[Vzdělání]]=Vzdělání,1,0)","v":0},{"$f":"IF(StatData[[#This Row],[Pohlaví]]=Pohlaví,1,0)","v":0},{"$f":"IF(StatData[[#This Row],[Věk]]=Věk,1,0)","v":1},145,"Zpracovatelský průmysl",2,"Střední bez maturity","Muž","do 34 let    ",15510.140625,49735.802038515001,23563.624800000001,26526.677422401699,28538.272482772602,30373.503891829099,31713.381470496199,33137.220546942503,34511.525881147398,35435.150415124801,36773.036482590403,37829.9210271556,38672.763877402002,39558.645494327902,40493.830455518102,41473.264255379501,42319.632823316999,43358.501422594003,44205.9355564937,45241.023999018602,46444.310614536204,48451.491840498296,50910.7056342879,53887.915384120897,57886.986287764703,63313.591107612701,68145.254138767006,72088.513266761103,75911.002339607105,80456.730711150405]
[{"$f":"IF(AND(StatData[[#This Row],[Shoda: Seskupený CZ-NACE]],StatData[[#This Row],[Shoda: Region]],StatData[[#This Row],[Shoda: Vzdělání]],StatData[[#This Row],[Shoda: Pohlaví]],StatData[[#This Row],[Shoda: Věk]]),1,0)","v":0},{"$f":"IF(StatData[[#This Row],[Seskupený CZ-NACE]]=VLOOKUP(Obor,TabObor[],2,0),1,0)","v":0},{"$f":"IF(StatData[[#This Row],[Region]]=VLOOKUP(Region,TabRegion[],2,0),1,0)","v":0},{"$f":"IF(StatData[[#This Row],[Vzdělání]]=Vzdělání,1,0)","v":0},{"$f":"IF(StatData[[#This Row],[Pohlaví]]=Pohlaví,1,0)","v":0},{"$f":"IF(StatData[[#This Row],[Věk]]=Věk,1,0)","v":0},146,"Zpracovatelský průmysl",2,"Střední bez maturity","Muž","35 až 54 let ",40619.14453125,52037.595741454999,24482.386600000002,28229.064667392999,30641.182737013602,32628.130544150299,34053.525264637101,35259.875983558602,36505.346752012003,37656.889179278798,38645.629568901801,39665.500438320298,40597.152325677896,41524.816514478298,42548.5539992997,43514.500452538799,44472.610848425204,45563.506765948499,46438.287948770601,47378.221546443703,48433.3322430923,50620.818288184797,53104.433315784001,55995.071680480003,59811.931521918101,64887.169460400299,69522.683411530103,74351.250644773696,78683.923045493604,84934.696227281995]
[{"$f":"IF(AND(StatData[[#This Row],[Shoda: Seskupený CZ-NACE]],StatData[[#This Row],[Shoda: Region]],StatData[[#This Row],[Shoda: Vzdělání]],StatData[[#This Row],[Shoda: Pohlaví]],StatData[[#This Row],[Shoda: Věk]]),1,0)","v":0},{"$f":"IF(StatData[[#This Row],[Seskupený CZ-NACE]]=VLOOKUP(Obor,TabObor[],2,0),1,0)","v":0},{"$f":"IF(StatData[[#This Row],[Region]]=VLOOKUP(Region,TabRegion[],2,0),1,0)","v":0},{"$f":"IF(StatData[[#This Row],[Vzdělání]]=Vzdělání,1,0)","v":0},{"$f":"IF(StatData[[#This Row],[Pohlaví]]=Pohlaví,1,0)","v":0},{"$f":"IF(StatData[[#This Row],[Věk]]=Věk,1,0)","v":0},147,"Zpracovatelský průmysl",2,"Střední bez maturity","Muž","55 a více let",14203.87890625,48123.680869146097,26585.933221728501,28128.7931975869,29910.897692537201,30923.912952755902,32225.046661961202,32919.184385052598,33928.724700630599,34930.466873000703,35758.072557227599,36439.1142302105,37195.896284133203,38005.219705202697,38950.653276187397,39765.976175485797,40609.139457304504,41440.941331219299,42196.997753226598,43072.246454124899,43898.601048780198,45865.343925236499,47854.916235041499,50071.270964472402,52698.389095741397,56332.076588477001,60957.636909470202,67474.253571361594,74658.601607507895,83980.2308325263]
[{"$f":"IF(AND(StatData[[#This Row],[Shoda: Seskupený CZ-NACE]],StatData[[#This Row],[Shoda: Region]],StatData[[#This Row],[Shoda: Vzdělání]],StatData[[#This Row],[Shoda: Pohlaví]],StatData[[#This Row],[Shoda: Věk]]),1,0)","v":0},{"$f":"IF(StatData[[#This Row],[Seskupený CZ-NACE]]=VLOOKUP(Obor,TabObor[],2,0),1,0)","v":0},{"$f":"IF(StatData[[#This Row],[Region]]=VLOOKUP(Region,TabRegion[],2,0),1,0)","v":0},{"$f":"IF(StatData[[#This Row],[Vzdělání]]=Vzdělání,1,0)","v":0},{"$f":"IF(StatData[[#This Row],[Pohlaví]]=Pohlaví,1,0)","v":1},{"$f":"IF(StatData[[#This Row],[Věk]]=Věk,1,0)","v":1},148,"Zpracovatelský průmysl",2,"Střední bez maturity","Žena","do 34 let    ",3559.55859375,38470.838072767197,20923.6276,21812.566099833301,23992.962599999999,25084.1253,26015.583299999998,26721.736625095898,27447.4241845055,28238.835556491002,28953.391753425301,29369.230256826599,29957.145359969902,30705.5798405735,31548.2659792128,32150.0158654923,32721.744903420298,33371.362542120201,34047.3905044239,34680.3022949804,35131.679184870001,36735.076302215697,38235.116965305002,40171.400398710197,41775.171184941297,43519.631945425797,46206.872142100998,50694.695626387198,62881.4032154304,70530.043728985707]
[{"$f":"IF(AND(StatData[[#This Row],[Shoda: Seskupený CZ-NACE]],StatData[[#This Row],[Shoda: Region]],StatData[[#This Row],[Shoda: Vzdělání]],StatData[[#This Row],[Shoda: Pohlaví]],StatData[[#This Row],[Shoda: Věk]]),1,0)","v":0},{"$f":"IF(StatData[[#This Row],[Seskupený CZ-NACE]]=VLOOKUP(Obor,TabObor[],2,0),1,0)","v":0},{"$f":"IF(StatData[[#This Row],[Region]]=VLOOKUP(Region,TabRegion[],2,0),1,0)","v":0},{"$f":"IF(StatData[[#This Row],[Vzdělání]]=Vzdělání,1,0)","v":0},{"$f":"IF(StatData[[#This Row],[Pohlaví]]=Pohlaví,1,0)","v":1},{"$f":"IF(StatData[[#This Row],[Věk]]=Věk,1,0)","v":0},149,"Zpracovatelský průmysl",2,"Střední bez maturity","Žena","35 až 54 let ",19585.541015625,38511.162584042599,21518.132600000001,22829.227146500001,24388.213800000001,25469.196599999999,26210,27050.076381791099,27808.0410476865,28331.081080186199,29064.881235618901,29865.025754822698,30384.0174724608,31097.939543277302,31841.451643284501,32498.506898200802,33102.417634281701,33872.228301736701,34491.640146241298,35137.379772907698,35781.742484851697,36947.1824493194,38310.454851965696,39819.3853724336,41533.253147594398,43492.4845911382,45984.908207418302,50052.065065508301,58537.365926292099,69864.478129302006]
[{"$f":"IF(AND(StatData[[#This Row],[Shoda: Seskupený CZ-NACE]],StatData[[#This Row],[Shoda: Region]],StatData[[#This Row],[Shoda: Vzdělání]],StatData[[#This Row],[Shoda: Pohlaví]],StatData[[#This Row],[Shoda: Věk]]),1,0)","v":0},{"$f":"IF(StatData[[#This Row],[Seskupený CZ-NACE]]=VLOOKUP(Obor,TabObor[],2,0),1,0)","v":0},{"$f":"IF(StatData[[#This Row],[Region]]=VLOOKUP(Region,TabRegion[],2,0),1,0)","v":0},{"$f":"IF(StatData[[#This Row],[Vzdělání]]=Vzdělání,1,0)","v":0},{"$f":"IF(StatData[[#This Row],[Pohlaví]]=Pohlaví,1,0)","v":1},{"$f":"IF(StatData[[#This Row],[Věk]]=Věk,1,0)","v":0},150,"Zpracovatelský průmysl",2,"Střední bez maturity","Žena","55 a více let",7572.880859375,35182.254345671201,21044.216205905501,21699.301100000001,22152.6666,22999.647300000001,24316.799299999999,25249.888900000002,25946.910696263301,26420.977862243999,26753.9959996045,27306.653374329599,27642.551735860201,28340.032718837501,28907.5455765892,29663.1269698578,30167.035005302801,30899.505300466699,31469.654149721599,32188.636540406002,32883.151994106498,34192.590749327603,35519.419768109001,36592.108377642602,38027.277265631601,39843.766529385801,41878.449472383501,44795.098770917,49298.676561041902,64112.499059900503]
[{"$f":"IF(AND(StatData[[#This Row],[Shoda: Seskupený CZ-NACE]],StatData[[#This Row],[Shoda: Region]],StatData[[#This Row],[Shoda: Vzdělání]],StatData[[#This Row],[Shoda: Pohlaví]],StatData[[#This Row],[Shoda: Věk]]),1,0)","v":0},{"$f":"IF(StatData[[#This Row],[Seskupený CZ-NACE]]=VLOOKUP(Obor,TabObor[],2,0),1,0)","v":0},{"$f":"IF(StatData[[#This Row],[Region]]=VLOOKUP(Region,TabRegion[],2,0),1,0)","v":0},{"$f":"IF(StatData[[#This Row],[Vzdělání]]=Vzdělání,1,0)","v":1},{"$f":"IF(StatData[[#This Row],[Pohlaví]]=Pohlaví,1,0)","v":0},{"$f":"IF(StatData[[#This Row],[Věk]]=Věk,1,0)","v":1},151,"Zpracovatelský průmysl",2,"Střední s maturitou a vyšší odborné","Muž","do 34 let    ",15196.130859375,55788.249119747401,29588.7338063836,32635.340572290101,34129.325310532797,35547.637943828398,36816.231865259702,37951.142439438401,39102.215336136302,40373.037882770303,41362.351762441402,42320.530137505702,43430.1617561401,44423.301476240398,45400.642921562197,46559.0368608805,47755.604582990098,48996.9298185554,49930.096606285799,51310.999304842502,52478.024581591402,54826.664312546898,57359.529710746101,60093.183516887897,63585.536830847603,67840.683415991094,72259.868026998505,76796.977332703405,82105.221591697598,89619.114494562498]
[{"$f":"IF(AND(StatData[[#This Row],[Shoda: Seskupený CZ-NACE]],StatData[[#This Row],[Shoda: Region]],StatData[[#This Row],[Shoda: Vzdělání]],StatData[[#This Row],[Shoda: Pohlaví]],StatData[[#This Row],[Shoda: Věk]]),1,0)","v":0},{"$f":"IF(StatData[[#This Row],[Seskupený CZ-NACE]]=VLOOKUP(Obor,TabObor[],2,0),1,0)","v":0},{"$f":"IF(StatData[[#This Row],[Region]]=VLOOKUP(Region,TabRegion[],2,0),1,0)","v":0},{"$f":"IF(StatData[[#This Row],[Vzdělání]]=Vzdělání,1,0)","v":1},{"$f":"IF(StatData[[#This Row],[Pohlaví]]=Pohlaví,1,0)","v":0},{"$f":"IF(StatData[[#This Row],[Věk]]=Věk,1,0)","v":0},152,"Zpracovatelský průmysl",2,"Střední s maturitou a vyšší odborné","Muž","35 až 54 let ",30196.46484375,65681.036005700298,29959.197438045601,33263.477643570601,35353.105002526703,36977.817632123697,38868.838978978099,40379.047253015997,42166.275834968197,43697.330161634804,45197.513296950703,46475.864346631701,47695.9212960605,48910.222664966001,50295.087437624097,51550.277985849898,53150.7168540774,54936.0843959872,56486.305118844597,57796.161696112598,59377.622253607296,63304.067650739198,67183.618585111501,71203.5064043116,75258.309098255995,80204.483836431595,86050.319568676103,92274.9396818393,98625.6950140111,114918.021648298]
[{"$f":"IF(AND(StatData[[#This Row],[Shoda: Seskupený CZ-NACE]],StatData[[#This Row],[Shoda: Region]],StatData[[#This Row],[Shoda: Vzdělání]],StatData[[#This Row],[Shoda: Pohlaví]],StatData[[#This Row],[Shoda: Věk]]),1,0)","v":0},{"$f":"IF(StatData[[#This Row],[Seskupený CZ-NACE]]=VLOOKUP(Obor,TabObor[],2,0),1,0)","v":0},{"$f":"IF(StatData[[#This Row],[Region]]=VLOOKUP(Region,TabRegion[],2,0),1,0)","v":0},{"$f":"IF(StatData[[#This Row],[Vzdělání]]=Vzdělání,1,0)","v":1},{"$f":"IF(StatData[[#This Row],[Pohlaví]]=Pohlaví,1,0)","v":0},{"$f":"IF(StatData[[#This Row],[Věk]]=Věk,1,0)","v":0},153,"Zpracovatelský průmysl",2,"Střední s maturitou a vyšší odborné","Muž","55 a více let",7894.79052734375,57581.526861163497,27516.444166893401,29112.081958137998,30593.820478309899,32297.155117166301,33871.202501866501,34747.007387582598,35548.3369729927,36716.355566892198,37751.685217155798,38946.600379768402,39971.813803507597,41413.7680836051,42890.699156990297,43798.1669172045,44506.243865994496,45686.895591966299,46821.078825411903,48148.531950503799,49494.905056498603,51948.745124929497,55282.905025263302,58785.940367639501,63101.162430126104,68552.955547428093,75301.052113754602,84958.495895715198,95355.216462331504,105846.621497486]
[{"$f":"IF(AND(StatData[[#This Row],[Shoda: Seskupený CZ-NACE]],StatData[[#This Row],[Shoda: Region]],StatData[[#This Row],[Shoda: Vzdělání]],StatData[[#This Row],[Shoda: Pohlaví]],StatData[[#This Row],[Shoda: Věk]]),1,0)","v":0},{"$f":"IF(StatData[[#This Row],[Seskupený CZ-NACE]]=VLOOKUP(Obor,TabObor[],2,0),1,0)","v":0},{"$f":"IF(StatData[[#This Row],[Region]]=VLOOKUP(Region,TabRegion[],2,0),1,0)","v":0},{"$f":"IF(StatData[[#This Row],[Vzdělání]]=Vzdělání,1,0)","v":1},{"$f":"IF(StatData[[#This Row],[Pohlaví]]=Pohlaví,1,0)","v":1},{"$f":"IF(StatData[[#This Row],[Věk]]=Věk,1,0)","v":1},154,"Zpracovatelský průmysl",2,"Střední s maturitou a vyšší odborné","Žena","do 34 let    ",5613.9326171875,41683.426082824502,21853.8471859167,22518.461043703199,24759.281266666701,26310.768763992401,27324.949270646601,28262.202209818199,29642.3755891705,31012.881111303399,32049.480823904501,32687.590210381801,33370.926262195098,34075.766046769197,34877.603931792997,35357.505153029597,36136.187349605898,36666.3061492946,37479.173122337299,38226.940518318101,38956.983414677998,40292.625166618098,42118.811706582201,43564.331704482604,45582.557855340099,48113.024328518397,51298.332763708699,55711.026883684899,63926.418301507503,71992.517975684706]
[{"$f":"IF(AND(StatData[[#This Row],[Shoda: Seskupený CZ-NACE]],StatData[[#This Row],[Shoda: Region]],StatData[[#This Row],[Shoda: Vzdělání]],StatData[[#This Row],[Shoda: Pohlaví]],StatData[[#This Row],[Shoda: Věk]]),1,0)","v":0},{"$f":"IF(StatData[[#This Row],[Seskupený CZ-NACE]]=VLOOKUP(Obor,TabObor[],2,0),1,0)","v":0},{"$f":"IF(StatData[[#This Row],[Region]]=VLOOKUP(Region,TabRegion[],2,0),1,0)","v":0},{"$f":"IF(StatData[[#This Row],[Vzdělání]]=Vzdělání,1,0)","v":1},{"$f":"IF(StatData[[#This Row],[Pohlaví]]=Pohlaví,1,0)","v":1},{"$f":"IF(StatData[[#This Row],[Věk]]=Věk,1,0)","v":0},155,"Zpracovatelský průmysl",2,"Střední s maturitou a vyšší odborné","Žena","35 až 54 let ",19685.171875,47027.184402276202,22625.9166,25482.030601583301,26832.780659606098,28454.502515634798,29699.884282068899,30956.979828882599,31848.433263046401,32742.663182959201,33519.176186924597,34223.909553202502,34890.483659669197,35783.191089411499,36651.0045321199,37514.253247275301,38305.212084739098,39067.134397914298,39767.870544046498,40686.065808248,41759.013198636501,43620.652787877203,45710.843972808099,48213.637697496197,51395.159749911603,55014.096049462598,59707.382557846599,67328.059575638399,74892.656597745401,88273.665903736794]
[{"$f":"IF(AND(StatData[[#This Row],[Shoda: Seskupený CZ-NACE]],StatData[[#This Row],[Shoda: Region]],StatData[[#This Row],[Shoda: Vzdělání]],StatData[[#This Row],[Shoda: Pohlaví]],StatData[[#This Row],[Shoda: Věk]]),1,0)","v":0},{"$f":"IF(StatData[[#This Row],[Seskupený CZ-NACE]]=VLOOKUP(Obor,TabObor[],2,0),1,0)","v":0},{"$f":"IF(StatData[[#This Row],[Region]]=VLOOKUP(Region,TabRegion[],2,0),1,0)","v":0},{"$f":"IF(StatData[[#This Row],[Vzdělání]]=Vzdělání,1,0)","v":1},{"$f":"IF(StatData[[#This Row],[Pohlaví]]=Pohlaví,1,0)","v":1},{"$f":"IF(StatData[[#This Row],[Věk]]=Věk,1,0)","v":0},156,"Zpracovatelský průmysl",2,"Střední s maturitou a vyšší odborné","Žena","55 a více let",5170.673828125,44737.315681270898,21374.597900000001,23137.6666,25205.1459,26391.957094554,27030.868745186701,27904.742918159802,29551.714341733499,30023.5990954599,31204.3852088448,32064.0983899073,32702.855846050199,33269.409594597899,33692.245444967601,34342.120771463597,35307.542267252698,36171.879168750398,37153.915064026602,38041.844920468,38935.113711496197,40498.522167738098,42457.8830985635,44500.615960624702,47223.4226099843,50761.2682402461,55152.258442243598,62258.930944727297,71159.7451569478,89348.707911628502]
[{"$f":"IF(AND(StatData[[#This Row],[Shoda: Seskupený CZ-NACE]],StatData[[#This Row],[Shoda: Region]],StatData[[#This Row],[Shoda: Vzdělání]],StatData[[#This Row],[Shoda: Pohlaví]],StatData[[#This Row],[Shoda: Věk]]),1,0)","v":0},{"$f":"IF(StatData[[#This Row],[Seskupený CZ-NACE]]=VLOOKUP(Obor,TabObor[],2,0),1,0)","v":0},{"$f":"IF(StatData[[#This Row],[Region]]=VLOOKUP(Region,TabRegion[],2,0),1,0)","v":0},{"$f":"IF(StatData[[#This Row],[Vzdělání]]=Vzdělání,1,0)","v":0},{"$f":"IF(StatData[[#This Row],[Pohlaví]]=Pohlaví,1,0)","v":0},{"$f":"IF(StatData[[#This Row],[Věk]]=Věk,1,0)","v":1},157,"Zpracovatelský průmysl",2,"Vysokoškolské ","Muž","do 34 let    ",4289.8154296875,73990.042884800103,36983.525084475703,40957.590899973598,42388.051403647703,44243.817490403002,46294.3595289605,47379.759220897897,48038.416197414597,48870.174340138103,50834.000943857798,52302.349194708797,53969.997170225703,56178.625007882802,58085.265397343202,59993.6546900416,61819.7444444719,63579.395065875498,65866.843870192693,67514.062380082207,69423.353548373401,73234.018754673598,77978.067594662003,82795.648329681004,87366.445012535594,91885.931799097496,95940.410038671107,100222.45060911799,107101.037018145,125149.322143738]
[{"$f":"IF(AND(StatData[[#This Row],[Shoda: Seskupený CZ-NACE]],StatData[[#This Row],[Shoda: Region]],StatData[[#This Row],[Shoda: Vzdělání]],StatData[[#This Row],[Shoda: Pohlaví]],StatData[[#This Row],[Shoda: Věk]]),1,0)","v":0},{"$f":"IF(StatData[[#This Row],[Seskupený CZ-NACE]]=VLOOKUP(Obor,TabObor[],2,0),1,0)","v":0},{"$f":"IF(StatData[[#This Row],[Region]]=VLOOKUP(Region,TabRegion[],2,0),1,0)","v":0},{"$f":"IF(StatData[[#This Row],[Vzdělání]]=Vzdělání,1,0)","v":0},{"$f":"IF(StatData[[#This Row],[Pohlaví]]=Pohlaví,1,0)","v":0},{"$f":"IF(StatData[[#This Row],[Věk]]=Věk,1,0)","v":0},158,"Zpracovatelský průmysl",2,"Vysokoškolské ","Muž","35 až 54 let ",12094.2841796875,105039.16076826899,36646.568617181503,41242.146376481898,45072.868811689703,47146.056226372297,50019.7281354882,52326.069397339699,54722.5595824704,57793.508719349396,60820.8787222385,63341.250978270902,65998.749088344703,68204.676404148006,71107.876662868293,73603.3099744762,76825.184964729095,79974.080210422893,82619.898836687906,85857.838275909293,89125.754249163598,95028.315746240405,99081.469184033806,104877.22767327,112300.99836197399,120903.168767828,132219.958217042,149081.345172022,176003.882086442,232794.62506798599]
[{"$f":"IF(AND(StatData[[#This Row],[Shoda: Seskupený CZ-NACE]],StatData[[#This Row],[Shoda: Region]],StatData[[#This Row],[Shoda: Vzdělání]],StatData[[#This Row],[Shoda: Pohlaví]],StatData[[#This Row],[Shoda: Věk]]),1,0)","v":0},{"$f":"IF(StatData[[#This Row],[Seskupený CZ-NACE]]=VLOOKUP(Obor,TabObor[],2,0),1,0)","v":0},{"$f":"IF(StatData[[#This Row],[Region]]=VLOOKUP(Region,TabRegion[],2,0),1,0)","v":0},{"$f":"IF(StatData[[#This Row],[Vzdělání]]=Vzdělání,1,0)","v":0},{"$f":"IF(StatData[[#This Row],[Pohlaví]]=Pohlaví,1,0)","v":0},{"$f":"IF(StatData[[#This Row],[Věk]]=Věk,1,0)","v":0},159,"Zpracovatelský průmysl",2,"Vysokoškolské ","Muž","55 a více let",3622.51904296875,95402.292386273402,26309.3420167156,29857.265587075599,31903.964384309998,34136.0377581469,35763.1799213341,39709.851580912698,41526.269380304097,41930.729957692201,45522.786450768501,46459.922402874799,49042.699492156498,51122.991071697397,53643.5493758257,56574.548246791797,58895.668414493899,62269.988343249097,65522.223494948703,68174.701316480307,70636.865951006897,76866.701371154806,84455.237046837996,93001.681606900704,99326.493292589294,110536.06342107699,123258.40464296599,142884.86688481399,176275.304089932,231062.03828291301]
[{"$f":"IF(AND(StatData[[#This Row],[Shoda: Seskupený CZ-NACE]],StatData[[#This Row],[Shoda: Region]],StatData[[#This Row],[Shoda: Vzdělání]],StatData[[#This Row],[Shoda: Pohlaví]],StatData[[#This Row],[Shoda: Věk]]),1,0)","v":0},{"$f":"IF(StatData[[#This Row],[Seskupený CZ-NACE]]=VLOOKUP(Obor,TabObor[],2,0),1,0)","v":0},{"$f":"IF(StatData[[#This Row],[Region]]=VLOOKUP(Region,TabRegion[],2,0),1,0)","v":0},{"$f":"IF(StatData[[#This Row],[Vzdělání]]=Vzdělání,1,0)","v":0},{"$f":"IF(StatData[[#This Row],[Pohlaví]]=Pohlaví,1,0)","v":1},{"$f":"IF(StatData[[#This Row],[Věk]]=Věk,1,0)","v":1},160,"Zpracovatelský průmysl",2,"Vysokoškolské ","Žena","do 34 let    ",2751.90649414063,57868.6562396964,24962.6093,28791.118130090701,31642.9184632816,33213.881713349198,34909.652299177898,35660.410074042797,37202.5745139879,38084.331503113703,39544.780814753998,40584.616238028197,41696.7082650835,42583.8014670513,43477.799917917902,44230.174996098802,45425.585946321597,46131.626134209699,47370.775465056999,48850.723145750198,50521.326357177699,53889.330297054199,57262.926369330497,60969.298477619901,65781.259173067301,73107.985580311695,80758.689355439899,87410.758832339401,93017.531733360098,105761.426133642]
[{"$f":"IF(AND(StatData[[#This Row],[Shoda: Seskupený CZ-NACE]],StatData[[#This Row],[Shoda: Region]],StatData[[#This Row],[Shoda: Vzdělání]],StatData[[#This Row],[Shoda: Pohlaví]],StatData[[#This Row],[Shoda: Věk]]),1,0)","v":0},{"$f":"IF(StatData[[#This Row],[Seskupený CZ-NACE]]=VLOOKUP(Obor,TabObor[],2,0),1,0)","v":0},{"$f":"IF(StatData[[#This Row],[Region]]=VLOOKUP(Region,TabRegion[],2,0),1,0)","v":0},{"$f":"IF(StatData[[#This Row],[Vzdělání]]=Vzdělání,1,0)","v":0},{"$f":"IF(StatData[[#This Row],[Pohlaví]]=Pohlaví,1,0)","v":1},{"$f":"IF(StatData[[#This Row],[Věk]]=Věk,1,0)","v":0},161,"Zpracovatelský průmysl",2,"Vysokoškolské ","Žena","35 až 54 let ",6361.86328125,75609.484853189497,31450.756312521698,34616.315300280003,36283.255471671197,38423.315944128401,40047.181979264002,41857.186968048802,42989.557843638002,44592.346268221198,46017.390706772101,47645.2421385872,48511.199096161799,49656.060213498298,51012.693197622997,52451.741752963899,54217.249913079402,55803.564414024797,57851.5956031319,59864.2772393216,62553.264254151203,66907.843583110502,72615.665986231703,80038.020798776299,88006.830787918807,93909.539875208502,98019.427178947997,106281.55093600901,121851.887637087,161274.222301651]
[{"$f":"IF(AND(StatData[[#This Row],[Shoda: Seskupený CZ-NACE]],StatData[[#This Row],[Shoda: Region]],StatData[[#This Row],[Shoda: Vzdělání]],StatData[[#This Row],[Shoda: Pohlaví]],StatData[[#This Row],[Shoda: Věk]]),1,0)","v":0},{"$f":"IF(StatData[[#This Row],[Seskupený CZ-NACE]]=VLOOKUP(Obor,TabObor[],2,0),1,0)","v":0},{"$f":"IF(StatData[[#This Row],[Region]]=VLOOKUP(Region,TabRegion[],2,0),1,0)","v":0},{"$f":"IF(StatData[[#This Row],[Vzdělání]]=Vzdělání,1,0)","v":0},{"$f":"IF(StatData[[#This Row],[Pohlaví]]=Pohlaví,1,0)","v":1},{"$f":"IF(StatData[[#This Row],[Věk]]=Věk,1,0)","v":0},162,"Zpracovatelský průmysl",2,"Vysokoškolské ","Žena","55 a více let",793.66510009765602,79082.517657807402,28857.662337957001,30168.350506330298,33147.9844229749,33894.195173557899,35211.562439417503,35756.327732340702,38090.368282298899,39437.239873980703,39478.349115913697,41135.039695016501,42632.792325447597,44018.618111090203,45689.071440275096,48168.348536465703,50156.843083456202,53367.4984208272,54761.508479887503,57512.778113827699,60424.478951372097,64687.394123275699,74884.088633679596,84283.607679613095,90509.607912933701,96776.633121554303,101391.53865469299,111316.43655225199,130093.415830397,195386.22976829199]
[{"$f":"IF(AND(StatData[[#This Row],[Shoda: Seskupený CZ-NACE]],StatData[[#This Row],[Shoda: Region]],StatData[[#This Row],[Shoda: Vzdělání]],StatData[[#This Row],[Shoda: Pohlaví]],StatData[[#This Row],[Shoda: Věk]]),1,0)","v":0},{"$f":"IF(StatData[[#This Row],[Seskupený CZ-NACE]]=VLOOKUP(Obor,TabObor[],2,0),1,0)","v":0},{"$f":"IF(StatData[[#This Row],[Region]]=VLOOKUP(Region,TabRegion[],2,0),1,0)","v":0},{"$f":"IF(StatData[[#This Row],[Vzdělání]]=Vzdělání,1,0)","v":0},{"$f":"IF(StatData[[#This Row],[Pohlaví]]=Pohlaví,1,0)","v":0},{"$f":"IF(StatData[[#This Row],[Věk]]=Věk,1,0)","v":1},163,"Zpracovatelský průmysl",3,"Střední bez maturity","Muž","do 34 let    ",39662.640625,41808.994240436499,22960.5424624443,25097.386816313901,26897.624623265401,28495.126854413302,30031.743192562499,30903.6724265597,31966.532311437099,32818.730116421502,33584.430980172598,34448.7546522435,35150.9328190589,35919.904687729402,36598.977947474799,37345.002194436398,38107.533003325203,38818.9319064831,39513.440141278203,40215.6308441976,40815.531221265403,42187.9310075213,43472.452342558798,44926.271109119101,46495.015873783297,48298.563296537999,50321.923631614998,53279.200759750704,57156.4460548852,63640.092121391302]
[{"$f":"IF(AND(StatData[[#This Row],[Shoda: Seskupený CZ-NACE]],StatData[[#This Row],[Shoda: Region]],StatData[[#This Row],[Shoda: Vzdělání]],StatData[[#This Row],[Shoda: Pohlaví]],StatData[[#This Row],[Shoda: Věk]]),1,0)","v":0},{"$f":"IF(StatData[[#This Row],[Seskupený CZ-NACE]]=VLOOKUP(Obor,TabObor[],2,0),1,0)","v":0},{"$f":"IF(StatData[[#This Row],[Region]]=VLOOKUP(Region,TabRegion[],2,0),1,0)","v":0},{"$f":"IF(StatData[[#This Row],[Vzdělání]]=Vzdělání,1,0)","v":0},{"$f":"IF(StatData[[#This Row],[Pohlaví]]=Pohlaví,1,0)","v":0},{"$f":"IF(StatData[[#This Row],[Věk]]=Věk,1,0)","v":0},164,"Zpracovatelský průmysl",3,"Střední bez maturity","Muž","35 až 54 let ",104582.5234375,44863.318540790198,23697.6666,26303.800462244599,28319.9943743187,29870.776293571598,31312.9488415046,32534.801824460701,33671.6435548796,34640.762836416601,35494.754356695899,36309.352117791001,37184.791239185099,37981.846848903202,38693.8239612549,39429.167839834001,40117.285932921302,40864.964143157798,41550.931009066902,42297.893904301804,43035.237900786902,44512.194928923403,45993.193805574498,47700.908186342298,49550.475652822497,51778.520632432599,54335.137388621602,57430.193350666901,61978.055719673197,69691.153800839194]
[{"$f":"IF(AND(StatData[[#This Row],[Shoda: Seskupený CZ-NACE]],StatData[[#This Row],[Shoda: Region]],StatData[[#This Row],[Shoda: Vzdělání]],StatData[[#This Row],[Shoda: Pohlaví]],StatData[[#This Row],[Shoda: Věk]]),1,0)","v":0},{"$f":"IF(StatData[[#This Row],[Seskupený CZ-NACE]]=VLOOKUP(Obor,TabObor[],2,0),1,0)","v":0},{"$f":"IF(StatData[[#This Row],[Region]]=VLOOKUP(Region,TabRegion[],2,0),1,0)","v":0},{"$f":"IF(StatData[[#This Row],[Vzdělání]]=Vzdělání,1,0)","v":0},{"$f":"IF(StatData[[#This Row],[Pohlaví]]=Pohlaví,1,0)","v":0},{"$f":"IF(StatData[[#This Row],[Věk]]=Věk,1,0)","v":0},165,"Zpracovatelský průmysl",3,"Střední bez maturity","Muž","55 a více let",43162.546875,41528.826682781102,22950.977551004798,24997.431727714698,26588.977588647002,27895.8321685144,28822.328174293802,29981.5367811703,30819.634640555501,31885.326051416399,32840.726103225898,33593.085160591101,34490.280602334999,35231.226657681698,35971.538831910497,36665.359386183001,37214.715287347601,37976.695495016997,38543.412448911098,39140.441695116198,39850.398368818103,41175.2139514054,42630.822473093001,44240.167660283398,45806.916377284397,47758.243474592899,50084.806663045703,52800.377410490997,56696.9252971432,64133.073265981096]
[{"$f":"IF(AND(StatData[[#This Row],[Shoda: Seskupený CZ-NACE]],StatData[[#This Row],[Shoda: Region]],StatData[[#This Row],[Shoda: Vzdělání]],StatData[[#This Row],[Shoda: Pohlaví]],StatData[[#This Row],[Shoda: Věk]]),1,0)","v":0},{"$f":"IF(StatData[[#This Row],[Seskupený CZ-NACE]]=VLOOKUP(Obor,TabObor[],2,0),1,0)","v":0},{"$f":"IF(StatData[[#This Row],[Region]]=VLOOKUP(Region,TabRegion[],2,0),1,0)","v":0},{"$f":"IF(StatData[[#This Row],[Vzdělání]]=Vzdělání,1,0)","v":0},{"$f":"IF(StatData[[#This Row],[Pohlaví]]=Pohlaví,1,0)","v":1},{"$f":"IF(StatData[[#This Row],[Věk]]=Věk,1,0)","v":1},166,"Zpracovatelský průmysl",3,"Střední bez maturity","Žena","do 34 let    ",9730.7763671875,33097.408465329798,21013.344300000001,22073.2132898333,22496.535613489701,23654.203099999999,24204.614799999999,24667.993826999998,25322.118900000001,25905.628316763999,26488.113156175801,27140.182493935001,27811.4408013426,28318.2464976007,28785.184132732498,29322.117739543701,29816.0056988781,30402.901819347499,30833.321649605801,31304.918002835599,31873.5001782945,32797.200700870097,34010.412083364703,35304.683259554098,36578.514109865901,37857.161036238802,39557.201215021101,41602.691960242999,44570.347036695297,49090.849785428101]
[{"$f":"IF(AND(StatData[[#This Row],[Shoda: Seskupený CZ-NACE]],StatData[[#This Row],[Shoda: Region]],StatData[[#This Row],[Shoda: Vzdělání]],StatData[[#This Row],[Shoda: Pohlaví]],StatData[[#This Row],[Shoda: Věk]]),1,0)","v":0},{"$f":"IF(StatData[[#This Row],[Seskupený CZ-NACE]]=VLOOKUP(Obor,TabObor[],2,0),1,0)","v":0},{"$f":"IF(StatData[[#This Row],[Region]]=VLOOKUP(Region,TabRegion[],2,0),1,0)","v":0},{"$f":"IF(StatData[[#This Row],[Vzdělání]]=Vzdělání,1,0)","v":0},{"$f":"IF(StatData[[#This Row],[Pohlaví]]=Pohlaví,1,0)","v":1},{"$f":"IF(StatData[[#This Row],[Věk]]=Věk,1,0)","v":0},167,"Zpracovatelský průmysl",3,"Střední bez maturity","Žena","35 až 54 let ",58640.69921875,33625.7620025461,21348.683099999998,21950.122299999999,22769.859293399099,23352.981100000001,24036.8652,24717.150414465901,25294.580336627801,25980.843108244801,26669.7319536045,27283.671525068101,27920.293768362801,28379.785305394998,28909.008873500799,29399.4545153451,29897.601761413502,30353.3202735821,30890.278550665898,31397.568756069999,31932.646316156399,33070.215604921701,34221.317994804398,35401.653532911398,36720.312111111904,38391.551820755703,40314.923947696603,42653.488159990302,45920.739761921403,51019.365189225398]
[{"$f":"IF(AND(StatData[[#This Row],[Shoda: Seskupený CZ-NACE]],StatData[[#This Row],[Shoda: Region]],StatData[[#This Row],[Shoda: Vzdělání]],StatData[[#This Row],[Shoda: Pohlaví]],StatData[[#This Row],[Shoda: Věk]]),1,0)","v":0},{"$f":"IF(StatData[[#This Row],[Seskupený CZ-NACE]]=VLOOKUP(Obor,TabObor[],2,0),1,0)","v":0},{"$f":"IF(StatData[[#This Row],[Region]]=VLOOKUP(Region,TabRegion[],2,0),1,0)","v":0},{"$f":"IF(StatData[[#This Row],[Vzdělání]]=Vzdělání,1,0)","v":0},{"$f":"IF(StatData[[#This Row],[Pohlaví]]=Pohlaví,1,0)","v":1},{"$f":"IF(StatData[[#This Row],[Věk]]=Věk,1,0)","v":0},168,"Zpracovatelský průmysl",3,"Střední bez maturity","Žena","55 a více let",23636.375,32614.434808505201,20532.719517059799,21351.712599999999,21940.7565,22437.083299999998,23326.322100000001,23904.0965,24588.4166,25106.722509124302,25602.045544775701,26119.1731905581,26668.071569187199,27429.102296409001,27962.0178465268,28533.591760753301,29038.7941809289,29539.565849056798,30002.3326474528,30457.3145001556,30907.373069815301,32033.225961390501,33181.546819786097,34325.821249795503,35614.543925532897,37159.687369155603,39020.741169736502,40995.993526848099,43964.966228676501,49154.694172340198]
[{"$f":"IF(AND(StatData[[#This Row],[Shoda: Seskupený CZ-NACE]],StatData[[#This Row],[Shoda: Region]],StatData[[#This Row],[Shoda: Vzdělání]],StatData[[#This Row],[Shoda: Pohlaví]],StatData[[#This Row],[Shoda: Věk]]),1,0)","v":0},{"$f":"IF(StatData[[#This Row],[Seskupený CZ-NACE]]=VLOOKUP(Obor,TabObor[],2,0),1,0)","v":0},{"$f":"IF(StatData[[#This Row],[Region]]=VLOOKUP(Region,TabRegion[],2,0),1,0)","v":0},{"$f":"IF(StatData[[#This Row],[Vzdělání]]=Vzdělání,1,0)","v":1},{"$f":"IF(StatData[[#This Row],[Pohlaví]]=Pohlaví,1,0)","v":0},{"$f":"IF(StatData[[#This Row],[Věk]]=Věk,1,0)","v":1},169,"Zpracovatelský průmysl",3,"Střední s maturitou a vyšší odborné","Muž","do 34 let    ",40605.953125,47777.545637673102,27982.632217516799,30113.6449278133,31413.408243465699,32954.340183409702,34065.720626012197,35156.209934778897,36060.8233804876,36956.8190741121,37739.203786126003,38443.394357710597,39164.968724763799,39859.216540593901,40629.736467363,41377.062993990497,41982.411949966299,42793.117540990701,43537.917322503199,44238.8093349099,44956.165233455402,46597.590084797099,48092.845151198599,50116.506308730597,52088.790141712998,54419.907313610202,57280.469441027701,61032.345876430802,66380.064687782302,76100.831442650902]
[{"$f":"IF(AND(StatData[[#This Row],[Shoda: Seskupený CZ-NACE]],StatData[[#This Row],[Shoda: Region]],StatData[[#This Row],[Shoda: Vzdělání]],StatData[[#This Row],[Shoda: Pohlaví]],StatData[[#This Row],[Shoda: Věk]]),1,0)","v":0},{"$f":"IF(StatData[[#This Row],[Seskupený CZ-NACE]]=VLOOKUP(Obor,TabObor[],2,0),1,0)","v":0},{"$f":"IF(StatData[[#This Row],[Region]]=VLOOKUP(Region,TabRegion[],2,0),1,0)","v":0},{"$f":"IF(StatData[[#This Row],[Vzdělání]]=Vzdělání,1,0)","v":1},{"$f":"IF(StatData[[#This Row],[Pohlaví]]=Pohlaví,1,0)","v":0},{"$f":"IF(StatData[[#This Row],[Věk]]=Věk,1,0)","v":0},170,"Zpracovatelský průmysl",3,"Střední s maturitou a vyšší odborné","Muž","35 až 54 let ",75972.8671875,55895.529978332503,28760.381890097498,31816.847989312999,33954.7041358067,35667.023391618801,37051.6618387774,38283.872937660199,39340.032757458401,40395.290099693899,41257.788805998498,42155.957184983403,43056.957064975199,43919.329518081198,44827.255208554001,45837.042157953198,46779.301900938503,47758.518540830097,48657.346574539901,49647.144174300403,50661.716756837901,52618.549798861801,54835.518375469401,57353.971268015601,60222.6733451943,63576.837399071803,67995.867076435301,73705.389644232506,81995.500142619305,97705.807127815904]
[{"$f":"IF(AND(StatData[[#This Row],[Shoda: Seskupený CZ-NACE]],StatData[[#This Row],[Shoda: Region]],StatData[[#This Row],[Shoda: Vzdělání]],StatData[[#This Row],[Shoda: Pohlaví]],StatData[[#This Row],[Shoda: Věk]]),1,0)","v":0},{"$f":"IF(StatData[[#This Row],[Seskupený CZ-NACE]]=VLOOKUP(Obor,TabObor[],2,0),1,0)","v":0},{"$f":"IF(StatData[[#This Row],[Region]]=VLOOKUP(Region,TabRegion[],2,0),1,0)","v":0},{"$f":"IF(StatData[[#This Row],[Vzdělání]]=Vzdělání,1,0)","v":1},{"$f":"IF(StatData[[#This Row],[Pohlaví]]=Pohlaví,1,0)","v":0},{"$f":"IF(StatData[[#This Row],[Věk]]=Věk,1,0)","v":0},171,"Zpracovatelský průmysl",3,"Střední s maturitou a vyšší odborné","Muž","55 a více let",23116.89453125,50439.425119728403,25144.536031624499,27197.8289616498,28983.497627575402,30559.330020798501,31893.607956192802,33084.529523776902,34325.344212490803,35424.761116311398,36628.9114215839,37553.073114715997,38464.065112162003,39453.4215795321,40301.722966180903,40882.622024283497,41699.612772389402,42531.1087701488,43461.6934746072,44444.057177784402,45378.419912677702,47459.828140027297,49509.444470107897,51549.296497693897,54195.838528387801,56987.011306424203,60833.9368614294,65796.181109817102,73593.565275799105,89360.429784998196]
[{"$f":"IF(AND(StatData[[#This Row],[Shoda: Seskupený CZ-NACE]],StatData[[#This Row],[Shoda: Region]],StatData[[#This Row],[Shoda: Vzdělání]],StatData[[#This Row],[Shoda: Pohlaví]],StatData[[#This Row],[Shoda: Věk]]),1,0)","v":0},{"$f":"IF(StatData[[#This Row],[Seskupený CZ-NACE]]=VLOOKUP(Obor,TabObor[],2,0),1,0)","v":0},{"$f":"IF(StatData[[#This Row],[Region]]=VLOOKUP(Region,TabRegion[],2,0),1,0)","v":0},{"$f":"IF(StatData[[#This Row],[Vzdělání]]=Vzdělání,1,0)","v":1},{"$f":"IF(StatData[[#This Row],[Pohlaví]]=Pohlaví,1,0)","v":1},{"$f":"IF(StatData[[#This Row],[Věk]]=Věk,1,0)","v":1},172,"Zpracovatelský průmysl",3,"Střední s maturitou a vyšší odborné","Žena","do 34 let    ",14133.7060546875,37291.757375241999,22373.235930457799,23797.524799999999,25033.25,26204.3687576144,27102.299325299799,27846.641574019399,28629.714641819101,29257.609875436599,29996.929944195501,30529.491793021101,31111.494194771101,31626.548961039101,32222.170552718999,32774.429027210499,33264.2541570303,33819.728557550297,34408.643612259199,35025.604651599497,35619.138967471401,36803.426406938801,37854.626096211301,39226.551676998002,40450.401081700198,42197.581611269998,44191.904660359498,47004.245286165402,50720.608783043703,57318.180211911298]
[{"$f":"IF(AND(StatData[[#This Row],[Shoda: Seskupený CZ-NACE]],StatData[[#This Row],[Shoda: Region]],StatData[[#This Row],[Shoda: Vzdělání]],StatData[[#This Row],[Shoda: Pohlaví]],StatData[[#This Row],[Shoda: Věk]]),1,0)","v":0},{"$f":"IF(StatData[[#This Row],[Seskupený CZ-NACE]]=VLOOKUP(Obor,TabObor[],2,0),1,0)","v":0},{"$f":"IF(StatData[[#This Row],[Region]]=VLOOKUP(Region,TabRegion[],2,0),1,0)","v":0},{"$f":"IF(StatData[[#This Row],[Vzdělání]]=Vzdělání,1,0)","v":1},{"$f":"IF(StatData[[#This Row],[Pohlaví]]=Pohlaví,1,0)","v":1},{"$f":"IF(StatData[[#This Row],[Věk]]=Věk,1,0)","v":0},173,"Zpracovatelský průmysl",3,"Střední s maturitou a vyšší odborné","Žena","35 až 54 let ",53080.78125,40124.578711177703,22117.083087250001,24064.647400000002,25165.669418178099,26333.206983114898,27423.7007699231,28317.598343504898,29163.213758010701,30004.0276619375,30779.336771345901,31532.811341568999,32163.030069804499,32890.433065463098,33498.205150562702,34047.342146938201,34670.2712473953,35305.889582648801,35951.160612024702,36626.654553624598,37349.636616735101,38805.465028237602,40292.557781354502,41811.991196050301,43608.859045962803,45727.442547823397,48323.140590228097,51631.096932466302,56306.104627802102,66123.510445377498]
[{"$f":"IF(AND(StatData[[#This Row],[Shoda: Seskupený CZ-NACE]],StatData[[#This Row],[Shoda: Region]],StatData[[#This Row],[Shoda: Vzdělání]],StatData[[#This Row],[Shoda: Pohlaví]],StatData[[#This Row],[Shoda: Věk]]),1,0)","v":0},{"$f":"IF(StatData[[#This Row],[Seskupený CZ-NACE]]=VLOOKUP(Obor,TabObor[],2,0),1,0)","v":0},{"$f":"IF(StatData[[#This Row],[Region]]=VLOOKUP(Region,TabRegion[],2,0),1,0)","v":0},{"$f":"IF(StatData[[#This Row],[Vzdělání]]=Vzdělání,1,0)","v":1},{"$f":"IF(StatData[[#This Row],[Pohlaví]]=Pohlaví,1,0)","v":1},{"$f":"IF(StatData[[#This Row],[Věk]]=Věk,1,0)","v":0},174,"Zpracovatelský průmysl",3,"Střední s maturitou a vyšší odborné","Žena","55 a více let",16420.6953125,40134.036413688496,22106.247377666699,23622.484899999999,24557.199499999999,25854.799848435599,26560.090778900299,27520.057243905299,28466.581048329201,29038.114315605999,29632.3826874511,30206.765235308201,30857.189046011201,31463.2161872834,32162.37972347,32815.910514875002,33685.686720481201,34483.245166469598,35263.501542922,35923.8893370187,36629.670118705297,37991.962636791701,39524.033016764501,41248.693419967603,43163.800699862302,45527.443099640703,48429.903229583899,52345.701951194002,57532.621694232403,66763.938215456496]
[{"$f":"IF(AND(StatData[[#This Row],[Shoda: Seskupený CZ-NACE]],StatData[[#This Row],[Shoda: Region]],StatData[[#This Row],[Shoda: Vzdělání]],StatData[[#This Row],[Shoda: Pohlaví]],StatData[[#This Row],[Shoda: Věk]]),1,0)","v":0},{"$f":"IF(StatData[[#This Row],[Seskupený CZ-NACE]]=VLOOKUP(Obor,TabObor[],2,0),1,0)","v":0},{"$f":"IF(StatData[[#This Row],[Region]]=VLOOKUP(Region,TabRegion[],2,0),1,0)","v":0},{"$f":"IF(StatData[[#This Row],[Vzdělání]]=Vzdělání,1,0)","v":0},{"$f":"IF(StatData[[#This Row],[Pohlaví]]=Pohlaví,1,0)","v":0},{"$f":"IF(StatData[[#This Row],[Věk]]=Věk,1,0)","v":1},175,"Zpracovatelský průmysl",3,"Vysokoškolské ","Muž","do 34 let    ",12049.8798828125,59961.178560353597,33793.290975548603,36307.6336409949,37700.175931517901,39408.8410825393,40559.033934401297,41946.069424774498,43380.485728570602,44573.9891288527,45795.834680379703,46413.755793864802,47379.455589313002,48360.724004232201,49575.922234386002,50724.860478821698,51570.571698059801,52633.492888251298,53564.671389359297,54714.733298900399,55789.687596407297,58047.510860619099,60475.559534595799,62795.583224445101,65487.441062803402,69058.365589893598,73157.531240669501,78621.012241900506,86187.968140649595,98713.847972055606]
[{"$f":"IF(AND(StatData[[#This Row],[Shoda: Seskupený CZ-NACE]],StatData[[#This Row],[Shoda: Region]],StatData[[#This Row],[Shoda: Vzdělání]],StatData[[#This Row],[Shoda: Pohlaví]],StatData[[#This Row],[Shoda: Věk]]),1,0)","v":0},{"$f":"IF(StatData[[#This Row],[Seskupený CZ-NACE]]=VLOOKUP(Obor,TabObor[],2,0),1,0)","v":0},{"$f":"IF(StatData[[#This Row],[Region]]=VLOOKUP(Region,TabRegion[],2,0),1,0)","v":0},{"$f":"IF(StatData[[#This Row],[Vzdělání]]=Vzdělání,1,0)","v":0},{"$f":"IF(StatData[[#This Row],[Pohlaví]]=Pohlaví,1,0)","v":0},{"$f":"IF(StatData[[#This Row],[Věk]]=Věk,1,0)","v":0},176,"Zpracovatelský průmysl",3,"Vysokoškolské ","Muž","35 až 54 let ",31188.1796875,85385.225913879403,32625.256359486899,37493.689174119201,40602.709463096799,43650.110407623099,45974.987039309097,47820.991265033197,49531.304887143597,51534.439810345699,53857.638739779497,55684.2281955484,57455.146139967801,59203.7662426038,61018.719884286002,62805.986411452002,64474.737747811501,66385.765674469905,68320.242898045806,70217.8174000937,72258.963962725102,75906.265509255696,80126.166084521305,85314.7016232319,91178.731479647598,98257.679117607899,108104.923024762,121430.52019356799,141459.84771806499,183478.39050402]
[{"$f":"IF(AND(StatData[[#This Row],[Shoda: Seskupený CZ-NACE]],StatData[[#This Row],[Shoda: Region]],StatData[[#This Row],[Shoda: Vzdělání]],StatData[[#This Row],[Shoda: Pohlaví]],StatData[[#This Row],[Shoda: Věk]]),1,0)","v":0},{"$f":"IF(StatData[[#This Row],[Seskupený CZ-NACE]]=VLOOKUP(Obor,TabObor[],2,0),1,0)","v":0},{"$f":"IF(StatData[[#This Row],[Region]]=VLOOKUP(Region,TabRegion[],2,0),1,0)","v":0},{"$f":"IF(StatData[[#This Row],[Vzdělání]]=Vzdělání,1,0)","v":0},{"$f":"IF(StatData[[#This Row],[Pohlaví]]=Pohlaví,1,0)","v":0},{"$f":"IF(StatData[[#This Row],[Věk]]=Věk,1,0)","v":0},177,"Zpracovatelský průmysl",3,"Vysokoškolské ","Muž","55 a více let",10475.353515625,77379.534430371496,28090.637728861399,30153.564864110798,32652.959329450001,35316.4780715159,37379.520333569002,39298.339839492801,40964.245465110696,42020.840332221997,43541.210563516499,45302.9497201247,47960.358190989296,48782.261471147402,50061.431795903402,51765.971582378799,53753.6927231921,55258.5947557572,57485.055690867601,58984.509076240902,61181.874621875198,65295.417073235498,69513.381427569504,74618.1140733137,81013.634811815893,89152.848288963505,97448.849301939495,108761.473539197,133503.254205387,174612.16202115]
[{"$f":"IF(AND(StatData[[#This Row],[Shoda: Seskupený CZ-NACE]],StatData[[#This Row],[Shoda: Region]],StatData[[#This Row],[Shoda: Vzdělání]],StatData[[#This Row],[Shoda: Pohlaví]],StatData[[#This Row],[Shoda: Věk]]),1,0)","v":0},{"$f":"IF(StatData[[#This Row],[Seskupený CZ-NACE]]=VLOOKUP(Obor,TabObor[],2,0),1,0)","v":0},{"$f":"IF(StatData[[#This Row],[Region]]=VLOOKUP(Region,TabRegion[],2,0),1,0)","v":0},{"$f":"IF(StatData[[#This Row],[Vzdělání]]=Vzdělání,1,0)","v":0},{"$f":"IF(StatData[[#This Row],[Pohlaví]]=Pohlaví,1,0)","v":1},{"$f":"IF(StatData[[#This Row],[Věk]]=Věk,1,0)","v":1},178,"Zpracovatelský průmysl",3,"Vysokoškolské ","Žena","do 34 let    ",7238.19140625,47011.470649982199,26615.1469735094,28999.249878043,30352.766681882698,32028.452810322899,33606.661820262001,34351.139849316598,35126.234295935203,36084.148441241603,36868.829543152802,37605.605793584597,38547.937226507602,39450.369123221797,40233.355556055998,41022.110995027098,41671.883036995503,42331.287175378202,43007.671017659202,43647.857763773201,44490.0052618966,46179.598580245904,47582.220292086502,49290.554740836298,51623.736523616702,53913.837670073997,56609.427420890199,60157.052797783901,66137.698651140294,75725.760520675001]
[{"$f":"IF(AND(StatData[[#This Row],[Shoda: Seskupený CZ-NACE]],StatData[[#This Row],[Shoda: Region]],StatData[[#This Row],[Shoda: Vzdělání]],StatData[[#This Row],[Shoda: Pohlaví]],StatData[[#This Row],[Shoda: Věk]]),1,0)","v":0},{"$f":"IF(StatData[[#This Row],[Seskupený CZ-NACE]]=VLOOKUP(Obor,TabObor[],2,0),1,0)","v":0},{"$f":"IF(StatData[[#This Row],[Region]]=VLOOKUP(Region,TabRegion[],2,0),1,0)","v":0},{"$f":"IF(StatData[[#This Row],[Vzdělání]]=Vzdělání,1,0)","v":0},{"$f":"IF(StatData[[#This Row],[Pohlaví]]=Pohlaví,1,0)","v":1},{"$f":"IF(StatData[[#This Row],[Věk]]=Věk,1,0)","v":0},179,"Zpracovatelský průmysl",3,"Vysokoškolské ","Žena","35 až 54 let ",18703.703125,58676.3300179824,28416.7010968018,30611.362130734,32177.083529899701,33801.7976064717,35178.6732908673,36634.578021419897,37773.090157421298,38964.758924818998,40112.824767422499,41275.304477624901,42184.533803418199,43111.612583080001,44084.028772611302,45131.529364704402,46295.1887342501,47035.000716992901,47681.2539133764,48896.478911154998,49888.281753172603,52580.684764754202,55103.009674380301,58225.938470599896,62252.518787333902,66577.452386275705,72316.572024523193,79499.608831513295,90703.268296087306,116720.410267807]
[{"$f":"IF(AND(StatData[[#This Row],[Shoda: Seskupený CZ-NACE]],StatData[[#This Row],[Shoda: Region]],StatData[[#This Row],[Shoda: Vzdělání]],StatData[[#This Row],[Shoda: Pohlaví]],StatData[[#This Row],[Shoda: Věk]]),1,0)","v":0},{"$f":"IF(StatData[[#This Row],[Seskupený CZ-NACE]]=VLOOKUP(Obor,TabObor[],2,0),1,0)","v":0},{"$f":"IF(StatData[[#This Row],[Region]]=VLOOKUP(Region,TabRegion[],2,0),1,0)","v":0},{"$f":"IF(StatData[[#This Row],[Vzdělání]]=Vzdělání,1,0)","v":0},{"$f":"IF(StatData[[#This Row],[Pohlaví]]=Pohlaví,1,0)","v":1},{"$f":"IF(StatData[[#This Row],[Věk]]=Věk,1,0)","v":0},180,"Zpracovatelský průmysl",3,"Vysokoškolské ","Žena","55 a více let",2618.74951171875,61693.807963214102,22636.5,27614.274920644599,30087.313834123299,32773.948468537899,34640.222475658498,36167.173293922198,36212.975484789,36803.582910407102,38285.468871468503,39753.792709020403,41392.162423100301,42774.459223276099,44234.683979010602,45433.946755322897,45920.838223454499,47206.155206470197,48452.5635656714,49953.014379809603,50807.859703981398,54372.880198529703,57879.435047963598,61301.892290884403,66844.083477659704,72461.6747124596,79096.620313725507,86769.600771954894,100241.23535413,131994.500435105]
[{"$f":"IF(AND(StatData[[#This Row],[Shoda: Seskupený CZ-NACE]],StatData[[#This Row],[Shoda: Region]],StatData[[#This Row],[Shoda: Vzdělání]],StatData[[#This Row],[Shoda: Pohlaví]],StatData[[#This Row],[Shoda: Věk]]),1,0)","v":0},{"$f":"IF(StatData[[#This Row],[Seskupený CZ-NACE]]=VLOOKUP(Obor,TabObor[],2,0),1,0)","v":0},{"$f":"IF(StatData[[#This Row],[Region]]=VLOOKUP(Region,TabRegion[],2,0),1,0)","v":1},{"$f":"IF(StatData[[#This Row],[Vzdělání]]=Vzdělání,1,0)","v":0},{"$f":"IF(StatData[[#This Row],[Pohlaví]]=Pohlaví,1,0)","v":0},{"$f":"IF(StatData[[#This Row],[Věk]]=Věk,1,0)","v":1},181,"Obchod a doprava",1,"Střední bez maturity","Muž","do 34 let    ",4783.77685546875,39715.781595967601,19958.326099999998,20208.937607083299,20876.219400000002,21740.1666,22323.868176613301,23037.900110579802,25074.337200000002,26991.128908314899,28185.1080352844,29456.233813235001,30320.405680069602,30566.719145791601,32330.594441408099,33507.092887407198,34584.786704979102,35191.8573564123,36087.610558771899,36765.016325519297,37875.428840021101,39958.998947001703,41979.2124121292,44037.820388543398,46136.485132841801,48642.873743259603,51882.018763316199,55745.264647687902,59444.715703178197,66417.722985977205]
[{"$f":"IF(AND(StatData[[#This Row],[Shoda: Seskupený CZ-NACE]],StatData[[#This Row],[Shoda: Region]],StatData[[#This Row],[Shoda: Vzdělání]],StatData[[#This Row],[Shoda: Pohlaví]],StatData[[#This Row],[Shoda: Věk]]),1,0)","v":0},{"$f":"IF(StatData[[#This Row],[Seskupený CZ-NACE]]=VLOOKUP(Obor,TabObor[],2,0),1,0)","v":0},{"$f":"IF(StatData[[#This Row],[Region]]=VLOOKUP(Region,TabRegion[],2,0),1,0)","v":1},{"$f":"IF(StatData[[#This Row],[Vzdělání]]=Vzdělání,1,0)","v":0},{"$f":"IF(StatData[[#This Row],[Pohlaví]]=Pohlaví,1,0)","v":0},{"$f":"IF(StatData[[#This Row],[Věk]]=Věk,1,0)","v":0},182,"Obchod a doprava",1,"Střední bez maturity","Muž","35 až 54 let ",15134.2724609375,42132.063780995901,19741.281561702999,20208.801700333301,20288.830339833301,21417.294951938002,21793.436771500001,22350.1666,22926.504400000002,23706.083299999998,24197.549495047599,25328.897088583301,26822.170333327402,27813.4487838348,30228.424997386399,31142.039694441599,32724.639257549501,34583.956785669703,35791.641391427998,37429.478495345698,38869.057969093003,41601.2834716504,44797.1593451554,47802.253291889501,51647.7540535679,54945.609206886198,58659.848586406901,62556.826673395597,66934.819696660401,74466.390131434498]
[{"$f":"IF(AND(StatData[[#This Row],[Shoda: Seskupený CZ-NACE]],StatData[[#This Row],[Shoda: Region]],StatData[[#This Row],[Shoda: Vzdělání]],StatData[[#This Row],[Shoda: Pohlaví]],StatData[[#This Row],[Shoda: Věk]]),1,0)","v":0},{"$f":"IF(StatData[[#This Row],[Seskupený CZ-NACE]]=VLOOKUP(Obor,TabObor[],2,0),1,0)","v":0},{"$f":"IF(StatData[[#This Row],[Region]]=VLOOKUP(Region,TabRegion[],2,0),1,0)","v":1},{"$f":"IF(StatData[[#This Row],[Vzdělání]]=Vzdělání,1,0)","v":0},{"$f":"IF(StatData[[#This Row],[Pohlaví]]=Pohlaví,1,0)","v":0},{"$f":"IF(StatData[[#This Row],[Věk]]=Věk,1,0)","v":0},183,"Obchod a doprava",1,"Střední bez maturity","Muž","55 a více let",5810.92529296875,44153.3732589844,19905.793214351601,20208.461998583301,21569.142834140199,22582.170695000001,23180.012299999999,24370.9928,24906.5,26376.631021333302,27505.629170197899,28796.854027887399,30400.5986276107,32267.430102038699,33379.968236299399,35909.240906580497,37740.753702858099,39772.321747579597,41087.626824173603,42463.760049687102,43756.709760038801,45829.726342233997,48457.285825582301,51477.437080156698,54750.0147034818,57468.175635006301,60334.373715656198,62928.969660095303,65884.057508517202,72768.344268756598]
[{"$f":"IF(AND(StatData[[#This Row],[Shoda: Seskupený CZ-NACE]],StatData[[#This Row],[Shoda: Region]],StatData[[#This Row],[Shoda: Vzdělání]],StatData[[#This Row],[Shoda: Pohlaví]],StatData[[#This Row],[Shoda: Věk]]),1,0)","v":0},{"$f":"IF(StatData[[#This Row],[Seskupený CZ-NACE]]=VLOOKUP(Obor,TabObor[],2,0),1,0)","v":0},{"$f":"IF(StatData[[#This Row],[Region]]=VLOOKUP(Region,TabRegion[],2,0),1,0)","v":1},{"$f":"IF(StatData[[#This Row],[Vzdělání]]=Vzdělání,1,0)","v":0},{"$f":"IF(StatData[[#This Row],[Pohlaví]]=Pohlaví,1,0)","v":1},{"$f":"IF(StatData[[#This Row],[Věk]]=Věk,1,0)","v":1},184,"Obchod a doprava",1,"Střední bez maturity","Žena","do 34 let    ",3255.1279296875,33799.285190445698,21564.470388584901,22077.058199999999,22355.685399999998,22495.583299999998,24474.302899999999,26014.3053,27032.111912744,27207.179163183799,27807.337411854602,28627.646392230599,29234.597807492701,29816.394239921701,30450.128481961601,31110.3877134676,31696.401397464899,31819.0451372592,32275.5146109944,32801.386083292797,33389.919369730102,34292.043033193899,35222.101043914103,36172.639888078498,37148.762865627999,38505.315237994997,39228.925293159402,41120.176725737198,44504.533734879296,50394.042967407499]
[{"$f":"IF(AND(StatData[[#This Row],[Shoda: Seskupený CZ-NACE]],StatData[[#This Row],[Shoda: Region]],StatData[[#This Row],[Shoda: Vzdělání]],StatData[[#This Row],[Shoda: Pohlaví]],StatData[[#This Row],[Shoda: Věk]]),1,0)","v":0},{"$f":"IF(StatData[[#This Row],[Seskupený CZ-NACE]]=VLOOKUP(Obor,TabObor[],2,0),1,0)","v":0},{"$f":"IF(StatData[[#This Row],[Region]]=VLOOKUP(Region,TabRegion[],2,0),1,0)","v":1},{"$f":"IF(StatData[[#This Row],[Vzdělání]]=Vzdělání,1,0)","v":0},{"$f":"IF(StatData[[#This Row],[Pohlaví]]=Pohlaví,1,0)","v":1},{"$f":"IF(StatData[[#This Row],[Věk]]=Věk,1,0)","v":0},185,"Obchod a doprava",1,"Střední bez maturity","Žena","35 až 54 let ",9872.9052734375,37164.845440432102,20500.8475775527,22728.1666,24056.2977380183,25544.037515583299,26725.757304014202,27733.625935804499,28742.945702038902,29546.405969075098,30146.722847400601,30766.505308968601,31443.084394447698,32056.247742547999,32602.267698129599,33159.134088684099,33507.221951982203,34158.912361840899,34664.387383252302,35204.645898929397,35743.074698293502,36617.785793764,37510.081753164603,38576.687700543996,39646.120210850102,41636.0599207509,43969.508433693103,46977.416203248002,50515.543235187703,59555.874386598502]
[{"$f":"IF(AND(StatData[[#This Row],[Shoda: Seskupený CZ-NACE]],StatData[[#This Row],[Shoda: Region]],StatData[[#This Row],[Shoda: Vzdělání]],StatData[[#This Row],[Shoda: Pohlaví]],StatData[[#This Row],[Shoda: Věk]]),1,0)","v":0},{"$f":"IF(StatData[[#This Row],[Seskupený CZ-NACE]]=VLOOKUP(Obor,TabObor[],2,0),1,0)","v":0},{"$f":"IF(StatData[[#This Row],[Region]]=VLOOKUP(Region,TabRegion[],2,0),1,0)","v":1},{"$f":"IF(StatData[[#This Row],[Vzdělání]]=Vzdělání,1,0)","v":0},{"$f":"IF(StatData[[#This Row],[Pohlaví]]=Pohlaví,1,0)","v":1},{"$f":"IF(StatData[[#This Row],[Věk]]=Věk,1,0)","v":0},186,"Obchod a doprava",1,"Střední bez maturity","Žena","55 a více let",3772.02416992188,34287.622668338598,18935.5716448405,19829.048484690898,22056.371200000001,23167.550599999999,23928.75,26011.6037,26241.336299999999,26848.2896960258,27238.367771176399,27568.373358532801,27988.276915278198,28783.842099766101,29576.642635169101,30306.296842766398,31016.686606755,31721.474204418198,32232.402869545898,32619.408611811399,33070.707768247703,34028.898670951698,35264.424383813603,36219.9804707933,37306.885777472096,38928.285163591798,40893.8458916749,43869.676020982501,47793.0411372987,54151.069250706903]
[{"$f":"IF(AND(StatData[[#This Row],[Shoda: Seskupený CZ-NACE]],StatData[[#This Row],[Shoda: Region]],StatData[[#This Row],[Shoda: Vzdělání]],StatData[[#This Row],[Shoda: Pohlaví]],StatData[[#This Row],[Shoda: Věk]]),1,0)","v":0},{"$f":"IF(StatData[[#This Row],[Seskupený CZ-NACE]]=VLOOKUP(Obor,TabObor[],2,0),1,0)","v":0},{"$f":"IF(StatData[[#This Row],[Region]]=VLOOKUP(Region,TabRegion[],2,0),1,0)","v":1},{"$f":"IF(StatData[[#This Row],[Vzdělání]]=Vzdělání,1,0)","v":1},{"$f":"IF(StatData[[#This Row],[Pohlaví]]=Pohlaví,1,0)","v":0},{"$f":"IF(StatData[[#This Row],[Věk]]=Věk,1,0)","v":1},187,"Obchod a doprava",1,"Střední s maturitou a vyšší odborné","Muž","do 34 let    ",12067.361328125,50422.0821878184,21243.815150730101,22096.480370883299,23126.25,25793.653589833299,27757.973429535701,30124.651391267598,31174.2426265992,33302.731913804098,34749.949652978801,35841.553664437997,37346.748781689697,38374.102720597803,39716.083613807299,40666.716786384903,41692.5501999966,42845.7256158604,44379.577324026199,45133.234193176497,46004.593527544203,48219.323108812197,51064.218737925003,54269.147942826799,57692.529367429503,61275.945982804798,64907.175338781599,70013.792115155593,79165.264065007796,94128.173376663093]
[{"$f":"IF(AND(StatData[[#This Row],[Shoda: Seskupený CZ-NACE]],StatData[[#This Row],[Shoda: Region]],StatData[[#This Row],[Shoda: Vzdělání]],StatData[[#This Row],[Shoda: Pohlaví]],StatData[[#This Row],[Shoda: Věk]]),1,0)","v":0},{"$f":"IF(StatData[[#This Row],[Seskupený CZ-NACE]]=VLOOKUP(Obor,TabObor[],2,0),1,0)","v":0},{"$f":"IF(StatData[[#This Row],[Region]]=VLOOKUP(Region,TabRegion[],2,0),1,0)","v":1},{"$f":"IF(StatData[[#This Row],[Vzdělání]]=Vzdělání,1,0)","v":1},{"$f":"IF(StatData[[#This Row],[Pohlaví]]=Pohlaví,1,0)","v":0},{"$f":"IF(StatData[[#This Row],[Věk]]=Věk,1,0)","v":0},188,"Obchod a doprava",1,"Střední s maturitou a vyšší odborné","Muž","35 až 54 let ",21136.392578125,64048.087508878401,20326.877854666702,21847.588338166701,22539.1666,24404.174109945699,27419.017289248699,30322.6627228426,33227.607499407197,35726.072939812198,37918.112755971,39992.117908323002,42025.324386641601,43910.55409813,45353.1151579906,47220.3797759472,49074.522507116497,50899.350884241001,53010.095932955897,54613.143838729098,56454.460414355301,60096.286611350202,63042.036085785498,66906.670868750603,71356.676443564094,77321.316044174993,84724.491545352503,94325.168290204194,109035.25437245501,138712.549702841]
[{"$f":"IF(AND(StatData[[#This Row],[Shoda: Seskupený CZ-NACE]],StatData[[#This Row],[Shoda: Region]],StatData[[#This Row],[Shoda: Vzdělání]],StatData[[#This Row],[Shoda: Pohlaví]],StatData[[#This Row],[Shoda: Věk]]),1,0)","v":0},{"$f":"IF(StatData[[#This Row],[Seskupený CZ-NACE]]=VLOOKUP(Obor,TabObor[],2,0),1,0)","v":0},{"$f":"IF(StatData[[#This Row],[Region]]=VLOOKUP(Region,TabRegion[],2,0),1,0)","v":1},{"$f":"IF(StatData[[#This Row],[Vzdělání]]=Vzdělání,1,0)","v":1},{"$f":"IF(StatData[[#This Row],[Pohlaví]]=Pohlaví,1,0)","v":0},{"$f":"IF(StatData[[#This Row],[Věk]]=Věk,1,0)","v":0},189,"Obchod a doprava",1,"Střední s maturitou a vyšší odborné","Muž","55 a více let",6129.46337890625,60014.594735849103,22431.6666,25308.639800000001,27550.043314909901,28558.440779587501,30409.242107363301,32364.843923629101,32985.749331665997,35681.810724624498,37389.025239289302,38208.905312090501,40910.348557213503,42033.065394157602,43099.1498517816,44400.983878592699,46528.052475502504,48438.102364094302,51073.243836467598,53768.627138112199,55166.400365626003,58449.230805172803,61447.432388716901,63617.286682964303,67710.177006375103,72091.572372454102,76787.807001558904,84400.207994256707,92856.011666394406,117513.591787014]
[{"$f":"IF(AND(StatData[[#This Row],[Shoda: Seskupený CZ-NACE]],StatData[[#This Row],[Shoda: Region]],StatData[[#This Row],[Shoda: Vzdělání]],StatData[[#This Row],[Shoda: Pohlaví]],StatData[[#This Row],[Shoda: Věk]]),1,0)","v":0},{"$f":"IF(StatData[[#This Row],[Seskupený CZ-NACE]]=VLOOKUP(Obor,TabObor[],2,0),1,0)","v":0},{"$f":"IF(StatData[[#This Row],[Region]]=VLOOKUP(Region,TabRegion[],2,0),1,0)","v":1},{"$f":"IF(StatData[[#This Row],[Vzdělání]]=Vzdělání,1,0)","v":1},{"$f":"IF(StatData[[#This Row],[Pohlaví]]=Pohlaví,1,0)","v":1},{"$f":"IF(StatData[[#This Row],[Věk]]=Věk,1,0)","v":1},190,"Obchod a doprava",1,"Střední s maturitou a vyšší odborné","Žena","do 34 let    ",9752.76171875,42767.008464685801,22969.1666,25130.859429579701,27029.051943226401,28473.552441859501,29964.636305995598,30891.252331152598,31583.6558474085,32536.428825785599,33188.327583189697,33797.845179361801,34430.744286471701,35089.973804922301,35476.255852972303,36162.322424068603,36697.366612523503,37533.4188973563,38214.823501312901,39128.734398541899,39862.207826136197,41547.051563038302,43596.508951439697,45339.002174844602,47007.271825404903,49345.860301364002,51743.481777208799,56016.9947196344,60627.967702418697,70631.879923535598]
[{"$f":"IF(AND(StatData[[#This Row],[Shoda: Seskupený CZ-NACE]],StatData[[#This Row],[Shoda: Region]],StatData[[#This Row],[Shoda: Vzdělání]],StatData[[#This Row],[Shoda: Pohlaví]],StatData[[#This Row],[Shoda: Věk]]),1,0)","v":0},{"$f":"IF(StatData[[#This Row],[Seskupený CZ-NACE]]=VLOOKUP(Obor,TabObor[],2,0),1,0)","v":0},{"$f":"IF(StatData[[#This Row],[Region]]=VLOOKUP(Region,TabRegion[],2,0),1,0)","v":1},{"$f":"IF(StatData[[#This Row],[Vzdělání]]=Vzdělání,1,0)","v":1},{"$f":"IF(StatData[[#This Row],[Pohlaví]]=Pohlaví,1,0)","v":1},{"$f":"IF(StatData[[#This Row],[Věk]]=Věk,1,0)","v":0},191,"Obchod a doprava",1,"Střední s maturitou a vyšší odborné","Žena","35 až 54 let ",19000.89453125,49388.533845340098,20361.482563980499,23454.629417249998,26066.6666,27252.924975842499,28714.853530458,30295.4587923896,31422.5011155498,32374.893575998602,33302.188276120098,34360.164115760199,35447.529125370798,36050.422018644102,36786.392847946001,37642.1144824195,38674.8394911668,39797.730375607804,40989.376966221702,42140.931464551701,43142.299569617797,45228.115037641197,47822.0877051102,50731.254933713099,53234.5410913878,56911.5204343402,61395.355724344001,67479.533617185501,76140.597497028706,94671.985583720394]
[{"$f":"IF(AND(StatData[[#This Row],[Shoda: Seskupený CZ-NACE]],StatData[[#This Row],[Shoda: Region]],StatData[[#This Row],[Shoda: Vzdělání]],StatData[[#This Row],[Shoda: Pohlaví]],StatData[[#This Row],[Shoda: Věk]]),1,0)","v":0},{"$f":"IF(StatData[[#This Row],[Seskupený CZ-NACE]]=VLOOKUP(Obor,TabObor[],2,0),1,0)","v":0},{"$f":"IF(StatData[[#This Row],[Region]]=VLOOKUP(Region,TabRegion[],2,0),1,0)","v":1},{"$f":"IF(StatData[[#This Row],[Vzdělání]]=Vzdělání,1,0)","v":1},{"$f":"IF(StatData[[#This Row],[Pohlaví]]=Pohlaví,1,0)","v":1},{"$f":"IF(StatData[[#This Row],[Věk]]=Věk,1,0)","v":0},192,"Obchod a doprava",1,"Střední s maturitou a vyšší odborné","Žena","55 a více let",4830.29931640625,47271.548986232599,24181.10152425,25254.7682097859,27589.859870365101,28490.495558407001,28530.118640620902,30165.5258079796,31056.5367063659,32010.562464375798,32964.578171293797,33650.970366951798,34503.690638236498,35093.4972917618,35722.696276290997,36268.991847805497,37191.388995156303,38113.4258267732,39081.178060319296,40422.347173079303,41395.647273340102,43854.346479711901,46202.271683148298,49060.591603360597,51916.640775956097,54981.267535689003,59224.900200858698,66004.524240898594,74375.990942570104,87476.025043967005]
[{"$f":"IF(AND(StatData[[#This Row],[Shoda: Seskupený CZ-NACE]],StatData[[#This Row],[Shoda: Region]],StatData[[#This Row],[Shoda: Vzdělání]],StatData[[#This Row],[Shoda: Pohlaví]],StatData[[#This Row],[Shoda: Věk]]),1,0)","v":0},{"$f":"IF(StatData[[#This Row],[Seskupený CZ-NACE]]=VLOOKUP(Obor,TabObor[],2,0),1,0)","v":0},{"$f":"IF(StatData[[#This Row],[Region]]=VLOOKUP(Region,TabRegion[],2,0),1,0)","v":1},{"$f":"IF(StatData[[#This Row],[Vzdělání]]=Vzdělání,1,0)","v":0},{"$f":"IF(StatData[[#This Row],[Pohlaví]]=Pohlaví,1,0)","v":0},{"$f":"IF(StatData[[#This Row],[Věk]]=Věk,1,0)","v":1},193,"Obchod a doprava",1,"Vysokoškolské ","Muž","do 34 let    ",4663.92138671875,73739.620043913194,25088.744753499999,26984.995063332899,34714.830166439802,39648.381889040102,42266.908418765503,44999.2270437037,46986.187490761899,48841.646568295197,50250.140803718699,51356.638383469202,52467.851753482697,54442.0284841213,55808.440531736,57348.637652521698,59064.252462194803,59759.073457251201,61613.484654409702,63131.809750714703,64965.092058480099,69083.803881261701,73619.694209817797,79073.546579306305,83422.099625286603,89638.151820643805,96031.599068431795,106275.166744888,119677.772858194,145703.872392777]
[{"$f":"IF(AND(StatData[[#This Row],[Shoda: Seskupený CZ-NACE]],StatData[[#This Row],[Shoda: Region]],StatData[[#This Row],[Shoda: Vzdělání]],StatData[[#This Row],[Shoda: Pohlaví]],StatData[[#This Row],[Shoda: Věk]]),1,0)","v":0},{"$f":"IF(StatData[[#This Row],[Seskupený CZ-NACE]]=VLOOKUP(Obor,TabObor[],2,0),1,0)","v":0},{"$f":"IF(StatData[[#This Row],[Region]]=VLOOKUP(Region,TabRegion[],2,0),1,0)","v":1},{"$f":"IF(StatData[[#This Row],[Vzdělání]]=Vzdělání,1,0)","v":0},{"$f":"IF(StatData[[#This Row],[Pohlaví]]=Pohlaví,1,0)","v":0},{"$f":"IF(StatData[[#This Row],[Věk]]=Věk,1,0)","v":0},194,"Obchod a doprava",1,"Vysokoškolské ","Muž","35 až 54 let ",11018.0595703125,115547.58490483899,30369.463215206299,39124.653671422398,44221.675839695701,48184.850005129498,51742.7403522897,56757.880581434198,59265.678935072501,62008.9436399509,64004.794253000902,67837.530387985098,71216.876162631394,73876.8472737431,76339.5757707663,79218.767010781798,82139.213387497002,84840.595610567005,87627.674592982206,90471.201659084007,93062.632952353597,99967.512413435194,106812.916226879,116934.53277760099,129750.11314941601,143211.12548747301,155909.579579999,176457.41653004999,207058.72750851701,264465.79286476597]
[{"$f":"IF(AND(StatData[[#This Row],[Shoda: Seskupený CZ-NACE]],StatData[[#This Row],[Shoda: Region]],StatData[[#This Row],[Shoda: Vzdělání]],StatData[[#This Row],[Shoda: Pohlaví]],StatData[[#This Row],[Shoda: Věk]]),1,0)","v":0},{"$f":"IF(StatData[[#This Row],[Seskupený CZ-NACE]]=VLOOKUP(Obor,TabObor[],2,0),1,0)","v":0},{"$f":"IF(StatData[[#This Row],[Region]]=VLOOKUP(Region,TabRegion[],2,0),1,0)","v":1},{"$f":"IF(StatData[[#This Row],[Vzdělání]]=Vzdělání,1,0)","v":0},{"$f":"IF(StatData[[#This Row],[Pohlaví]]=Pohlaví,1,0)","v":0},{"$f":"IF(StatData[[#This Row],[Věk]]=Věk,1,0)","v":0},195,"Obchod a doprava",1,"Vysokoškolské ","Muž","55 a více let",4073.74145507813,94526.520665454504,22680.25,23436.170628166699,26050.9942933333,27694.0547668769,30475.5583051225,34841.0537299684,36731.931032341803,38113.9245797279,38220.618578117901,43919.032077944503,45771.5451821967,48706.524320031298,52411.272929335202,53061.341553566002,55886.187226306603,59585.1641514043,62500.992599474303,66115.890565719295,68653.852220973902,74375.990942570104,80204.322796434193,88855.653573939504,99868.846695562694,111175.206767578,128188.60486063101,154682.17384417701,189830.746280775,248423.58295335999]
[{"$f":"IF(AND(StatData[[#This Row],[Shoda: Seskupený CZ-NACE]],StatData[[#This Row],[Shoda: Region]],StatData[[#This Row],[Shoda: Vzdělání]],StatData[[#This Row],[Shoda: Pohlaví]],StatData[[#This Row],[Shoda: Věk]]),1,0)","v":0},{"$f":"IF(StatData[[#This Row],[Seskupený CZ-NACE]]=VLOOKUP(Obor,TabObor[],2,0),1,0)","v":0},{"$f":"IF(StatData[[#This Row],[Region]]=VLOOKUP(Region,TabRegion[],2,0),1,0)","v":1},{"$f":"IF(StatData[[#This Row],[Vzdělání]]=Vzdělání,1,0)","v":0},{"$f":"IF(StatData[[#This Row],[Pohlaví]]=Pohlaví,1,0)","v":1},{"$f":"IF(StatData[[#This Row],[Věk]]=Věk,1,0)","v":1},196,"Obchod a doprava",1,"Vysokoškolské ","Žena","do 34 let    ",5293.16357421875,60523.650473272901,27847.945886220801,31490.4013500949,33754.820947053697,35725.563105235698,37247.745461022598,38751.344547891902,40037.955044244802,41265.7952356846,41954.751271535897,43424.407488519901,44479.041483618203,45616.198365610901,47031.992601890197,48291.346807485003,48872.517458301401,49588.414498375299,50631.3103462933,52007.829611597699,53165.6632989973,55883.313249592902,59616.189887081302,63491.643352899599,68075.318924995707,71776.174195579006,77575.869572961194,83702.559907597693,93961.654036188396,113516.140481915]
[{"$f":"IF(AND(StatData[[#This Row],[Shoda: Seskupený CZ-NACE]],StatData[[#This Row],[Shoda: Region]],StatData[[#This Row],[Shoda: Vzdělání]],StatData[[#This Row],[Shoda: Pohlaví]],StatData[[#This Row],[Shoda: Věk]]),1,0)","v":0},{"$f":"IF(StatData[[#This Row],[Seskupený CZ-NACE]]=VLOOKUP(Obor,TabObor[],2,0),1,0)","v":0},{"$f":"IF(StatData[[#This Row],[Region]]=VLOOKUP(Region,TabRegion[],2,0),1,0)","v":1},{"$f":"IF(StatData[[#This Row],[Vzdělání]]=Vzdělání,1,0)","v":0},{"$f":"IF(StatData[[#This Row],[Pohlaví]]=Pohlaví,1,0)","v":1},{"$f":"IF(StatData[[#This Row],[Věk]]=Věk,1,0)","v":0},197,"Obchod a doprava",1,"Vysokoškolské ","Žena","35 až 54 let ",10181.2421875,82138.003977300294,25767.379515249999,30390.708486843501,33186.971923465702,34831.490304114901,37739.473411120103,40183.458733405198,41902.835745078599,43933.722563582996,46064.016270076798,47694.637685101203,49776.106139882897,51936.631414226496,53367.199884250498,55757.666317429597,57947.202033069603,59601.772128671902,61572.0184753211,63540.890617607503,65956.989241688905,69994.993520220101,75718.449593818004,82333.2295590594,88828.887451011702,96631.137838347306,106474.071744708,126044.716714493,150505.998717977,195961.40458395801]
[{"$f":"IF(AND(StatData[[#This Row],[Shoda: Seskupený CZ-NACE]],StatData[[#This Row],[Shoda: Region]],StatData[[#This Row],[Shoda: Vzdělání]],StatData[[#This Row],[Shoda: Pohlaví]],StatData[[#This Row],[Shoda: Věk]]),1,0)","v":0},{"$f":"IF(StatData[[#This Row],[Seskupený CZ-NACE]]=VLOOKUP(Obor,TabObor[],2,0),1,0)","v":0},{"$f":"IF(StatData[[#This Row],[Region]]=VLOOKUP(Region,TabRegion[],2,0),1,0)","v":1},{"$f":"IF(StatData[[#This Row],[Vzdělání]]=Vzdělání,1,0)","v":0},{"$f":"IF(StatData[[#This Row],[Pohlaví]]=Pohlaví,1,0)","v":1},{"$f":"IF(StatData[[#This Row],[Věk]]=Věk,1,0)","v":0},198,"Obchod a doprava",1,"Vysokoškolské ","Žena","55 a více let",1787.31481933594,82402.009059730597,22431.6666,24845.246656083302,25065.75,27058.321576521699,27058.321576521699,28795.5165756795,32396.046785127801,34837.813600772599,36996.620836495204,41008.389706230002,43669.0459016038,45220.228685586699,48704.040199343901,51730.022093285799,55738.3425639325,57213.585572379598,60522.4310384368,61708.0173844374,61708.0173844374,66590.726344688694,72984.253745616399,78861.206453638006,87199.468150430301,102844.864663616,123811.171559343,135975.46692478901,149890.43120881301,197932.516155263]
[{"$f":"IF(AND(StatData[[#This Row],[Shoda: Seskupený CZ-NACE]],StatData[[#This Row],[Shoda: Region]],StatData[[#This Row],[Shoda: Vzdělání]],StatData[[#This Row],[Shoda: Pohlaví]],StatData[[#This Row],[Shoda: Věk]]),1,0)","v":0},{"$f":"IF(StatData[[#This Row],[Seskupený CZ-NACE]]=VLOOKUP(Obor,TabObor[],2,0),1,0)","v":0},{"$f":"IF(StatData[[#This Row],[Region]]=VLOOKUP(Region,TabRegion[],2,0),1,0)","v":0},{"$f":"IF(StatData[[#This Row],[Vzdělání]]=Vzdělání,1,0)","v":0},{"$f":"IF(StatData[[#This Row],[Pohlaví]]=Pohlaví,1,0)","v":0},{"$f":"IF(StatData[[#This Row],[Věk]]=Věk,1,0)","v":1},199,"Obchod a doprava",2,"Střední bez maturity","Muž","do 34 let    ",7790.486328125,35732.068180575399,21074.871416051399,21806.417398979898,21858.6808014003,22195.1666,22728.9856,22752.989000000001,23111.7891131045,24657.777300000002,25080.25,25784.108361168201,26665.845655851699,27342.684378862399,28183.025196017799,29402.666763179401,30222.998851922399,31029.124495897398,32118.4494785928,32760.821800063499,33859.629914527301,35618.637068101802,37332.437238601102,38704.431132062498,40768.818118160103,43544.409058458703,45875.289300725199,48413.279414395001,52446.048199958903,58861.964038477003]
[{"$f":"IF(AND(StatData[[#This Row],[Shoda: Seskupený CZ-NACE]],StatData[[#This Row],[Shoda: Region]],StatData[[#This Row],[Shoda: Vzdělání]],StatData[[#This Row],[Shoda: Pohlaví]],StatData[[#This Row],[Shoda: Věk]]),1,0)","v":0},{"$f":"IF(StatData[[#This Row],[Seskupený CZ-NACE]]=VLOOKUP(Obor,TabObor[],2,0),1,0)","v":0},{"$f":"IF(StatData[[#This Row],[Region]]=VLOOKUP(Region,TabRegion[],2,0),1,0)","v":0},{"$f":"IF(StatData[[#This Row],[Vzdělání]]=Vzdělání,1,0)","v":0},{"$f":"IF(StatData[[#This Row],[Pohlaví]]=Pohlaví,1,0)","v":0},{"$f":"IF(StatData[[#This Row],[Věk]]=Věk,1,0)","v":0},200,"Obchod a doprava",2,"Střední bez maturity","Muž","35 až 54 let ",23425.31640625,38132.152447594999,20959.942200000001,21759.743783875299,22032.1217194907,22573.633900000001,22739.714499999998,22826.534100000001,23482.713297499999,24381.161111983802,25711.388416493501,26322.985953079598,27210.2260481173,27986.494758025201,29703.352528165,30665.905518044201,31559.769906783898,32730.275754526101,33707.334345593903,34673.520087223202,35717.5391388719,37811.086295586902,39664.377218349,42083.274672225198,44062.354190194201,46060.467476582402,48715.089989164699,52007.378015675502,57493.218220661598,65538.3194395623]
[{"$f":"IF(AND(StatData[[#This Row],[Shoda: Seskupený CZ-NACE]],StatData[[#This Row],[Shoda: Region]],StatData[[#This Row],[Shoda: Vzdělání]],StatData[[#This Row],[Shoda: Pohlaví]],StatData[[#This Row],[Shoda: Věk]]),1,0)","v":0},{"$f":"IF(StatData[[#This Row],[Seskupený CZ-NACE]]=VLOOKUP(Obor,TabObor[],2,0),1,0)","v":0},{"$f":"IF(StatData[[#This Row],[Region]]=VLOOKUP(Region,TabRegion[],2,0),1,0)","v":0},{"$f":"IF(StatData[[#This Row],[Vzdělání]]=Vzdělání,1,0)","v":0},{"$f":"IF(StatData[[#This Row],[Pohlaví]]=Pohlaví,1,0)","v":0},{"$f":"IF(StatData[[#This Row],[Věk]]=Věk,1,0)","v":0},201,"Obchod a doprava",2,"Střední bez maturity","Muž","55 a více let",9324.3759765625,38773.255373235101,21844.428746361998,22661.1666,22740.3753,22904.211130672898,24162.5,26178.724994981501,26242.9375318815,27154.176456554502,27889.956725664098,28531.9459555094,29826.382361595701,30213.830624065198,31184.014529917698,32269.924471346301,33541.463360263297,34622.483434943999,35470.209205134102,36547.6374759799,37174.1247840379,38835.969562284998,40786.336119511601,42747.644203044503,44875.416987379802,46636.629032919198,49152.740378119503,52510.017560638997,57235.542324238799,62733.798713059201]
[{"$f":"IF(AND(StatData[[#This Row],[Shoda: Seskupený CZ-NACE]],StatData[[#This Row],[Shoda: Region]],StatData[[#This Row],[Shoda: Vzdělání]],StatData[[#This Row],[Shoda: Pohlaví]],StatData[[#This Row],[Shoda: Věk]]),1,0)","v":0},{"$f":"IF(StatData[[#This Row],[Seskupený CZ-NACE]]=VLOOKUP(Obor,TabObor[],2,0),1,0)","v":0},{"$f":"IF(StatData[[#This Row],[Region]]=VLOOKUP(Region,TabRegion[],2,0),1,0)","v":0},{"$f":"IF(StatData[[#This Row],[Vzdělání]]=Vzdělání,1,0)","v":0},{"$f":"IF(StatData[[#This Row],[Pohlaví]]=Pohlaví,1,0)","v":1},{"$f":"IF(StatData[[#This Row],[Věk]]=Věk,1,0)","v":1},202,"Obchod a doprava",2,"Střední bez maturity","Žena","do 34 let    ",3066.0986328125,31595.681001166999,20039.490401262199,20381.5160843126,21756.866856249999,21788.765768812402,22071.095000000001,22576.6477760571,23427.344799999999,24138.5082233783,24829.0193,25962.221238219499,26450.255117169901,27013.128725168299,27556.291911066499,28288.132390024501,29021.140581479998,29386.021794309399,29600.3499288024,30003.7262785003,30533.2686187707,31435.9870737071,32241.329861065002,33502.563961722997,34845.501160628701,36249.783719766099,38077.501398621796,40773.478245458398,43934.363187550902,46921.350456194203]
[{"$f":"IF(AND(StatData[[#This Row],[Shoda: Seskupený CZ-NACE]],StatData[[#This Row],[Shoda: Region]],StatData[[#This Row],[Shoda: Vzdělání]],StatData[[#This Row],[Shoda: Pohlaví]],StatData[[#This Row],[Shoda: Věk]]),1,0)","v":0},{"$f":"IF(StatData[[#This Row],[Seskupený CZ-NACE]]=VLOOKUP(Obor,TabObor[],2,0),1,0)","v":0},{"$f":"IF(StatData[[#This Row],[Region]]=VLOOKUP(Region,TabRegion[],2,0),1,0)","v":0},{"$f":"IF(StatData[[#This Row],[Vzdělání]]=Vzdělání,1,0)","v":0},{"$f":"IF(StatData[[#This Row],[Pohlaví]]=Pohlaví,1,0)","v":1},{"$f":"IF(StatData[[#This Row],[Věk]]=Věk,1,0)","v":0},203,"Obchod a doprava",2,"Střední bez maturity","Žena","35 až 54 let ",14047.1982421875,31061.3929472528,19528.327991166701,19957.2167985833,20127.358391735601,20367.103550416701,20660.204154403,21166.2222,21802.225821416701,21965.455365666701,22228.681,23228.111099999998,23993.9192,24671,25134.997500000001,26025.5323841319,26729.549418023798,27550.851499120701,28324.097624120601,29131.227367584801,29739.9428905309,31049.497161874999,32215.795781962501,33239.984251312999,34890.062426122196,36563.337334076197,38620.4782271035,41654.763956087998,44493.7904754298,47924.078064316498]
[{"$f":"IF(AND(StatData[[#This Row],[Shoda: Seskupený CZ-NACE]],StatData[[#This Row],[Shoda: Region]],StatData[[#This Row],[Shoda: Vzdělání]],StatData[[#This Row],[Shoda: Pohlaví]],StatData[[#This Row],[Shoda: Věk]]),1,0)","v":0},{"$f":"IF(StatData[[#This Row],[Seskupený CZ-NACE]]=VLOOKUP(Obor,TabObor[],2,0),1,0)","v":0},{"$f":"IF(StatData[[#This Row],[Region]]=VLOOKUP(Region,TabRegion[],2,0),1,0)","v":0},{"$f":"IF(StatData[[#This Row],[Vzdělání]]=Vzdělání,1,0)","v":0},{"$f":"IF(StatData[[#This Row],[Pohlaví]]=Pohlaví,1,0)","v":1},{"$f":"IF(StatData[[#This Row],[Věk]]=Věk,1,0)","v":0},204,"Obchod a doprava",2,"Střední bez maturity","Žena","55 a více let",4611.279296875,30915.4614435201,19610.3515088889,19929.446810166701,20026.183400000002,21027.805776395398,21459.412,21769.069805666699,21769.069805666699,22106.3411275053,22950.478599999999,23768.605100000001,24508.0628,25406.766117337,25975.165751535998,26868.743465212399,27664.111251617,28314.930881371401,28896.1533661742,29344.010603701201,29916.0255624151,31001.537011005999,31999.1663077915,33568.961745790002,34075.439504187103,35960.862829062899,37843.915666654997,40410.899995379099,43578.455380653497,47859.409040721301]
[{"$f":"IF(AND(StatData[[#This Row],[Shoda: Seskupený CZ-NACE]],StatData[[#This Row],[Shoda: Region]],StatData[[#This Row],[Shoda: Vzdělání]],StatData[[#This Row],[Shoda: Pohlaví]],StatData[[#This Row],[Shoda: Věk]]),1,0)","v":0},{"$f":"IF(StatData[[#This Row],[Seskupený CZ-NACE]]=VLOOKUP(Obor,TabObor[],2,0),1,0)","v":0},{"$f":"IF(StatData[[#This Row],[Region]]=VLOOKUP(Region,TabRegion[],2,0),1,0)","v":0},{"$f":"IF(StatData[[#This Row],[Vzdělání]]=Vzdělání,1,0)","v":1},{"$f":"IF(StatData[[#This Row],[Pohlaví]]=Pohlaví,1,0)","v":0},{"$f":"IF(StatData[[#This Row],[Věk]]=Věk,1,0)","v":1},205,"Obchod a doprava",2,"Střední s maturitou a vyšší odborné","Muž","do 34 let    ",8940.5634765625,44434.871172281499,21808.9605956667,22347.465337916699,22876.912267833301,23581.06,26313.781482856699,28460.5379163465,29709.746307515401,31422.9642946723,32060.526578286001,33230.061622572903,34696.901024279301,35488.400411800598,36443.409732013199,37268.309093384203,38311.1931161635,39383.040605893002,40199.176301307103,41072.640090188703,41723.333322158302,43539.233416174102,45803.034928366498,47413.315192515103,49846.913564680799,52640.146852744401,56621.270071627303,59892.6372943565,64531.776503722504,74002.507151995407]
[{"$f":"IF(AND(StatData[[#This Row],[Shoda: Seskupený CZ-NACE]],StatData[[#This Row],[Shoda: Region]],StatData[[#This Row],[Shoda: Vzdělání]],StatData[[#This Row],[Shoda: Pohlaví]],StatData[[#This Row],[Shoda: Věk]]),1,0)","v":0},{"$f":"IF(StatData[[#This Row],[Seskupený CZ-NACE]]=VLOOKUP(Obor,TabObor[],2,0),1,0)","v":0},{"$f":"IF(StatData[[#This Row],[Region]]=VLOOKUP(Region,TabRegion[],2,0),1,0)","v":0},{"$f":"IF(StatData[[#This Row],[Vzdělání]]=Vzdělání,1,0)","v":1},{"$f":"IF(StatData[[#This Row],[Pohlaví]]=Pohlaví,1,0)","v":0},{"$f":"IF(StatData[[#This Row],[Věk]]=Věk,1,0)","v":0},206,"Obchod a doprava",2,"Střední s maturitou a vyšší odborné","Muž","35 až 54 let ",17298.193359375,54315.686903791102,22116.4456258383,23554.036275410301,24418.190160499998,25999.288638018901,27293.6201708962,29639.109802540101,31375.933295587201,32766.016065390901,34155.270752357501,36324.318279097497,38007.285406372801,39473.8769342675,40712.352748452096,41819.458729596001,43047.059646550297,43970.7875778917,45269.804027247803,46357.317774396397,47905.627954157302,50307.2733249917,53252.780753655803,56172.722471968402,59566.757587883098,63720.163224198099,67998.087642730301,73731.127931672105,84445.976123517394,103480.528441056]
[{"$f":"IF(AND(StatData[[#This Row],[Shoda: Seskupený CZ-NACE]],StatData[[#This Row],[Shoda: Region]],StatData[[#This Row],[Shoda: Vzdělání]],StatData[[#This Row],[Shoda: Pohlaví]],StatData[[#This Row],[Shoda: Věk]]),1,0)","v":0},{"$f":"IF(StatData[[#This Row],[Seskupený CZ-NACE]]=VLOOKUP(Obor,TabObor[],2,0),1,0)","v":0},{"$f":"IF(StatData[[#This Row],[Region]]=VLOOKUP(Region,TabRegion[],2,0),1,0)","v":0},{"$f":"IF(StatData[[#This Row],[Vzdělání]]=Vzdělání,1,0)","v":1},{"$f":"IF(StatData[[#This Row],[Pohlaví]]=Pohlaví,1,0)","v":0},{"$f":"IF(StatData[[#This Row],[Věk]]=Věk,1,0)","v":0},207,"Obchod a doprava",2,"Střední s maturitou a vyšší odborné","Muž","55 a více let",6515.7041015625,48472.946114421902,20300.312408888902,21866.1068569167,23526.75,24999.625700000001,24999.625700000001,26475.621479655099,27326.643159658699,28808.5075423204,29414.164023590401,30946.4248616025,32536.7075861382,33165.460362266698,34090.624064781703,36064.431606831902,36922.086045268603,37888.498820976703,40021.244674704998,41401.941331575799,42301.619651353103,44165.568346273401,47516.176608530797,50501.522465915499,53221.763141405499,56729.870564581797,60219.470950265299,64685.924019872196,70730.110315333601,88348.012629805598]
[{"$f":"IF(AND(StatData[[#This Row],[Shoda: Seskupený CZ-NACE]],StatData[[#This Row],[Shoda: Region]],StatData[[#This Row],[Shoda: Vzdělání]],StatData[[#This Row],[Shoda: Pohlaví]],StatData[[#This Row],[Shoda: Věk]]),1,0)","v":0},{"$f":"IF(StatData[[#This Row],[Seskupený CZ-NACE]]=VLOOKUP(Obor,TabObor[],2,0),1,0)","v":0},{"$f":"IF(StatData[[#This Row],[Region]]=VLOOKUP(Region,TabRegion[],2,0),1,0)","v":0},{"$f":"IF(StatData[[#This Row],[Vzdělání]]=Vzdělání,1,0)","v":1},{"$f":"IF(StatData[[#This Row],[Pohlaví]]=Pohlaví,1,0)","v":1},{"$f":"IF(StatData[[#This Row],[Věk]]=Věk,1,0)","v":1},208,"Obchod a doprava",2,"Střední s maturitou a vyšší odborné","Žena","do 34 let    ",6041.52490234375,37480.558835736803,23410.1911,24604.767599999999,25197.2425,26475.088,27326.128911177799,28177.000497499299,28642.870755516498,29371.288225374799,29762.850465175699,30156.801679150401,30320.876362063798,30842.0818696104,31485.231540834298,32310.368760310299,33083.508777343101,33558.507163242401,34230.143794777599,34922.336831495501,35461.026843641303,37006.695857231898,38234.2557230042,39618.796747066597,41249.915859690002,43291.348698445698,45031.178893230302,47376.7664101224,51173.524320619799,57023.730171332798]
[{"$f":"IF(AND(StatData[[#This Row],[Shoda: Seskupený CZ-NACE]],StatData[[#This Row],[Shoda: Region]],StatData[[#This Row],[Shoda: Vzdělání]],StatData[[#This Row],[Shoda: Pohlaví]],StatData[[#This Row],[Shoda: Věk]]),1,0)","v":0},{"$f":"IF(StatData[[#This Row],[Seskupený CZ-NACE]]=VLOOKUP(Obor,TabObor[],2,0),1,0)","v":0},{"$f":"IF(StatData[[#This Row],[Region]]=VLOOKUP(Region,TabRegion[],2,0),1,0)","v":0},{"$f":"IF(StatData[[#This Row],[Vzdělání]]=Vzdělání,1,0)","v":1},{"$f":"IF(StatData[[#This Row],[Pohlaví]]=Pohlaví,1,0)","v":1},{"$f":"IF(StatData[[#This Row],[Věk]]=Věk,1,0)","v":0},209,"Obchod a doprava",2,"Střední s maturitou a vyšší odborné","Žena","35 až 54 let ",16888.802734375,39689.641870725398,21857.910199999998,22275.130107249999,23589.720796833299,24581.9164248616,26091.9032641392,27046.459403557001,27600.560157101801,28700.964185002202,29165.0352286495,29866.97107802,30512.486758476702,31115.958970583899,31571.096251720701,32435.373469440499,32830.310924335303,33720.149575319301,34495.674192624298,35254.084279394199,36052.160702053603,37621.692068803699,39380.353259105301,41684.4159306605,43735.913609490897,45915.539796745099,48320.241844110002,51564.628453671299,57071.850959936201,67597.729142025302]
[{"$f":"IF(AND(StatData[[#This Row],[Shoda: Seskupený CZ-NACE]],StatData[[#This Row],[Shoda: Region]],StatData[[#This Row],[Shoda: Vzdělání]],StatData[[#This Row],[Shoda: Pohlaví]],StatData[[#This Row],[Shoda: Věk]]),1,0)","v":0},{"$f":"IF(StatData[[#This Row],[Seskupený CZ-NACE]]=VLOOKUP(Obor,TabObor[],2,0),1,0)","v":0},{"$f":"IF(StatData[[#This Row],[Region]]=VLOOKUP(Region,TabRegion[],2,0),1,0)","v":0},{"$f":"IF(StatData[[#This Row],[Vzdělání]]=Vzdělání,1,0)","v":1},{"$f":"IF(StatData[[#This Row],[Pohlaví]]=Pohlaví,1,0)","v":1},{"$f":"IF(StatData[[#This Row],[Věk]]=Věk,1,0)","v":0},210,"Obchod a doprava",2,"Střední s maturitou a vyšší odborné","Žena","55 a více let",5139.5986328125,39653.490909821201,20019.030258499999,21763.138345916701,23119.196599999999,23879.937699999999,25140.230070470599,25868.170084789301,26424.277869651902,27161.5891596373,27993.496462799201,29178.646884062498,29986.586364563202,30627.392576643098,31373.5117121025,32149.798558340499,32992.229471909297,33859.2890970675,34569.506482350604,35364.799696551599,36242.572191158702,37730.7535294962,40239.460989498599,42764.903274734999,44222.459397209102,45971.027615021601,48493.266471887102,52220.5764511323,56200.575126330397,68274.127592698496]
[{"$f":"IF(AND(StatData[[#This Row],[Shoda: Seskupený CZ-NACE]],StatData[[#This Row],[Shoda: Region]],StatData[[#This Row],[Shoda: Vzdělání]],StatData[[#This Row],[Shoda: Pohlaví]],StatData[[#This Row],[Shoda: Věk]]),1,0)","v":0},{"$f":"IF(StatData[[#This Row],[Seskupený CZ-NACE]]=VLOOKUP(Obor,TabObor[],2,0),1,0)","v":0},{"$f":"IF(StatData[[#This Row],[Region]]=VLOOKUP(Region,TabRegion[],2,0),1,0)","v":0},{"$f":"IF(StatData[[#This Row],[Vzdělání]]=Vzdělání,1,0)","v":0},{"$f":"IF(StatData[[#This Row],[Pohlaví]]=Pohlaví,1,0)","v":0},{"$f":"IF(StatData[[#This Row],[Věk]]=Věk,1,0)","v":1},211,"Obchod a doprava",2,"Vysokoškolské ","Muž","do 34 let    ",1337.69055175781,63644.603732133299,32141.1688667505,35924.645266772997,37301.9078486172,38856.153557645099,39986.825720968001,39986.825720968001,39986.825720968001,40441.890435380803,41163.491956022299,41390.222247541104,41731.1216280023,42915.821469159899,44082.6159641962,45019.166799222599,46588.911663181498,48179.236555071599,49347.522486679503,51074.1064913589,52074.243452542403,55083.555989071698,59251.1160508264,62376.306958920497,65985.691961727396,70068.835892636198,77370.085531853299,85069.813936741499,98474.664598247502,114765.194991703]
[{"$f":"IF(AND(StatData[[#This Row],[Shoda: Seskupený CZ-NACE]],StatData[[#This Row],[Shoda: Region]],StatData[[#This Row],[Shoda: Vzdělání]],StatData[[#This Row],[Shoda: Pohlaví]],StatData[[#This Row],[Shoda: Věk]]),1,0)","v":0},{"$f":"IF(StatData[[#This Row],[Seskupený CZ-NACE]]=VLOOKUP(Obor,TabObor[],2,0),1,0)","v":0},{"$f":"IF(StatData[[#This Row],[Region]]=VLOOKUP(Region,TabRegion[],2,0),1,0)","v":0},{"$f":"IF(StatData[[#This Row],[Vzdělání]]=Vzdělání,1,0)","v":0},{"$f":"IF(StatData[[#This Row],[Pohlaví]]=Pohlaví,1,0)","v":0},{"$f":"IF(StatData[[#This Row],[Věk]]=Věk,1,0)","v":0},212,"Obchod a doprava",2,"Vysokoškolské ","Muž","35 až 54 let ",4114.4638671875,86325.328500271193,24084.583299999998,27008.469859042401,28082.815410411898,31424.485099286201,34730.921160441503,35888.129816149798,38590.2643033473,40163.211742195097,43987.095030795899,45605.585920471203,47697.5009664756,50043.790456834497,53273.501318322204,55368.548809685002,56391.062918479198,58183.614791719803,60046.338074062602,62202.3861796325,65677.012516048504,69779.255585810504,75889.806798948703,82217.113791780503,89127.571806759006,100086.067466704,112563.245957885,137332.007588348,158456.30341471199,211552.62645720801]
[{"$f":"IF(AND(StatData[[#This Row],[Shoda: Seskupený CZ-NACE]],StatData[[#This Row],[Shoda: Region]],StatData[[#This Row],[Shoda: Vzdělání]],StatData[[#This Row],[Shoda: Pohlaví]],StatData[[#This Row],[Shoda: Věk]]),1,0)","v":0},{"$f":"IF(StatData[[#This Row],[Seskupený CZ-NACE]]=VLOOKUP(Obor,TabObor[],2,0),1,0)","v":0},{"$f":"IF(StatData[[#This Row],[Region]]=VLOOKUP(Region,TabRegion[],2,0),1,0)","v":0},{"$f":"IF(StatData[[#This Row],[Vzdělání]]=Vzdělání,1,0)","v":0},{"$f":"IF(StatData[[#This Row],[Pohlaví]]=Pohlaví,1,0)","v":0},{"$f":"IF(StatData[[#This Row],[Věk]]=Věk,1,0)","v":0},213,"Obchod a doprava",2,"Vysokoškolské ","Muž","55 a více let",2149.30981445313,76820.071090704703,20308.2140609325,22669.191079494802,24763.304164749999,26209.3961731667,26209.3961731667,30189.544159917299,30621.054741358501,33445.488851435599,33840.228575573499,36433.276778430904,38717.496205215997,41224.138349128501,42729.232166814203,43840.876329134102,44305.711753759999,46269.630151695201,50250.607367394201,52055.429346672703,55306.486203003602,61755.6762640948,71167.333117785398,80214.044906936499,80214.044906936499,87907.884284331201,100801.25043879999,120306.62875199399,148187.43557393301,196053.33198309701]
[{"$f":"IF(AND(StatData[[#This Row],[Shoda: Seskupený CZ-NACE]],StatData[[#This Row],[Shoda: Region]],StatData[[#This Row],[Shoda: Vzdělání]],StatData[[#This Row],[Shoda: Pohlaví]],StatData[[#This Row],[Shoda: Věk]]),1,0)","v":0},{"$f":"IF(StatData[[#This Row],[Seskupený CZ-NACE]]=VLOOKUP(Obor,TabObor[],2,0),1,0)","v":0},{"$f":"IF(StatData[[#This Row],[Region]]=VLOOKUP(Region,TabRegion[],2,0),1,0)","v":0},{"$f":"IF(StatData[[#This Row],[Vzdělání]]=Vzdělání,1,0)","v":0},{"$f":"IF(StatData[[#This Row],[Pohlaví]]=Pohlaví,1,0)","v":1},{"$f":"IF(StatData[[#This Row],[Věk]]=Věk,1,0)","v":1},214,"Obchod a doprava",2,"Vysokoškolské ","Žena","do 34 let    ",1603.42321777344,51586.335421887001,29008.396215809302,29699.142390738401,29772.151903910901,31455.290408663099,32759.531504460501,33568.478984754998,34779.251221280298,35805.660056546003,36762.023751859597,37210.967332517503,38286.1383159627,39689.523359287203,41221.722652369397,42249.516336073699,42679.799745555298,43830.951293048798,43963.877339163198,45041.510590764097,46170.339723194498,48733.791534203199,51559.685333137102,55133.913224258496,56167.489032958198,59955.6286768754,64402.935375069799,70102.052323054493,76116.655527080395,88019.640626806096]
[{"$f":"IF(AND(StatData[[#This Row],[Shoda: Seskupený CZ-NACE]],StatData[[#This Row],[Shoda: Region]],StatData[[#This Row],[Shoda: Vzdělání]],StatData[[#This Row],[Shoda: Pohlaví]],StatData[[#This Row],[Shoda: Věk]]),1,0)","v":0},{"$f":"IF(StatData[[#This Row],[Seskupený CZ-NACE]]=VLOOKUP(Obor,TabObor[],2,0),1,0)","v":0},{"$f":"IF(StatData[[#This Row],[Region]]=VLOOKUP(Region,TabRegion[],2,0),1,0)","v":0},{"$f":"IF(StatData[[#This Row],[Vzdělání]]=Vzdělání,1,0)","v":0},{"$f":"IF(StatData[[#This Row],[Pohlaví]]=Pohlaví,1,0)","v":1},{"$f":"IF(StatData[[#This Row],[Věk]]=Věk,1,0)","v":0},215,"Obchod a doprava",2,"Vysokoškolské ","Žena","35 až 54 let ",4190.74169921875,58739.285897157599,23613.186106500001,24132.5,27517.517038577698,28059.697500828799,29548.188630519999,30349.5437344196,32835.093896159298,34781.204386969701,36109.704983485397,37442.138198756496,39341.2659339452,40859.660533504801,42412.113208143302,43584.964003284404,45075.863683205404,46373.93090585,47604.250817023501,48657.654315104199,50589.541152498699,53121.612996908902,55546.391065142001,59225.791117186498,62831.383250112303,69097.740834510201,75601.063014638799,81573.469309796201,95968.685460587702,118024.29460277699]
[{"$f":"IF(AND(StatData[[#This Row],[Shoda: Seskupený CZ-NACE]],StatData[[#This Row],[Shoda: Region]],StatData[[#This Row],[Shoda: Vzdělání]],StatData[[#This Row],[Shoda: Pohlaví]],StatData[[#This Row],[Shoda: Věk]]),1,0)","v":0},{"$f":"IF(StatData[[#This Row],[Seskupený CZ-NACE]]=VLOOKUP(Obor,TabObor[],2,0),1,0)","v":0},{"$f":"IF(StatData[[#This Row],[Region]]=VLOOKUP(Region,TabRegion[],2,0),1,0)","v":0},{"$f":"IF(StatData[[#This Row],[Vzdělání]]=Vzdělání,1,0)","v":0},{"$f":"IF(StatData[[#This Row],[Pohlaví]]=Pohlaví,1,0)","v":1},{"$f":"IF(StatData[[#This Row],[Věk]]=Věk,1,0)","v":0},216,"Obchod a doprava",2,"Vysokoškolské ","Žena","55 a více let",971.777587890625,55156.645473645898,24957.106495,"*",27866.699000659301,"*",29895.370133950899,"*",31598.330887543601,"*",33040.426892271302,"*",36699.605884741301,"*",40708.699940268198,"*",44656.936391916301,"*",45699.790339734704,"*",46920.397348656603,50055.068870721501,53626.012433495103,58886.745734114404,60431.484032509899,65528.836670354598,72541.4239959064,81526.805593785,87308.346855363197,104743.310964383]
[{"$f":"IF(AND(StatData[[#This Row],[Shoda: Seskupený CZ-NACE]],StatData[[#This Row],[Shoda: Region]],StatData[[#This Row],[Shoda: Vzdělání]],StatData[[#This Row],[Shoda: Pohlaví]],StatData[[#This Row],[Shoda: Věk]]),1,0)","v":0},{"$f":"IF(StatData[[#This Row],[Seskupený CZ-NACE]]=VLOOKUP(Obor,TabObor[],2,0),1,0)","v":0},{"$f":"IF(StatData[[#This Row],[Region]]=VLOOKUP(Region,TabRegion[],2,0),1,0)","v":0},{"$f":"IF(StatData[[#This Row],[Vzdělání]]=Vzdělání,1,0)","v":0},{"$f":"IF(StatData[[#This Row],[Pohlaví]]=Pohlaví,1,0)","v":0},{"$f":"IF(StatData[[#This Row],[Věk]]=Věk,1,0)","v":1},217,"Obchod a doprava",3,"Střední bez maturity","Muž","do 34 let    ",17334.470703125,35447.132972012601,19556.5589,20302.3825,21242.5624700833,21687.833299999998,22136.483972440099,22574.765607358,23589.243926250001,24677.6842,25674.1834690018,26331.871522669699,27493.463044779801,28635.915297341198,29184.428612527299,30229.6907024272,30975.009961149099,31981.6754935399,32854.0793693862,33660.807448649197,34169.729726284902,35616.300703690897,37187.688716676501,38759.884157961402,40511.568138304501,42670.299914957701,44882.127063932203,47182.0531385387,50977.924309390597,57773.949860496803]
[{"$f":"IF(AND(StatData[[#This Row],[Shoda: Seskupený CZ-NACE]],StatData[[#This Row],[Shoda: Region]],StatData[[#This Row],[Shoda: Vzdělání]],StatData[[#This Row],[Shoda: Pohlaví]],StatData[[#This Row],[Shoda: Věk]]),1,0)","v":0},{"$f":"IF(StatData[[#This Row],[Seskupený CZ-NACE]]=VLOOKUP(Obor,TabObor[],2,0),1,0)","v":0},{"$f":"IF(StatData[[#This Row],[Region]]=VLOOKUP(Region,TabRegion[],2,0),1,0)","v":0},{"$f":"IF(StatData[[#This Row],[Vzdělání]]=Vzdělání,1,0)","v":0},{"$f":"IF(StatData[[#This Row],[Pohlaví]]=Pohlaví,1,0)","v":0},{"$f":"IF(StatData[[#This Row],[Věk]]=Věk,1,0)","v":0},218,"Obchod a doprava",3,"Střední bez maturity","Muž","35 až 54 let ",48216.3359375,38631.764951441502,19658.318200000002,20280.1791826972,21397.697706666699,21826.5255858333,22585.9408,23774.123648458801,25139.745351251098,26220.566313772299,26945.7137264134,28061.704583631599,29282.420716046799,30398.501761256499,31606.269837786898,32578.285171432599,33643.219283097998,34643.678744054298,35632.218666872002,36411.446249958499,37380.9890819137,39399.718844258998,41404.367581375103,43182.529326133801,45010.538624505898,46993.242248607603,49243.535630450198,52030.8331775181,55601.116342841997,62431.349023969102]
[{"$f":"IF(AND(StatData[[#This Row],[Shoda: Seskupený CZ-NACE]],StatData[[#This Row],[Shoda: Region]],StatData[[#This Row],[Shoda: Vzdělání]],StatData[[#This Row],[Shoda: Pohlaví]],StatData[[#This Row],[Shoda: Věk]]),1,0)","v":0},{"$f":"IF(StatData[[#This Row],[Seskupený CZ-NACE]]=VLOOKUP(Obor,TabObor[],2,0),1,0)","v":0},{"$f":"IF(StatData[[#This Row],[Region]]=VLOOKUP(Region,TabRegion[],2,0),1,0)","v":0},{"$f":"IF(StatData[[#This Row],[Vzdělání]]=Vzdělání,1,0)","v":0},{"$f":"IF(StatData[[#This Row],[Pohlaví]]=Pohlaví,1,0)","v":0},{"$f":"IF(StatData[[#This Row],[Věk]]=Věk,1,0)","v":0},219,"Obchod a doprava",3,"Střední bez maturity","Muž","55 a více let",20888.484375,39174.419108667098,20364.767134850099,21569.0311,22515.131186666698,23522.083299999998,24432.669300000001,25498.464499999998,26812.972565339402,27859.0936228916,28783.704381729,29872.0670245691,30786.139704860801,31999.4851189806,32988.4144926195,33846.458644447601,34649.777467977998,35825.312088229097,36851.060233026103,37684.889230612702,38552.035176605998,40219.2566526308,41966.007467990203,43370.562994864398,45038.7020215394,46859.861092629399,48846.100899504898,51657.074625907102,55374.586434686898,61182.126411600897]
[{"$f":"IF(AND(StatData[[#This Row],[Shoda: Seskupený CZ-NACE]],StatData[[#This Row],[Shoda: Region]],StatData[[#This Row],[Shoda: Vzdělání]],StatData[[#This Row],[Shoda: Pohlaví]],StatData[[#This Row],[Shoda: Věk]]),1,0)","v":0},{"$f":"IF(StatData[[#This Row],[Seskupený CZ-NACE]]=VLOOKUP(Obor,TabObor[],2,0),1,0)","v":0},{"$f":"IF(StatData[[#This Row],[Region]]=VLOOKUP(Region,TabRegion[],2,0),1,0)","v":0},{"$f":"IF(StatData[[#This Row],[Vzdělání]]=Vzdělání,1,0)","v":0},{"$f":"IF(StatData[[#This Row],[Pohlaví]]=Pohlaví,1,0)","v":1},{"$f":"IF(StatData[[#This Row],[Věk]]=Věk,1,0)","v":1},220,"Obchod a doprava",3,"Střední bez maturity","Žena","do 34 let    ",7191.1162109375,30644.844415759399,20991.7118883244,21905.787,22532.1205909167,22910.325499999999,23414.452381250001,24020.014500000001,24724.006399999998,25311.603299999999,25927.539640032501,26306.5545290519,26822.246184588599,27245.384185185601,27778.569349322501,28119.376258492699,28515.2426435331,28912.282329177098,29285.4061487049,29735.6209820232,30134.8300091538,30792.525614512801,31604.105138542101,32571.469478908301,33245.9566218849,33485.8589089448,34613.732001784003,36498.597888331002,39524.233793079802,44162.300831035398]
[{"$f":"IF(AND(StatData[[#This Row],[Shoda: Seskupený CZ-NACE]],StatData[[#This Row],[Shoda: Region]],StatData[[#This Row],[Shoda: Vzdělání]],StatData[[#This Row],[Shoda: Pohlaví]],StatData[[#This Row],[Shoda: Věk]]),1,0)","v":0},{"$f":"IF(StatData[[#This Row],[Seskupený CZ-NACE]]=VLOOKUP(Obor,TabObor[],2,0),1,0)","v":0},{"$f":"IF(StatData[[#This Row],[Region]]=VLOOKUP(Region,TabRegion[],2,0),1,0)","v":0},{"$f":"IF(StatData[[#This Row],[Vzdělání]]=Vzdělání,1,0)","v":0},{"$f":"IF(StatData[[#This Row],[Pohlaví]]=Pohlaví,1,0)","v":1},{"$f":"IF(StatData[[#This Row],[Věk]]=Věk,1,0)","v":0},221,"Obchod a doprava",3,"Střední bez maturity","Žena","35 až 54 let ",30297.34765625,30736.750597332,19010.48,20096.739338347001,21125.1220522972,21628.940884833301,22087.5,22551.107314376099,23180.5766236667,23565.906800000001,24353.9784826582,24898.988099999999,25417.117919402699,25957.647253198498,26491.0547807119,26878.358822819398,27422.352185456301,27892.1640375305,28376.255898176099,28800.858170064799,29278.450170476801,30130.548216623301,31033.188882233098,32130.322572244699,33400.883455321098,34802.274337099501,36680.234814840398,39145.706783893896,42368.288315075202,46944.669397248697]
[{"$f":"IF(AND(StatData[[#This Row],[Shoda: Seskupený CZ-NACE]],StatData[[#This Row],[Shoda: Region]],StatData[[#This Row],[Shoda: Vzdělání]],StatData[[#This Row],[Shoda: Pohlaví]],StatData[[#This Row],[Shoda: Věk]]),1,0)","v":0},{"$f":"IF(StatData[[#This Row],[Seskupený CZ-NACE]]=VLOOKUP(Obor,TabObor[],2,0),1,0)","v":0},{"$f":"IF(StatData[[#This Row],[Region]]=VLOOKUP(Region,TabRegion[],2,0),1,0)","v":0},{"$f":"IF(StatData[[#This Row],[Vzdělání]]=Vzdělání,1,0)","v":0},{"$f":"IF(StatData[[#This Row],[Pohlaví]]=Pohlaví,1,0)","v":1},{"$f":"IF(StatData[[#This Row],[Věk]]=Věk,1,0)","v":0},222,"Obchod a doprava",3,"Střední bez maturity","Žena","55 a více let",12717.1728515625,30395.7384035252,19918.933187366099,20760.088800000001,21558.665346321799,21772.023700000002,22090.390094119699,22671.0929,23054.811265416702,23313.000257600001,23932.7550876196,24444.133087443701,25021.3802464613,25545.1941643225,25895.306827088301,26152.747402656601,26606.425648920002,27071.819700137901,27668.002691616199,28254.5299766643,28709.6563302674,29659.019315519501,30377.082902364102,31224.5562169484,32635.788159647698,34181.268818945697,35988.0918389301,38616.117559579303,42557.390069608897,47649.655864701403]
[{"$f":"IF(AND(StatData[[#This Row],[Shoda: Seskupený CZ-NACE]],StatData[[#This Row],[Shoda: Region]],StatData[[#This Row],[Shoda: Vzdělání]],StatData[[#This Row],[Shoda: Pohlaví]],StatData[[#This Row],[Shoda: Věk]]),1,0)","v":0},{"$f":"IF(StatData[[#This Row],[Seskupený CZ-NACE]]=VLOOKUP(Obor,TabObor[],2,0),1,0)","v":0},{"$f":"IF(StatData[[#This Row],[Region]]=VLOOKUP(Region,TabRegion[],2,0),1,0)","v":0},{"$f":"IF(StatData[[#This Row],[Vzdělání]]=Vzdělání,1,0)","v":1},{"$f":"IF(StatData[[#This Row],[Pohlaví]]=Pohlaví,1,0)","v":0},{"$f":"IF(StatData[[#This Row],[Věk]]=Věk,1,0)","v":1},223,"Obchod a doprava",3,"Střední s maturitou a vyšší odborné","Muž","do 34 let    ",19777.197265625,41627.823684608498,22021.8513801667,22734.273064348501,23921.75,25290.235242065199,26770.601594548101,28045.008047860701,29278.651493414101,30266.096579272998,31158.5830422976,31874.666429549201,32823.868445954897,33617.9033183711,34413.625122072801,35326.510359030799,36023.265249044503,36776.556427310301,37593.974765626001,38363.655471628503,39176.514465061402,40706.299675490103,42748.602875085897,44564.900450528403,46577.115339117598,48969.459226429099,52107.405960138603,55858.218781169497,60763.798962652298,69129.264688757699]
[{"$f":"IF(AND(StatData[[#This Row],[Shoda: Seskupený CZ-NACE]],StatData[[#This Row],[Shoda: Region]],StatData[[#This Row],[Shoda: Vzdělání]],StatData[[#This Row],[Shoda: Pohlaví]],StatData[[#This Row],[Shoda: Věk]]),1,0)","v":0},{"$f":"IF(StatData[[#This Row],[Seskupený CZ-NACE]]=VLOOKUP(Obor,TabObor[],2,0),1,0)","v":0},{"$f":"IF(StatData[[#This Row],[Region]]=VLOOKUP(Region,TabRegion[],2,0),1,0)","v":0},{"$f":"IF(StatData[[#This Row],[Vzdělání]]=Vzdělání,1,0)","v":1},{"$f":"IF(StatData[[#This Row],[Pohlaví]]=Pohlaví,1,0)","v":0},{"$f":"IF(StatData[[#This Row],[Věk]]=Věk,1,0)","v":0},224,"Obchod a doprava",3,"Střední s maturitou a vyšší odborné","Muž","35 až 54 let ",42325.93359375,47768.610306013201,20106.900894841001,21770.770454166701,23428.308383083298,24979.5,26334.514558764,27474.247820636101,29592.214688047901,30999.0769699054,32640.414326601502,34031.076136827804,35239.276875250704,36399.602926109299,37282.449341111598,38506.6388843108,39680.329559705198,40658.6088247015,41650.724459023397,42478.466036436803,43763.168955107401,45737.624018007402,48194.203172985101,50985.570780066802,53665.768963706301,56636.130410116799,60621.534211369297,65164.320061877203,72009.349045570707,86864.205840151801]
[{"$f":"IF(AND(StatData[[#This Row],[Shoda: Seskupený CZ-NACE]],StatData[[#This Row],[Shoda: Region]],StatData[[#This Row],[Shoda: Vzdělání]],StatData[[#This Row],[Shoda: Pohlaví]],StatData[[#This Row],[Shoda: Věk]]),1,0)","v":0},{"$f":"IF(StatData[[#This Row],[Seskupený CZ-NACE]]=VLOOKUP(Obor,TabObor[],2,0),1,0)","v":0},{"$f":"IF(StatData[[#This Row],[Region]]=VLOOKUP(Region,TabRegion[],2,0),1,0)","v":0},{"$f":"IF(StatData[[#This Row],[Vzdělání]]=Vzdělání,1,0)","v":1},{"$f":"IF(StatData[[#This Row],[Pohlaví]]=Pohlaví,1,0)","v":0},{"$f":"IF(StatData[[#This Row],[Věk]]=Věk,1,0)","v":0},225,"Obchod a doprava",3,"Střední s maturitou a vyšší odborné","Muž","55 a více let",15060.66015625,48297.319050206701,22122.266500000002,23579.750982000001,25230.9064,26038.600602655501,26515.650378159298,28221.363627356899,30301.490946414098,31732.389235280702,32954.221142630297,34007.753027366904,35234.262010823397,36661.488796029502,38274.954276148397,39404.508282137402,40534.985230697799,41774.863269091802,42714.315953937301,44027.6434875212,45095.749761141,47182.686018811,48785.764506642299,50977.344781271997,53251.006192378998,55836.481891607102,58732.817312909603,62691.782299320701,68713.288930914699,81037.631266710698]
[{"$f":"IF(AND(StatData[[#This Row],[Shoda: Seskupený CZ-NACE]],StatData[[#This Row],[Shoda: Region]],StatData[[#This Row],[Shoda: Vzdělání]],StatData[[#This Row],[Shoda: Pohlaví]],StatData[[#This Row],[Shoda: Věk]]),1,0)","v":0},{"$f":"IF(StatData[[#This Row],[Seskupený CZ-NACE]]=VLOOKUP(Obor,TabObor[],2,0),1,0)","v":0},{"$f":"IF(StatData[[#This Row],[Region]]=VLOOKUP(Region,TabRegion[],2,0),1,0)","v":0},{"$f":"IF(StatData[[#This Row],[Vzdělání]]=Vzdělání,1,0)","v":1},{"$f":"IF(StatData[[#This Row],[Pohlaví]]=Pohlaví,1,0)","v":1},{"$f":"IF(StatData[[#This Row],[Věk]]=Věk,1,0)","v":1},226,"Obchod a doprava",3,"Střední s maturitou a vyšší odborné","Žena","do 34 let    ",16257.86328125,34262.345611938697,20805.528163499999,22412.33345975,23553.8135,24244.426969333301,25292.558891124499,26020.733554316201,26726.354956794301,27166.4101267802,27741.882371468801,28206.0316426842,28591.4477239429,28906.976383300302,29395.058499999999,29900.443650961799,30314.0805159349,30703.732903336499,31091.576192561301,31509.645473816599,32049.4575397851,33257.085129056301,34380.219373826803,35682.454919614996,37184.499325827303,39052.144224002303,41295.618037276603,43841.092603585697,47319.081027384898,53022.835160251103]
[{"$f":"IF(AND(StatData[[#This Row],[Shoda: Seskupený CZ-NACE]],StatData[[#This Row],[Shoda: Region]],StatData[[#This Row],[Shoda: Vzdělání]],StatData[[#This Row],[Shoda: Pohlaví]],StatData[[#This Row],[Shoda: Věk]]),1,0)","v":0},{"$f":"IF(StatData[[#This Row],[Seskupený CZ-NACE]]=VLOOKUP(Obor,TabObor[],2,0),1,0)","v":0},{"$f":"IF(StatData[[#This Row],[Region]]=VLOOKUP(Region,TabRegion[],2,0),1,0)","v":0},{"$f":"IF(StatData[[#This Row],[Vzdělání]]=Vzdělání,1,0)","v":1},{"$f":"IF(StatData[[#This Row],[Pohlaví]]=Pohlaví,1,0)","v":1},{"$f":"IF(StatData[[#This Row],[Věk]]=Věk,1,0)","v":0},227,"Obchod a doprava",3,"Střední s maturitou a vyšší odborné","Žena","35 až 54 let ",42733.26171875,36946.653481705602,21200.534914049698,22380.034867666702,23267.2186055989,24271.633803500001,25369.186122186798,26042.4686437399,26669.883441262202,27238.004711373302,27804.259244347399,28422.3627719537,29042.544355177299,29605.196527235101,30147.710274110101,30596.153789443,31147.816910074402,31758.095350809301,32342.365150781399,32885.802563746998,33618.209317049303,35253.086098391897,36887.1172606939,38654.721641276097,40813.411238137101,43123.365766452698,45543.458615296098,48928.4679716506,53332.545867807501,61829.443862343003]
[{"$f":"IF(AND(StatData[[#This Row],[Shoda: Seskupený CZ-NACE]],StatData[[#This Row],[Shoda: Region]],StatData[[#This Row],[Shoda: Vzdělání]],StatData[[#This Row],[Shoda: Pohlaví]],StatData[[#This Row],[Shoda: Věk]]),1,0)","v":0},{"$f":"IF(StatData[[#This Row],[Seskupený CZ-NACE]]=VLOOKUP(Obor,TabObor[],2,0),1,0)","v":0},{"$f":"IF(StatData[[#This Row],[Region]]=VLOOKUP(Region,TabRegion[],2,0),1,0)","v":0},{"$f":"IF(StatData[[#This Row],[Vzdělání]]=Vzdělání,1,0)","v":1},{"$f":"IF(StatData[[#This Row],[Pohlaví]]=Pohlaví,1,0)","v":1},{"$f":"IF(StatData[[#This Row],[Věk]]=Věk,1,0)","v":0},228,"Obchod a doprava",3,"Střední s maturitou a vyšší odborné","Žena","55 a více let",13387.0400390625,38627.480276451897,20251.802014000001,21407.777699999999,22509.75,24114.310300000001,24414.4489614294,25205.7906,25989.162441430301,26819.869114379599,27575.137681370699,28515.391718179599,29216.480300518298,29835.332809690499,30236.981467556201,30724.4229177013,31326.339598921699,31785.137773666502,32596.216715547402,33373.110690852503,34011.446365258897,35765.531163528001,37471.145181566797,39862.125164919802,42218.270756002399,44836.3578521491,47676.261294989497,51247.975761558097,55197.423468626803,66533.846139896894]
[{"$f":"IF(AND(StatData[[#This Row],[Shoda: Seskupený CZ-NACE]],StatData[[#This Row],[Shoda: Region]],StatData[[#This Row],[Shoda: Vzdělání]],StatData[[#This Row],[Shoda: Pohlaví]],StatData[[#This Row],[Shoda: Věk]]),1,0)","v":0},{"$f":"IF(StatData[[#This Row],[Seskupený CZ-NACE]]=VLOOKUP(Obor,TabObor[],2,0),1,0)","v":0},{"$f":"IF(StatData[[#This Row],[Region]]=VLOOKUP(Region,TabRegion[],2,0),1,0)","v":0},{"$f":"IF(StatData[[#This Row],[Vzdělání]]=Vzdělání,1,0)","v":0},{"$f":"IF(StatData[[#This Row],[Pohlaví]]=Pohlaví,1,0)","v":0},{"$f":"IF(StatData[[#This Row],[Věk]]=Věk,1,0)","v":1},229,"Obchod a doprava",3,"Vysokoškolské ","Muž","do 34 let    ",4549.72509765625,55312.045427107703,24051.354796593099,25704.4848734525,27112.016497244502,28660.056874970101,30774.094202333399,32772.545351125496,34655.737865422598,35514.589473446198,36533.606643664098,38035.393027950697,39435.460575972298,41263.886807383002,42357.212337355799,43542.096267174697,45015.522283575803,46387.157334238502,47598.711948006203,48350.567676217601,50119.527409916802,51755.813907927703,55463.982169590599,60128.960572475196,63665.104028591697,69296.9327580307,74108.125027044298,79625.824441946199,85667.541877709999,95496.341089987007]
[{"$f":"IF(AND(StatData[[#This Row],[Shoda: Seskupený CZ-NACE]],StatData[[#This Row],[Shoda: Region]],StatData[[#This Row],[Shoda: Vzdělání]],StatData[[#This Row],[Shoda: Pohlaví]],StatData[[#This Row],[Shoda: Věk]]),1,0)","v":0},{"$f":"IF(StatData[[#This Row],[Seskupený CZ-NACE]]=VLOOKUP(Obor,TabObor[],2,0),1,0)","v":0},{"$f":"IF(StatData[[#This Row],[Region]]=VLOOKUP(Region,TabRegion[],2,0),1,0)","v":0},{"$f":"IF(StatData[[#This Row],[Vzdělání]]=Vzdělání,1,0)","v":0},{"$f":"IF(StatData[[#This Row],[Pohlaví]]=Pohlaví,1,0)","v":0},{"$f":"IF(StatData[[#This Row],[Věk]]=Věk,1,0)","v":0},230,"Obchod a doprava",3,"Vysokoškolské ","Muž","35 až 54 let ",11888.060546875,67476.044999861901,20963.499560833301,22089.543764666701,24968.6666,26580.9391446667,29246.9973162801,31297.513725136501,32670.5712368647,35691.320514761501,38619.202914204798,40185.382964596,41846.550398842403,43457.339453977896,45249.8794813399,46269.263633667098,47626.880567368302,49883.432191335698,51437.670117017398,54075.803141082797,55658.871210960402,59211.190716221798,63967.021767090599,68761.555623514403,74266.114400340695,81099.437003389496,89329.552909251302,100760.26197429901,119886.02908472699,156802.86570461301]
[{"$f":"IF(AND(StatData[[#This Row],[Shoda: Seskupený CZ-NACE]],StatData[[#This Row],[Shoda: Region]],StatData[[#This Row],[Shoda: Vzdělání]],StatData[[#This Row],[Shoda: Pohlaví]],StatData[[#This Row],[Shoda: Věk]]),1,0)","v":0},{"$f":"IF(StatData[[#This Row],[Seskupený CZ-NACE]]=VLOOKUP(Obor,TabObor[],2,0),1,0)","v":0},{"$f":"IF(StatData[[#This Row],[Region]]=VLOOKUP(Region,TabRegion[],2,0),1,0)","v":0},{"$f":"IF(StatData[[#This Row],[Vzdělání]]=Vzdělání,1,0)","v":0},{"$f":"IF(StatData[[#This Row],[Pohlaví]]=Pohlaví,1,0)","v":0},{"$f":"IF(StatData[[#This Row],[Věk]]=Věk,1,0)","v":0},231,"Obchod a doprava",3,"Vysokoškolské ","Muž","55 a více let",5062.1123046875,63715.377903497298,20338.224224833299,21415.389123916699,23205.2831655833,25180.4982324091,26357.470031398701,29429.4255449923,31608.708855622401,33170.097328903299,34102.116162513499,34988.634537997503,38445.151918420102,40522.603964795097,42652.683645516503,44047.927396331099,45269.961862220996,46768.5698603212,48471.030687560597,50337.799672939902,51394.067567362203,55770.378325817997,59574.040804178498,64377.188102248598,69884.146043055196,75930.737577566397,84766.182771118503,95730.747213608003,102887.718524596,150319.21988478099]
[{"$f":"IF(AND(StatData[[#This Row],[Shoda: Seskupený CZ-NACE]],StatData[[#This Row],[Shoda: Region]],StatData[[#This Row],[Shoda: Vzdělání]],StatData[[#This Row],[Shoda: Pohlaví]],StatData[[#This Row],[Shoda: Věk]]),1,0)","v":0},{"$f":"IF(StatData[[#This Row],[Seskupený CZ-NACE]]=VLOOKUP(Obor,TabObor[],2,0),1,0)","v":0},{"$f":"IF(StatData[[#This Row],[Region]]=VLOOKUP(Region,TabRegion[],2,0),1,0)","v":0},{"$f":"IF(StatData[[#This Row],[Vzdělání]]=Vzdělání,1,0)","v":0},{"$f":"IF(StatData[[#This Row],[Pohlaví]]=Pohlaví,1,0)","v":1},{"$f":"IF(StatData[[#This Row],[Věk]]=Věk,1,0)","v":1},232,"Obchod a doprava",3,"Vysokoškolské ","Žena","do 34 let    ",4942.5400390625,44830.763581137297,22863.486462693501,25183.5554760138,26913.976886987399,27471.475708928501,28781.973436703702,29428.284955375198,30312.741218778101,31455.148797592901,32271.2921738931,33145.844032473397,33901.613507375398,34636.710264679197,35491.648773198503,36306.605381664704,37540.650728601802,38409.743644085502,38973.261655051501,40205.3422349393,41293.395697374101,42959.087687225503,45191.246822665998,46958.505050091,49505.528574290503,54191.689994460503,58928.328672661497,63867.745458238896,70250.598048314103,76934.831821693297]
[{"$f":"IF(AND(StatData[[#This Row],[Shoda: Seskupený CZ-NACE]],StatData[[#This Row],[Shoda: Region]],StatData[[#This Row],[Shoda: Vzdělání]],StatData[[#This Row],[Shoda: Pohlaví]],StatData[[#This Row],[Shoda: Věk]]),1,0)","v":0},{"$f":"IF(StatData[[#This Row],[Seskupený CZ-NACE]]=VLOOKUP(Obor,TabObor[],2,0),1,0)","v":0},{"$f":"IF(StatData[[#This Row],[Region]]=VLOOKUP(Region,TabRegion[],2,0),1,0)","v":0},{"$f":"IF(StatData[[#This Row],[Vzdělání]]=Vzdělání,1,0)","v":0},{"$f":"IF(StatData[[#This Row],[Pohlaví]]=Pohlaví,1,0)","v":1},{"$f":"IF(StatData[[#This Row],[Věk]]=Věk,1,0)","v":0},233,"Obchod a doprava",3,"Vysokoškolské ","Žena","35 až 54 let ",11239.927734375,52161.718393786599,21650.843050250001,23000,25395.743128056602,26396.7444,28893.819238862201,30377.554042979598,31718.936215244201,32841.501284855098,34225.616810203799,35031.169699054,35817.836143298402,37288.0400221522,38438.8773564765,39214.644817774497,40855.747784785897,41894.035582388096,43119.009126064302,44346.2435235417,45577.727742384101,48559.804990226199,51791.113919293901,55179.2375357493,58463.361396920503,62529.278414745997,68106.7215573211,74872.447055993296,84653.151527056601,99026.675988989795]
[{"$f":"IF(AND(StatData[[#This Row],[Shoda: Seskupený CZ-NACE]],StatData[[#This Row],[Shoda: Region]],StatData[[#This Row],[Shoda: Vzdělání]],StatData[[#This Row],[Shoda: Pohlaví]],StatData[[#This Row],[Shoda: Věk]]),1,0)","v":0},{"$f":"IF(StatData[[#This Row],[Seskupený CZ-NACE]]=VLOOKUP(Obor,TabObor[],2,0),1,0)","v":0},{"$f":"IF(StatData[[#This Row],[Region]]=VLOOKUP(Region,TabRegion[],2,0),1,0)","v":0},{"$f":"IF(StatData[[#This Row],[Vzdělání]]=Vzdělání,1,0)","v":0},{"$f":"IF(StatData[[#This Row],[Pohlaví]]=Pohlaví,1,0)","v":1},{"$f":"IF(StatData[[#This Row],[Věk]]=Věk,1,0)","v":0},234,"Obchod a doprava",3,"Vysokoškolské ","Žena","55 a více let",2693.77685546875,50230.325416906497,20304.591219583301,20349.911859083299,21608.908290666699,22742.5813442496,22874.052695083301,23735.049689510401,24825,26272.460633535899,29862.767180848601,30841.001465387501,33033.606407618703,33770.418715257198,34721.755478490697,36019.177375237101,36867.7045732767,39403.3694974678,41296.490740128997,43307.950704550698,45160.379873091602,47336.790650246701,52263.139269982603,54925.775940084801,58857.600280196297,62414.613682588199,66748.618814265297,70852.574929221199,82207.184372553602,93889.784075556207]
[{"$f":"IF(AND(StatData[[#This Row],[Shoda: Seskupený CZ-NACE]],StatData[[#This Row],[Shoda: Region]],StatData[[#This Row],[Shoda: Vzdělání]],StatData[[#This Row],[Shoda: Pohlaví]],StatData[[#This Row],[Shoda: Věk]]),1,0)","v":0},{"$f":"IF(StatData[[#This Row],[Seskupený CZ-NACE]]=VLOOKUP(Obor,TabObor[],2,0),1,0)","v":0},{"$f":"IF(StatData[[#This Row],[Region]]=VLOOKUP(Region,TabRegion[],2,0),1,0)","v":1},{"$f":"IF(StatData[[#This Row],[Vzdělání]]=Vzdělání,1,0)","v":0},{"$f":"IF(StatData[[#This Row],[Pohlaví]]=Pohlaví,1,0)","v":0},{"$f":"IF(StatData[[#This Row],[Věk]]=Věk,1,0)","v":1},235,"Služby v oblasti ubytování a stravování, nemovitosti a administrativy",1,"Střední bez maturity","Muž","do 34 let    ",3172.5048828125,33339.706098235198,19461.491099999999,19563.93,19957.2167985833,20366.164683800798,21586.122519333301,22368.792700000002,22761.0524,22854.875499999998,22972.4311842926,22990.482,23329.8292733206,23329.8292733206,23593.333299999998,24185.9458679856,24664.9166,25623.932000000001,27698.263961013901,29350.6209369555,31252.888492297101,34461.113166640702,35381.7030001944,36954.197972601403,39341.268117436397,41540.696701991801,44286.953320864901,46133.011291943098,50776.925414492303,56526.3831294103]
[{"$f":"IF(AND(StatData[[#This Row],[Shoda: Seskupený CZ-NACE]],StatData[[#This Row],[Shoda: Region]],StatData[[#This Row],[Shoda: Vzdělání]],StatData[[#This Row],[Shoda: Pohlaví]],StatData[[#This Row],[Shoda: Věk]]),1,0)","v":0},{"$f":"IF(StatData[[#This Row],[Seskupený CZ-NACE]]=VLOOKUP(Obor,TabObor[],2,0),1,0)","v":0},{"$f":"IF(StatData[[#This Row],[Region]]=VLOOKUP(Region,TabRegion[],2,0),1,0)","v":1},{"$f":"IF(StatData[[#This Row],[Vzdělání]]=Vzdělání,1,0)","v":0},{"$f":"IF(StatData[[#This Row],[Pohlaví]]=Pohlaví,1,0)","v":0},{"$f":"IF(StatData[[#This Row],[Věk]]=Věk,1,0)","v":0},236,"Služby v oblasti ubytování a stravování, nemovitosti a administrativy",1,"Střední bez maturity","Muž","35 až 54 let ",6123.43798828125,34317.372119564898,19957.2167985833,19957.2167985833,20581.108199999999,21420.766,21793.436771500001,21793.436771500001,21793.436771500001,22040.302726533901,22465.334800000001,22859.083299999998,23277.5183,23516.75,24055.183853208699,24055.183853208699,24401.6666,25475.254776484799,26257.3151,28337.607789683101,29557.689137326801,32565.683602100198,35432.512337574801,37276.535243675702,40007.332959341198,42826.182409937501,46039.466099062403,48925.614809410603,53707.199419526602,61862.327869287801]
[{"$f":"IF(AND(StatData[[#This Row],[Shoda: Seskupený CZ-NACE]],StatData[[#This Row],[Shoda: Region]],StatData[[#This Row],[Shoda: Vzdělání]],StatData[[#This Row],[Shoda: Pohlaví]],StatData[[#This Row],[Shoda: Věk]]),1,0)","v":0},{"$f":"IF(StatData[[#This Row],[Seskupený CZ-NACE]]=VLOOKUP(Obor,TabObor[],2,0),1,0)","v":0},{"$f":"IF(StatData[[#This Row],[Region]]=VLOOKUP(Region,TabRegion[],2,0),1,0)","v":1},{"$f":"IF(StatData[[#This Row],[Vzdělání]]=Vzdělání,1,0)","v":0},{"$f":"IF(StatData[[#This Row],[Pohlaví]]=Pohlaví,1,0)","v":0},{"$f":"IF(StatData[[#This Row],[Věk]]=Věk,1,0)","v":0},237,"Služby v oblasti ubytování a stravování, nemovitosti a administrativy",1,"Střední bez maturity","Muž","55 a více let",2934.40063476563,34610.389025863697,19534.669569017002,20581.0779,21302.438771567398,21841.829000000002,22255.25,22662.421699999999,23286.568299999999,23620.689600000002,23781.079300000001,24197.2438039156,24548.894700000001,25178.4166,26281.9166,27496.236473169502,28227.708764689101,28570.865192490401,29173.8704380335,30233.063789958702,31359.946111136,33853.117359898002,35267.567520363496,37866.0509293418,39812.553969425397,41804.261680339499,44761.8217129888,47437.934403733299,51101.498084103398,56131.952173281403]
[{"$f":"IF(AND(StatData[[#This Row],[Shoda: Seskupený CZ-NACE]],StatData[[#This Row],[Shoda: Region]],StatData[[#This Row],[Shoda: Vzdělání]],StatData[[#This Row],[Shoda: Pohlaví]],StatData[[#This Row],[Shoda: Věk]]),1,0)","v":0},{"$f":"IF(StatData[[#This Row],[Seskupený CZ-NACE]]=VLOOKUP(Obor,TabObor[],2,0),1,0)","v":0},{"$f":"IF(StatData[[#This Row],[Region]]=VLOOKUP(Region,TabRegion[],2,0),1,0)","v":1},{"$f":"IF(StatData[[#This Row],[Vzdělání]]=Vzdělání,1,0)","v":0},{"$f":"IF(StatData[[#This Row],[Pohlaví]]=Pohlaví,1,0)","v":1},{"$f":"IF(StatData[[#This Row],[Věk]]=Věk,1,0)","v":1},238,"Služby v oblasti ubytování a stravování, nemovitosti a administrativy",1,"Střední bez maturity","Žena","do 34 let    ",2002.50158691406,29281.624554243099,19350.199273405098,"*",19957.947655125601,"*",20014.8184771667,"*",20973.289143999998,"*",21305.194500000001,"*",21627.6666,"*",21826.574741276701,"*",22566.534599999999,"*",23485.357800000002,"*",25906.3312525,27658.940232586599,29802.506575337899,31367.061136533801,33052.511772903199,36305.577268168301,38346.455072517798,41249.254862010799,43622.573441639703,48466.105618119102]
[{"$f":"IF(AND(StatData[[#This Row],[Shoda: Seskupený CZ-NACE]],StatData[[#This Row],[Shoda: Region]],StatData[[#This Row],[Shoda: Vzdělání]],StatData[[#This Row],[Shoda: Pohlaví]],StatData[[#This Row],[Shoda: Věk]]),1,0)","v":0},{"$f":"IF(StatData[[#This Row],[Seskupený CZ-NACE]]=VLOOKUP(Obor,TabObor[],2,0),1,0)","v":0},{"$f":"IF(StatData[[#This Row],[Region]]=VLOOKUP(Region,TabRegion[],2,0),1,0)","v":1},{"$f":"IF(StatData[[#This Row],[Vzdělání]]=Vzdělání,1,0)","v":0},{"$f":"IF(StatData[[#This Row],[Pohlaví]]=Pohlaví,1,0)","v":1},{"$f":"IF(StatData[[#This Row],[Věk]]=Věk,1,0)","v":0},239,"Služby v oblasti ubytování a stravování, nemovitosti a administrativy",1,"Střední bez maturity","Žena","35 až 54 let ",4128.23583984375,29570.096188129599,18960.687699999999,19515.214400000001,19867.119260083298,20235.133051638699,20356.741999999998,20563.378400000001,21319.9166,21346.083299999998,21540.5347,21713.4967810833,21800.623100000001,21988.336190084701,22215.718355833302,22905.889472167899,23335.773399999998,23697,24337.25,24965.592899217299,25261.601600000002,27107.707364521299,29603.450603399298,31775.5191039278,34027.840575593997,36500.556809370799,38791.002743633697,41206.512000628602,43501.577242751002,49302.738639344199]
[{"$f":"IF(AND(StatData[[#This Row],[Shoda: Seskupený CZ-NACE]],StatData[[#This Row],[Shoda: Region]],StatData[[#This Row],[Shoda: Vzdělání]],StatData[[#This Row],[Shoda: Pohlaví]],StatData[[#This Row],[Shoda: Věk]]),1,0)","v":0},{"$f":"IF(StatData[[#This Row],[Seskupený CZ-NACE]]=VLOOKUP(Obor,TabObor[],2,0),1,0)","v":0},{"$f":"IF(StatData[[#This Row],[Region]]=VLOOKUP(Region,TabRegion[],2,0),1,0)","v":1},{"$f":"IF(StatData[[#This Row],[Vzdělání]]=Vzdělání,1,0)","v":0},{"$f":"IF(StatData[[#This Row],[Pohlaví]]=Pohlaví,1,0)","v":1},{"$f":"IF(StatData[[#This Row],[Věk]]=Věk,1,0)","v":0},240,"Služby v oblasti ubytování a stravování, nemovitosti a administrativy",1,"Střední bez maturity","Žena","55 a více let",2610.19506835938,27880.582603008199,18900.0000005,19112.583299999998,20118,20235.280125444198,20252.081362927602,20767.321599999999,21316.309600000001,21475.540400000002,21547.5535721161,21586.6666,22157.898700000002,22973.289089391499,23052.75,23376,23711.871999999999,24114.620299999999,24330.984151083299,24330.984151083299,24330.984151083299,24993.954099999999,26495.333299999998,28010.518684385101,29982.139503236001,32169.862792526601,34932.859016151597,37007.124041928,39960.697354031399,46842.152990310897]
[{"$f":"IF(AND(StatData[[#This Row],[Shoda: Seskupený CZ-NACE]],StatData[[#This Row],[Shoda: Region]],StatData[[#This Row],[Shoda: Vzdělání]],StatData[[#This Row],[Shoda: Pohlaví]],StatData[[#This Row],[Shoda: Věk]]),1,0)","v":0},{"$f":"IF(StatData[[#This Row],[Seskupený CZ-NACE]]=VLOOKUP(Obor,TabObor[],2,0),1,0)","v":0},{"$f":"IF(StatData[[#This Row],[Region]]=VLOOKUP(Region,TabRegion[],2,0),1,0)","v":1},{"$f":"IF(StatData[[#This Row],[Vzdělání]]=Vzdělání,1,0)","v":1},{"$f":"IF(StatData[[#This Row],[Pohlaví]]=Pohlaví,1,0)","v":0},{"$f":"IF(StatData[[#This Row],[Věk]]=Věk,1,0)","v":1},241,"Služby v oblasti ubytování a stravování, nemovitosti a administrativy",1,"Střední s maturitou a vyšší odborné","Muž","do 34 let    ",4771.48583984375,43293.896270917401,20226.7219,21911.141164479799,23429.398172000001,24912.5185055,26554.4166,28675.9165834175,29964.0468021501,30926.034741913001,32009.290904813999,33289.645304690101,34029.656666986499,34916.891905957396,36029.392119810298,36810.051259437503,37719.168554064599,38688.808525122797,39257.489026949603,40475.719306434898,41270.506700877602,42680.476503188198,44044.743487526001,45355.491594230698,47777.883151583497,49940.434155948496,53195.511211807803,56933.300995476202,63585.980952338403,73200.291046572805]
[{"$f":"IF(AND(StatData[[#This Row],[Shoda: Seskupený CZ-NACE]],StatData[[#This Row],[Shoda: Region]],StatData[[#This Row],[Shoda: Vzdělání]],StatData[[#This Row],[Shoda: Pohlaví]],StatData[[#This Row],[Shoda: Věk]]),1,0)","v":0},{"$f":"IF(StatData[[#This Row],[Seskupený CZ-NACE]]=VLOOKUP(Obor,TabObor[],2,0),1,0)","v":0},{"$f":"IF(StatData[[#This Row],[Region]]=VLOOKUP(Region,TabRegion[],2,0),1,0)","v":1},{"$f":"IF(StatData[[#This Row],[Vzdělání]]=Vzdělání,1,0)","v":1},{"$f":"IF(StatData[[#This Row],[Pohlaví]]=Pohlaví,1,0)","v":0},{"$f":"IF(StatData[[#This Row],[Věk]]=Věk,1,0)","v":0},242,"Služby v oblasti ubytování a stravování, nemovitosti a administrativy",1,"Střední s maturitou a vyšší odborné","Muž","35 až 54 let ",8005.8837890625,52377.615469938602,20120.1278775926,21391.9627,21809.888999999999,22890.6705,23400.25,23725.941299999999,24221,25744.485605666701,27084.600090558401,29192.952950129202,30429.147969454101,31358.453597207001,32889.842705311399,33964.906975560603,34756.659124130099,36745.453053890298,38343.036627685098,39801.426933125702,41552.024638973002,44538.476409903698,47730.383530764499,51067.2539029935,55197.176601921201,60802.103004203302,67696.888895310796,77285.194225774205,90350.555701164805,121002.22285642799]
[{"$f":"IF(AND(StatData[[#This Row],[Shoda: Seskupený CZ-NACE]],StatData[[#This Row],[Shoda: Region]],StatData[[#This Row],[Shoda: Vzdělání]],StatData[[#This Row],[Shoda: Pohlaví]],StatData[[#This Row],[Shoda: Věk]]),1,0)","v":0},{"$f":"IF(StatData[[#This Row],[Seskupený CZ-NACE]]=VLOOKUP(Obor,TabObor[],2,0),1,0)","v":0},{"$f":"IF(StatData[[#This Row],[Region]]=VLOOKUP(Region,TabRegion[],2,0),1,0)","v":1},{"$f":"IF(StatData[[#This Row],[Vzdělání]]=Vzdělání,1,0)","v":1},{"$f":"IF(StatData[[#This Row],[Pohlaví]]=Pohlaví,1,0)","v":0},{"$f":"IF(StatData[[#This Row],[Věk]]=Věk,1,0)","v":0},243,"Služby v oblasti ubytování a stravování, nemovitosti a administrativy",1,"Střední s maturitou a vyšší odborné","Muž","55 a více let",3127.35522460938,41173.4917415573,18947.3921220833,19304.6584,21238.4801977846,21238.4801977846,21238.4801977846,21812.066800000001,22883.428,23589.617200000001,23720.168206311399,24398.833299999998,24999.791823705898,25034.021953686999,26377.7696812709,26664.769026109399,28613.848963603599,29594.8644665967,30707.982242447499,30707.982242447499,32725.135830643601,37763.222536822199,40546.428665288797,44283.5632396988,48437.854959926299,49509.137556248403,55902.147714789302,61938.452238510501,65498.903872768999,83635.870629479803]
[{"$f":"IF(AND(StatData[[#This Row],[Shoda: Seskupený CZ-NACE]],StatData[[#This Row],[Shoda: Region]],StatData[[#This Row],[Shoda: Vzdělání]],StatData[[#This Row],[Shoda: Pohlaví]],StatData[[#This Row],[Shoda: Věk]]),1,0)","v":0},{"$f":"IF(StatData[[#This Row],[Seskupený CZ-NACE]]=VLOOKUP(Obor,TabObor[],2,0),1,0)","v":0},{"$f":"IF(StatData[[#This Row],[Region]]=VLOOKUP(Region,TabRegion[],2,0),1,0)","v":1},{"$f":"IF(StatData[[#This Row],[Vzdělání]]=Vzdělání,1,0)","v":1},{"$f":"IF(StatData[[#This Row],[Pohlaví]]=Pohlaví,1,0)","v":1},{"$f":"IF(StatData[[#This Row],[Věk]]=Věk,1,0)","v":1},244,"Služby v oblasti ubytování a stravování, nemovitosti a administrativy",1,"Střední s maturitou a vyšší odborné","Žena","do 34 let    ",5885.763671875,38400.337929192603,19508.701754998801,20416.1548,21327.333299999998,22274.654600000002,22660.287400000001,23680.411800000002,25253.171953666701,26429.983899999999,27649.175147780901,28465.958600742,29480.959058580302,29924.440592987299,30642.635433174801,31469.308474609999,32478.011225679398,33401.5106322543,34231.443443151496,34639.734543080202,35552.725429591897,36706.591761991098,38417.041077756199,39789.507587728702,41530.727595653298,43156.260240756201,45627.2247206092,48464.866134172698,54372.978322383598,65430.849683683198]
[{"$f":"IF(AND(StatData[[#This Row],[Shoda: Seskupený CZ-NACE]],StatData[[#This Row],[Shoda: Region]],StatData[[#This Row],[Shoda: Vzdělání]],StatData[[#This Row],[Shoda: Pohlaví]],StatData[[#This Row],[Shoda: Věk]]),1,0)","v":0},{"$f":"IF(StatData[[#This Row],[Seskupený CZ-NACE]]=VLOOKUP(Obor,TabObor[],2,0),1,0)","v":0},{"$f":"IF(StatData[[#This Row],[Region]]=VLOOKUP(Region,TabRegion[],2,0),1,0)","v":1},{"$f":"IF(StatData[[#This Row],[Vzdělání]]=Vzdělání,1,0)","v":1},{"$f":"IF(StatData[[#This Row],[Pohlaví]]=Pohlaví,1,0)","v":1},{"$f":"IF(StatData[[#This Row],[Věk]]=Věk,1,0)","v":0},245,"Služby v oblasti ubytování a stravování, nemovitosti a administrativy",1,"Střední s maturitou a vyšší odborné","Žena","35 až 54 let ",9070.1591796875,41633.123822588699,19650.9902,20954.583099916701,21310.833299999998,22137.25,22501.8753,23294.479899999998,24125.5864,25417.728998333299,25959.898300000001,26863.5266772055,27568.3035955052,29085.857647631099,30066.712889011102,31092.4975830771,32612.757417137502,33171.6970803351,34248.769224119504,35345.596686053599,36507.908714091602,38366.7449633367,40752.322305421301,42679.661142084202,45312.813139490201,48854.1167699406,51623.767041628402,56417.509378202602,66192.975663813195,84085.753152876496]
[{"$f":"IF(AND(StatData[[#This Row],[Shoda: Seskupený CZ-NACE]],StatData[[#This Row],[Shoda: Region]],StatData[[#This Row],[Shoda: Vzdělání]],StatData[[#This Row],[Shoda: Pohlaví]],StatData[[#This Row],[Shoda: Věk]]),1,0)","v":0},{"$f":"IF(StatData[[#This Row],[Seskupený CZ-NACE]]=VLOOKUP(Obor,TabObor[],2,0),1,0)","v":0},{"$f":"IF(StatData[[#This Row],[Region]]=VLOOKUP(Region,TabRegion[],2,0),1,0)","v":1},{"$f":"IF(StatData[[#This Row],[Vzdělání]]=Vzdělání,1,0)","v":1},{"$f":"IF(StatData[[#This Row],[Pohlaví]]=Pohlaví,1,0)","v":1},{"$f":"IF(StatData[[#This Row],[Věk]]=Věk,1,0)","v":0},246,"Služby v oblasti ubytování a stravování, nemovitosti a administrativy",1,"Střední s maturitou a vyšší odborné","Žena","55 a více let",3424.81298828125,39926.526900696503,20097.856500000002,21020.434700000002,21353.583299999998,22578.797200000001,23416,23928.4166,25526.083299999998,26727.391265753999,28035.500930675102,29001.669039193799,30055.059423188399,30424.378310796299,30424.378310796299,31614.088192130199,33061.700429990196,35087.168701261697,36199.194312048203,37749.072343004504,38308.990870904301,40768.4892859346,42414.274224697299,44632.129699689103,45513.569879609298,48501.0249193606,53145.693946285399,56939.565322258102,58355.540852931299,66684.257321429104]
[{"$f":"IF(AND(StatData[[#This Row],[Shoda: Seskupený CZ-NACE]],StatData[[#This Row],[Shoda: Region]],StatData[[#This Row],[Shoda: Vzdělání]],StatData[[#This Row],[Shoda: Pohlaví]],StatData[[#This Row],[Shoda: Věk]]),1,0)","v":0},{"$f":"IF(StatData[[#This Row],[Seskupený CZ-NACE]]=VLOOKUP(Obor,TabObor[],2,0),1,0)","v":0},{"$f":"IF(StatData[[#This Row],[Region]]=VLOOKUP(Region,TabRegion[],2,0),1,0)","v":1},{"$f":"IF(StatData[[#This Row],[Vzdělání]]=Vzdělání,1,0)","v":0},{"$f":"IF(StatData[[#This Row],[Pohlaví]]=Pohlaví,1,0)","v":0},{"$f":"IF(StatData[[#This Row],[Věk]]=Věk,1,0)","v":1},247,"Služby v oblasti ubytování a stravování, nemovitosti a administrativy",1,"Vysokoškolské ","Muž","do 34 let    ",3085.88208007813,58912.428121978301,18963.823182583299,23736.9482133333,26064.1666,29241.097176723499,35032.1080616627,38382.552762987798,40184.988657255599,41091.358912060299,42279.010726223503,42825.883801805001,43361.929494400101,44332.370274932102,45278.315136546502,45831.955809794301,46853.901273895099,48257.409658008102,49786.410731388998,51473.462819548302,52639.017049487797,55387.834095605504,57706.711447217502,61183.936838066198,64886.775574178399,70409.095641908105,76878.813254619599,83850.332976076796,97725.240161679903,115168.173366295]
[{"$f":"IF(AND(StatData[[#This Row],[Shoda: Seskupený CZ-NACE]],StatData[[#This Row],[Shoda: Region]],StatData[[#This Row],[Shoda: Vzdělání]],StatData[[#This Row],[Shoda: Pohlaví]],StatData[[#This Row],[Shoda: Věk]]),1,0)","v":0},{"$f":"IF(StatData[[#This Row],[Seskupený CZ-NACE]]=VLOOKUP(Obor,TabObor[],2,0),1,0)","v":0},{"$f":"IF(StatData[[#This Row],[Region]]=VLOOKUP(Region,TabRegion[],2,0),1,0)","v":1},{"$f":"IF(StatData[[#This Row],[Vzdělání]]=Vzdělání,1,0)","v":0},{"$f":"IF(StatData[[#This Row],[Pohlaví]]=Pohlaví,1,0)","v":0},{"$f":"IF(StatData[[#This Row],[Věk]]=Věk,1,0)","v":0},248,"Služby v oblasti ubytování a stravování, nemovitosti a administrativy",1,"Vysokoškolské ","Muž","35 až 54 let ",4163.36865234375,86141.445438758703,19314.98641075,20797.8469599167,23351.117699999999,24963,26283.9166,31907.236850317,35807.447682458303,38468.522358436603,41240.015956711097,43836.759503507397,45114.202887941101,46628.784604954802,49455.964871567798,52327.340106591,53925.711940457899,57483.223422493997,60106.603713804303,63548.166658071103,65753.324940619801,71580.663882494599,78572.305507398298,86305.9244876499,97793.590375721295,106427.042770324,118530.095833785,138312.220394478,167137.44921786399,214850.07437871699]
[{"$f":"IF(AND(StatData[[#This Row],[Shoda: Seskupený CZ-NACE]],StatData[[#This Row],[Shoda: Region]],StatData[[#This Row],[Shoda: Vzdělání]],StatData[[#This Row],[Shoda: Pohlaví]],StatData[[#This Row],[Shoda: Věk]]),1,0)","v":0},{"$f":"IF(StatData[[#This Row],[Seskupený CZ-NACE]]=VLOOKUP(Obor,TabObor[],2,0),1,0)","v":0},{"$f":"IF(StatData[[#This Row],[Region]]=VLOOKUP(Region,TabRegion[],2,0),1,0)","v":1},{"$f":"IF(StatData[[#This Row],[Vzdělání]]=Vzdělání,1,0)","v":0},{"$f":"IF(StatData[[#This Row],[Pohlaví]]=Pohlaví,1,0)","v":0},{"$f":"IF(StatData[[#This Row],[Věk]]=Věk,1,0)","v":0},249,"Služby v oblasti ubytování a stravování, nemovitosti a administrativy",1,"Vysokoškolské ","Muž","55 a více let",1652.91870117188,56410.232780220897,18905.431782250002,18905.431782250002,19626.4166,22266.989699999998,23022.848900000001,23641.75,26195.474600000001,28945.626270346798,30700.608665478299,31575.192389372001,32256.883167031399,35341.207661902401,36357.491728296402,36357.491728296402,36841.837769407903,38775.747955404899,41849.797766048803,45893.507924975602,47223.255549764901,48536.086463518201,51059.648087780399,51717.449352679701,58050.134473644503,63593.493757977398,73615.873837941399,87071.938348937198,110710.34751738999,128655.01432432501]
[{"$f":"IF(AND(StatData[[#This Row],[Shoda: Seskupený CZ-NACE]],StatData[[#This Row],[Shoda: Region]],StatData[[#This Row],[Shoda: Vzdělání]],StatData[[#This Row],[Shoda: Pohlaví]],StatData[[#This Row],[Shoda: Věk]]),1,0)","v":0},{"$f":"IF(StatData[[#This Row],[Seskupený CZ-NACE]]=VLOOKUP(Obor,TabObor[],2,0),1,0)","v":0},{"$f":"IF(StatData[[#This Row],[Region]]=VLOOKUP(Region,TabRegion[],2,0),1,0)","v":1},{"$f":"IF(StatData[[#This Row],[Vzdělání]]=Vzdělání,1,0)","v":0},{"$f":"IF(StatData[[#This Row],[Pohlaví]]=Pohlaví,1,0)","v":1},{"$f":"IF(StatData[[#This Row],[Věk]]=Věk,1,0)","v":1},250,"Služby v oblasti ubytování a stravování, nemovitosti a administrativy",1,"Vysokoškolské ","Žena","do 34 let    ",4515.6923828125,51164.293191179502,24900.991679487201,28728.472664786001,30924.4054895681,31938.739738226599,34509.142637982099,35146.004329248397,36662.958780718698,38064.974829896797,39197.107949165496,40307.387710488903,41067.659323815104,42076.806663162002,43010.892954672003,43789.300440178202,44437.901705410099,45220.453362047498,46097.688655917998,46505.607416806597,47685.606851220597,49103.749860906297,51450.151212800498,53256.526060641299,55395.075130987199,58171.067494921102,61950.945574078803,67253.7391616276,75068.503521453604,88472.362263081202]
[{"$f":"IF(AND(StatData[[#This Row],[Shoda: Seskupený CZ-NACE]],StatData[[#This Row],[Shoda: Region]],StatData[[#This Row],[Shoda: Vzdělání]],StatData[[#This Row],[Shoda: Pohlaví]],StatData[[#This Row],[Shoda: Věk]]),1,0)","v":0},{"$f":"IF(StatData[[#This Row],[Seskupený CZ-NACE]]=VLOOKUP(Obor,TabObor[],2,0),1,0)","v":0},{"$f":"IF(StatData[[#This Row],[Region]]=VLOOKUP(Region,TabRegion[],2,0),1,0)","v":1},{"$f":"IF(StatData[[#This Row],[Vzdělání]]=Vzdělání,1,0)","v":0},{"$f":"IF(StatData[[#This Row],[Pohlaví]]=Pohlaví,1,0)","v":1},{"$f":"IF(StatData[[#This Row],[Věk]]=Věk,1,0)","v":0},251,"Služby v oblasti ubytování a stravování, nemovitosti a administrativy",1,"Vysokoškolské ","Žena","35 až 54 let ",6070.771484375,61257.309764471,22888.6666,25777.819696999999,26648.644396424501,28125.934992765298,29867.176654996201,32888.230288239603,34917.845941394902,37265.3912177245,39638.594536905897,40487.709487332897,40986.686826716403,42217.854386457897,43227.647192897603,44033.9249184535,45163.7069851989,46354.098606317297,48174.381932343596,50022.5375926497,51415.754727163403,54344.377792020598,58024.155068333203,63008.941974317997,68027.060142071394,73250.386870313407,80658.567045597505,89598.204747019699,102114.545577021,125258.59669127]
[{"$f":"IF(AND(StatData[[#This Row],[Shoda: Seskupený CZ-NACE]],StatData[[#This Row],[Shoda: Region]],StatData[[#This Row],[Shoda: Vzdělání]],StatData[[#This Row],[Shoda: Pohlaví]],StatData[[#This Row],[Shoda: Věk]]),1,0)","v":0},{"$f":"IF(StatData[[#This Row],[Seskupený CZ-NACE]]=VLOOKUP(Obor,TabObor[],2,0),1,0)","v":0},{"$f":"IF(StatData[[#This Row],[Region]]=VLOOKUP(Region,TabRegion[],2,0),1,0)","v":1},{"$f":"IF(StatData[[#This Row],[Vzdělání]]=Vzdělání,1,0)","v":0},{"$f":"IF(StatData[[#This Row],[Pohlaví]]=Pohlaví,1,0)","v":1},{"$f":"IF(StatData[[#This Row],[Věk]]=Věk,1,0)","v":0},252,"Služby v oblasti ubytování a stravování, nemovitosti a administrativy",1,"Vysokoškolské ","Žena","55 a více let",1061.52905273438,61923.143370714199,21809.706850848699,24022,27430.0782038129,28728.4726649527,29237.5447089384,30035.625370007099,30891.340586462102,32403.404075017399,33571.907399887903,34229.991795855203,36683.000481087802,37437.834816968003,40249.937444958501,42969.298611875602,45542.6110106204,47567.866177688098,50192.611011014596,53229.6830344341,54797.366368672701,54857.030273010503,57112.7822778564,61398.044257221598,63762.1252704566,66122.127749975203,81583.619159153997,88941.637553813503,105473.899204696,131961.50163521199]
[{"$f":"IF(AND(StatData[[#This Row],[Shoda: Seskupený CZ-NACE]],StatData[[#This Row],[Shoda: Region]],StatData[[#This Row],[Shoda: Vzdělání]],StatData[[#This Row],[Shoda: Pohlaví]],StatData[[#This Row],[Shoda: Věk]]),1,0)","v":0},{"$f":"IF(StatData[[#This Row],[Seskupený CZ-NACE]]=VLOOKUP(Obor,TabObor[],2,0),1,0)","v":0},{"$f":"IF(StatData[[#This Row],[Region]]=VLOOKUP(Region,TabRegion[],2,0),1,0)","v":0},{"$f":"IF(StatData[[#This Row],[Vzdělání]]=Vzdělání,1,0)","v":0},{"$f":"IF(StatData[[#This Row],[Pohlaví]]=Pohlaví,1,0)","v":0},{"$f":"IF(StatData[[#This Row],[Věk]]=Věk,1,0)","v":1},253,"Služby v oblasti ubytování a stravování, nemovitosti a administrativy",2,"Střední bez maturity","Muž","do 34 let    ",2113.45849609375,32580.732366333701,19799.482899999999,20224.6594,20575.5726,20870.5517,21399.371299999999,22106.519540166701,22106.519540166701,22480.086157920101,23082.854387161598,23398.664400000001,23542.164795683198,24094.739000000001,24460,25075.075000000001,26071.0147831508,27032.730512141999,27821.7199310789,28653.259316042,28654.0593635367,29519.5204151746,31609.665221949901,34154.907049802598,37723.731024020599,40190.873859603897,42691.7317166793,45564.004707310101,52130.7659170728,57264.639267620798]
[{"$f":"IF(AND(StatData[[#This Row],[Shoda: Seskupený CZ-NACE]],StatData[[#This Row],[Shoda: Region]],StatData[[#This Row],[Shoda: Vzdělání]],StatData[[#This Row],[Shoda: Pohlaví]],StatData[[#This Row],[Shoda: Věk]]),1,0)","v":0},{"$f":"IF(StatData[[#This Row],[Seskupený CZ-NACE]]=VLOOKUP(Obor,TabObor[],2,0),1,0)","v":0},{"$f":"IF(StatData[[#This Row],[Region]]=VLOOKUP(Region,TabRegion[],2,0),1,0)","v":0},{"$f":"IF(StatData[[#This Row],[Vzdělání]]=Vzdělání,1,0)","v":0},{"$f":"IF(StatData[[#This Row],[Pohlaví]]=Pohlaví,1,0)","v":0},{"$f":"IF(StatData[[#This Row],[Věk]]=Věk,1,0)","v":0},254,"Služby v oblasti ubytování a stravování, nemovitosti a administrativy",2,"Střední bez maturity","Muž","35 až 54 let ",4730.416015625,32705.758228876199,19579.583299999998,19720.316095777802,20074.289033671601,20466.669900000001,21188.8344,21746.7248,22050.01485675,22457.886612701601,22650.6666,22870.221853597799,23100.889599999999,23546.409459583301,23803.847459416698,24123.13620225,24407.915199999999,25062.248899999999,25805.5290042489,25983.248562018402,27127.733561080298,28679.2609826853,30682.9165591368,33621.208485790703,35951.222329386597,40042.6454393202,43328.122680250999,47461.013441470102,52044.650361374697,60285.8321136214]
[{"$f":"IF(AND(StatData[[#This Row],[Shoda: Seskupený CZ-NACE]],StatData[[#This Row],[Shoda: Region]],StatData[[#This Row],[Shoda: Vzdělání]],StatData[[#This Row],[Shoda: Pohlaví]],StatData[[#This Row],[Shoda: Věk]]),1,0)","v":0},{"$f":"IF(StatData[[#This Row],[Seskupený CZ-NACE]]=VLOOKUP(Obor,TabObor[],2,0),1,0)","v":0},{"$f":"IF(StatData[[#This Row],[Region]]=VLOOKUP(Region,TabRegion[],2,0),1,0)","v":0},{"$f":"IF(StatData[[#This Row],[Vzdělání]]=Vzdělání,1,0)","v":0},{"$f":"IF(StatData[[#This Row],[Pohlaví]]=Pohlaví,1,0)","v":0},{"$f":"IF(StatData[[#This Row],[Věk]]=Věk,1,0)","v":0},255,"Služby v oblasti ubytování a stravování, nemovitosti a administrativy",2,"Střední bez maturity","Muž","55 a více let",2341.22143554688,30317.265550362499,19196.2345769167,19526.083299999998,19994.083299999998,20423.1263,20868.145424219001,21297.1387,21655.75,21908.4166,22348.2713,22414.783617749999,22414.783617749999,22511.518700000001,22907.641599999999,23119.503924508899,23119.503924508899,23778.298588170201,24288.6522,24564.7003,24900.25,25261.548200000001,27033.416608116098,29635.320585088401,31760.595587578398,35242.429849614797,39940.371462214302,43849.168427285404,48220.072993856498,56674.035718078499]
[{"$f":"IF(AND(StatData[[#This Row],[Shoda: Seskupený CZ-NACE]],StatData[[#This Row],[Shoda: Region]],StatData[[#This Row],[Shoda: Vzdělání]],StatData[[#This Row],[Shoda: Pohlaví]],StatData[[#This Row],[Shoda: Věk]]),1,0)","v":0},{"$f":"IF(StatData[[#This Row],[Seskupený CZ-NACE]]=VLOOKUP(Obor,TabObor[],2,0),1,0)","v":0},{"$f":"IF(StatData[[#This Row],[Region]]=VLOOKUP(Region,TabRegion[],2,0),1,0)","v":0},{"$f":"IF(StatData[[#This Row],[Vzdělání]]=Vzdělání,1,0)","v":0},{"$f":"IF(StatData[[#This Row],[Pohlaví]]=Pohlaví,1,0)","v":1},{"$f":"IF(StatData[[#This Row],[Věk]]=Věk,1,0)","v":1},256,"Služby v oblasti ubytování a stravování, nemovitosti a administrativy",2,"Střední bez maturity","Žena","do 34 let    ",1381.6103515625,28540.9152666681,19567.836200000002,19759.510900000001,20326.1364047897,20395.7333,20953.1348,21299.156200000001,21793.478200000001,22476.6622223333,22984.759798515599,23042.481100000001,23359.3896717223,23623.7898887138,24673.666179167201,25368.512699999999,25701.083299999998,25950.0229895333,25950.0229895333,26116.0393802371,26635.072973224302,26947.744029145499,28412.2552740881,29087.508600000001,29913.392483981999,31231.937865231401,34281.272205662703,36973.6935005946,38920.775831409403,45330.463835993898]
[{"$f":"IF(AND(StatData[[#This Row],[Shoda: Seskupený CZ-NACE]],StatData[[#This Row],[Shoda: Region]],StatData[[#This Row],[Shoda: Vzdělání]],StatData[[#This Row],[Shoda: Pohlaví]],StatData[[#This Row],[Shoda: Věk]]),1,0)","v":0},{"$f":"IF(StatData[[#This Row],[Seskupený CZ-NACE]]=VLOOKUP(Obor,TabObor[],2,0),1,0)","v":0},{"$f":"IF(StatData[[#This Row],[Region]]=VLOOKUP(Region,TabRegion[],2,0),1,0)","v":0},{"$f":"IF(StatData[[#This Row],[Vzdělání]]=Vzdělání,1,0)","v":0},{"$f":"IF(StatData[[#This Row],[Pohlaví]]=Pohlaví,1,0)","v":1},{"$f":"IF(StatData[[#This Row],[Věk]]=Věk,1,0)","v":0},257,"Služby v oblasti ubytování a stravování, nemovitosti a administrativy",2,"Střední bez maturity","Žena","35 až 54 let ",5518.70947265625,26715.397530349299,19240.166799999999,19650.940600000002,19992.098999999998,20027.7267989063,20070.292935916699,20220.078397916699,20337.079773781901,20624.143199999999,20808.1453,21086.7143,21317.333299999998,21762.645799999998,21849.289115666699,22031.9149260247,22552.7009,22671.9447619167,22820.156200000001,23124.061271402301,23369.3716041888,23623.540934083299,24441.117699999999,25352.952099999999,26722.6961172308,29078.193407435101,31387.730933478801,35721.566432485299,40844.346600439399,46378.973581893901]
[{"$f":"IF(AND(StatData[[#This Row],[Shoda: Seskupený CZ-NACE]],StatData[[#This Row],[Shoda: Region]],StatData[[#This Row],[Shoda: Vzdělání]],StatData[[#This Row],[Shoda: Pohlaví]],StatData[[#This Row],[Shoda: Věk]]),1,0)","v":0},{"$f":"IF(StatData[[#This Row],[Seskupený CZ-NACE]]=VLOOKUP(Obor,TabObor[],2,0),1,0)","v":0},{"$f":"IF(StatData[[#This Row],[Region]]=VLOOKUP(Region,TabRegion[],2,0),1,0)","v":0},{"$f":"IF(StatData[[#This Row],[Vzdělání]]=Vzdělání,1,0)","v":0},{"$f":"IF(StatData[[#This Row],[Pohlaví]]=Pohlaví,1,0)","v":1},{"$f":"IF(StatData[[#This Row],[Věk]]=Věk,1,0)","v":0},258,"Služby v oblasti ubytování a stravování, nemovitosti a administrativy",2,"Střední bez maturity","Žena","55 a více let",2370.06469726563,27614.8941531569,18923.696061166698,19724.443800000001,20368.333500000001,20986.437699999999,21297.471099999999,21751.284800000001,21883.202953091499,22157.704699999998,22598.6666,22782.602512304798,22782.602512304798,22871.533565999998,22871.533565999998,22975.42587925,23218.4247,23757.203799999999,24027.404900000001,24068.682824706299,24506.214599999999,25878.919777136001,26701.021005164799,27605.534503800402,28279.6258733592,30388.646654869,31785.218097884401,35090.461403063397,40498.638002104803,45533.545820597697]
[{"$f":"IF(AND(StatData[[#This Row],[Shoda: Seskupený CZ-NACE]],StatData[[#This Row],[Shoda: Region]],StatData[[#This Row],[Shoda: Vzdělání]],StatData[[#This Row],[Shoda: Pohlaví]],StatData[[#This Row],[Shoda: Věk]]),1,0)","v":0},{"$f":"IF(StatData[[#This Row],[Seskupený CZ-NACE]]=VLOOKUP(Obor,TabObor[],2,0),1,0)","v":0},{"$f":"IF(StatData[[#This Row],[Region]]=VLOOKUP(Region,TabRegion[],2,0),1,0)","v":0},{"$f":"IF(StatData[[#This Row],[Vzdělání]]=Vzdělání,1,0)","v":1},{"$f":"IF(StatData[[#This Row],[Pohlaví]]=Pohlaví,1,0)","v":0},{"$f":"IF(StatData[[#This Row],[Věk]]=Věk,1,0)","v":1},259,"Služby v oblasti ubytování a stravování, nemovitosti a administrativy",2,"Střední s maturitou a vyšší odborné","Muž","do 34 let    ",1913.21325683594,33787.905558298698,"*","*","*","*","*","*","*","*",19620.0834,"*","*","*","*","*","*","*","*","*",29633.873989040501,"*","*","*","*",40818.330350621603,"*","*","*","*"]
[{"$f":"IF(AND(StatData[[#This Row],[Shoda: Seskupený CZ-NACE]],StatData[[#This Row],[Shoda: Region]],StatData[[#This Row],[Shoda: Vzdělání]],StatData[[#This Row],[Shoda: Pohlaví]],StatData[[#This Row],[Shoda: Věk]]),1,0)","v":0},{"$f":"IF(StatData[[#This Row],[Seskupený CZ-NACE]]=VLOOKUP(Obor,TabObor[],2,0),1,0)","v":0},{"$f":"IF(StatData[[#This Row],[Region]]=VLOOKUP(Region,TabRegion[],2,0),1,0)","v":0},{"$f":"IF(StatData[[#This Row],[Vzdělání]]=Vzdělání,1,0)","v":1},{"$f":"IF(StatData[[#This Row],[Pohlaví]]=Pohlaví,1,0)","v":0},{"$f":"IF(StatData[[#This Row],[Věk]]=Věk,1,0)","v":0},260,"Služby v oblasti ubytování a stravování, nemovitosti a administrativy",2,"Střední s maturitou a vyšší odborné","Muž","35 až 54 let ",3450.05712890625,41497.322144676997,20764.8040991667,20764.8040991667,21445.511091332501,21773.267899999999,21829.1560356667,22034.621838250001,22909.555199999999,24038.833299999998,24367.398815333301,25896.863969661099,27299.0147095012,27572.964140259901,28236.318243791,29327.285145297501,30652.852845377001,32730.274523296201,33172.557361192201,34447.976804012098,36281.106134251699,40686.975140691102,42073.700197088903,44723.378629701299,47512.413436219002,52074.966707102001,56205.536257163702,61674.972741006801,67472.0692869466,75773.931192047501]
[{"$f":"IF(AND(StatData[[#This Row],[Shoda: Seskupený CZ-NACE]],StatData[[#This Row],[Shoda: Region]],StatData[[#This Row],[Shoda: Vzdělání]],StatData[[#This Row],[Shoda: Pohlaví]],StatData[[#This Row],[Shoda: Věk]]),1,0)","v":0},{"$f":"IF(StatData[[#This Row],[Seskupený CZ-NACE]]=VLOOKUP(Obor,TabObor[],2,0),1,0)","v":0},{"$f":"IF(StatData[[#This Row],[Region]]=VLOOKUP(Region,TabRegion[],2,0),1,0)","v":0},{"$f":"IF(StatData[[#This Row],[Vzdělání]]=Vzdělání,1,0)","v":1},{"$f":"IF(StatData[[#This Row],[Pohlaví]]=Pohlaví,1,0)","v":0},{"$f":"IF(StatData[[#This Row],[Věk]]=Věk,1,0)","v":0},261,"Služby v oblasti ubytování a stravování, nemovitosti a administrativy",2,"Střední s maturitou a vyšší odborné","Muž","55 a více let",1093.29553222656,39439.099063236201,19064.1666,19594.793900000001,20338.869500000001,21000.5837658696,21996.037799999998,22554.673599999998,22975.1666,23717.330804666701,24395.333299999998,24544.389599999999,24544.389599999999,25818.149037717001,26379.0887059167,26379.0887059167,27162.192335770502,27560.256522264001,29381.303364724299,29381.303364724299,30025.2994685704,32614.470983432599,36976.1595226875,40684.2712491653,45616.853461940402,48460.280817292798,50948.591436508599,59975.4760484289,68582.130356301393,78774.850258970997]
[{"$f":"IF(AND(StatData[[#This Row],[Shoda: Seskupený CZ-NACE]],StatData[[#This Row],[Shoda: Region]],StatData[[#This Row],[Shoda: Vzdělání]],StatData[[#This Row],[Shoda: Pohlaví]],StatData[[#This Row],[Shoda: Věk]]),1,0)","v":0},{"$f":"IF(StatData[[#This Row],[Seskupený CZ-NACE]]=VLOOKUP(Obor,TabObor[],2,0),1,0)","v":0},{"$f":"IF(StatData[[#This Row],[Region]]=VLOOKUP(Region,TabRegion[],2,0),1,0)","v":0},{"$f":"IF(StatData[[#This Row],[Vzdělání]]=Vzdělání,1,0)","v":1},{"$f":"IF(StatData[[#This Row],[Pohlaví]]=Pohlaví,1,0)","v":1},{"$f":"IF(StatData[[#This Row],[Věk]]=Věk,1,0)","v":1},262,"Služby v oblasti ubytování a stravování, nemovitosti a administrativy",2,"Střední s maturitou a vyšší odborné","Žena","do 34 let    ",2201.16064453125,31003.204992358402,19382.458366955601,"*",20424.1411692888,"*",20764.8040991667,"*",21388.208900000001,"*",23428.308383083298,"*",23984.949400000001,"*",25436.9166,"*",26898.300033654701,"*",27928.7989278243,"*",28873.136052340298,30624.325189561499,31164.5604423117,32354.013918538902,34461.757658786497,36204.725241776097,38076.1330435989,40391.463059226699,41398.844204413901,48244.642639573103]
[{"$f":"IF(AND(StatData[[#This Row],[Shoda: Seskupený CZ-NACE]],StatData[[#This Row],[Shoda: Region]],StatData[[#This Row],[Shoda: Vzdělání]],StatData[[#This Row],[Shoda: Pohlaví]],StatData[[#This Row],[Shoda: Věk]]),1,0)","v":0},{"$f":"IF(StatData[[#This Row],[Seskupený CZ-NACE]]=VLOOKUP(Obor,TabObor[],2,0),1,0)","v":0},{"$f":"IF(StatData[[#This Row],[Region]]=VLOOKUP(Region,TabRegion[],2,0),1,0)","v":0},{"$f":"IF(StatData[[#This Row],[Vzdělání]]=Vzdělání,1,0)","v":1},{"$f":"IF(StatData[[#This Row],[Pohlaví]]=Pohlaví,1,0)","v":1},{"$f":"IF(StatData[[#This Row],[Věk]]=Věk,1,0)","v":0},263,"Služby v oblasti ubytování a stravování, nemovitosti a administrativy",2,"Střední s maturitou a vyšší odborné","Žena","35 až 54 let ",5458.765625,34511.379151280198,19451.115077595201,19736.6096,19918.175330499998,19918.175330499998,21816.5,21828.974620222201,21986.7657987778,22271.688300000002,23737.425134916699,24695.8066,24924.4166,25901.186680075702,27055.357011029198,27945.825619667899,28902.6122690665,30390.653106225102,30764.728673199301,31845.066727094902,32742.256386114299,34204.072424769904,35480.769499674498,37258.683972690698,39270.829701082999,41604.939947327701,44248.607563835903,46578.716385124397,50783.317827705199,59107.1074370399]
[{"$f":"IF(AND(StatData[[#This Row],[Shoda: Seskupený CZ-NACE]],StatData[[#This Row],[Shoda: Region]],StatData[[#This Row],[Shoda: Vzdělání]],StatData[[#This Row],[Shoda: Pohlaví]],StatData[[#This Row],[Shoda: Věk]]),1,0)","v":0},{"$f":"IF(StatData[[#This Row],[Seskupený CZ-NACE]]=VLOOKUP(Obor,TabObor[],2,0),1,0)","v":0},{"$f":"IF(StatData[[#This Row],[Region]]=VLOOKUP(Region,TabRegion[],2,0),1,0)","v":0},{"$f":"IF(StatData[[#This Row],[Vzdělání]]=Vzdělání,1,0)","v":1},{"$f":"IF(StatData[[#This Row],[Pohlaví]]=Pohlaví,1,0)","v":1},{"$f":"IF(StatData[[#This Row],[Věk]]=Věk,1,0)","v":0},264,"Služby v oblasti ubytování a stravování, nemovitosti a administrativy",2,"Střední s maturitou a vyšší odborné","Žena","55 a více let",1731.93432617188,34941.0964986662,19314.98641075,19314.98641075,19314.98641075,19377.7910124029,19576.1108234274,19765.571100000001,20420.989828666701,20797.577300000001,21719.1666,22134.742099999999,22754.1666,23598.284199999998,24627.509600000001,25703.833299999998,26480.984638501199,27626.4301892898,28939.131210179399,29486.918367101898,29951.287677572102,32246.5301396004,34662.4803664586,36173.684448706197,38529.592215525801,40552.894006358598,41736.396496041998,47433.203512819702,60685.129093107702,82720.124644038195]
[{"$f":"IF(AND(StatData[[#This Row],[Shoda: Seskupený CZ-NACE]],StatData[[#This Row],[Shoda: Region]],StatData[[#This Row],[Shoda: Vzdělání]],StatData[[#This Row],[Shoda: Pohlaví]],StatData[[#This Row],[Shoda: Věk]]),1,0)","v":0},{"$f":"IF(StatData[[#This Row],[Seskupený CZ-NACE]]=VLOOKUP(Obor,TabObor[],2,0),1,0)","v":0},{"$f":"IF(StatData[[#This Row],[Region]]=VLOOKUP(Region,TabRegion[],2,0),1,0)","v":0},{"$f":"IF(StatData[[#This Row],[Vzdělání]]=Vzdělání,1,0)","v":0},{"$f":"IF(StatData[[#This Row],[Pohlaví]]=Pohlaví,1,0)","v":0},{"$f":"IF(StatData[[#This Row],[Věk]]=Věk,1,0)","v":1},265,"Služby v oblasti ubytování a stravování, nemovitosti a administrativy",2,"Vysokoškolské ","Muž","do 34 let    ","*","*","*","*","*","*","*","*","*","*","*","*","*","*","*","*","*","*","*","*","*","*","*","*","*","*","*","*","*","*"]
[{"$f":"IF(AND(StatData[[#This Row],[Shoda: Seskupený CZ-NACE]],StatData[[#This Row],[Shoda: Region]],StatData[[#This Row],[Shoda: Vzdělání]],StatData[[#This Row],[Shoda: Pohlaví]],StatData[[#This Row],[Shoda: Věk]]),1,0)","v":0},{"$f":"IF(StatData[[#This Row],[Seskupený CZ-NACE]]=VLOOKUP(Obor,TabObor[],2,0),1,0)","v":0},{"$f":"IF(StatData[[#This Row],[Region]]=VLOOKUP(Region,TabRegion[],2,0),1,0)","v":0},{"$f":"IF(StatData[[#This Row],[Vzdělání]]=Vzdělání,1,0)","v":0},{"$f":"IF(StatData[[#This Row],[Pohlaví]]=Pohlaví,1,0)","v":0},{"$f":"IF(StatData[[#This Row],[Věk]]=Věk,1,0)","v":0},266,"Služby v oblasti ubytování a stravování, nemovitosti a administrativy",2,"Vysokoškolské ","Muž","35 až 54 let ",932.01495361328102,55614.342713592603,19775.870874,20304.2514841667,20304.2514841667,20304.2514841667,23378.583299999998,23430.760449000001,23430.760449000001,24741.824173050001,27021.9134583208,30955.197739535299,34522.000862054701,34598.263759837202,35765.797229417702,37850.102948648397,38396.0469252041,39494.513742165698,40797.589113052803,41531.1493609178,42467.137033283398,46162.289201671898,50130.732191622803,57250.7432733397,61334.551889491901,62479.123084795203,71778.427397309497,88072.073492281401,104199.585640417,129613.926895892]
[{"$f":"IF(AND(StatData[[#This Row],[Shoda: Seskupený CZ-NACE]],StatData[[#This Row],[Shoda: Region]],StatData[[#This Row],[Shoda: Vzdělání]],StatData[[#This Row],[Shoda: Pohlaví]],StatData[[#This Row],[Shoda: Věk]]),1,0)","v":0},{"$f":"IF(StatData[[#This Row],[Seskupený CZ-NACE]]=VLOOKUP(Obor,TabObor[],2,0),1,0)","v":0},{"$f":"IF(StatData[[#This Row],[Region]]=VLOOKUP(Region,TabRegion[],2,0),1,0)","v":0},{"$f":"IF(StatData[[#This Row],[Vzdělání]]=Vzdělání,1,0)","v":0},{"$f":"IF(StatData[[#This Row],[Pohlaví]]=Pohlaví,1,0)","v":0},{"$f":"IF(StatData[[#This Row],[Věk]]=Věk,1,0)","v":0},267,"Služby v oblasti ubytování a stravování, nemovitosti a administrativy",2,"Vysokoškolské ","Muž","55 a více let",622.88909912109398,57132.148820080198,22707.230800000001,23686.583299999998,24449.320294621801,25234.9133216667,25234.9133216667,25234.9133216667,25234.9133216667,26853.521250168102,27334.228582726199,28427.429777201,28427.429777201,28427.429777201,28427.429777201,31591.031916955399,36154.934250765502,40039.438783698999,40039.438783698999,40039.438783698999,42221.995055671003,48184.458992340798,51461.172825549402,57092.915601398803,67660.752426899795,71400.505764260597,72812.720775658105,77467.224494372102,108499.818144405,196225.09441678101]
[{"$f":"IF(AND(StatData[[#This Row],[Shoda: Seskupený CZ-NACE]],StatData[[#This Row],[Shoda: Region]],StatData[[#This Row],[Shoda: Vzdělání]],StatData[[#This Row],[Shoda: Pohlaví]],StatData[[#This Row],[Shoda: Věk]]),1,0)","v":0},{"$f":"IF(StatData[[#This Row],[Seskupený CZ-NACE]]=VLOOKUP(Obor,TabObor[],2,0),1,0)","v":0},{"$f":"IF(StatData[[#This Row],[Region]]=VLOOKUP(Region,TabRegion[],2,0),1,0)","v":0},{"$f":"IF(StatData[[#This Row],[Vzdělání]]=Vzdělání,1,0)","v":0},{"$f":"IF(StatData[[#This Row],[Pohlaví]]=Pohlaví,1,0)","v":1},{"$f":"IF(StatData[[#This Row],[Věk]]=Věk,1,0)","v":1},268,"Služby v oblasti ubytování a stravování, nemovitosti a administrativy",2,"Vysokoškolské ","Žena","do 34 let    ",678.23236083984398,36838.251993841703,23658.976299999998,"*",25617.244900000002,"*",26287.206574560299,"*",26709.435672368501,"*",27310.221567490102,"*",27310.221567490102,"*",31793.0585891839,"*",33587.872459715698,"*",33895.734636421897,"*",35463.254363992499,36383.197598386403,37358.7237076807,38254.132007863103,39898.552650817503,42751.088904923803,45443.7141654195,49273.4221177375,57410.580521427502,57410.580521427502]
[{"$f":"IF(AND(StatData[[#This Row],[Shoda: Seskupený CZ-NACE]],StatData[[#This Row],[Shoda: Region]],StatData[[#This Row],[Shoda: Vzdělání]],StatData[[#This Row],[Shoda: Pohlaví]],StatData[[#This Row],[Shoda: Věk]]),1,0)","v":0},{"$f":"IF(StatData[[#This Row],[Seskupený CZ-NACE]]=VLOOKUP(Obor,TabObor[],2,0),1,0)","v":0},{"$f":"IF(StatData[[#This Row],[Region]]=VLOOKUP(Region,TabRegion[],2,0),1,0)","v":0},{"$f":"IF(StatData[[#This Row],[Vzdělání]]=Vzdělání,1,0)","v":0},{"$f":"IF(StatData[[#This Row],[Pohlaví]]=Pohlaví,1,0)","v":1},{"$f":"IF(StatData[[#This Row],[Věk]]=Věk,1,0)","v":0},269,"Služby v oblasti ubytování a stravování, nemovitosti a administrativy",2,"Vysokoškolské ","Žena","35 až 54 let ",1213.72668457031,46040.425312145897,22042.514498749999,24195.25,27288.615949912499,28550.593336656701,30111.5039589033,30111.5039589033,30118.988175028298,31867.774000572099,32820.405021781597,33435.375707218598,33521.523489258398,34171.986206499503,35043.068880518498,35894.141024078701,37546.3250693429,39386.823829940397,40682.7711234858,42304.3261371189,43056.764180294398,44977.851842468699,46948.411011650198,49400.351240016003,50751.709512537003,53015.584560722004,60681.989871459104,61219.815263745098,70595.922075718699,82227.685918646093]
[{"$f":"IF(AND(StatData[[#This Row],[Shoda: Seskupený CZ-NACE]],StatData[[#This Row],[Shoda: Region]],StatData[[#This Row],[Shoda: Vzdělání]],StatData[[#This Row],[Shoda: Pohlaví]],StatData[[#This Row],[Shoda: Věk]]),1,0)","v":0},{"$f":"IF(StatData[[#This Row],[Seskupený CZ-NACE]]=VLOOKUP(Obor,TabObor[],2,0),1,0)","v":0},{"$f":"IF(StatData[[#This Row],[Region]]=VLOOKUP(Region,TabRegion[],2,0),1,0)","v":0},{"$f":"IF(StatData[[#This Row],[Vzdělání]]=Vzdělání,1,0)","v":0},{"$f":"IF(StatData[[#This Row],[Pohlaví]]=Pohlaví,1,0)","v":1},{"$f":"IF(StatData[[#This Row],[Věk]]=Věk,1,0)","v":0},270,"Služby v oblasti ubytování a stravování, nemovitosti a administrativy",2,"Vysokoškolské ","Žena","55 a více let",289.09924316406301,46290.695959622099,"*","*","*","*","*","*","*","*","*","*","*","*","*","*","*","*","*","*",44659.744097557399,"*","*","*","*","*","*","*","*","*"]
[{"$f":"IF(AND(StatData[[#This Row],[Shoda: Seskupený CZ-NACE]],StatData[[#This Row],[Shoda: Region]],StatData[[#This Row],[Shoda: Vzdělání]],StatData[[#This Row],[Shoda: Pohlaví]],StatData[[#This Row],[Shoda: Věk]]),1,0)","v":0},{"$f":"IF(StatData[[#This Row],[Seskupený CZ-NACE]]=VLOOKUP(Obor,TabObor[],2,0),1,0)","v":0},{"$f":"IF(StatData[[#This Row],[Region]]=VLOOKUP(Region,TabRegion[],2,0),1,0)","v":0},{"$f":"IF(StatData[[#This Row],[Vzdělání]]=Vzdělání,1,0)","v":0},{"$f":"IF(StatData[[#This Row],[Pohlaví]]=Pohlaví,1,0)","v":0},{"$f":"IF(StatData[[#This Row],[Věk]]=Věk,1,0)","v":1},271,"Služby v oblasti ubytování a stravování, nemovitosti a administrativy",3,"Střední bez maturity","Muž","do 34 let    ",7417.3857421875,29466.815642931298,18900,18936.290821663399,19122.905828166698,19827.849975823599,20270.945399629501,20300.312408833299,20726.4215,21723,21858.6093193333,21983.732230061101,22212.792207999999,22895.868299999998,23046.061000000002,23137.7971785396,23400.064299999998,23936.927719102001,24556.5327326058,24999.650471656802,25354.622883010299,26897.160416258899,29289.096521910102,31088.216093565101,33355.544438338096,34620.472955236801,37893.265798479297,41447.3831794738,45156.868800915603,50368.344704811199]
[{"$f":"IF(AND(StatData[[#This Row],[Shoda: Seskupený CZ-NACE]],StatData[[#This Row],[Shoda: Region]],StatData[[#This Row],[Shoda: Vzdělání]],StatData[[#This Row],[Shoda: Pohlaví]],StatData[[#This Row],[Shoda: Věk]]),1,0)","v":0},{"$f":"IF(StatData[[#This Row],[Seskupený CZ-NACE]]=VLOOKUP(Obor,TabObor[],2,0),1,0)","v":0},{"$f":"IF(StatData[[#This Row],[Region]]=VLOOKUP(Region,TabRegion[],2,0),1,0)","v":0},{"$f":"IF(StatData[[#This Row],[Vzdělání]]=Vzdělání,1,0)","v":0},{"$f":"IF(StatData[[#This Row],[Pohlaví]]=Pohlaví,1,0)","v":0},{"$f":"IF(StatData[[#This Row],[Věk]]=Věk,1,0)","v":0},272,"Služby v oblasti ubytování a stravování, nemovitosti a administrativy",3,"Střední bez maturity","Muž","35 až 54 let ",15484.1455078125,30440.9944970373,18947.3921220833,19752.9166,19935.152838083301,20245.144858833301,20371.330698961901,20792.192500000001,21227.431572214799,21453.4166,21758.852709083301,21802.157812666701,21975.991854747299,22226.576300000001,22632.25,23312.225999999999,23872.862973916701,24149.188900000001,24775,25249.733873031899,25794.785396428899,27070.311393344899,29059.298036402201,31495.458943788501,33759.137470301503,36443.7928624704,39598.170058518903,43519.221704004303,46754.902163291103,51120.581875126401]
[{"$f":"IF(AND(StatData[[#This Row],[Shoda: Seskupený CZ-NACE]],StatData[[#This Row],[Shoda: Region]],StatData[[#This Row],[Shoda: Vzdělání]],StatData[[#This Row],[Shoda: Pohlaví]],StatData[[#This Row],[Shoda: Věk]]),1,0)","v":0},{"$f":"IF(StatData[[#This Row],[Seskupený CZ-NACE]]=VLOOKUP(Obor,TabObor[],2,0),1,0)","v":0},{"$f":"IF(StatData[[#This Row],[Region]]=VLOOKUP(Region,TabRegion[],2,0),1,0)","v":0},{"$f":"IF(StatData[[#This Row],[Vzdělání]]=Vzdělání,1,0)","v":0},{"$f":"IF(StatData[[#This Row],[Pohlaví]]=Pohlaví,1,0)","v":0},{"$f":"IF(StatData[[#This Row],[Věk]]=Věk,1,0)","v":0},273,"Služby v oblasti ubytování a stravování, nemovitosti a administrativy",3,"Střední bez maturity","Muž","55 a více let",7198.83447265625,30238.07456854,19122.905828166698,19421.0416,19961.406200000001,20312.8125,20723.4166,20934.86322725,21210.5,21478.6666,21878.8302,21977.762751054499,22323.75,22804.726999999999,23084.546200000001,23344.7724312955,23687.197011603101,23888.1211,24456.411,25103.833299999998,25581.991460184599,27165.4301163809,28764.4577939804,30871.163100000002,34050.798968181603,37686.4104859902,40032.946456441903,44174.183823455103,46363.280511843899,49262.349687094298]
[{"$f":"IF(AND(StatData[[#This Row],[Shoda: Seskupený CZ-NACE]],StatData[[#This Row],[Shoda: Region]],StatData[[#This Row],[Shoda: Vzdělání]],StatData[[#This Row],[Shoda: Pohlaví]],StatData[[#This Row],[Shoda: Věk]]),1,0)","v":0},{"$f":"IF(StatData[[#This Row],[Seskupený CZ-NACE]]=VLOOKUP(Obor,TabObor[],2,0),1,0)","v":0},{"$f":"IF(StatData[[#This Row],[Region]]=VLOOKUP(Region,TabRegion[],2,0),1,0)","v":0},{"$f":"IF(StatData[[#This Row],[Vzdělání]]=Vzdělání,1,0)","v":0},{"$f":"IF(StatData[[#This Row],[Pohlaví]]=Pohlaví,1,0)","v":1},{"$f":"IF(StatData[[#This Row],[Věk]]=Věk,1,0)","v":1},274,"Služby v oblasti ubytování a stravování, nemovitosti a administrativy",3,"Střední bez maturity","Žena","do 34 let    ",5005.318359375,24505.9148845122,19487.167228330902,19853.579059248601,20056.114327593299,20257.311219616498,20475.1885,21002.2222,21113.3122,21287.6757,21500.761200000001,21504.416880500001,21586.442599999998,21799.708802416699,21800.184979666701,21809.814255683199,21814.8110249167,21839.651655635698,21873.749500000002,22042.5144986667,22293.726700416701,22979.901491249999,23239.328399999999,23813.616330832501,24818.5914947315,25817.2053356414,27423.628411734298,29330.574363392599,31633.832349976601,36781.355711346703]
[{"$f":"IF(AND(StatData[[#This Row],[Shoda: Seskupený CZ-NACE]],StatData[[#This Row],[Shoda: Region]],StatData[[#This Row],[Shoda: Vzdělání]],StatData[[#This Row],[Shoda: Pohlaví]],StatData[[#This Row],[Shoda: Věk]]),1,0)","v":0},{"$f":"IF(StatData[[#This Row],[Seskupený CZ-NACE]]=VLOOKUP(Obor,TabObor[],2,0),1,0)","v":0},{"$f":"IF(StatData[[#This Row],[Region]]=VLOOKUP(Region,TabRegion[],2,0),1,0)","v":0},{"$f":"IF(StatData[[#This Row],[Vzdělání]]=Vzdělání,1,0)","v":0},{"$f":"IF(StatData[[#This Row],[Pohlaví]]=Pohlaví,1,0)","v":1},{"$f":"IF(StatData[[#This Row],[Věk]]=Věk,1,0)","v":0},275,"Služby v oblasti ubytování a stravování, nemovitosti a administrativy",3,"Střední bez maturity","Žena","35 až 54 let ",16423.58203125,25677.939226988299,18916.4989678333,19085.358781916701,19125.9892,19397.7141055088,19886.1666,20142.3741344439,20392.892126251299,20725.5353,21100.427100000001,21294.939200000001,21451.511418907201,21646.075199999999,21863.076700000001,22154.8489803308,22416.833299999998,22702.854537841598,22928.701561828399,23155.326235222201,23403.826700000001,24380.833299999998,25226.437914598398,26404.7474002583,27352.2787851418,28396.733499999998,29974.486473143199,31521.429371518399,34108.376993450103,38788.420726087003]
[{"$f":"IF(AND(StatData[[#This Row],[Shoda: Seskupený CZ-NACE]],StatData[[#This Row],[Shoda: Region]],StatData[[#This Row],[Shoda: Vzdělání]],StatData[[#This Row],[Shoda: Pohlaví]],StatData[[#This Row],[Shoda: Věk]]),1,0)","v":0},{"$f":"IF(StatData[[#This Row],[Seskupený CZ-NACE]]=VLOOKUP(Obor,TabObor[],2,0),1,0)","v":0},{"$f":"IF(StatData[[#This Row],[Region]]=VLOOKUP(Region,TabRegion[],2,0),1,0)","v":0},{"$f":"IF(StatData[[#This Row],[Vzdělání]]=Vzdělání,1,0)","v":0},{"$f":"IF(StatData[[#This Row],[Pohlaví]]=Pohlaví,1,0)","v":1},{"$f":"IF(StatData[[#This Row],[Věk]]=Věk,1,0)","v":0},276,"Služby v oblasti ubytování a stravování, nemovitosti a administrativy",3,"Střední bez maturity","Žena","55 a více let",7515.6123046875,24923.332428535701,18900,18916.6666,18950.833299999998,19378.583299999998,19650,19725.285108694501,19996.6128245,20206.4516,20388.6666,20533.5343218333,20733.017612674601,21016.8419314844,21192.204766083301,21294.895799999998,21447.388277020102,21790.987788083301,21848.608798916699,21903.402572583302,22156.9166,22811.517226158099,23383.9166,24607.1666,25814.083299999998,27227.601253586701,29365.470557822799,31838.555934798998,34115.425303997203,39596.124669526798]
[{"$f":"IF(AND(StatData[[#This Row],[Shoda: Seskupený CZ-NACE]],StatData[[#This Row],[Shoda: Region]],StatData[[#This Row],[Shoda: Vzdělání]],StatData[[#This Row],[Shoda: Pohlaví]],StatData[[#This Row],[Shoda: Věk]]),1,0)","v":0},{"$f":"IF(StatData[[#This Row],[Seskupený CZ-NACE]]=VLOOKUP(Obor,TabObor[],2,0),1,0)","v":0},{"$f":"IF(StatData[[#This Row],[Region]]=VLOOKUP(Region,TabRegion[],2,0),1,0)","v":0},{"$f":"IF(StatData[[#This Row],[Vzdělání]]=Vzdělání,1,0)","v":1},{"$f":"IF(StatData[[#This Row],[Pohlaví]]=Pohlaví,1,0)","v":0},{"$f":"IF(StatData[[#This Row],[Věk]]=Věk,1,0)","v":1},277,"Služby v oblasti ubytování a stravování, nemovitosti a administrativy",3,"Střední s maturitou a vyšší odborné","Muž","do 34 let    ",6066.3642578125,36255.241802274701,18983.957200000001,19908.806021333301,20813.6171871111,21162.631701702499,21250.218357796301,21686.748554523801,22050.953550542599,22548.355599999999,23373.5137699798,25223.6198,26212.995087184299,27016.809654280099,27612.338751478801,28570.4771690817,29454.484551474801,30130.342516930101,30388.820931579899,30853.521627325299,32004.231819681099,33821.182635006197,36024.978117288301,37810.824414375697,40461.156692910503,43486.715820581601,46826.197714300397,51983.438809148203,57456.5450176999,67318.5655034066]
[{"$f":"IF(AND(StatData[[#This Row],[Shoda: Seskupený CZ-NACE]],StatData[[#This Row],[Shoda: Region]],StatData[[#This Row],[Shoda: Vzdělání]],StatData[[#This Row],[Shoda: Pohlaví]],StatData[[#This Row],[Shoda: Věk]]),1,0)","v":0},{"$f":"IF(StatData[[#This Row],[Seskupený CZ-NACE]]=VLOOKUP(Obor,TabObor[],2,0),1,0)","v":0},{"$f":"IF(StatData[[#This Row],[Region]]=VLOOKUP(Region,TabRegion[],2,0),1,0)","v":0},{"$f":"IF(StatData[[#This Row],[Vzdělání]]=Vzdělání,1,0)","v":1},{"$f":"IF(StatData[[#This Row],[Pohlaví]]=Pohlaví,1,0)","v":0},{"$f":"IF(StatData[[#This Row],[Věk]]=Věk,1,0)","v":0},278,"Služby v oblasti ubytování a stravování, nemovitosti a administrativy",3,"Střední s maturitou a vyšší odborné","Muž","35 až 54 let ",11204.34375,36561.295400712901,18921.251769083301,18938.633409833299,19506.316299999999,19990.0383,20477.8286099658,21300,21546.424368916701,21841.9166270977,22562.6353296667,22894.7065279167,23329.960020583301,24497.9082322426,25698.2426051763,26210.0334369101,26310.019543933598,27824.611304792001,28642.302866833601,29588.860036575901,30984.689052484599,33291.207196996802,36038.247469584501,38390.005965416298,40256.957729116803,42847.158097340798,47025.347548125501,51183.655627259497,58133.701966180197,72459.050166215195]
[{"$f":"IF(AND(StatData[[#This Row],[Shoda: Seskupený CZ-NACE]],StatData[[#This Row],[Shoda: Region]],StatData[[#This Row],[Shoda: Vzdělání]],StatData[[#This Row],[Shoda: Pohlaví]],StatData[[#This Row],[Shoda: Věk]]),1,0)","v":0},{"$f":"IF(StatData[[#This Row],[Seskupený CZ-NACE]]=VLOOKUP(Obor,TabObor[],2,0),1,0)","v":0},{"$f":"IF(StatData[[#This Row],[Region]]=VLOOKUP(Region,TabRegion[],2,0),1,0)","v":0},{"$f":"IF(StatData[[#This Row],[Vzdělání]]=Vzdělání,1,0)","v":1},{"$f":"IF(StatData[[#This Row],[Pohlaví]]=Pohlaví,1,0)","v":0},{"$f":"IF(StatData[[#This Row],[Věk]]=Věk,1,0)","v":0},279,"Služby v oblasti ubytování a stravování, nemovitosti a administrativy",3,"Střední s maturitou a vyšší odborné","Muž","55 a více let",4109.0703125,33154.3613805801,19619.4667393333,20098.272245702799,20299.700878166699,20715.75,20812.5354273476,20896.730800000001,21642.2726298333,22026.3575915,22026.4892,22342.0337,22562.627,23489.083299999998,23919.332071916699,24590.702077360202,25119.054817009001,26143.731482005402,26319.748353986899,26478.1071005021,27566.0833708151,30428.195126593098,31620.2910659386,32646.039175145601,35434.499768997499,38616.007566118496,43544.2462438988,47553.447737237002,51697.414338542199,59153.181370320897]
[{"$f":"IF(AND(StatData[[#This Row],[Shoda: Seskupený CZ-NACE]],StatData[[#This Row],[Shoda: Region]],StatData[[#This Row],[Shoda: Vzdělání]],StatData[[#This Row],[Shoda: Pohlaví]],StatData[[#This Row],[Shoda: Věk]]),1,0)","v":0},{"$f":"IF(StatData[[#This Row],[Seskupený CZ-NACE]]=VLOOKUP(Obor,TabObor[],2,0),1,0)","v":0},{"$f":"IF(StatData[[#This Row],[Region]]=VLOOKUP(Region,TabRegion[],2,0),1,0)","v":0},{"$f":"IF(StatData[[#This Row],[Vzdělání]]=Vzdělání,1,0)","v":1},{"$f":"IF(StatData[[#This Row],[Pohlaví]]=Pohlaví,1,0)","v":1},{"$f":"IF(StatData[[#This Row],[Věk]]=Věk,1,0)","v":1},280,"Služby v oblasti ubytování a stravování, nemovitosti a administrativy",3,"Střední s maturitou a vyšší odborné","Žena","do 34 let    ",6855.146484375,30546.151642032699,19721.504989857101,20300.312408833299,20960.3053,21457.75,21742.797506643899,21943.459809070198,22625.909292416702,23245.932516651199,23769.477900000002,23989.620596600402,24526.083299999998,24659.728958809799,25126.8878,25451.000750327399,25805.195267810301,26111.621877136899,26534.856011117201,27516.076882400001,27885.212427677001,29844.655382409801,30962.8559996843,31983.086743490199,33079.593059555002,34695.173793400398,36929.181905235499,38964.854654862502,42462.0794493184,49825.510139809201]
[{"$f":"IF(AND(StatData[[#This Row],[Shoda: Seskupený CZ-NACE]],StatData[[#This Row],[Shoda: Region]],StatData[[#This Row],[Shoda: Vzdělání]],StatData[[#This Row],[Shoda: Pohlaví]],StatData[[#This Row],[Shoda: Věk]]),1,0)","v":0},{"$f":"IF(StatData[[#This Row],[Seskupený CZ-NACE]]=VLOOKUP(Obor,TabObor[],2,0),1,0)","v":0},{"$f":"IF(StatData[[#This Row],[Region]]=VLOOKUP(Region,TabRegion[],2,0),1,0)","v":0},{"$f":"IF(StatData[[#This Row],[Vzdělání]]=Vzdělání,1,0)","v":1},{"$f":"IF(StatData[[#This Row],[Pohlaví]]=Pohlaví,1,0)","v":1},{"$f":"IF(StatData[[#This Row],[Věk]]=Věk,1,0)","v":0},281,"Služby v oblasti ubytování a stravování, nemovitosti a administrativy",3,"Střední s maturitou a vyšší odborné","Žena","35 až 54 let ",15735.8037109375,32580.126182583299,19419.711299999999,20091.097300000001,20764.273349726602,21265.95429225,21447.4981494616,21816.511706249999,22181.833299999998,22863.497664319199,23492.036684583301,24082.919000000002,24446.702189250402,25101.981,25643.382074042798,26207.520936314399,27141.0239679722,27900.749144915801,28609.2490622359,29150.069946841701,29753.063116044799,31078.1276995517,32375.101466234599,34031.948683765499,35807.284406592502,38381.268983925198,41043.934332280201,44356.2143513095,48108.468321555003,56261.742009217698]
[{"$f":"IF(AND(StatData[[#This Row],[Shoda: Seskupený CZ-NACE]],StatData[[#This Row],[Shoda: Region]],StatData[[#This Row],[Shoda: Vzdělání]],StatData[[#This Row],[Shoda: Pohlaví]],StatData[[#This Row],[Shoda: Věk]]),1,0)","v":0},{"$f":"IF(StatData[[#This Row],[Seskupený CZ-NACE]]=VLOOKUP(Obor,TabObor[],2,0),1,0)","v":0},{"$f":"IF(StatData[[#This Row],[Region]]=VLOOKUP(Region,TabRegion[],2,0),1,0)","v":0},{"$f":"IF(StatData[[#This Row],[Vzdělání]]=Vzdělání,1,0)","v":1},{"$f":"IF(StatData[[#This Row],[Pohlaví]]=Pohlaví,1,0)","v":1},{"$f":"IF(StatData[[#This Row],[Věk]]=Věk,1,0)","v":0},282,"Služby v oblasti ubytování a stravování, nemovitosti a administrativy",3,"Střední s maturitou a vyšší odborné","Žena","55 a více let",6524.8291015625,33047.625182158699,19737.5,20228.9899,20555.716609449399,21243.582462083301,21433.9823887333,21919.75960175,21955.342400000001,22887.1666,23465.959900000002,23681.538199999999,24119.333299999998,24534.8917943704,24806.550599999999,25068.514408205901,25948.8690030367,26687.161357358498,27548.083269504699,28525.969909390202,28981.6347928471,30295.119164647698,31885.5489294568,34555.014090432604,36963.687785774302,39523.384333072398,42796.378292960602,45665.928087600099,51078.657836177401,60954.932511781502]
[{"$f":"IF(AND(StatData[[#This Row],[Shoda: Seskupený CZ-NACE]],StatData[[#This Row],[Shoda: Region]],StatData[[#This Row],[Shoda: Vzdělání]],StatData[[#This Row],[Shoda: Pohlaví]],StatData[[#This Row],[Shoda: Věk]]),1,0)","v":0},{"$f":"IF(StatData[[#This Row],[Seskupený CZ-NACE]]=VLOOKUP(Obor,TabObor[],2,0),1,0)","v":0},{"$f":"IF(StatData[[#This Row],[Region]]=VLOOKUP(Region,TabRegion[],2,0),1,0)","v":0},{"$f":"IF(StatData[[#This Row],[Vzdělání]]=Vzdělání,1,0)","v":0},{"$f":"IF(StatData[[#This Row],[Pohlaví]]=Pohlaví,1,0)","v":0},{"$f":"IF(StatData[[#This Row],[Věk]]=Věk,1,0)","v":1},283,"Služby v oblasti ubytování a stravování, nemovitosti a administrativy",3,"Vysokoškolské ","Muž","do 34 let    ",1676.04248046875,52435.819191091701,23586.776359651001,23997.833299999998,24711.836398666699,26022.039807763402,26812.792326051502,27322.022888648698,28517.804670900401,29414.291873165999,32204.140030371698,34980.0365232166,35707.013745574397,35707.013745574397,37343.025827562298,37396.588562553901,39174.813766500403,39174.813766500403,40929.033909562197,41800.421727348497,42700.564627934204,45659.514788146698,48225.596828502501,51650.700178351901,53195.6988761147,58353.346212782599,61940.848172801801,75051.570507704106,88427.301693314803,114887.98470685301]
[{"$f":"IF(AND(StatData[[#This Row],[Shoda: Seskupený CZ-NACE]],StatData[[#This Row],[Shoda: Region]],StatData[[#This Row],[Shoda: Vzdělání]],StatData[[#This Row],[Shoda: Pohlaví]],StatData[[#This Row],[Shoda: Věk]]),1,0)","v":0},{"$f":"IF(StatData[[#This Row],[Seskupený CZ-NACE]]=VLOOKUP(Obor,TabObor[],2,0),1,0)","v":0},{"$f":"IF(StatData[[#This Row],[Region]]=VLOOKUP(Region,TabRegion[],2,0),1,0)","v":0},{"$f":"IF(StatData[[#This Row],[Vzdělání]]=Vzdělání,1,0)","v":0},{"$f":"IF(StatData[[#This Row],[Pohlaví]]=Pohlaví,1,0)","v":0},{"$f":"IF(StatData[[#This Row],[Věk]]=Věk,1,0)","v":0},284,"Služby v oblasti ubytování a stravování, nemovitosti a administrativy",3,"Vysokoškolské ","Muž","35 až 54 let ",5102.93017578125,51634.016081941802,19933.047063666701,21756.417636643699,21756.417636643699,22454.1509470903,23586.6666,24105.658648211702,24734.627,25469.498848790801,26194.557227133399,27309.981310866999,29216.0703086143,30061.1722046701,30749.4787854362,32375.817707456201,33529.551755293003,35278.679644021599,38741.731547912401,39702.146824004303,40357.262203336199,42052.407778437802,45225.523176865798,48153.7356233276,53955.302539411401,59296.549064497798,64222.145398738503,73218.270086148594,91462.836661653899,122591.474129906]
[{"$f":"IF(AND(StatData[[#This Row],[Shoda: Seskupený CZ-NACE]],StatData[[#This Row],[Shoda: Region]],StatData[[#This Row],[Shoda: Vzdělání]],StatData[[#This Row],[Shoda: Pohlaví]],StatData[[#This Row],[Shoda: Věk]]),1,0)","v":0},{"$f":"IF(StatData[[#This Row],[Seskupený CZ-NACE]]=VLOOKUP(Obor,TabObor[],2,0),1,0)","v":0},{"$f":"IF(StatData[[#This Row],[Region]]=VLOOKUP(Region,TabRegion[],2,0),1,0)","v":0},{"$f":"IF(StatData[[#This Row],[Vzdělání]]=Vzdělání,1,0)","v":0},{"$f":"IF(StatData[[#This Row],[Pohlaví]]=Pohlaví,1,0)","v":0},{"$f":"IF(StatData[[#This Row],[Věk]]=Věk,1,0)","v":0},285,"Služby v oblasti ubytování a stravování, nemovitosti a administrativy",3,"Vysokoškolské ","Muž","55 a více let",2620.93212890625,42275.858038637598,19892.25,20703.403580083301,20818.307468166699,21224.75,21631.5,21793.436771444402,21793.436771444402,22787.4166,23223.646531190301,23695.6944,24344.078958499998,24527.631461597299,25459.3345659851,26063.272393977801,27869.805393663501,29050.5,29606.1927789418,30539.697087808901,30637.161828824799,34538.478240448603,38450.326119260397,41176.273598091997,42466.923707883499,48396.946617459202,52309.5470307465,68169.088634750398,90750.109852944894,99501.258186094696]
[{"$f":"IF(AND(StatData[[#This Row],[Shoda: Seskupený CZ-NACE]],StatData[[#This Row],[Shoda: Region]],StatData[[#This Row],[Shoda: Vzdělání]],StatData[[#This Row],[Shoda: Pohlaví]],StatData[[#This Row],[Shoda: Věk]]),1,0)","v":0},{"$f":"IF(StatData[[#This Row],[Seskupený CZ-NACE]]=VLOOKUP(Obor,TabObor[],2,0),1,0)","v":0},{"$f":"IF(StatData[[#This Row],[Region]]=VLOOKUP(Region,TabRegion[],2,0),1,0)","v":0},{"$f":"IF(StatData[[#This Row],[Vzdělání]]=Vzdělání,1,0)","v":0},{"$f":"IF(StatData[[#This Row],[Pohlaví]]=Pohlaví,1,0)","v":1},{"$f":"IF(StatData[[#This Row],[Věk]]=Věk,1,0)","v":1},286,"Služby v oblasti ubytování a stravování, nemovitosti a administrativy",3,"Vysokoškolské ","Žena","do 34 let    ",2599.60302734375,39388.880561036101,21623.839445500002,22013.1666,22939.228500000001,24415.600486066902,25994.449282526701,26613.283177859601,27375.577119793601,28118.067254209,28872.187988760099,29621.585282862401,30253.397596101,31091.838201066701,31804.461052296901,31872.137958698899,33249.539700712703,34083.028922466998,35004.949909179399,35600.898775164402,35934.656862957898,37256.975147402802,39148.282859177998,40853.944193634299,44034.476567504302,45404.016111241603,48142.505662864198,51808.726477533397,58850.621595905497,66944.169394689903]
[{"$f":"IF(AND(StatData[[#This Row],[Shoda: Seskupený CZ-NACE]],StatData[[#This Row],[Shoda: Region]],StatData[[#This Row],[Shoda: Vzdělání]],StatData[[#This Row],[Shoda: Pohlaví]],StatData[[#This Row],[Shoda: Věk]]),1,0)","v":0},{"$f":"IF(StatData[[#This Row],[Seskupený CZ-NACE]]=VLOOKUP(Obor,TabObor[],2,0),1,0)","v":0},{"$f":"IF(StatData[[#This Row],[Region]]=VLOOKUP(Region,TabRegion[],2,0),1,0)","v":0},{"$f":"IF(StatData[[#This Row],[Vzdělání]]=Vzdělání,1,0)","v":0},{"$f":"IF(StatData[[#This Row],[Pohlaví]]=Pohlaví,1,0)","v":1},{"$f":"IF(StatData[[#This Row],[Věk]]=Věk,1,0)","v":0},287,"Služby v oblasti ubytování a stravování, nemovitosti a administrativy",3,"Vysokoškolské ","Žena","35 až 54 let ",5379.7392578125,46195.200624928402,20818.5408234469,22362.501,23965.123388833301,24656.297879118199,26231.8564052289,27966.980715180802,28393.4241,30210.1594119441,30890.052316208901,32265.358787718498,33514.782214822102,34450.592889184401,35511.0591587831,37416.785303557997,38159.926084389503,38550.879972574003,39542.329962546697,40557.313735842603,41418.093097513003,43384.448844901599,44631.832749202498,46698.774225458597,49079.495926935699,51709.637867865902,54851.227993092201,61748.380112685903,70617.468292569101,89311.960819107102]
[{"$f":"IF(AND(StatData[[#This Row],[Shoda: Seskupený CZ-NACE]],StatData[[#This Row],[Shoda: Region]],StatData[[#This Row],[Shoda: Vzdělání]],StatData[[#This Row],[Shoda: Pohlaví]],StatData[[#This Row],[Shoda: Věk]]),1,0)","v":0},{"$f":"IF(StatData[[#This Row],[Seskupený CZ-NACE]]=VLOOKUP(Obor,TabObor[],2,0),1,0)","v":0},{"$f":"IF(StatData[[#This Row],[Region]]=VLOOKUP(Region,TabRegion[],2,0),1,0)","v":0},{"$f":"IF(StatData[[#This Row],[Vzdělání]]=Vzdělání,1,0)","v":0},{"$f":"IF(StatData[[#This Row],[Pohlaví]]=Pohlaví,1,0)","v":1},{"$f":"IF(StatData[[#This Row],[Věk]]=Věk,1,0)","v":0},288,"Služby v oblasti ubytování a stravování, nemovitosti a administrativy",3,"Vysokoškolské ","Žena","55 a více let",901.85296630859398,43705.948520486003,21686.820400000001,22391.806,22535.613892622401,23750.953000000001,25371.112210048799,25659.251341644602,26213.428742866301,26213.428742866301,26213.428742866301,26791.710080110901,27288.514864230299,28999.279999999999,30366.673308616599,31649.0221968921,32756.740953304801,32756.740953304801,34103.477715129899,35824.239590974903,36832.624755749399,40152.3881735986,40504.045038491597,42923.381017692402,44620.987261867303,47593.759412720297,54593.145601208897,57430.252918988699,68443.946177086196,95433.177881730502]
[{"$f":"IF(AND(StatData[[#This Row],[Shoda: Seskupený CZ-NACE]],StatData[[#This Row],[Shoda: Region]],StatData[[#This Row],[Shoda: Vzdělání]],StatData[[#This Row],[Shoda: Pohlaví]],StatData[[#This Row],[Shoda: Věk]]),1,0)","v":0},{"$f":"IF(StatData[[#This Row],[Seskupený CZ-NACE]]=VLOOKUP(Obor,TabObor[],2,0),1,0)","v":0},{"$f":"IF(StatData[[#This Row],[Region]]=VLOOKUP(Region,TabRegion[],2,0),1,0)","v":1},{"$f":"IF(StatData[[#This Row],[Vzdělání]]=Vzdělání,1,0)","v":0},{"$f":"IF(StatData[[#This Row],[Pohlaví]]=Pohlaví,1,0)","v":0},{"$f":"IF(StatData[[#This Row],[Věk]]=Věk,1,0)","v":1},289,"Peněnictví a IT",1,"Střední bez maturity","Muž","do 34 let    ",417.19921875,54038.655864242697,21216.119908519398,21216.119908519398,30024.6677698401,34518.379821723902,36068.5350786196,37467.627568752199,38880.029754391799,39779.583630430199,39964.955852331601,39964.955852331601,41422.180063405503,42647.768818154698,43466.8594443685,44146.165395171301,45238.978514714901,46728.200633894601,48148.474630933102,48148.474630933102,49870.408221667698,51267.078734428498,54841.1439310118,56380.594266808701,58071.257470373297,59648.518272566398,62386.949490538398,74059.693735931098,88131.619749151694,90095.259704322103]
[{"$f":"IF(AND(StatData[[#This Row],[Shoda: Seskupený CZ-NACE]],StatData[[#This Row],[Shoda: Region]],StatData[[#This Row],[Shoda: Vzdělání]],StatData[[#This Row],[Shoda: Pohlaví]],StatData[[#This Row],[Shoda: Věk]]),1,0)","v":0},{"$f":"IF(StatData[[#This Row],[Seskupený CZ-NACE]]=VLOOKUP(Obor,TabObor[],2,0),1,0)","v":0},{"$f":"IF(StatData[[#This Row],[Region]]=VLOOKUP(Region,TabRegion[],2,0),1,0)","v":1},{"$f":"IF(StatData[[#This Row],[Vzdělání]]=Vzdělání,1,0)","v":0},{"$f":"IF(StatData[[#This Row],[Pohlaví]]=Pohlaví,1,0)","v":0},{"$f":"IF(StatData[[#This Row],[Věk]]=Věk,1,0)","v":0},290,"Peněnictví a IT",1,"Střední bez maturity","Muž","35 až 54 let ",841.20501708984398,59643.547203071903,20591.444255166702,20688.5156170833,23759.131799999999,26973.249018473402,26973.249018473402,28418.436668559199,32760.145750371401,35899.724301618997,37898.535493966803,38614.542232769403,40587.766470142597,41499.330183451602,42471.947804207703,43132.882254741897,44568.860833966603,45379.237630500698,46531.9308776869,47867.275567496799,49536.713122952402,52863.160998642801,55665.447367428496,58407.905056992102,61739.420867343797,67470.929395220301,76014.8595848853,85957.287499604296,101652.339977429,146876.54238687101]
[{"$f":"IF(AND(StatData[[#This Row],[Shoda: Seskupený CZ-NACE]],StatData[[#This Row],[Shoda: Region]],StatData[[#This Row],[Shoda: Vzdělání]],StatData[[#This Row],[Shoda: Pohlaví]],StatData[[#This Row],[Shoda: Věk]]),1,0)","v":0},{"$f":"IF(StatData[[#This Row],[Seskupený CZ-NACE]]=VLOOKUP(Obor,TabObor[],2,0),1,0)","v":0},{"$f":"IF(StatData[[#This Row],[Region]]=VLOOKUP(Region,TabRegion[],2,0),1,0)","v":1},{"$f":"IF(StatData[[#This Row],[Vzdělání]]=Vzdělání,1,0)","v":0},{"$f":"IF(StatData[[#This Row],[Pohlaví]]=Pohlaví,1,0)","v":0},{"$f":"IF(StatData[[#This Row],[Věk]]=Věk,1,0)","v":0},291,"Peněnictví a IT",1,"Střední bez maturity","Muž","55 a více let",328.98327636718801,52412.906472529998,26542.6,31360.210820125201,35548.621800363202,36658.445856182298,38036.035771710602,39573.922300810002,40255.311939274601,40754.269971061098,42162.0861359931,42562.586311950297,43066.051516157997,43699.688063831403,44453.883347519302,45783.151362365199,46867.948162651999,47653.578402797997,48213.147856911797,48213.147856911797,48847.670262010397,50739.1007633767,53909.324385969499,56789.1358455671,57150.636032861097,60562.853054416402,63227.465448970601,66551.523547570207,72509.632394427899,85245.253358209404]
[{"$f":"IF(AND(StatData[[#This Row],[Shoda: Seskupený CZ-NACE]],StatData[[#This Row],[Shoda: Region]],StatData[[#This Row],[Shoda: Vzdělání]],StatData[[#This Row],[Shoda: Pohlaví]],StatData[[#This Row],[Shoda: Věk]]),1,0)","v":0},{"$f":"IF(StatData[[#This Row],[Seskupený CZ-NACE]]=VLOOKUP(Obor,TabObor[],2,0),1,0)","v":0},{"$f":"IF(StatData[[#This Row],[Region]]=VLOOKUP(Region,TabRegion[],2,0),1,0)","v":1},{"$f":"IF(StatData[[#This Row],[Vzdělání]]=Vzdělání,1,0)","v":0},{"$f":"IF(StatData[[#This Row],[Pohlaví]]=Pohlaví,1,0)","v":1},{"$f":"IF(StatData[[#This Row],[Věk]]=Věk,1,0)","v":1},292,"Peněnictví a IT",1,"Střední bez maturity","Žena","do 34 let    ",130.88298034668,43565.813304292198,26605.910927442001,"*",29782.1438968523,"*",32346.012317095901,"*",34752.080958680403,"*",34931.304777517304,"*",36628.783802657599,"*",37755.0853390993,"*",38219.718354197103,"*",39172.489251149702,"*",40908.049793689701,42409.844781526997,43760.905580736602,45320.352744350399,46649.414167699397,48534.646878369997,51947.202135040898,59209.020663907599,60857.433397163099,67732.963362944196]
[{"$f":"IF(AND(StatData[[#This Row],[Shoda: Seskupený CZ-NACE]],StatData[[#This Row],[Shoda: Region]],StatData[[#This Row],[Shoda: Vzdělání]],StatData[[#This Row],[Shoda: Pohlaví]],StatData[[#This Row],[Shoda: Věk]]),1,0)","v":0},{"$f":"IF(StatData[[#This Row],[Seskupený CZ-NACE]]=VLOOKUP(Obor,TabObor[],2,0),1,0)","v":0},{"$f":"IF(StatData[[#This Row],[Region]]=VLOOKUP(Region,TabRegion[],2,0),1,0)","v":1},{"$f":"IF(StatData[[#This Row],[Vzdělání]]=Vzdělání,1,0)","v":0},{"$f":"IF(StatData[[#This Row],[Pohlaví]]=Pohlaví,1,0)","v":1},{"$f":"IF(StatData[[#This Row],[Věk]]=Věk,1,0)","v":0},293,"Peněnictví a IT",1,"Střední bez maturity","Žena","35 až 54 let ",545.12408447265602,43482.117346927596,19314.98641075,19314.98641075,26849.239938246799,29539.905713389599,30063.266959163499,31267.2430449442,31952.748267254701,33591.024516411599,34373.554054502303,35065.8487387567,35767.063231053202,36848.835648120003,37953.6233463873,38543.618952696997,39237.391574859997,39993.4409289619,41069.395237170902,41878.361971384897,42512.103108036303,44274.970352120203,44668.569985037997,46602.582467565,47512.581490755801,50069.928131906498,51690.887225028302,55872.941696934402,58448.852410845902,70025.921075145801]
[{"$f":"IF(AND(StatData[[#This Row],[Shoda: Seskupený CZ-NACE]],StatData[[#This Row],[Shoda: Region]],StatData[[#This Row],[Shoda: Vzdělání]],StatData[[#This Row],[Shoda: Pohlaví]],StatData[[#This Row],[Shoda: Věk]]),1,0)","v":0},{"$f":"IF(StatData[[#This Row],[Seskupený CZ-NACE]]=VLOOKUP(Obor,TabObor[],2,0),1,0)","v":0},{"$f":"IF(StatData[[#This Row],[Region]]=VLOOKUP(Region,TabRegion[],2,0),1,0)","v":1},{"$f":"IF(StatData[[#This Row],[Vzdělání]]=Vzdělání,1,0)","v":0},{"$f":"IF(StatData[[#This Row],[Pohlaví]]=Pohlaví,1,0)","v":1},{"$f":"IF(StatData[[#This Row],[Věk]]=Věk,1,0)","v":0},294,"Peněnictví a IT",1,"Střední bez maturity","Žena","55 a více let",268.98196411132801,43151.097604442803,19773.425750499999,"*",19773.425750499999,"*",26174.013800000001,"*",32100.900082280699,"*",34366.996720343202,"*",36030.922568878901,"*",37471.383620276298,"*",38234.942081373898,"*",39711.372297381,"*",40450.2474549697,42180.130515606499,44212.083904296,46056.2090775283,47593.850754808896,49899.011385825703,55780.220911167402,56574.304389599398,63077.3886347347,70658.887692272197]
[{"$f":"IF(AND(StatData[[#This Row],[Shoda: Seskupený CZ-NACE]],StatData[[#This Row],[Shoda: Region]],StatData[[#This Row],[Shoda: Vzdělání]],StatData[[#This Row],[Shoda: Pohlaví]],StatData[[#This Row],[Shoda: Věk]]),1,0)","v":0},{"$f":"IF(StatData[[#This Row],[Seskupený CZ-NACE]]=VLOOKUP(Obor,TabObor[],2,0),1,0)","v":0},{"$f":"IF(StatData[[#This Row],[Region]]=VLOOKUP(Region,TabRegion[],2,0),1,0)","v":1},{"$f":"IF(StatData[[#This Row],[Vzdělání]]=Vzdělání,1,0)","v":1},{"$f":"IF(StatData[[#This Row],[Pohlaví]]=Pohlaví,1,0)","v":0},{"$f":"IF(StatData[[#This Row],[Věk]]=Věk,1,0)","v":1},295,"Peněnictví a IT",1,"Střední s maturitou a vyšší odborné","Muž","do 34 let    ",8197.556640625,70887.265649228793,33928.503001196797,37107.862143621103,39221.923472392198,40511.364729099398,41724.889520844998,43313.909909465903,44940.982994044003,46091.781258213297,47142.308096876201,48337.737194564303,49278.320392833397,50296.301881073399,51781.021570258403,52808.891280545598,54182.504745008497,55482.705977396297,56829.604973747199,58534.6279005619,59952.867236970502,62726.919696524703,66359.676936302494,70678.013324965199,76281.533481138598,82732.368427028501,89964.430255193598,100903.402084161,114658.162590557,141689.513590819]
[{"$f":"IF(AND(StatData[[#This Row],[Shoda: Seskupený CZ-NACE]],StatData[[#This Row],[Shoda: Region]],StatData[[#This Row],[Shoda: Vzdělání]],StatData[[#This Row],[Shoda: Pohlaví]],StatData[[#This Row],[Shoda: Věk]]),1,0)","v":0},{"$f":"IF(StatData[[#This Row],[Seskupený CZ-NACE]]=VLOOKUP(Obor,TabObor[],2,0),1,0)","v":0},{"$f":"IF(StatData[[#This Row],[Region]]=VLOOKUP(Region,TabRegion[],2,0),1,0)","v":1},{"$f":"IF(StatData[[#This Row],[Vzdělání]]=Vzdělání,1,0)","v":1},{"$f":"IF(StatData[[#This Row],[Pohlaví]]=Pohlaví,1,0)","v":0},{"$f":"IF(StatData[[#This Row],[Věk]]=Věk,1,0)","v":0},296,"Peněnictví a IT",1,"Střední s maturitou a vyšší odborné","Muž","35 až 54 let ",14072.6318359375,95313.171721929903,36451.109548243301,41132.449308057403,44141.778336402997,47350.984023282697,49582.089344057596,51768.442979616899,54112.666009645298,56212.765998555697,58480.211930029502,60043.435256362798,61647.790586546304,63574.377895603502,65986.026081098506,68218.214686965002,70525.9639587969,73308.837584253095,75759.978772193397,78489.088738899605,81190.726988873794,86634.062979086506,93004.552336234905,99825.697740902295,106630.704300814,114810.227423383,126594.291741945,140985.79753764099,160882.612683757,200243.63484395301]
[{"$f":"IF(AND(StatData[[#This Row],[Shoda: Seskupený CZ-NACE]],StatData[[#This Row],[Shoda: Region]],StatData[[#This Row],[Shoda: Vzdělání]],StatData[[#This Row],[Shoda: Pohlaví]],StatData[[#This Row],[Shoda: Věk]]),1,0)","v":0},{"$f":"IF(StatData[[#This Row],[Seskupený CZ-NACE]]=VLOOKUP(Obor,TabObor[],2,0),1,0)","v":0},{"$f":"IF(StatData[[#This Row],[Region]]=VLOOKUP(Region,TabRegion[],2,0),1,0)","v":1},{"$f":"IF(StatData[[#This Row],[Vzdělání]]=Vzdělání,1,0)","v":1},{"$f":"IF(StatData[[#This Row],[Pohlaví]]=Pohlaví,1,0)","v":0},{"$f":"IF(StatData[[#This Row],[Věk]]=Věk,1,0)","v":0},297,"Peněnictví a IT",1,"Střední s maturitou a vyšší odborné","Muž","55 a více let",1769.52758789063,75450.810110509294,34431.889921517897,39095.521376122299,40497.875489658698,41921.943371002497,43585.377017439598,45277.646369866801,47004.590754250203,47432.654784314102,48435.2984820278,50472.090146549097,51667.690726448302,52539.819077133201,54020.304175469799,55283.331887699998,56890.881693029303,58738.016793482602,59835.697104346502,61435.405329921101,62849.193150619802,66553.026943733799,71376.765596278507,75723.197103993603,82058.545279587401,88485.591648606496,97304.009929054999,105778.44395483899,118028.751703299,146869.7323104]
[{"$f":"IF(AND(StatData[[#This Row],[Shoda: Seskupený CZ-NACE]],StatData[[#This Row],[Shoda: Region]],StatData[[#This Row],[Shoda: Vzdělání]],StatData[[#This Row],[Shoda: Pohlaví]],StatData[[#This Row],[Shoda: Věk]]),1,0)","v":0},{"$f":"IF(StatData[[#This Row],[Seskupený CZ-NACE]]=VLOOKUP(Obor,TabObor[],2,0),1,0)","v":0},{"$f":"IF(StatData[[#This Row],[Region]]=VLOOKUP(Region,TabRegion[],2,0),1,0)","v":1},{"$f":"IF(StatData[[#This Row],[Vzdělání]]=Vzdělání,1,0)","v":1},{"$f":"IF(StatData[[#This Row],[Pohlaví]]=Pohlaví,1,0)","v":1},{"$f":"IF(StatData[[#This Row],[Věk]]=Věk,1,0)","v":1},298,"Peněnictví a IT",1,"Střední s maturitou a vyšší odborné","Žena","do 34 let    ",4512.0380859375,54723.827250958799,31537.517613301301,32849.306516123499,34409.685527396403,35706.317112650402,36719.901122524498,37662.374256416901,38400.825538069097,39249.879646147201,40343.397982640097,41196.940977289501,42036.563011652899,42944.364754144,43812.165002994603,44477.949740958997,45065.0688940408,46018.128840180398,46587.712813275102,47307.837932898401,48154.552926256103,50155.850718075701,52426.094276400501,55024.661014708799,57996.606693867703,61604.155915986601,65782.1094246469,70147.547578048994,76354.534535018101,98473.210255311104]
[{"$f":"IF(AND(StatData[[#This Row],[Shoda: Seskupený CZ-NACE]],StatData[[#This Row],[Shoda: Region]],StatData[[#This Row],[Shoda: Vzdělání]],StatData[[#This Row],[Shoda: Pohlaví]],StatData[[#This Row],[Shoda: Věk]]),1,0)","v":0},{"$f":"IF(StatData[[#This Row],[Seskupený CZ-NACE]]=VLOOKUP(Obor,TabObor[],2,0),1,0)","v":0},{"$f":"IF(StatData[[#This Row],[Region]]=VLOOKUP(Region,TabRegion[],2,0),1,0)","v":1},{"$f":"IF(StatData[[#This Row],[Vzdělání]]=Vzdělání,1,0)","v":1},{"$f":"IF(StatData[[#This Row],[Pohlaví]]=Pohlaví,1,0)","v":1},{"$f":"IF(StatData[[#This Row],[Věk]]=Věk,1,0)","v":0},299,"Peněnictví a IT",1,"Střední s maturitou a vyšší odborné","Žena","35 až 54 let ",10561.107421875,63953.7170804458,34999.419526763202,37205.015811125697,38851.2468894634,40304.756518249204,41697.098873098403,42746.588852813598,43808.243285739998,45009.097697622397,45970.594396230103,46836.705133007097,47970.803431258901,48902.445385130501,49860.928772789601,50790.221683720403,51756.744949423701,52879.054639296701,53946.744156630099,55041.180778375703,56023.014989142699,58097.242201619301,60617.665670773597,63140.156668690797,66516.110271441896,70906.383034995204,76528.578913820893,83999.632439287903,95739.844003268299,118769.060423528]
[{"$f":"IF(AND(StatData[[#This Row],[Shoda: Seskupený CZ-NACE]],StatData[[#This Row],[Shoda: Region]],StatData[[#This Row],[Shoda: Vzdělání]],StatData[[#This Row],[Shoda: Pohlaví]],StatData[[#This Row],[Shoda: Věk]]),1,0)","v":0},{"$f":"IF(StatData[[#This Row],[Seskupený CZ-NACE]]=VLOOKUP(Obor,TabObor[],2,0),1,0)","v":0},{"$f":"IF(StatData[[#This Row],[Region]]=VLOOKUP(Region,TabRegion[],2,0),1,0)","v":1},{"$f":"IF(StatData[[#This Row],[Vzdělání]]=Vzdělání,1,0)","v":1},{"$f":"IF(StatData[[#This Row],[Pohlaví]]=Pohlaví,1,0)","v":1},{"$f":"IF(StatData[[#This Row],[Věk]]=Věk,1,0)","v":0},300,"Peněnictví a IT",1,"Střední s maturitou a vyšší odborné","Žena","55 a více let",2545.39575195313,59093.7187247525,31859.152560340499,35214.169768154301,36699.381094354801,38197.718114480202,39570.696925930497,40352.380072145403,41748.743825821301,42956.288084692504,44085.138447539,44971.2109709453,45894.756526862497,46702.638780625697,47577.533356553198,48424.000295184997,49369.110125217601,50249.151762390902,51096.315241040298,51944.978005543198,52858.384678543,54737.229777684202,57482.565564358199,60127.792639437997,63200.170846936198,66777.763076304502,71194.429036984395,79035.309332944002,88236.690942724206,102098.493218319]
[{"$f":"IF(AND(StatData[[#This Row],[Shoda: Seskupený CZ-NACE]],StatData[[#This Row],[Shoda: Region]],StatData[[#This Row],[Shoda: Vzdělání]],StatData[[#This Row],[Shoda: Pohlaví]],StatData[[#This Row],[Shoda: Věk]]),1,0)","v":0},{"$f":"IF(StatData[[#This Row],[Seskupený CZ-NACE]]=VLOOKUP(Obor,TabObor[],2,0),1,0)","v":0},{"$f":"IF(StatData[[#This Row],[Region]]=VLOOKUP(Region,TabRegion[],2,0),1,0)","v":1},{"$f":"IF(StatData[[#This Row],[Vzdělání]]=Vzdělání,1,0)","v":0},{"$f":"IF(StatData[[#This Row],[Pohlaví]]=Pohlaví,1,0)","v":0},{"$f":"IF(StatData[[#This Row],[Věk]]=Věk,1,0)","v":1},301,"Peněnictví a IT",1,"Vysokoškolské ","Muž","do 34 let    ",11198.275390625,95339.950917138602,43702.428406003302,46511.705045605697,49050.367524125802,51787.143089126002,54130.940485115199,55896.800115724604,58176.328986532601,59914.5750091679,62057.197415946401,64116.213190152899,66287.600498542495,68595.948980617293,70787.148799874703,73278.192090644894,75702.292193326197,77673.776983476695,79748.2946307323,82460.047089518994,84251.130786766604,89929.242451641796,95824.970407622095,102131.879365827,109653.35484378401,115943.210647858,126157.863337694,137583.142630652,151546.70542950899,180030.06658032199]
[{"$f":"IF(AND(StatData[[#This Row],[Shoda: Seskupený CZ-NACE]],StatData[[#This Row],[Shoda: Region]],StatData[[#This Row],[Shoda: Vzdělání]],StatData[[#This Row],[Shoda: Pohlaví]],StatData[[#This Row],[Shoda: Věk]]),1,0)","v":0},{"$f":"IF(StatData[[#This Row],[Seskupený CZ-NACE]]=VLOOKUP(Obor,TabObor[],2,0),1,0)","v":0},{"$f":"IF(StatData[[#This Row],[Region]]=VLOOKUP(Region,TabRegion[],2,0),1,0)","v":1},{"$f":"IF(StatData[[#This Row],[Vzdělání]]=Vzdělání,1,0)","v":0},{"$f":"IF(StatData[[#This Row],[Pohlaví]]=Pohlaví,1,0)","v":0},{"$f":"IF(StatData[[#This Row],[Věk]]=Věk,1,0)","v":0},302,"Peněnictví a IT",1,"Vysokoškolské ","Muž","35 až 54 let ",24234.8203125,141212.99040545701,53198.887266375699,58707.913933368698,64857.298352781901,69512.782342681894,73026.261751474507,77295.990707917401,80559.1959181938,83804.887353448299,87302.174105499493,90242.551713296605,93585.108720329503,97503.282774457606,100754.327055589,103733.65623185399,106859.424326279,109918.256683056,113218.259208174,116799.609887807,120386.87669243899,127505.932889198,135733.37589673701,144831.765427181,154902.582811776,167596.48542562599,183430.387502492,204309.021178942,235611.939456127,292433.75072922697]
[{"$f":"IF(AND(StatData[[#This Row],[Shoda: Seskupený CZ-NACE]],StatData[[#This Row],[Shoda: Region]],StatData[[#This Row],[Shoda: Vzdělání]],StatData[[#This Row],[Shoda: Pohlaví]],StatData[[#This Row],[Shoda: Věk]]),1,0)","v":0},{"$f":"IF(StatData[[#This Row],[Seskupený CZ-NACE]]=VLOOKUP(Obor,TabObor[],2,0),1,0)","v":0},{"$f":"IF(StatData[[#This Row],[Region]]=VLOOKUP(Region,TabRegion[],2,0),1,0)","v":1},{"$f":"IF(StatData[[#This Row],[Vzdělání]]=Vzdělání,1,0)","v":0},{"$f":"IF(StatData[[#This Row],[Pohlaví]]=Pohlaví,1,0)","v":0},{"$f":"IF(StatData[[#This Row],[Věk]]=Věk,1,0)","v":0},303,"Peněnictví a IT",1,"Vysokoškolské ","Muž","55 a více let",4201.54150390625,121817.333118946,29923.7050876389,39960.390073167997,46582.349271753803,49554.149571833303,54688.543885957697,57774.1724494753,61064.920556162499,65775.3844060345,68112.295371472399,71778.634144817901,75421.145551618407,78338.435791302501,80600.637993605298,83325.284274791906,86587.9924873688,89261.951627856106,92678.5335970655,95717.0348862713,98168.063358591302,104564.80487236701,110955.29002142001,119332.30635824001,128915.376444817,141053.40030061899,158336.545210738,177673.519410548,212484.97307999001,282834.90105375502]
[{"$f":"IF(AND(StatData[[#This Row],[Shoda: Seskupený CZ-NACE]],StatData[[#This Row],[Shoda: Region]],StatData[[#This Row],[Shoda: Vzdělání]],StatData[[#This Row],[Shoda: Pohlaví]],StatData[[#This Row],[Shoda: Věk]]),1,0)","v":0},{"$f":"IF(StatData[[#This Row],[Seskupený CZ-NACE]]=VLOOKUP(Obor,TabObor[],2,0),1,0)","v":0},{"$f":"IF(StatData[[#This Row],[Region]]=VLOOKUP(Region,TabRegion[],2,0),1,0)","v":1},{"$f":"IF(StatData[[#This Row],[Vzdělání]]=Vzdělání,1,0)","v":0},{"$f":"IF(StatData[[#This Row],[Pohlaví]]=Pohlaví,1,0)","v":1},{"$f":"IF(StatData[[#This Row],[Věk]]=Věk,1,0)","v":1},304,"Peněnictví a IT",1,"Vysokoškolské ","Žena","do 34 let    ",8411.8798828125,70671.101845339799,37253.412108108001,39822.981212720799,41942.148702254301,43789.961199862701,45155.260296001899,46208.977387912098,47275.333510049,48683.522972929597,49730.718722919599,50996.262238923002,52153.133121263403,53494.727812473298,54536.573121488596,56244.228899965899,57379.778617514799,58502.1006977836,59812.596736517298,61359.9313450154,62399.257610668697,65958.132697537294,69665.630993150495,74238.379586518597,78185.291340159994,82101.559693056304,89112.239870638296,96620.673523456702,107394.631458672,128783.109198823]
[{"$f":"IF(AND(StatData[[#This Row],[Shoda: Seskupený CZ-NACE]],StatData[[#This Row],[Shoda: Region]],StatData[[#This Row],[Shoda: Vzdělání]],StatData[[#This Row],[Shoda: Pohlaví]],StatData[[#This Row],[Shoda: Věk]]),1,0)","v":0},{"$f":"IF(StatData[[#This Row],[Seskupený CZ-NACE]]=VLOOKUP(Obor,TabObor[],2,0),1,0)","v":0},{"$f":"IF(StatData[[#This Row],[Region]]=VLOOKUP(Region,TabRegion[],2,0),1,0)","v":1},{"$f":"IF(StatData[[#This Row],[Vzdělání]]=Vzdělání,1,0)","v":0},{"$f":"IF(StatData[[#This Row],[Pohlaví]]=Pohlaví,1,0)","v":1},{"$f":"IF(StatData[[#This Row],[Věk]]=Věk,1,0)","v":0},305,"Peněnictví a IT",1,"Vysokoškolské ","Žena","35 až 54 let ",13816.7744140625,94089.902213663605,41184.707331742902,44832.2788091572,47136.706811808202,49826.225314033501,51731.416102665098,53714.176847468298,55989.211670304401,57751.821704524104,59774.356307612703,61547.063147078901,63497.497627211698,65643.782765623502,67164.295423065007,69041.804794522497,71099.466187111801,73288.739422433602,75654.515021679996,77760.988286382606,80052.1749467099,85168.477477138396,89738.474104441106,94608.201897037099,100281.154256031,107882.43568200999,118694.473577472,133844.89922624099,152045.28458902001,194933.90852184501]
[{"$f":"IF(AND(StatData[[#This Row],[Shoda: Seskupený CZ-NACE]],StatData[[#This Row],[Shoda: Region]],StatData[[#This Row],[Shoda: Vzdělání]],StatData[[#This Row],[Shoda: Pohlaví]],StatData[[#This Row],[Shoda: Věk]]),1,0)","v":0},{"$f":"IF(StatData[[#This Row],[Seskupený CZ-NACE]]=VLOOKUP(Obor,TabObor[],2,0),1,0)","v":0},{"$f":"IF(StatData[[#This Row],[Region]]=VLOOKUP(Region,TabRegion[],2,0),1,0)","v":1},{"$f":"IF(StatData[[#This Row],[Vzdělání]]=Vzdělání,1,0)","v":0},{"$f":"IF(StatData[[#This Row],[Pohlaví]]=Pohlaví,1,0)","v":1},{"$f":"IF(StatData[[#This Row],[Věk]]=Věk,1,0)","v":0},306,"Peněnictví a IT",1,"Vysokoškolské ","Žena","55 a více let",1981.75708007813,88020.063596741806,30910.568081092701,40128.160768725204,42332.711103046997,44076.951121582999,48064.664693835301,50389.5924847305,51982.128963951101,53206.794454589799,55682.2596620248,56722.519443930803,58273.014026810299,59624.935309001303,61557.493543840603,62808.629791023101,65074.945722684301,67305.529901533402,69812.5943229236,72035.471278779005,73976.700656573099,79245.426098717304,84214.553421857505,89866.290528502097,95996.183641116106,101998.813543116,109113.26285016,121247.675122083,139857.56171539699,178150.822425363]
[{"$f":"IF(AND(StatData[[#This Row],[Shoda: Seskupený CZ-NACE]],StatData[[#This Row],[Shoda: Region]],StatData[[#This Row],[Shoda: Vzdělání]],StatData[[#This Row],[Shoda: Pohlaví]],StatData[[#This Row],[Shoda: Věk]]),1,0)","v":0},{"$f":"IF(StatData[[#This Row],[Seskupený CZ-NACE]]=VLOOKUP(Obor,TabObor[],2,0),1,0)","v":0},{"$f":"IF(StatData[[#This Row],[Region]]=VLOOKUP(Region,TabRegion[],2,0),1,0)","v":0},{"$f":"IF(StatData[[#This Row],[Vzdělání]]=Vzdělání,1,0)","v":0},{"$f":"IF(StatData[[#This Row],[Pohlaví]]=Pohlaví,1,0)","v":0},{"$f":"IF(StatData[[#This Row],[Věk]]=Věk,1,0)","v":1},307,"Peněnictví a IT",2,"Střední bez maturity","Muž","do 34 let    ","*","*","*","*","*","*","*","*","*","*","*","*","*","*","*","*","*","*","*","*","*","*","*","*","*","*","*","*","*","*"]
[{"$f":"IF(AND(StatData[[#This Row],[Shoda: Seskupený CZ-NACE]],StatData[[#This Row],[Shoda: Region]],StatData[[#This Row],[Shoda: Vzdělání]],StatData[[#This Row],[Shoda: Pohlaví]],StatData[[#This Row],[Shoda: Věk]]),1,0)","v":0},{"$f":"IF(StatData[[#This Row],[Seskupený CZ-NACE]]=VLOOKUP(Obor,TabObor[],2,0),1,0)","v":0},{"$f":"IF(StatData[[#This Row],[Region]]=VLOOKUP(Region,TabRegion[],2,0),1,0)","v":0},{"$f":"IF(StatData[[#This Row],[Vzdělání]]=Vzdělání,1,0)","v":0},{"$f":"IF(StatData[[#This Row],[Pohlaví]]=Pohlaví,1,0)","v":0},{"$f":"IF(StatData[[#This Row],[Věk]]=Věk,1,0)","v":0},308,"Peněnictví a IT",2,"Střední bez maturity","Muž","35 až 54 let ",336.945556640625,35783.590658204703,18900.067908749999,"*",18900.067908749999,"*",19954.508237333299,"*",22859.5,"*",23203.4686,"*",25055.625535798201,"*",25055.625535798201,"*",25906.933144448401,"*",27962.470172121899,"*",28381.610000955101,30189.544159917299,36392.427432645098,36392.427432645098,41528.386638796699,45600.488912192101,52337.306328717903,55830.160439734202,59086.376644692602,64284.045245074303]
[{"$f":"IF(AND(StatData[[#This Row],[Shoda: Seskupený CZ-NACE]],StatData[[#This Row],[Shoda: Region]],StatData[[#This Row],[Shoda: Vzdělání]],StatData[[#This Row],[Shoda: Pohlaví]],StatData[[#This Row],[Shoda: Věk]]),1,0)","v":0},{"$f":"IF(StatData[[#This Row],[Seskupený CZ-NACE]]=VLOOKUP(Obor,TabObor[],2,0),1,0)","v":0},{"$f":"IF(StatData[[#This Row],[Region]]=VLOOKUP(Region,TabRegion[],2,0),1,0)","v":0},{"$f":"IF(StatData[[#This Row],[Vzdělání]]=Vzdělání,1,0)","v":0},{"$f":"IF(StatData[[#This Row],[Pohlaví]]=Pohlaví,1,0)","v":0},{"$f":"IF(StatData[[#This Row],[Věk]]=Věk,1,0)","v":0},309,"Peněnictví a IT",2,"Střední bez maturity","Muž","55 a více let",154.15263366699199,47969.912515527103,"*","*","*","*","*","*","*","*",35752.710816250801,"*","*","*","*","*","*","*","*","*",47093.748441736898,"*","*","*","*",58169.295510447802,"*","*","*","*"]
[{"$f":"IF(AND(StatData[[#This Row],[Shoda: Seskupený CZ-NACE]],StatData[[#This Row],[Shoda: Region]],StatData[[#This Row],[Shoda: Vzdělání]],StatData[[#This Row],[Shoda: Pohlaví]],StatData[[#This Row],[Shoda: Věk]]),1,0)","v":0},{"$f":"IF(StatData[[#This Row],[Seskupený CZ-NACE]]=VLOOKUP(Obor,TabObor[],2,0),1,0)","v":0},{"$f":"IF(StatData[[#This Row],[Region]]=VLOOKUP(Region,TabRegion[],2,0),1,0)","v":0},{"$f":"IF(StatData[[#This Row],[Vzdělání]]=Vzdělání,1,0)","v":0},{"$f":"IF(StatData[[#This Row],[Pohlaví]]=Pohlaví,1,0)","v":1},{"$f":"IF(StatData[[#This Row],[Věk]]=Věk,1,0)","v":1},310,"Peněnictví a IT",2,"Střední bez maturity","Žena","do 34 let    ","*","*","*","*","*","*","*","*","*","*","*","*","*","*","*","*","*","*","*","*","*","*","*","*","*","*","*","*","*","*"]
[{"$f":"IF(AND(StatData[[#This Row],[Shoda: Seskupený CZ-NACE]],StatData[[#This Row],[Shoda: Region]],StatData[[#This Row],[Shoda: Vzdělání]],StatData[[#This Row],[Shoda: Pohlaví]],StatData[[#This Row],[Shoda: Věk]]),1,0)","v":0},{"$f":"IF(StatData[[#This Row],[Seskupený CZ-NACE]]=VLOOKUP(Obor,TabObor[],2,0),1,0)","v":0},{"$f":"IF(StatData[[#This Row],[Region]]=VLOOKUP(Region,TabRegion[],2,0),1,0)","v":0},{"$f":"IF(StatData[[#This Row],[Vzdělání]]=Vzdělání,1,0)","v":0},{"$f":"IF(StatData[[#This Row],[Pohlaví]]=Pohlaví,1,0)","v":1},{"$f":"IF(StatData[[#This Row],[Věk]]=Věk,1,0)","v":0},311,"Peněnictví a IT",2,"Střední bez maturity","Žena","35 až 54 let ",177.49818420410199,36526.237771189197,"*","*","*","*","*","*","*","*",26485.3314324167,"*","*","*","*","*","*","*","*","*",28933.904115763398,"*","*","*","*",42705.122092116602,"*","*","*","*"]
[{"$f":"IF(AND(StatData[[#This Row],[Shoda: Seskupený CZ-NACE]],StatData[[#This Row],[Shoda: Region]],StatData[[#This Row],[Shoda: Vzdělání]],StatData[[#This Row],[Shoda: Pohlaví]],StatData[[#This Row],[Shoda: Věk]]),1,0)","v":0},{"$f":"IF(StatData[[#This Row],[Seskupený CZ-NACE]]=VLOOKUP(Obor,TabObor[],2,0),1,0)","v":0},{"$f":"IF(StatData[[#This Row],[Region]]=VLOOKUP(Region,TabRegion[],2,0),1,0)","v":0},{"$f":"IF(StatData[[#This Row],[Vzdělání]]=Vzdělání,1,0)","v":0},{"$f":"IF(StatData[[#This Row],[Pohlaví]]=Pohlaví,1,0)","v":1},{"$f":"IF(StatData[[#This Row],[Věk]]=Věk,1,0)","v":0},312,"Peněnictví a IT",2,"Střední bez maturity","Žena","55 a více let","*","*","*","*","*","*","*","*","*","*","*","*","*","*","*","*","*","*","*","*","*","*","*","*","*","*","*","*","*","*"]
[{"$f":"IF(AND(StatData[[#This Row],[Shoda: Seskupený CZ-NACE]],StatData[[#This Row],[Shoda: Region]],StatData[[#This Row],[Shoda: Vzdělání]],StatData[[#This Row],[Shoda: Pohlaví]],StatData[[#This Row],[Shoda: Věk]]),1,0)","v":0},{"$f":"IF(StatData[[#This Row],[Seskupený CZ-NACE]]=VLOOKUP(Obor,TabObor[],2,0),1,0)","v":0},{"$f":"IF(StatData[[#This Row],[Region]]=VLOOKUP(Region,TabRegion[],2,0),1,0)","v":0},{"$f":"IF(StatData[[#This Row],[Vzdělání]]=Vzdělání,1,0)","v":1},{"$f":"IF(StatData[[#This Row],[Pohlaví]]=Pohlaví,1,0)","v":0},{"$f":"IF(StatData[[#This Row],[Věk]]=Věk,1,0)","v":1},313,"Peněnictví a IT",2,"Střední s maturitou a vyšší odborné","Muž","do 34 let    ",1258.20141601563,53230.484635245397,24798.657060333298,26372.3550926434,26694.300681549201,29602.019186233501,33373.204147246397,34680.715685023701,36134.415085344597,37254.9948981372,39582.275212427201,40924.431559460798,41610.762216626601,42177.969820356302,43685.482033694803,44574.617028248598,45376.280827115399,46854.960899302001,47974.403303219799,49231.3899311024,50178.929024847901,52230.879767539998,55119.746738132999,57476.742594932897,59999.323224856496,64493.945802809598,68466.698963563496,71005.277442307095,78258.577386129298,89310.667117960402]
[{"$f":"IF(AND(StatData[[#This Row],[Shoda: Seskupený CZ-NACE]],StatData[[#This Row],[Shoda: Region]],StatData[[#This Row],[Shoda: Vzdělání]],StatData[[#This Row],[Shoda: Pohlaví]],StatData[[#This Row],[Shoda: Věk]]),1,0)","v":0},{"$f":"IF(StatData[[#This Row],[Seskupený CZ-NACE]]=VLOOKUP(Obor,TabObor[],2,0),1,0)","v":0},{"$f":"IF(StatData[[#This Row],[Region]]=VLOOKUP(Region,TabRegion[],2,0),1,0)","v":0},{"$f":"IF(StatData[[#This Row],[Vzdělání]]=Vzdělání,1,0)","v":1},{"$f":"IF(StatData[[#This Row],[Pohlaví]]=Pohlaví,1,0)","v":0},{"$f":"IF(StatData[[#This Row],[Věk]]=Věk,1,0)","v":0},314,"Peněnictví a IT",2,"Střední s maturitou a vyšší odborné","Muž","35 až 54 let ",2155.9560546875,65123.1786542751,18915.887895,19570.3383829167,22014.639348083299,22656.1762630833,25952.9166,28089.8220929667,30129.461444110901,35864.982373016202,39061.428573401397,43176.931583511003,44777.839251195102,46297.3221041426,48137.084255037204,50657.351864266602,51544.826806089899,53316.466473080203,55275.021648055001,56247.663179343399,58802.890760174203,61764.953250400897,66473.154414561199,71584.696181264299,77350.471618662996,82810.123170012506,91247.663110956404,97447.520533268704,110961.504498223,129791.858191659]
[{"$f":"IF(AND(StatData[[#This Row],[Shoda: Seskupený CZ-NACE]],StatData[[#This Row],[Shoda: Region]],StatData[[#This Row],[Shoda: Vzdělání]],StatData[[#This Row],[Shoda: Pohlaví]],StatData[[#This Row],[Shoda: Věk]]),1,0)","v":0},{"$f":"IF(StatData[[#This Row],[Seskupený CZ-NACE]]=VLOOKUP(Obor,TabObor[],2,0),1,0)","v":0},{"$f":"IF(StatData[[#This Row],[Region]]=VLOOKUP(Region,TabRegion[],2,0),1,0)","v":0},{"$f":"IF(StatData[[#This Row],[Vzdělání]]=Vzdělání,1,0)","v":1},{"$f":"IF(StatData[[#This Row],[Pohlaví]]=Pohlaví,1,0)","v":0},{"$f":"IF(StatData[[#This Row],[Věk]]=Věk,1,0)","v":0},315,"Peněnictví a IT",2,"Střední s maturitou a vyšší odborné","Muž","55 a více let",400.8056640625,63477.873766402998,28206.857177965201,35566.616793383801,37485.529599836897,38522.315607386197,40386.445977600102,43021.607101740497,45427.886644693797,47014.336645075899,47852.029378055602,49709.994982075499,50809.840991108103,52271.758554388703,53276.691426799298,54326.602298646401,55542.194801208199,55925.183245896202,56874.891760129198,58839.196952478997,60109.022858468597,64222.284863770801,64626.045601984602,65472.665520239898,66500.575305697406,66697.708605160398,75919.272752386605,80028.256512674299,86466.959131879994,103160.122879004]
[{"$f":"IF(AND(StatData[[#This Row],[Shoda: Seskupený CZ-NACE]],StatData[[#This Row],[Shoda: Region]],StatData[[#This Row],[Shoda: Vzdělání]],StatData[[#This Row],[Shoda: Pohlaví]],StatData[[#This Row],[Shoda: Věk]]),1,0)","v":0},{"$f":"IF(StatData[[#This Row],[Seskupený CZ-NACE]]=VLOOKUP(Obor,TabObor[],2,0),1,0)","v":0},{"$f":"IF(StatData[[#This Row],[Region]]=VLOOKUP(Region,TabRegion[],2,0),1,0)","v":0},{"$f":"IF(StatData[[#This Row],[Vzdělání]]=Vzdělání,1,0)","v":1},{"$f":"IF(StatData[[#This Row],[Pohlaví]]=Pohlaví,1,0)","v":1},{"$f":"IF(StatData[[#This Row],[Věk]]=Věk,1,0)","v":1},316,"Peněnictví a IT",2,"Střední s maturitou a vyšší odborné","Žena","do 34 let    ",954.14758300781295,43245.493184974803,27205.1928879181,28251.391670126901,30104.013334861698,30259.835441358799,31826.1917406883,32380.221231465599,32620.620348964501,33768.241729841699,34141.332232622,34977.908744681401,35619.092717497697,36442.277831814899,37312.480911709601,38100.848550684699,38853.643841999299,39604.749274524504,40024.018288498301,40488.797106298902,41178.881245609897,42508.715567280597,44147.042211601103,45394.1245269473,46990.999675956497,48497.109874593298,50531.427819272001,54719.679667720397,58468.065432725904,66792.498906238194]
[{"$f":"IF(AND(StatData[[#This Row],[Shoda: Seskupený CZ-NACE]],StatData[[#This Row],[Shoda: Region]],StatData[[#This Row],[Shoda: Vzdělání]],StatData[[#This Row],[Shoda: Pohlaví]],StatData[[#This Row],[Shoda: Věk]]),1,0)","v":0},{"$f":"IF(StatData[[#This Row],[Seskupený CZ-NACE]]=VLOOKUP(Obor,TabObor[],2,0),1,0)","v":0},{"$f":"IF(StatData[[#This Row],[Region]]=VLOOKUP(Region,TabRegion[],2,0),1,0)","v":0},{"$f":"IF(StatData[[#This Row],[Vzdělání]]=Vzdělání,1,0)","v":1},{"$f":"IF(StatData[[#This Row],[Pohlaví]]=Pohlaví,1,0)","v":1},{"$f":"IF(StatData[[#This Row],[Věk]]=Věk,1,0)","v":0},317,"Peněnictví a IT",2,"Střední s maturitou a vyšší odborné","Žena","35 až 54 let ",2439.9892578125,51936.534518978202,21031.9333059167,23485.3314324167,24832.358946083299,27334.781436190598,30373.755212295098,33082.9233808399,34024.0392634448,35372.5684502574,36198.123829856202,37148.714089538698,38332.883927894902,39945.020173925303,41184.2077598869,42351.666325693703,43340.452891144603,44291.122419541098,45480.716629463001,46634.2447091668,48028.968115431999,50287.147141593799,53086.900232439599,55411.3514522224,58456.009254211298,61367.495422510503,65200.225268027003,70500.400989978094,82266.432946968707,95845.873751666702]
[{"$f":"IF(AND(StatData[[#This Row],[Shoda: Seskupený CZ-NACE]],StatData[[#This Row],[Shoda: Region]],StatData[[#This Row],[Shoda: Vzdělání]],StatData[[#This Row],[Shoda: Pohlaví]],StatData[[#This Row],[Shoda: Věk]]),1,0)","v":0},{"$f":"IF(StatData[[#This Row],[Seskupený CZ-NACE]]=VLOOKUP(Obor,TabObor[],2,0),1,0)","v":0},{"$f":"IF(StatData[[#This Row],[Region]]=VLOOKUP(Region,TabRegion[],2,0),1,0)","v":0},{"$f":"IF(StatData[[#This Row],[Vzdělání]]=Vzdělání,1,0)","v":1},{"$f":"IF(StatData[[#This Row],[Pohlaví]]=Pohlaví,1,0)","v":1},{"$f":"IF(StatData[[#This Row],[Věk]]=Věk,1,0)","v":0},318,"Peněnictví a IT",2,"Střední s maturitou a vyšší odborné","Žena","55 a více let",719.11627197265602,59007.066773155399,33569.409384334598,35057.868829358202,36048.3614291794,37364.4729648512,38916.850881831298,39922.9875437054,41248.733522806797,42267.051998343202,43214.4749136467,44448.553698377102,45373.601781933801,46151.002491721803,47660.106883538901,48185.4924864122,49404.807888757401,50533.876950311103,51937.870989009403,53367.1073039853,54597.875575139798,57117.0760529455,60093.5979520412,61897.993337595202,65381.590469397001,65889.955774533999,69493.478086591495,74381.792722402402,82998.424586969704,97558.724608290504]
[{"$f":"IF(AND(StatData[[#This Row],[Shoda: Seskupený CZ-NACE]],StatData[[#This Row],[Shoda: Region]],StatData[[#This Row],[Shoda: Vzdělání]],StatData[[#This Row],[Shoda: Pohlaví]],StatData[[#This Row],[Shoda: Věk]]),1,0)","v":0},{"$f":"IF(StatData[[#This Row],[Seskupený CZ-NACE]]=VLOOKUP(Obor,TabObor[],2,0),1,0)","v":0},{"$f":"IF(StatData[[#This Row],[Region]]=VLOOKUP(Region,TabRegion[],2,0),1,0)","v":0},{"$f":"IF(StatData[[#This Row],[Vzdělání]]=Vzdělání,1,0)","v":0},{"$f":"IF(StatData[[#This Row],[Pohlaví]]=Pohlaví,1,0)","v":0},{"$f":"IF(StatData[[#This Row],[Věk]]=Věk,1,0)","v":1},319,"Peněnictví a IT",2,"Vysokoškolské ","Muž","do 34 let    ",836.04718017578102,65113.868536695503,24837.2003513333,25806.654455834501,30280.162618300001,37930.535399860499,41571.223486065297,42089.142718460302,42089.142718460302,43771.130435755498,46892.598160525602,47820.693361623897,50833.4808890942,52075.292800370102,53987.857254825802,55129.049779934998,55129.049779934998,56786.268720089698,59074.144461183198,59729.210225157403,60325.425912180202,65294.483684285697,67041.459613919695,70373.859407139898,76310.855307820195,79396.577347023398,81968.224289661899,88725.100504504997,98557.522114704901,125914.444537572]
[{"$f":"IF(AND(StatData[[#This Row],[Shoda: Seskupený CZ-NACE]],StatData[[#This Row],[Shoda: Region]],StatData[[#This Row],[Shoda: Vzdělání]],StatData[[#This Row],[Shoda: Pohlaví]],StatData[[#This Row],[Shoda: Věk]]),1,0)","v":0},{"$f":"IF(StatData[[#This Row],[Seskupený CZ-NACE]]=VLOOKUP(Obor,TabObor[],2,0),1,0)","v":0},{"$f":"IF(StatData[[#This Row],[Region]]=VLOOKUP(Region,TabRegion[],2,0),1,0)","v":0},{"$f":"IF(StatData[[#This Row],[Vzdělání]]=Vzdělání,1,0)","v":0},{"$f":"IF(StatData[[#This Row],[Pohlaví]]=Pohlaví,1,0)","v":0},{"$f":"IF(StatData[[#This Row],[Věk]]=Věk,1,0)","v":0},320,"Peněnictví a IT",2,"Vysokoškolské ","Muž","35 až 54 let ",1843.73156738281,86806.755961060902,25433.254066121801,26098.349097999999,32154.823022585399,33436.228319385496,40858.746939947698,45169.254350481198,50189.771321130698,55443.933993406397,59901.499656940599,61922.600203821698,63628.720643481298,66599.639936181498,68350.055205341196,71431.605895918503,73053.132270389004,74030.557134384901,75206.993961333603,76980.600865818997,79620.267724451798,84143.994543554407,86827.271435981005,91716.481061297905,99398.699976550299,106115.329959832,115819.307786191,126000.732480879,138353.30952871,184807.10934476901]
[{"$f":"IF(AND(StatData[[#This Row],[Shoda: Seskupený CZ-NACE]],StatData[[#This Row],[Shoda: Region]],StatData[[#This Row],[Shoda: Vzdělání]],StatData[[#This Row],[Shoda: Pohlaví]],StatData[[#This Row],[Shoda: Věk]]),1,0)","v":0},{"$f":"IF(StatData[[#This Row],[Seskupený CZ-NACE]]=VLOOKUP(Obor,TabObor[],2,0),1,0)","v":0},{"$f":"IF(StatData[[#This Row],[Region]]=VLOOKUP(Region,TabRegion[],2,0),1,0)","v":0},{"$f":"IF(StatData[[#This Row],[Vzdělání]]=Vzdělání,1,0)","v":0},{"$f":"IF(StatData[[#This Row],[Pohlaví]]=Pohlaví,1,0)","v":0},{"$f":"IF(StatData[[#This Row],[Věk]]=Věk,1,0)","v":0},321,"Peněnictví a IT",2,"Vysokoškolské ","Muž","55 a více let",601.19055175781295,82597,20099.975548333299,"*",27547.2000903837,"*",27547.2000903837,"*",39605.891938633402,"*",56175.832409389201,"*",61805.806119931003,"*",67133.229113962807,"*",68973.398165891398,"*",69724.297983460405,"*",74158.860360723804,79252.083920519406,83613.237813145097,92354.873211410697,99824.371164754601,108871.116411069,116360.370469595,132092.781687362,135567.77392786799,164364.39200437599]
[{"$f":"IF(AND(StatData[[#This Row],[Shoda: Seskupený CZ-NACE]],StatData[[#This Row],[Shoda: Region]],StatData[[#This Row],[Shoda: Vzdělání]],StatData[[#This Row],[Shoda: Pohlaví]],StatData[[#This Row],[Shoda: Věk]]),1,0)","v":0},{"$f":"IF(StatData[[#This Row],[Seskupený CZ-NACE]]=VLOOKUP(Obor,TabObor[],2,0),1,0)","v":0},{"$f":"IF(StatData[[#This Row],[Region]]=VLOOKUP(Region,TabRegion[],2,0),1,0)","v":0},{"$f":"IF(StatData[[#This Row],[Vzdělání]]=Vzdělání,1,0)","v":0},{"$f":"IF(StatData[[#This Row],[Pohlaví]]=Pohlaví,1,0)","v":1},{"$f":"IF(StatData[[#This Row],[Věk]]=Věk,1,0)","v":1},322,"Peněnictví a IT",2,"Vysokoškolské ","Žena","do 34 let    ",486.982421875,47285.753103384697,21878.202099999999,25491.990936333299,25491.990936333299,25491.990936333299,28003.9098829123,28453.725615821601,31521.0509073666,33558.3762548179,33676.9896081392,35606.8144163857,36215.178679112199,37127.006305856703,38434.861962058902,39767.073250948903,41039.736975996697,42109.994420642499,43852.838976803803,44980.100750845399,46483.655631761998,48463.775486853301,50468.820050855204,53163.765131556298,55694.384257561702,58772.840413210899,60710.439536831298,63037.270153279896,68756.709376407307,76665.640310937393]
[{"$f":"IF(AND(StatData[[#This Row],[Shoda: Seskupený CZ-NACE]],StatData[[#This Row],[Shoda: Region]],StatData[[#This Row],[Shoda: Vzdělání]],StatData[[#This Row],[Shoda: Pohlaví]],StatData[[#This Row],[Shoda: Věk]]),1,0)","v":0},{"$f":"IF(StatData[[#This Row],[Seskupený CZ-NACE]]=VLOOKUP(Obor,TabObor[],2,0),1,0)","v":0},{"$f":"IF(StatData[[#This Row],[Region]]=VLOOKUP(Region,TabRegion[],2,0),1,0)","v":0},{"$f":"IF(StatData[[#This Row],[Vzdělání]]=Vzdělání,1,0)","v":0},{"$f":"IF(StatData[[#This Row],[Pohlaví]]=Pohlaví,1,0)","v":1},{"$f":"IF(StatData[[#This Row],[Věk]]=Věk,1,0)","v":0},323,"Peněnictví a IT",2,"Vysokoškolské ","Žena","35 až 54 let ",904.82110595703102,62193.964538647902,20519.147309110002,23113.839,29235.38748718,34894.913529190002,38400.2989607622,40791.802263587699,41990.533807565997,43320.984385046198,45341.208382851699,46920.073507416899,48570.655781239497,50065.4521160355,51323.2332535112,52935.546553041102,53457.739903852002,53978.130983688599,55414.529491716799,56169.032382484402,57333.3076800934,60683.957052913604,62605.066482366499,65147.4529660072,68023.059502927907,72126.568760191702,77782.913517581896,82082.0683618404,92199.004623856003,109220.040918624]
[{"$f":"IF(AND(StatData[[#This Row],[Shoda: Seskupený CZ-NACE]],StatData[[#This Row],[Shoda: Region]],StatData[[#This Row],[Shoda: Vzdělání]],StatData[[#This Row],[Shoda: Pohlaví]],StatData[[#This Row],[Shoda: Věk]]),1,0)","v":0},{"$f":"IF(StatData[[#This Row],[Seskupený CZ-NACE]]=VLOOKUP(Obor,TabObor[],2,0),1,0)","v":0},{"$f":"IF(StatData[[#This Row],[Region]]=VLOOKUP(Region,TabRegion[],2,0),1,0)","v":0},{"$f":"IF(StatData[[#This Row],[Vzdělání]]=Vzdělání,1,0)","v":0},{"$f":"IF(StatData[[#This Row],[Pohlaví]]=Pohlaví,1,0)","v":1},{"$f":"IF(StatData[[#This Row],[Věk]]=Věk,1,0)","v":0},324,"Peněnictví a IT",2,"Vysokoškolské ","Žena","55 a více let",241.08677673339801,76265.608103440696,32523.726956959999,33794.408404419999,34208.72131863,36447.858338849997,38553.018770069997,40566.88195124,44753.482000000004,51764.241603139999,53317.951437000003,57448.769604109999,58435.695174846303,60116.565309500002,61019.394131740701,61252.92911048,62023.7671395121,63042.3887162592,64201.550864105397,66149.628030911103,67817.427582295495,69778.652171488793,73089.169988449095,76471.552184752698,82728.215887899496,88272.535406950396,93184.225799878594,99939.037493765194,106465.98462318,133376.08127590001]
[{"$f":"IF(AND(StatData[[#This Row],[Shoda: Seskupený CZ-NACE]],StatData[[#This Row],[Shoda: Region]],StatData[[#This Row],[Shoda: Vzdělání]],StatData[[#This Row],[Shoda: Pohlaví]],StatData[[#This Row],[Shoda: Věk]]),1,0)","v":0},{"$f":"IF(StatData[[#This Row],[Seskupený CZ-NACE]]=VLOOKUP(Obor,TabObor[],2,0),1,0)","v":0},{"$f":"IF(StatData[[#This Row],[Region]]=VLOOKUP(Region,TabRegion[],2,0),1,0)","v":0},{"$f":"IF(StatData[[#This Row],[Vzdělání]]=Vzdělání,1,0)","v":0},{"$f":"IF(StatData[[#This Row],[Pohlaví]]=Pohlaví,1,0)","v":0},{"$f":"IF(StatData[[#This Row],[Věk]]=Věk,1,0)","v":1},325,"Peněnictví a IT",3,"Střední bez maturity","Muž","do 34 let    ",633.80676269531295,37266.7794203542,22295.0341076761,"*",24563.6666,"*",27714.804777471199,"*",30980.4844044534,"*",30980.4844044534,"*",31926.6359507505,"*",35054.826992852497,"*",35250.7018328618,"*",36733.264169534901,"*",37330.546102007698,39211.261115863002,40883.516748256799,42553.291620497002,46426.965655943997,50297.119904786297,52791.521466248698,53930.985492736603,58147.841514024301,68120.648885192204]
[{"$f":"IF(AND(StatData[[#This Row],[Shoda: Seskupený CZ-NACE]],StatData[[#This Row],[Shoda: Region]],StatData[[#This Row],[Shoda: Vzdělání]],StatData[[#This Row],[Shoda: Pohlaví]],StatData[[#This Row],[Shoda: Věk]]),1,0)","v":0},{"$f":"IF(StatData[[#This Row],[Seskupený CZ-NACE]]=VLOOKUP(Obor,TabObor[],2,0),1,0)","v":0},{"$f":"IF(StatData[[#This Row],[Region]]=VLOOKUP(Region,TabRegion[],2,0),1,0)","v":0},{"$f":"IF(StatData[[#This Row],[Vzdělání]]=Vzdělání,1,0)","v":0},{"$f":"IF(StatData[[#This Row],[Pohlaví]]=Pohlaví,1,0)","v":0},{"$f":"IF(StatData[[#This Row],[Věk]]=Věk,1,0)","v":0},326,"Peněnictví a IT",3,"Střední bez maturity","Muž","35 až 54 let ",796.158447265625,46839.489572366598,23762.923299999999,24924.103200000001,27131.736899198098,28208.047951448301,28988.609549653502,28988.609549653502,29828.920710906601,30082.1126673504,30999.823279448101,33224.816354273498,34702.098159671201,35484.222551307503,35645.946720293803,37131.472789836,37246.505849818699,39100.790531869301,41310.760576013003,42932.332476055897,42932.332476055897,45540.638872435899,46563.058230209303,49970.609589665997,53227.839646556997,57046.232107258198,59330.903435125998,64224.558446401403,71264.662474949204,86526.136626468797]
[{"$f":"IF(AND(StatData[[#This Row],[Shoda: Seskupený CZ-NACE]],StatData[[#This Row],[Shoda: Region]],StatData[[#This Row],[Shoda: Vzdělání]],StatData[[#This Row],[Shoda: Pohlaví]],StatData[[#This Row],[Shoda: Věk]]),1,0)","v":0},{"$f":"IF(StatData[[#This Row],[Seskupený CZ-NACE]]=VLOOKUP(Obor,TabObor[],2,0),1,0)","v":0},{"$f":"IF(StatData[[#This Row],[Region]]=VLOOKUP(Region,TabRegion[],2,0),1,0)","v":0},{"$f":"IF(StatData[[#This Row],[Vzdělání]]=Vzdělání,1,0)","v":0},{"$f":"IF(StatData[[#This Row],[Pohlaví]]=Pohlaví,1,0)","v":0},{"$f":"IF(StatData[[#This Row],[Věk]]=Věk,1,0)","v":0},327,"Peněnictví a IT",3,"Střední bez maturity","Muž","55 a více let",328.29000854492199,49654.744390788299,29206.6933844462,"*",29470.773069880001,"*",29967.751747220002,"*",30175.000456744299,"*",35312.3927037537,"*",38387.052593697103,"*",41712.278490833698,"*",44559.882988239398,"*",46687.004100733597,"*",49230.631879715002,50804.9782464987,52187.151645068698,54643.981173951703,57305.040682485902,59382.9750475283,61796.284080680198,67200.361846673797,72782.300076887695,77646.545256751706]
[{"$f":"IF(AND(StatData[[#This Row],[Shoda: Seskupený CZ-NACE]],StatData[[#This Row],[Shoda: Region]],StatData[[#This Row],[Shoda: Vzdělání]],StatData[[#This Row],[Shoda: Pohlaví]],StatData[[#This Row],[Shoda: Věk]]),1,0)","v":0},{"$f":"IF(StatData[[#This Row],[Seskupený CZ-NACE]]=VLOOKUP(Obor,TabObor[],2,0),1,0)","v":0},{"$f":"IF(StatData[[#This Row],[Region]]=VLOOKUP(Region,TabRegion[],2,0),1,0)","v":0},{"$f":"IF(StatData[[#This Row],[Vzdělání]]=Vzdělání,1,0)","v":0},{"$f":"IF(StatData[[#This Row],[Pohlaví]]=Pohlaví,1,0)","v":1},{"$f":"IF(StatData[[#This Row],[Věk]]=Věk,1,0)","v":1},328,"Peněnictví a IT",3,"Střední bez maturity","Žena","do 34 let    ",250.52650451660199,33447.920719625101,21743.454777917301,"*",22679.9833,"*",24316.941200000001,"*",24701.022064833302,"*",25708,"*",25929.251499999998,"*",26742.307131208901,"*",26742.307131208901,"*",27530.490618456301,"*",28497.620397709001,31147.594212130101,33232.230564290498,35149.572301722699,37137.497119094798,39789.056029165899,42308.371023454398,45452.560091076397,48877.017208527701,56167.285706347699]
[{"$f":"IF(AND(StatData[[#This Row],[Shoda: Seskupený CZ-NACE]],StatData[[#This Row],[Shoda: Region]],StatData[[#This Row],[Shoda: Vzdělání]],StatData[[#This Row],[Shoda: Pohlaví]],StatData[[#This Row],[Shoda: Věk]]),1,0)","v":0},{"$f":"IF(StatData[[#This Row],[Seskupený CZ-NACE]]=VLOOKUP(Obor,TabObor[],2,0),1,0)","v":0},{"$f":"IF(StatData[[#This Row],[Region]]=VLOOKUP(Region,TabRegion[],2,0),1,0)","v":0},{"$f":"IF(StatData[[#This Row],[Vzdělání]]=Vzdělání,1,0)","v":0},{"$f":"IF(StatData[[#This Row],[Pohlaví]]=Pohlaví,1,0)","v":1},{"$f":"IF(StatData[[#This Row],[Věk]]=Věk,1,0)","v":0},329,"Peněnictví a IT",3,"Střední bez maturity","Žena","35 až 54 let ",675.19274902343795,34590.978707851304,22177.1427,22739.947759088798,25246.736280333302,26587.487302488698,27424.679282997899,27581.602871387699,27943.833086252798,27957.137149907001,28288.4122202541,28306.6230308821,28323.082395445101,28828.397394952401,28828.397394952401,28828.397394952401,28828.397394952401,29256.0905004876,29972.035953610601,31430.516692197001,32749.171457417699,33948.105203093597,34205.026049782697,35001.372848412801,36022.498633494302,37041.612395262797,39811.025477044801,42779.7950998214,47412.355097535103,56016.830251192099]
[{"$f":"IF(AND(StatData[[#This Row],[Shoda: Seskupený CZ-NACE]],StatData[[#This Row],[Shoda: Region]],StatData[[#This Row],[Shoda: Vzdělání]],StatData[[#This Row],[Shoda: Pohlaví]],StatData[[#This Row],[Shoda: Věk]]),1,0)","v":0},{"$f":"IF(StatData[[#This Row],[Seskupený CZ-NACE]]=VLOOKUP(Obor,TabObor[],2,0),1,0)","v":0},{"$f":"IF(StatData[[#This Row],[Region]]=VLOOKUP(Region,TabRegion[],2,0),1,0)","v":0},{"$f":"IF(StatData[[#This Row],[Vzdělání]]=Vzdělání,1,0)","v":0},{"$f":"IF(StatData[[#This Row],[Pohlaví]]=Pohlaví,1,0)","v":1},{"$f":"IF(StatData[[#This Row],[Věk]]=Věk,1,0)","v":0},330,"Peněnictví a IT",3,"Střední bez maturity","Žena","55 a více let",648.25036621093795,32677.362612566401,18919.961715666701,"*",19949.685248333299,"*",20735.01558675,"*",21502.281599999998,"*",22272.465100000001,"*",26325.455082005901,"*",26325.455082005901,"*",27468.338301453401,"*",27810.150375850801,"*",29450.678070179601,31199.066972754099,31360.621622709099,32399.150275761102,34236.446226325097,38850.125968059998,41019.9845186038,47213.217455322803,48355.1384322667,54491.9820321691]
[{"$f":"IF(AND(StatData[[#This Row],[Shoda: Seskupený CZ-NACE]],StatData[[#This Row],[Shoda: Region]],StatData[[#This Row],[Shoda: Vzdělání]],StatData[[#This Row],[Shoda: Pohlaví]],StatData[[#This Row],[Shoda: Věk]]),1,0)","v":0},{"$f":"IF(StatData[[#This Row],[Seskupený CZ-NACE]]=VLOOKUP(Obor,TabObor[],2,0),1,0)","v":0},{"$f":"IF(StatData[[#This Row],[Region]]=VLOOKUP(Region,TabRegion[],2,0),1,0)","v":0},{"$f":"IF(StatData[[#This Row],[Vzdělání]]=Vzdělání,1,0)","v":1},{"$f":"IF(StatData[[#This Row],[Pohlaví]]=Pohlaví,1,0)","v":0},{"$f":"IF(StatData[[#This Row],[Věk]]=Věk,1,0)","v":1},331,"Peněnictví a IT",3,"Střední s maturitou a vyšší odborné","Muž","do 34 let    ",7020.50341796875,53974.455561869901,29766.4230230863,31773.464762537202,32982.687616848503,34379.024867788001,35438.183729162702,36307.365224004701,37177.886806061702,38000.386704989403,39050.804335089597,39668.266162426196,40782.221615789502,41927.679247276901,43127.882739467001,44156.892995489303,44925.103393929799,45979.027490150198,46643.236385474898,47472.388866087102,48463.6674216049,50388.438621882902,53088.826753874899,56186.473522421496,59703.144553334503,62583.617221491499,66431.617241388594,72200.430838969798,82789.0541216641,96888.9673867987]
[{"$f":"IF(AND(StatData[[#This Row],[Shoda: Seskupený CZ-NACE]],StatData[[#This Row],[Shoda: Region]],StatData[[#This Row],[Shoda: Vzdělání]],StatData[[#This Row],[Shoda: Pohlaví]],StatData[[#This Row],[Shoda: Věk]]),1,0)","v":0},{"$f":"IF(StatData[[#This Row],[Seskupený CZ-NACE]]=VLOOKUP(Obor,TabObor[],2,0),1,0)","v":0},{"$f":"IF(StatData[[#This Row],[Region]]=VLOOKUP(Region,TabRegion[],2,0),1,0)","v":0},{"$f":"IF(StatData[[#This Row],[Vzdělání]]=Vzdělání,1,0)","v":1},{"$f":"IF(StatData[[#This Row],[Pohlaví]]=Pohlaví,1,0)","v":0},{"$f":"IF(StatData[[#This Row],[Věk]]=Věk,1,0)","v":0},332,"Peněnictví a IT",3,"Střední s maturitou a vyšší odborné","Muž","35 až 54 let ",9694.8447265625,69146.907180740105,27804.817873571999,29432.154482102502,32652.344729870099,35470.512032900697,37149.989154058698,38907.960834648402,41269.290999279299,43373.484466662303,45256.196201397703,46467.0707089383,48171.884125646997,49856.972110958799,51613.7707510131,53125.602036217198,54723.253089098602,55567.6191367387,56666.414621499003,57822.008056512597,59395.310901522898,63441.768340150003,67266.050354631807,71880.465480749597,77569.280054645598,84707.964605054905,92446.159333180098,101598.63066382401,114914.75925191,140208.49334808599]
[{"$f":"IF(AND(StatData[[#This Row],[Shoda: Seskupený CZ-NACE]],StatData[[#This Row],[Shoda: Region]],StatData[[#This Row],[Shoda: Vzdělání]],StatData[[#This Row],[Shoda: Pohlaví]],StatData[[#This Row],[Shoda: Věk]]),1,0)","v":0},{"$f":"IF(StatData[[#This Row],[Seskupený CZ-NACE]]=VLOOKUP(Obor,TabObor[],2,0),1,0)","v":0},{"$f":"IF(StatData[[#This Row],[Region]]=VLOOKUP(Region,TabRegion[],2,0),1,0)","v":0},{"$f":"IF(StatData[[#This Row],[Vzdělání]]=Vzdělání,1,0)","v":1},{"$f":"IF(StatData[[#This Row],[Pohlaví]]=Pohlaví,1,0)","v":0},{"$f":"IF(StatData[[#This Row],[Věk]]=Věk,1,0)","v":0},333,"Peněnictví a IT",3,"Střední s maturitou a vyšší odborné","Muž","55 a více let",1768.7841796875,56402.874829853303,27581.560125870801,29092.671441814498,29767.010879198999,29767.010879198999,30240.047299491001,31261.076882237001,31886.299731816602,34073.342642144198,35544.009362265198,35891.701024520997,38565.1615494578,41429.6824217869,44352.719831991802,45428.540298487198,45459.584762488397,46642.916177094099,48474.553096303403,49709.500375648597,51548.645635945402,54213.855070353202,56942.3615366257,58864.891339407703,62340.837982493496,66568.759308417502,73252.621889418893,79282.017524194001,86716.456802011802,101521.377980312]
[{"$f":"IF(AND(StatData[[#This Row],[Shoda: Seskupený CZ-NACE]],StatData[[#This Row],[Shoda: Region]],StatData[[#This Row],[Shoda: Vzdělání]],StatData[[#This Row],[Shoda: Pohlaví]],StatData[[#This Row],[Shoda: Věk]]),1,0)","v":0},{"$f":"IF(StatData[[#This Row],[Seskupený CZ-NACE]]=VLOOKUP(Obor,TabObor[],2,0),1,0)","v":0},{"$f":"IF(StatData[[#This Row],[Region]]=VLOOKUP(Region,TabRegion[],2,0),1,0)","v":0},{"$f":"IF(StatData[[#This Row],[Vzdělání]]=Vzdělání,1,0)","v":1},{"$f":"IF(StatData[[#This Row],[Pohlaví]]=Pohlaví,1,0)","v":1},{"$f":"IF(StatData[[#This Row],[Věk]]=Věk,1,0)","v":1},334,"Peněnictví a IT",3,"Střední s maturitou a vyšší odborné","Žena","do 34 let    ",4521.43701171875,42410.611527398898,27490.844264589701,28955.321735666301,30198.798105261802,31047.903467851102,31667.861657168702,32305.6438822091,32863.630264023697,33630.132878021097,34160.690858372996,34466.4047256064,34976.035989891898,35308.757003289902,35841.773051187003,36513.626341975803,37102.079526692098,37809.173888741898,38486.370048550903,38942.430056691897,39594.247743227701,40801.288215052198,42218.194007162201,43885.878002861398,46215.4159528089,47814.3120283479,50131.383826573001,52791.146123001403,57323.733279246902,65266.107836365401]
[{"$f":"IF(AND(StatData[[#This Row],[Shoda: Seskupený CZ-NACE]],StatData[[#This Row],[Shoda: Region]],StatData[[#This Row],[Shoda: Vzdělání]],StatData[[#This Row],[Shoda: Pohlaví]],StatData[[#This Row],[Shoda: Věk]]),1,0)","v":0},{"$f":"IF(StatData[[#This Row],[Seskupený CZ-NACE]]=VLOOKUP(Obor,TabObor[],2,0),1,0)","v":0},{"$f":"IF(StatData[[#This Row],[Region]]=VLOOKUP(Region,TabRegion[],2,0),1,0)","v":0},{"$f":"IF(StatData[[#This Row],[Vzdělání]]=Vzdělání,1,0)","v":1},{"$f":"IF(StatData[[#This Row],[Pohlaví]]=Pohlaví,1,0)","v":1},{"$f":"IF(StatData[[#This Row],[Věk]]=Věk,1,0)","v":0},335,"Peněnictví a IT",3,"Střední s maturitou a vyšší odborné","Žena","35 až 54 let ",9512.3447265625,49354.727029619396,27137.978380746499,28168.372045959,30302.208736759199,31512.3648956871,32563.3902611538,33229.099132179501,33927.401217054503,34644.0387623551,35247.526887023902,36324.989881364701,37168.508932506098,38225.424257151601,39180.489584882998,39993.079933810899,40967.718693681898,42001.686478409203,42879.268575079797,43840.961190013302,44828.414843287203,46893.254304330301,48750.506405797001,51016.8064634978,53339.606495554297,56553.1625773661,60469.722410846502,65509.7649785588,73199.5192784346,86547.0015734193]
[{"$f":"IF(AND(StatData[[#This Row],[Shoda: Seskupený CZ-NACE]],StatData[[#This Row],[Shoda: Region]],StatData[[#This Row],[Shoda: Vzdělání]],StatData[[#This Row],[Shoda: Pohlaví]],StatData[[#This Row],[Shoda: Věk]]),1,0)","v":0},{"$f":"IF(StatData[[#This Row],[Seskupený CZ-NACE]]=VLOOKUP(Obor,TabObor[],2,0),1,0)","v":0},{"$f":"IF(StatData[[#This Row],[Region]]=VLOOKUP(Region,TabRegion[],2,0),1,0)","v":0},{"$f":"IF(StatData[[#This Row],[Vzdělání]]=Vzdělání,1,0)","v":1},{"$f":"IF(StatData[[#This Row],[Pohlaví]]=Pohlaví,1,0)","v":1},{"$f":"IF(StatData[[#This Row],[Věk]]=Věk,1,0)","v":0},336,"Peněnictví a IT",3,"Střední s maturitou a vyšší odborné","Žena","55 a více let",2580.16552734375,51312.426862239903,26316.591400000001,27129.440597719698,28864.064562780601,29777.865270338101,30178.039326435599,32281.9512476245,33555.213335017703,34942.023323510701,35736.660012264103,36813.4462986789,38147.245474480202,39060.442338246598,40324.434992768503,41767.268299603304,42896.532793730497,43802.597570180602,44870.260745170301,45934.194089714903,46829.259584633401,49170.6625247634,51676.340881683303,53894.247611229403,56461.547342677601,59707.926986415499,64243.363969234997,71074.652707652698,80313.105130009993,93457.422039828394]
[{"$f":"IF(AND(StatData[[#This Row],[Shoda: Seskupený CZ-NACE]],StatData[[#This Row],[Shoda: Region]],StatData[[#This Row],[Shoda: Vzdělání]],StatData[[#This Row],[Shoda: Pohlaví]],StatData[[#This Row],[Shoda: Věk]]),1,0)","v":0},{"$f":"IF(StatData[[#This Row],[Seskupený CZ-NACE]]=VLOOKUP(Obor,TabObor[],2,0),1,0)","v":0},{"$f":"IF(StatData[[#This Row],[Region]]=VLOOKUP(Region,TabRegion[],2,0),1,0)","v":0},{"$f":"IF(StatData[[#This Row],[Vzdělání]]=Vzdělání,1,0)","v":0},{"$f":"IF(StatData[[#This Row],[Pohlaví]]=Pohlaví,1,0)","v":0},{"$f":"IF(StatData[[#This Row],[Věk]]=Věk,1,0)","v":1},337,"Peněnictví a IT",3,"Vysokoškolské ","Muž","do 34 let    ",6988.64892578125,69763.788723923804,29099.5493707596,33719.475962978897,36261.319787874701,38471.512587217898,40802.140451085703,42565.775498189803,44760.620466805602,45950.204188359603,47883.043006325701,49136.456628951499,50814.585454688102,52483.567278727598,54141.970906395603,55854.419619773304,58114.03355285,59668.762175665302,61273.671533243702,63377.654168471498,64596.753770230003,67567.665414830495,70920.868161955004,74554.638818068604,79346.851909487305,85230.149851038004,91248.907666807398,99620.9915242282,108702.516565474,129350.060696927]
[{"$f":"IF(AND(StatData[[#This Row],[Shoda: Seskupený CZ-NACE]],StatData[[#This Row],[Shoda: Region]],StatData[[#This Row],[Shoda: Vzdělání]],StatData[[#This Row],[Shoda: Pohlaví]],StatData[[#This Row],[Shoda: Věk]]),1,0)","v":0},{"$f":"IF(StatData[[#This Row],[Seskupený CZ-NACE]]=VLOOKUP(Obor,TabObor[],2,0),1,0)","v":0},{"$f":"IF(StatData[[#This Row],[Region]]=VLOOKUP(Region,TabRegion[],2,0),1,0)","v":0},{"$f":"IF(StatData[[#This Row],[Vzdělání]]=Vzdělání,1,0)","v":0},{"$f":"IF(StatData[[#This Row],[Pohlaví]]=Pohlaví,1,0)","v":0},{"$f":"IF(StatData[[#This Row],[Věk]]=Věk,1,0)","v":0},338,"Peněnictví a IT",3,"Vysokoškolské ","Muž","35 až 54 let ",13800.2939453125,94136.454700185306,34127.531141719002,39527.201013090802,43500.9729084762,47319.709771415197,51802.922064182203,55113.181848858301,57946.051404142097,60137.682721873702,61917.032289005001,64280.080673444601,66652.103388814998,67972.449343374799,70326.539159005304,72535.778718837697,74642.441366512998,77041.112644704001,79497.144153320303,82026.785320627401,84316.093929683499,88761.831645058497,93986.905125640304,99509.987168130494,105876.17847944101,112745.999535482,121871.936482387,133591.493881948,149496.634792089,184679.95964705601]
[{"$f":"IF(AND(StatData[[#This Row],[Shoda: Seskupený CZ-NACE]],StatData[[#This Row],[Shoda: Region]],StatData[[#This Row],[Shoda: Vzdělání]],StatData[[#This Row],[Shoda: Pohlaví]],StatData[[#This Row],[Shoda: Věk]]),1,0)","v":0},{"$f":"IF(StatData[[#This Row],[Seskupený CZ-NACE]]=VLOOKUP(Obor,TabObor[],2,0),1,0)","v":0},{"$f":"IF(StatData[[#This Row],[Region]]=VLOOKUP(Region,TabRegion[],2,0),1,0)","v":0},{"$f":"IF(StatData[[#This Row],[Vzdělání]]=Vzdělání,1,0)","v":0},{"$f":"IF(StatData[[#This Row],[Pohlaví]]=Pohlaví,1,0)","v":0},{"$f":"IF(StatData[[#This Row],[Věk]]=Věk,1,0)","v":0},339,"Peněnictví a IT",3,"Vysokoškolské ","Muž","55 a více let",3337.17724609375,78230.137614396604,26161.747495482399,30377.634788838299,32151.307132138601,35021.714001953398,36205.906598291403,39435.076274282103,41364.161837792999,41900.170496945699,43490.205608734999,45491.191595302902,48607.257446453303,50591.410614538101,52092.113316965901,54391.776744038798,56604.527812988599,58996.160192663701,60072.9303420121,62368.687539533901,64907.145380327398,68660.453129998699,72435.298970492397,77969.365153052495,85477.601224336395,91931.981478484697,100217.969927718,111275.340893028,139075.693661853,166165.01538410399]
[{"$f":"IF(AND(StatData[[#This Row],[Shoda: Seskupený CZ-NACE]],StatData[[#This Row],[Shoda: Region]],StatData[[#This Row],[Shoda: Vzdělání]],StatData[[#This Row],[Shoda: Pohlaví]],StatData[[#This Row],[Shoda: Věk]]),1,0)","v":0},{"$f":"IF(StatData[[#This Row],[Seskupený CZ-NACE]]=VLOOKUP(Obor,TabObor[],2,0),1,0)","v":0},{"$f":"IF(StatData[[#This Row],[Region]]=VLOOKUP(Region,TabRegion[],2,0),1,0)","v":0},{"$f":"IF(StatData[[#This Row],[Vzdělání]]=Vzdělání,1,0)","v":0},{"$f":"IF(StatData[[#This Row],[Pohlaví]]=Pohlaví,1,0)","v":1},{"$f":"IF(StatData[[#This Row],[Věk]]=Věk,1,0)","v":1},340,"Peněnictví a IT",3,"Vysokoškolské ","Žena","do 34 let    ",4298.00732421875,52423.351748878398,30638.6643968629,32983.528394712797,33523.013006726098,34995.467358244801,36169.515542983201,37039.412409258301,37682.100152195999,38045.385672625001,39104.568924885498,39900.711740017403,40463.323170679403,41110.8763371936,41530.876116091298,42298.511533315599,43220.866529713901,44185.911346339497,44821.079761492198,45615.976326233802,46307.110608476498,48179.606262769099,50645.2721425536,52762.331293236297,55161.081930643399,58769.661680109697,63211.197504026197,69845.057883221307,78135.415226266996,93275.746996892005]
[{"$f":"IF(AND(StatData[[#This Row],[Shoda: Seskupený CZ-NACE]],StatData[[#This Row],[Shoda: Region]],StatData[[#This Row],[Shoda: Vzdělání]],StatData[[#This Row],[Shoda: Pohlaví]],StatData[[#This Row],[Shoda: Věk]]),1,0)","v":0},{"$f":"IF(StatData[[#This Row],[Seskupený CZ-NACE]]=VLOOKUP(Obor,TabObor[],2,0),1,0)","v":0},{"$f":"IF(StatData[[#This Row],[Region]]=VLOOKUP(Region,TabRegion[],2,0),1,0)","v":0},{"$f":"IF(StatData[[#This Row],[Vzdělání]]=Vzdělání,1,0)","v":0},{"$f":"IF(StatData[[#This Row],[Pohlaví]]=Pohlaví,1,0)","v":1},{"$f":"IF(StatData[[#This Row],[Věk]]=Věk,1,0)","v":0},341,"Peněnictví a IT",3,"Vysokoškolské ","Žena","35 až 54 let ",7099.29833984375,64361.320715233,32538.454706636199,34349.479013416902,35814.009290602698,37518.669643720503,38904.547972770699,40219.380870337198,41440.999270341999,42546.093310994402,43688.846398688998,45171.880273644798,46447.447024256202,47556.558189732001,49109.060093891603,50116.430840754299,51203.6776381038,52487.527175963703,53910.013329072302,55537.425080957102,56922.7055754338,59363.702139897199,62345.0483243938,65871.363735206804,70596.259652665598,75305.921286135897,80964.729678482807,89710.848904116297,99940.270960346694,122984.806524031]
[{"$f":"IF(AND(StatData[[#This Row],[Shoda: Seskupený CZ-NACE]],StatData[[#This Row],[Shoda: Region]],StatData[[#This Row],[Shoda: Vzdělání]],StatData[[#This Row],[Shoda: Pohlaví]],StatData[[#This Row],[Shoda: Věk]]),1,0)","v":0},{"$f":"IF(StatData[[#This Row],[Seskupený CZ-NACE]]=VLOOKUP(Obor,TabObor[],2,0),1,0)","v":0},{"$f":"IF(StatData[[#This Row],[Region]]=VLOOKUP(Region,TabRegion[],2,0),1,0)","v":0},{"$f":"IF(StatData[[#This Row],[Vzdělání]]=Vzdělání,1,0)","v":0},{"$f":"IF(StatData[[#This Row],[Pohlaví]]=Pohlaví,1,0)","v":1},{"$f":"IF(StatData[[#This Row],[Věk]]=Věk,1,0)","v":0},342,"Peněnictví a IT",3,"Vysokoškolské ","Žena","55 a více let",1073.52478027344,65962.350584201602,22032.549141166699,33821.289560717698,34929.932466697297,36970.652192501999,38739.101477413496,39216.186896373103,40359.033950251804,42154.566490024103,44453.492320374498,45383.475753402498,46631.9416280367,47360.471107591198,48531.707212846501,50890.064359132397,51904.860268273202,53873.136950435997,54992.975550811199,56810.6061986106,58384.501440839398,61917.8160794055,63642.202839450401,67574.147091572406,73383.914857866999,78909.488403902506,84099.706967972597,91848.059594046703,102284.617602232,120779.45463429199]
[{"$f":"IF(AND(StatData[[#This Row],[Shoda: Seskupený CZ-NACE]],StatData[[#This Row],[Shoda: Region]],StatData[[#This Row],[Shoda: Vzdělání]],StatData[[#This Row],[Shoda: Pohlaví]],StatData[[#This Row],[Shoda: Věk]]),1,0)","v":0},{"$f":"IF(StatData[[#This Row],[Seskupený CZ-NACE]]=VLOOKUP(Obor,TabObor[],2,0),1,0)","v":0},{"$f":"IF(StatData[[#This Row],[Region]]=VLOOKUP(Region,TabRegion[],2,0),1,0)","v":1},{"$f":"IF(StatData[[#This Row],[Vzdělání]]=Vzdělání,1,0)","v":0},{"$f":"IF(StatData[[#This Row],[Pohlaví]]=Pohlaví,1,0)","v":0},{"$f":"IF(StatData[[#This Row],[Věk]]=Věk,1,0)","v":1},343,"Školství a kultura",1,"Střední bez maturity","Muž","do 34 let    ",598.31304931640602,33690.088679828797,19295.721682545998,"*",19314.613744397899,"*",19548.961579810799,"*",19638.878100000002,"*",21540.75,"*",24606.678493200201,"*",28352.4166,"*",29970.608983156701,"*",30414.600668398802,"*",31323.673744006101,33132.416599999997,34186.696558552198,37542.034534723702,40142.817123667897,41360.4074779035,41683.683020603501,45332.918546533998,47404.334972274097,57728.582409909999]
[{"$f":"IF(AND(StatData[[#This Row],[Shoda: Seskupený CZ-NACE]],StatData[[#This Row],[Shoda: Region]],StatData[[#This Row],[Shoda: Vzdělání]],StatData[[#This Row],[Shoda: Pohlaví]],StatData[[#This Row],[Shoda: Věk]]),1,0)","v":0},{"$f":"IF(StatData[[#This Row],[Seskupený CZ-NACE]]=VLOOKUP(Obor,TabObor[],2,0),1,0)","v":0},{"$f":"IF(StatData[[#This Row],[Region]]=VLOOKUP(Region,TabRegion[],2,0),1,0)","v":1},{"$f":"IF(StatData[[#This Row],[Vzdělání]]=Vzdělání,1,0)","v":0},{"$f":"IF(StatData[[#This Row],[Pohlaví]]=Pohlaví,1,0)","v":0},{"$f":"IF(StatData[[#This Row],[Věk]]=Věk,1,0)","v":0},344,"Školství a kultura",1,"Střední bez maturity","Muž","35 až 54 let ",1913.82421875,39766.826779164803,20186.3148580833,20253.160953499999,22015.532299999999,22639.340832999998,22742.8606,24151.5251719068,25398.521919628802,26498.063099999999,28172.550905746299,30024.694347775301,31761.75,33056.007403465097,34088.916599999997,35088.120697571801,35419.714200000002,36713.443810608202,37459.848311207803,38443.817534380003,38800.181847027503,40461.518905683901,42053.420923245998,44287.144964834399,46009.600234309102,47774.962394143098,49302.8122463974,51721.650792401699,55630.644226592703,64904.723013408002]
[{"$f":"IF(AND(StatData[[#This Row],[Shoda: Seskupený CZ-NACE]],StatData[[#This Row],[Shoda: Region]],StatData[[#This Row],[Shoda: Vzdělání]],StatData[[#This Row],[Shoda: Pohlaví]],StatData[[#This Row],[Shoda: Věk]]),1,0)","v":0},{"$f":"IF(StatData[[#This Row],[Seskupený CZ-NACE]]=VLOOKUP(Obor,TabObor[],2,0),1,0)","v":0},{"$f":"IF(StatData[[#This Row],[Region]]=VLOOKUP(Region,TabRegion[],2,0),1,0)","v":1},{"$f":"IF(StatData[[#This Row],[Vzdělání]]=Vzdělání,1,0)","v":0},{"$f":"IF(StatData[[#This Row],[Pohlaví]]=Pohlaví,1,0)","v":0},{"$f":"IF(StatData[[#This Row],[Věk]]=Věk,1,0)","v":0},345,"Školství a kultura",1,"Střední bez maturity","Muž","55 a více let",1652.7412109375,36587.595260613904,19162.278496320101,19314.938797803701,19314.938797803701,22888.75,24734.057000000001,25571.5,27156.1009527077,27686.8757775417,28280.2780401702,29401.661004799898,30061.690916339801,30991.9166,31390.210758882,31935.0920031569,32605.833299999998,33329.666599999997,34018.598356562899,34983.848909598397,35240.416599999997,36462.786310984397,37803.9043950942,39509.935656720198,40572.0581763265,43330.913706221101,45464.944585273501,47978.226659424101,50719.735056229401,58167.450325224199]
[{"$f":"IF(AND(StatData[[#This Row],[Shoda: Seskupený CZ-NACE]],StatData[[#This Row],[Shoda: Region]],StatData[[#This Row],[Shoda: Vzdělání]],StatData[[#This Row],[Shoda: Pohlaví]],StatData[[#This Row],[Shoda: Věk]]),1,0)","v":0},{"$f":"IF(StatData[[#This Row],[Seskupený CZ-NACE]]=VLOOKUP(Obor,TabObor[],2,0),1,0)","v":0},{"$f":"IF(StatData[[#This Row],[Region]]=VLOOKUP(Region,TabRegion[],2,0),1,0)","v":1},{"$f":"IF(StatData[[#This Row],[Vzdělání]]=Vzdělání,1,0)","v":0},{"$f":"IF(StatData[[#This Row],[Pohlaví]]=Pohlaví,1,0)","v":1},{"$f":"IF(StatData[[#This Row],[Věk]]=Věk,1,0)","v":1},346,"Školství a kultura",1,"Střední bez maturity","Žena","do 34 let    ",365.08306884765602,33555.388231902798,22418.031200000001,22985.187900000001,23832.258300000001,24477.180400000001,25294.304,25844.9235723936,26726.277099999999,27194.593447358198,27674.507346271301,28085.2921817393,28365.486701698701,28697.2245682262,29328.940999999999,29671,30452.373200000002,31460.172782306501,31678.232219241501,31769.8789336929,31769.8789336929,32330.1731842021,32693.752914671899,33444.297971710002,34857.012908467397,35644.0405797321,38541.072228108002,43277.6909611062,45988.912370615501,49232.003732952202]
[{"$f":"IF(AND(StatData[[#This Row],[Shoda: Seskupený CZ-NACE]],StatData[[#This Row],[Shoda: Region]],StatData[[#This Row],[Shoda: Vzdělání]],StatData[[#This Row],[Shoda: Pohlaví]],StatData[[#This Row],[Shoda: Věk]]),1,0)","v":0},{"$f":"IF(StatData[[#This Row],[Seskupený CZ-NACE]]=VLOOKUP(Obor,TabObor[],2,0),1,0)","v":0},{"$f":"IF(StatData[[#This Row],[Region]]=VLOOKUP(Region,TabRegion[],2,0),1,0)","v":1},{"$f":"IF(StatData[[#This Row],[Vzdělání]]=Vzdělání,1,0)","v":0},{"$f":"IF(StatData[[#This Row],[Pohlaví]]=Pohlaví,1,0)","v":1},{"$f":"IF(StatData[[#This Row],[Věk]]=Věk,1,0)","v":0},347,"Školství a kultura",1,"Střední bez maturity","Žena","35 až 54 let ",3010.48413085938,31513.388608542198,22176.583299999998,22429.353800000001,23275.014200000001,23725.6402278149,24360.833299999998,24943.6666,25625.663499999999,26081.9276200329,26558.6666,27013.659782033101,27543.125624100401,27794.101999999999,28169.646069312301,28269.930247884899,28553.7813662804,28641.913796896999,28900.698,29281.620999999999,29654.3434248716,30416.7084,31415.0743,32563.985799999999,33113.246892144904,34210.526299999998,35386.294800000003,37456.787927998201,40887.178118410498,45832.673901820701]
[{"$f":"IF(AND(StatData[[#This Row],[Shoda: Seskupený CZ-NACE]],StatData[[#This Row],[Shoda: Region]],StatData[[#This Row],[Shoda: Vzdělání]],StatData[[#This Row],[Shoda: Pohlaví]],StatData[[#This Row],[Shoda: Věk]]),1,0)","v":0},{"$f":"IF(StatData[[#This Row],[Seskupený CZ-NACE]]=VLOOKUP(Obor,TabObor[],2,0),1,0)","v":0},{"$f":"IF(StatData[[#This Row],[Region]]=VLOOKUP(Region,TabRegion[],2,0),1,0)","v":1},{"$f":"IF(StatData[[#This Row],[Vzdělání]]=Vzdělání,1,0)","v":0},{"$f":"IF(StatData[[#This Row],[Pohlaví]]=Pohlaví,1,0)","v":1},{"$f":"IF(StatData[[#This Row],[Věk]]=Věk,1,0)","v":0},348,"Školství a kultura",1,"Střední bez maturity","Žena","55 a více let",1803.47058105469,31124.8197549369,19021.671417333298,19873.146700000001,21522.9257,22507.323,23241.1666,23811.603299999999,24444.049200000001,25067.3445293281,25601.864300000001,26104.4444,26547.670999999998,26828.083299999998,27245.833299999998,27661.25,28011.833299999998,28415.587701413901,28930.234100000001,29369.468939623599,29939.909,30936.092000000001,31471.2193025136,32542.833299999998,33909.050799999997,34906.25,36566.373572675999,38960.921870022503,43487.829332019901,47418.733557880099]
[{"$f":"IF(AND(StatData[[#This Row],[Shoda: Seskupený CZ-NACE]],StatData[[#This Row],[Shoda: Region]],StatData[[#This Row],[Shoda: Vzdělání]],StatData[[#This Row],[Shoda: Pohlaví]],StatData[[#This Row],[Shoda: Věk]]),1,0)","v":0},{"$f":"IF(StatData[[#This Row],[Seskupený CZ-NACE]]=VLOOKUP(Obor,TabObor[],2,0),1,0)","v":0},{"$f":"IF(StatData[[#This Row],[Region]]=VLOOKUP(Region,TabRegion[],2,0),1,0)","v":1},{"$f":"IF(StatData[[#This Row],[Vzdělání]]=Vzdělání,1,0)","v":1},{"$f":"IF(StatData[[#This Row],[Pohlaví]]=Pohlaví,1,0)","v":0},{"$f":"IF(StatData[[#This Row],[Věk]]=Věk,1,0)","v":1},349,"Školství a kultura",1,"Střední s maturitou a vyšší odborné","Muž","do 34 let    ",4499.4306640625,53876.870240398697,23149.4284095084,23757,25120.333299999998,30054.971846692999,31451.833299999998,33269.290017366897,34748.929767754998,36306.826038680403,37484.051596464102,38429.177088689197,39272.236679209702,39906.213749111099,41442.098403152799,42248.176825939197,43548.208498836902,44528.773138595898,45674.094507746202,46634.747130956501,47962.142976071402,49838.924095473601,51902.801586016503,54762.6607192394,58376.472891338199,62339.5027191021,68372.029789106498,76778.339288086499,87655.5794326904,102602.979832397]
[{"$f":"IF(AND(StatData[[#This Row],[Shoda: Seskupený CZ-NACE]],StatData[[#This Row],[Shoda: Region]],StatData[[#This Row],[Shoda: Vzdělání]],StatData[[#This Row],[Shoda: Pohlaví]],StatData[[#This Row],[Shoda: Věk]]),1,0)","v":0},{"$f":"IF(StatData[[#This Row],[Seskupený CZ-NACE]]=VLOOKUP(Obor,TabObor[],2,0),1,0)","v":0},{"$f":"IF(StatData[[#This Row],[Region]]=VLOOKUP(Region,TabRegion[],2,0),1,0)","v":1},{"$f":"IF(StatData[[#This Row],[Vzdělání]]=Vzdělání,1,0)","v":1},{"$f":"IF(StatData[[#This Row],[Pohlaví]]=Pohlaví,1,0)","v":0},{"$f":"IF(StatData[[#This Row],[Věk]]=Věk,1,0)","v":0},350,"Školství a kultura",1,"Střední s maturitou a vyšší odborné","Muž","35 až 54 let ",7329.875,60102.280617822798,19345.597727333301,21619.690263749999,22055.76222275,22173.782602666699,25680.054599999999,29670.4984,32258.063170805399,33730.165085098401,36465.6088921923,37223.204396225199,39026.636415610199,39886.212829207303,40798.742611206297,42128.457648321702,43585.185361530603,45106.347243710698,46231.843563024297,47672.260232263499,49311.636206315503,51742.116863224001,55040.8475190924,59449.9879430828,65476.0356692489,69487.544724408901,78183.215120425593,90622.627888319796,106348.381569772,138654.837101471]
[{"$f":"IF(AND(StatData[[#This Row],[Shoda: Seskupený CZ-NACE]],StatData[[#This Row],[Shoda: Region]],StatData[[#This Row],[Shoda: Vzdělání]],StatData[[#This Row],[Shoda: Pohlaví]],StatData[[#This Row],[Shoda: Věk]]),1,0)","v":0},{"$f":"IF(StatData[[#This Row],[Seskupený CZ-NACE]]=VLOOKUP(Obor,TabObor[],2,0),1,0)","v":0},{"$f":"IF(StatData[[#This Row],[Region]]=VLOOKUP(Region,TabRegion[],2,0),1,0)","v":1},{"$f":"IF(StatData[[#This Row],[Vzdělání]]=Vzdělání,1,0)","v":1},{"$f":"IF(StatData[[#This Row],[Pohlaví]]=Pohlaví,1,0)","v":0},{"$f":"IF(StatData[[#This Row],[Věk]]=Věk,1,0)","v":0},351,"Školství a kultura",1,"Střední s maturitou a vyšší odborné","Muž","55 a více let",1984.94616699219,47987.059870372701,19328.894825570002,21866.699799999999,23466.833299999998,24432.679199999999,26282.9166,30394.50676923,32485.184291356501,33391.268532068701,33858.083299999998,35047.583299999998,36108.553687673098,37080.269365339598,37862.7059352141,38949.543871627196,40256.744105865,41710.367518851097,42882.143733333301,43694.7324677176,44741.016704434602,46158.347553009902,47933.192137047801,50316.888934952403,51471.531664110502,52907.794872101404,56217.506151329297,59141.977683825397,67172.506016832995,85854.115553316806]
[{"$f":"IF(AND(StatData[[#This Row],[Shoda: Seskupený CZ-NACE]],StatData[[#This Row],[Shoda: Region]],StatData[[#This Row],[Shoda: Vzdělání]],StatData[[#This Row],[Shoda: Pohlaví]],StatData[[#This Row],[Shoda: Věk]]),1,0)","v":0},{"$f":"IF(StatData[[#This Row],[Seskupený CZ-NACE]]=VLOOKUP(Obor,TabObor[],2,0),1,0)","v":0},{"$f":"IF(StatData[[#This Row],[Region]]=VLOOKUP(Region,TabRegion[],2,0),1,0)","v":1},{"$f":"IF(StatData[[#This Row],[Vzdělání]]=Vzdělání,1,0)","v":1},{"$f":"IF(StatData[[#This Row],[Pohlaví]]=Pohlaví,1,0)","v":1},{"$f":"IF(StatData[[#This Row],[Věk]]=Věk,1,0)","v":1},352,"Školství a kultura",1,"Střední s maturitou a vyšší odborné","Žena","do 34 let    ",6013.486328125,42245.363544176798,24758.7981,27019.2509535563,28534.088342126201,29171.497595826699,30220.283790532401,30751.573354835298,31586.302582443899,32458.949000000001,33181.625386328997,33873.335861881897,34717.101183763101,35678.989552987201,36485.639487301603,37105.792015256397,37707.938709059999,38331.012829759202,38909.319941735703,39445.835952654597,40311.628430897697,41674.8410068257,42433.513046715903,43330.474684195702,45224.176071889102,47070.317299400398,50046.706003715102,54342.045937882503,58378.5582514255,66660.1867060246]
[{"$f":"IF(AND(StatData[[#This Row],[Shoda: Seskupený CZ-NACE]],StatData[[#This Row],[Shoda: Region]],StatData[[#This Row],[Shoda: Vzdělání]],StatData[[#This Row],[Shoda: Pohlaví]],StatData[[#This Row],[Shoda: Věk]]),1,0)","v":0},{"$f":"IF(StatData[[#This Row],[Seskupený CZ-NACE]]=VLOOKUP(Obor,TabObor[],2,0),1,0)","v":0},{"$f":"IF(StatData[[#This Row],[Region]]=VLOOKUP(Region,TabRegion[],2,0),1,0)","v":1},{"$f":"IF(StatData[[#This Row],[Vzdělání]]=Vzdělání,1,0)","v":1},{"$f":"IF(StatData[[#This Row],[Pohlaví]]=Pohlaví,1,0)","v":1},{"$f":"IF(StatData[[#This Row],[Věk]]=Věk,1,0)","v":0},353,"Školství a kultura",1,"Střední s maturitou a vyšší odborné","Žena","35 až 54 let ",14572.1357421875,46561.522089857703,20901.071748999999,21632.9540081667,23311.432726358998,25241.5,26548.25,28111.996743920699,29342.378621803498,31234.338299999999,32749.1477095749,33399.765966013299,34389.854800000001,35563.798075059603,36544.749025566402,37773.960654324299,38793.451162318801,39849.607210170601,40517.543940095296,41379.529716303397,42147.903092012202,44248.058976810098,46257.8794578011,48848.528130141603,50896.103021412797,52926.323491973897,56512.778981191397,62283.907667619402,68756.792899508306,87473.348371878194]
[{"$f":"IF(AND(StatData[[#This Row],[Shoda: Seskupený CZ-NACE]],StatData[[#This Row],[Shoda: Region]],StatData[[#This Row],[Shoda: Vzdělání]],StatData[[#This Row],[Shoda: Pohlaví]],StatData[[#This Row],[Shoda: Věk]]),1,0)","v":0},{"$f":"IF(StatData[[#This Row],[Seskupený CZ-NACE]]=VLOOKUP(Obor,TabObor[],2,0),1,0)","v":0},{"$f":"IF(StatData[[#This Row],[Region]]=VLOOKUP(Region,TabRegion[],2,0),1,0)","v":1},{"$f":"IF(StatData[[#This Row],[Vzdělání]]=Vzdělání,1,0)","v":1},{"$f":"IF(StatData[[#This Row],[Pohlaví]]=Pohlaví,1,0)","v":1},{"$f":"IF(StatData[[#This Row],[Věk]]=Věk,1,0)","v":0},354,"Školství a kultura",1,"Střední s maturitou a vyšší odborné","Žena","55 a více let",5953.99169921875,44009.1741485534,20059.973167749999,22263.333299999998,24492.191500000001,26370.2137425,27737.096336125102,29244.191928757798,31054.962803369701,32653.691055745501,34391.695626633897,35620.838594332701,36822.055648912901,38067.146794975502,38522.476383237103,39432.002675689197,40118.6323996418,41084.663793720603,41990.948059930801,42759.018951639802,43435.296060837303,44441.453701546998,45942.887755796102,47472.184027490803,49080.314174369603,50469.012860686897,52365.138128664301,55763.552545060098,61184.615384692501,71289.824931736395]
[{"$f":"IF(AND(StatData[[#This Row],[Shoda: Seskupený CZ-NACE]],StatData[[#This Row],[Shoda: Region]],StatData[[#This Row],[Shoda: Vzdělání]],StatData[[#This Row],[Shoda: Pohlaví]],StatData[[#This Row],[Shoda: Věk]]),1,0)","v":0},{"$f":"IF(StatData[[#This Row],[Seskupený CZ-NACE]]=VLOOKUP(Obor,TabObor[],2,0),1,0)","v":0},{"$f":"IF(StatData[[#This Row],[Region]]=VLOOKUP(Region,TabRegion[],2,0),1,0)","v":1},{"$f":"IF(StatData[[#This Row],[Vzdělání]]=Vzdělání,1,0)","v":0},{"$f":"IF(StatData[[#This Row],[Pohlaví]]=Pohlaví,1,0)","v":0},{"$f":"IF(StatData[[#This Row],[Věk]]=Věk,1,0)","v":1},355,"Školství a kultura",1,"Vysokoškolské ","Muž","do 34 let    ",10713.9814453125,64868.717999719804,30407.153004284199,32542.6307245688,35167.237030847296,37719.382646521299,39153.264272036096,39908.598982069801,41461.522091926701,43283.761565191802,44786.789819712103,45686.662661313101,46904.22613933,48010.843520776303,49337.151580332298,50389.6773406598,51690.428225829397,52884.901547234898,54384.158214649098,55650.105105096503,56809.454819740102,59960.779861647003,63008.194481582599,66996.858941560495,70642.746065265295,76195.659725381498,82961.005335935697,90394.459282419004,103584.093765528,124573.765383544]
[{"$f":"IF(AND(StatData[[#This Row],[Shoda: Seskupený CZ-NACE]],StatData[[#This Row],[Shoda: Region]],StatData[[#This Row],[Shoda: Vzdělání]],StatData[[#This Row],[Shoda: Pohlaví]],StatData[[#This Row],[Shoda: Věk]]),1,0)","v":0},{"$f":"IF(StatData[[#This Row],[Seskupený CZ-NACE]]=VLOOKUP(Obor,TabObor[],2,0),1,0)","v":0},{"$f":"IF(StatData[[#This Row],[Region]]=VLOOKUP(Region,TabRegion[],2,0),1,0)","v":1},{"$f":"IF(StatData[[#This Row],[Vzdělání]]=Vzdělání,1,0)","v":0},{"$f":"IF(StatData[[#This Row],[Pohlaví]]=Pohlaví,1,0)","v":0},{"$f":"IF(StatData[[#This Row],[Věk]]=Věk,1,0)","v":0},356,"Školství a kultura",1,"Vysokoškolské ","Muž","35 až 54 let ",20244.45703125,87707.353647653596,22055.76222275,28817.636133634802,33974.595099999999,38124.411069353198,40714.8128795292,43274.547489295503,45405.605647249402,47550.949854222898,49490.748792630802,51096.0935687729,52979.140124259502,54841.174348485503,56535.556277950898,58197.838818897602,60116.864514542802,62075.691861751802,64636.123444799698,66780.157078019896,70021.2672427832,75718.783554953203,81081.996478571804,87922.596504692294,95521.531685732902,104266.35045314999,115994.605092296,131109.26221786701,152564.33314437899,202155.53154811601]
[{"$f":"IF(AND(StatData[[#This Row],[Shoda: Seskupený CZ-NACE]],StatData[[#This Row],[Shoda: Region]],StatData[[#This Row],[Shoda: Vzdělání]],StatData[[#This Row],[Shoda: Pohlaví]],StatData[[#This Row],[Shoda: Věk]]),1,0)","v":0},{"$f":"IF(StatData[[#This Row],[Seskupený CZ-NACE]]=VLOOKUP(Obor,TabObor[],2,0),1,0)","v":0},{"$f":"IF(StatData[[#This Row],[Region]]=VLOOKUP(Region,TabRegion[],2,0),1,0)","v":1},{"$f":"IF(StatData[[#This Row],[Vzdělání]]=Vzdělání,1,0)","v":0},{"$f":"IF(StatData[[#This Row],[Pohlaví]]=Pohlaví,1,0)","v":0},{"$f":"IF(StatData[[#This Row],[Věk]]=Věk,1,0)","v":0},357,"Školství a kultura",1,"Vysokoškolské ","Muž","55 a více let",6713.5400390625,74919.953230141997,25638.640251346998,30525.977295208198,34400.061490541702,38074.014265647696,40231.132310810899,40770.261783125898,43184.4479693619,44898.9619523238,46668.083339133998,48485.375840153698,49982.263895036398,51350.618306966302,52691.042916739803,54294.587120871103,55882.313364519803,57230.909225893498,58485.5105763069,59555.006836949498,60919.064265622001,64016.205602914502,67287.287483959401,72735.876223539904,80366.934961049104,89750.601647438394,98514.963669005694,106454.222832903,124433.16156668701,153462.49405464501]
[{"$f":"IF(AND(StatData[[#This Row],[Shoda: Seskupený CZ-NACE]],StatData[[#This Row],[Shoda: Region]],StatData[[#This Row],[Shoda: Vzdělání]],StatData[[#This Row],[Shoda: Pohlaví]],StatData[[#This Row],[Shoda: Věk]]),1,0)","v":0},{"$f":"IF(StatData[[#This Row],[Seskupený CZ-NACE]]=VLOOKUP(Obor,TabObor[],2,0),1,0)","v":0},{"$f":"IF(StatData[[#This Row],[Region]]=VLOOKUP(Region,TabRegion[],2,0),1,0)","v":1},{"$f":"IF(StatData[[#This Row],[Vzdělání]]=Vzdělání,1,0)","v":0},{"$f":"IF(StatData[[#This Row],[Pohlaví]]=Pohlaví,1,0)","v":1},{"$f":"IF(StatData[[#This Row],[Věk]]=Věk,1,0)","v":1},358,"Školství a kultura",1,"Vysokoškolské ","Žena","do 34 let    ",13264.8837890625,54418.193314790697,30124.101036267999,30765.539700000001,33018.437420481197,35099.292396049903,36463.022535395503,37739.6966378078,38314.138746476398,39413.767001558401,40391.683325197097,41094.441880176499,42310.3167193513,43579.844486608097,44473.800299967501,45436.233087447697,46137.316627784101,47148.275505303201,47890.718641930704,48625.467184554298,49612.663629113602,51536.205403265703,53387.492581773098,56018.104069832501,59119.048260538402,63241.503142268703,66885.952833719799,71788.051723029101,78619.855302478594,94212.220162700498]
[{"$f":"IF(AND(StatData[[#This Row],[Shoda: Seskupený CZ-NACE]],StatData[[#This Row],[Shoda: Region]],StatData[[#This Row],[Shoda: Vzdělání]],StatData[[#This Row],[Shoda: Pohlaví]],StatData[[#This Row],[Shoda: Věk]]),1,0)","v":0},{"$f":"IF(StatData[[#This Row],[Seskupený CZ-NACE]]=VLOOKUP(Obor,TabObor[],2,0),1,0)","v":0},{"$f":"IF(StatData[[#This Row],[Region]]=VLOOKUP(Region,TabRegion[],2,0),1,0)","v":1},{"$f":"IF(StatData[[#This Row],[Vzdělání]]=Vzdělání,1,0)","v":0},{"$f":"IF(StatData[[#This Row],[Pohlaví]]=Pohlaví,1,0)","v":1},{"$f":"IF(StatData[[#This Row],[Věk]]=Věk,1,0)","v":0},359,"Školství a kultura",1,"Vysokoškolské ","Žena","35 až 54 let ",23760.33203125,66898.527654411795,27043.948848690699,33658.569708144598,35797.474701924999,37739.583038463403,39721.255817607802,41330.950898694202,42806.211015004897,44054.242197413201,45384.136077475297,46535.891760386403,47849.118367191797,48765.437199077896,49780.970189878797,50790.620666877403,51666.101863317999,52742.641052306499,53878.792607973897,55042.110405429099,56274.430674614399,58477.055253990897,61488.542817767098,64457.539860026598,68883.5344126688,73690.747505885607,82316.287334950801,93329.314323117607,107394.16699481101,138169.401929949]
[{"$f":"IF(AND(StatData[[#This Row],[Shoda: Seskupený CZ-NACE]],StatData[[#This Row],[Shoda: Region]],StatData[[#This Row],[Shoda: Vzdělání]],StatData[[#This Row],[Shoda: Pohlaví]],StatData[[#This Row],[Shoda: Věk]]),1,0)","v":0},{"$f":"IF(StatData[[#This Row],[Seskupený CZ-NACE]]=VLOOKUP(Obor,TabObor[],2,0),1,0)","v":0},{"$f":"IF(StatData[[#This Row],[Region]]=VLOOKUP(Region,TabRegion[],2,0),1,0)","v":1},{"$f":"IF(StatData[[#This Row],[Vzdělání]]=Vzdělání,1,0)","v":0},{"$f":"IF(StatData[[#This Row],[Pohlaví]]=Pohlaví,1,0)","v":1},{"$f":"IF(StatData[[#This Row],[Věk]]=Věk,1,0)","v":0},360,"Školství a kultura",1,"Vysokoškolské ","Žena","55 a více let",7496.5830078125,64243.467730814402,31537.4504539546,35481.220378920902,37730.314612271002,39991.069156323501,42261.514561963399,43831.999580164796,44645.271456288501,46267.334618799599,47561.4619608266,49220.841701696198,50321.715794920499,51459.940967222399,52419.648467075203,53385.633182504498,54191.147781314598,55081.8054418799,55873.548465768297,56657.061312996702,57328.686092627198,58877.903797103398,60443.417981161503,62319.306362820302,65045.583991412699,67971.586417394996,72964.547171036305,81336.456318071097,93173.128136570202,117323.79312659999]
[{"$f":"IF(AND(StatData[[#This Row],[Shoda: Seskupený CZ-NACE]],StatData[[#This Row],[Shoda: Region]],StatData[[#This Row],[Shoda: Vzdělání]],StatData[[#This Row],[Shoda: Pohlaví]],StatData[[#This Row],[Shoda: Věk]]),1,0)","v":0},{"$f":"IF(StatData[[#This Row],[Seskupený CZ-NACE]]=VLOOKUP(Obor,TabObor[],2,0),1,0)","v":0},{"$f":"IF(StatData[[#This Row],[Region]]=VLOOKUP(Region,TabRegion[],2,0),1,0)","v":0},{"$f":"IF(StatData[[#This Row],[Vzdělání]]=Vzdělání,1,0)","v":0},{"$f":"IF(StatData[[#This Row],[Pohlaví]]=Pohlaví,1,0)","v":0},{"$f":"IF(StatData[[#This Row],[Věk]]=Věk,1,0)","v":1},361,"Školství a kultura",2,"Střední bez maturity","Muž","do 34 let    ",927.86804199218795,37708.720508300699,21696.042308921598,"*",21946.034100000001,"*",23938.9118558591,"*",25634.010300000002,"*",27749.1422563376,"*",28620.833299999998,"*",30568.1161359131,"*",31573.710071896301,"*",33520.133652822296,"*",35092.209368359399,37315.555167684201,39957.019858792999,42151.189389040497,44913.604722543801,48240.240746508403,50805.033349077697,50990.628252822302,53859.217251738497,58575.701973810501]
[{"$f":"IF(AND(StatData[[#This Row],[Shoda: Seskupený CZ-NACE]],StatData[[#This Row],[Shoda: Region]],StatData[[#This Row],[Shoda: Vzdělání]],StatData[[#This Row],[Shoda: Pohlaví]],StatData[[#This Row],[Shoda: Věk]]),1,0)","v":0},{"$f":"IF(StatData[[#This Row],[Seskupený CZ-NACE]]=VLOOKUP(Obor,TabObor[],2,0),1,0)","v":0},{"$f":"IF(StatData[[#This Row],[Region]]=VLOOKUP(Region,TabRegion[],2,0),1,0)","v":0},{"$f":"IF(StatData[[#This Row],[Vzdělání]]=Vzdělání,1,0)","v":0},{"$f":"IF(StatData[[#This Row],[Pohlaví]]=Pohlaví,1,0)","v":0},{"$f":"IF(StatData[[#This Row],[Věk]]=Věk,1,0)","v":0},362,"Školství a kultura",2,"Střední bez maturity","Muž","35 až 54 let ",2427.53100585938,39435.0287503648,20794.380231166699,20795.389781559999,23341.470305499999,26100.105599999999,27377.669617222698,27648.4551373992,27853.191325587199,28006.7977508777,28568.7866249094,29174.6919681051,30655.7987465886,31406.551645784999,32667.251332835898,33279.628472816898,34318.297876363496,34576.9356754853,35433.573752052303,36694.999263871599,37566.519284563801,39005.866535149296,40667.639268249601,42818.827885221101,44708.517177551097,47076.8334521988,48617.908566058097,51749.511755299201,55977.974146330998,64607.780842318301]
[{"$f":"IF(AND(StatData[[#This Row],[Shoda: Seskupený CZ-NACE]],StatData[[#This Row],[Shoda: Region]],StatData[[#This Row],[Shoda: Vzdělání]],StatData[[#This Row],[Shoda: Pohlaví]],StatData[[#This Row],[Shoda: Věk]]),1,0)","v":0},{"$f":"IF(StatData[[#This Row],[Seskupený CZ-NACE]]=VLOOKUP(Obor,TabObor[],2,0),1,0)","v":0},{"$f":"IF(StatData[[#This Row],[Region]]=VLOOKUP(Region,TabRegion[],2,0),1,0)","v":0},{"$f":"IF(StatData[[#This Row],[Vzdělání]]=Vzdělání,1,0)","v":0},{"$f":"IF(StatData[[#This Row],[Pohlaví]]=Pohlaví,1,0)","v":0},{"$f":"IF(StatData[[#This Row],[Věk]]=Věk,1,0)","v":0},363,"Školství a kultura",2,"Střední bez maturity","Muž","55 a více let",1550.67834472656,36038.935241506297,19957.2167985833,21227.014299999999,24729.607599999999,25968.009490830002,27616.212890625,27630.683866877502,27803.568879164399,28689.426100000001,29359.265200000002,30176.495717891801,30970.36328125,31116.073630317402,31116.073630317402,31400.508326739,32280.057602960002,32695.477625215,33476.697217580899,34046.513941905199,34709.688769386601,35303.390247476498,36419.852641888501,37824.205109203001,39680.605912592,41707.821080597598,43356.3915104638,45808.394714934198,48770.818561005399,54207.0525648806]
[{"$f":"IF(AND(StatData[[#This Row],[Shoda: Seskupený CZ-NACE]],StatData[[#This Row],[Shoda: Region]],StatData[[#This Row],[Shoda: Vzdělání]],StatData[[#This Row],[Shoda: Pohlaví]],StatData[[#This Row],[Shoda: Věk]]),1,0)","v":0},{"$f":"IF(StatData[[#This Row],[Seskupený CZ-NACE]]=VLOOKUP(Obor,TabObor[],2,0),1,0)","v":0},{"$f":"IF(StatData[[#This Row],[Region]]=VLOOKUP(Region,TabRegion[],2,0),1,0)","v":0},{"$f":"IF(StatData[[#This Row],[Vzdělání]]=Vzdělání,1,0)","v":0},{"$f":"IF(StatData[[#This Row],[Pohlaví]]=Pohlaví,1,0)","v":1},{"$f":"IF(StatData[[#This Row],[Věk]]=Věk,1,0)","v":1},364,"Školství a kultura",2,"Střední bez maturity","Žena","do 34 let    ",653.77600097656295,28802.773014721901,21412.9221,21652.933858227902,21652.933858227902,22046.1672,22438.7019,22848.4166,23164.1096,23485.465550535901,23795.4166,23986.080999999998,24258,24592.729800000001,24895.455600000001,25247.882799999999,25694.358800000002,26218.184499999999,26515,26786.439689732899,27071.696899999999,27718.3442,28537.801299999999,29365.4166,30083.170442242099,31342.2403359852,33301.032983581303,35317.562943263001,38077.825751119002,42715.112021144101]
[{"$f":"IF(AND(StatData[[#This Row],[Shoda: Seskupený CZ-NACE]],StatData[[#This Row],[Shoda: Region]],StatData[[#This Row],[Shoda: Vzdělání]],StatData[[#This Row],[Shoda: Pohlaví]],StatData[[#This Row],[Shoda: Věk]]),1,0)","v":0},{"$f":"IF(StatData[[#This Row],[Seskupený CZ-NACE]]=VLOOKUP(Obor,TabObor[],2,0),1,0)","v":0},{"$f":"IF(StatData[[#This Row],[Region]]=VLOOKUP(Region,TabRegion[],2,0),1,0)","v":0},{"$f":"IF(StatData[[#This Row],[Vzdělání]]=Vzdělání,1,0)","v":0},{"$f":"IF(StatData[[#This Row],[Pohlaví]]=Pohlaví,1,0)","v":1},{"$f":"IF(StatData[[#This Row],[Věk]]=Věk,1,0)","v":0},365,"Školství a kultura",2,"Střední bez maturity","Žena","35 až 54 let ",5457.71533203125,28869.797766117601,20735.7477,21830.671900000001,22470.1414,22850.6666,23104.9166,23488.833299999998,23861.316999999999,24214.75,24545.1237,24838.75,25144.928199999998,25508.674200000001,25815.918000000001,26087.281126931601,26147.5,26511.316200000001,26832.836899999998,27212.782800000001,27605.247500000001,28436.5,29060.4529,29810.975282036801,30831.5209,31948.139800000001,33017.922475451298,34671.479054367701,36786.249716258797,39843.779811856701]
[{"$f":"IF(AND(StatData[[#This Row],[Shoda: Seskupený CZ-NACE]],StatData[[#This Row],[Shoda: Region]],StatData[[#This Row],[Shoda: Vzdělání]],StatData[[#This Row],[Shoda: Pohlaví]],StatData[[#This Row],[Shoda: Věk]]),1,0)","v":0},{"$f":"IF(StatData[[#This Row],[Seskupený CZ-NACE]]=VLOOKUP(Obor,TabObor[],2,0),1,0)","v":0},{"$f":"IF(StatData[[#This Row],[Region]]=VLOOKUP(Region,TabRegion[],2,0),1,0)","v":0},{"$f":"IF(StatData[[#This Row],[Vzdělání]]=Vzdělání,1,0)","v":0},{"$f":"IF(StatData[[#This Row],[Pohlaví]]=Pohlaví,1,0)","v":1},{"$f":"IF(StatData[[#This Row],[Věk]]=Věk,1,0)","v":0},366,"Školství a kultura",2,"Střední bez maturity","Žena","55 a více let",2863.4892578125,28093.936352963199,21086.9483,21770.833299999998,22146.75,22582.532948585998,22868.325700000001,23237.903999999999,23532.6666,23842.6666,24093.744500000001,24332.715499999998,24667.075700000001,25000.908299999999,25308.4166,25373.716,25638.784100000001,25959.6666,26337.100299999998,26674.1595686539,27017.4326,27831.4166,28366.628000000001,29212.4166,30000,30956.482043135798,31969.262999999999,33020.310787921298,35023.934791886699,39000.916100211303]
[{"$f":"IF(AND(StatData[[#This Row],[Shoda: Seskupený CZ-NACE]],StatData[[#This Row],[Shoda: Region]],StatData[[#This Row],[Shoda: Vzdělání]],StatData[[#This Row],[Shoda: Pohlaví]],StatData[[#This Row],[Shoda: Věk]]),1,0)","v":0},{"$f":"IF(StatData[[#This Row],[Seskupený CZ-NACE]]=VLOOKUP(Obor,TabObor[],2,0),1,0)","v":0},{"$f":"IF(StatData[[#This Row],[Region]]=VLOOKUP(Region,TabRegion[],2,0),1,0)","v":0},{"$f":"IF(StatData[[#This Row],[Vzdělání]]=Vzdělání,1,0)","v":1},{"$f":"IF(StatData[[#This Row],[Pohlaví]]=Pohlaví,1,0)","v":0},{"$f":"IF(StatData[[#This Row],[Věk]]=Věk,1,0)","v":1},367,"Školství a kultura",2,"Střední s maturitou a vyšší odborné","Muž","do 34 let    ",2858.234375,45960.030227060503,18965.316927583299,20417.32027475,22351.616811083299,26065.000122798901,26672.702655629899,27170.371246384599,29149.555322717701,31223.3593127151,32005.350999999999,33989.890709726802,35736.366890669502,37263.679057258902,38537.811430661597,39454.103381378598,39586.219122676899,41037.743414141703,41462.453932744,42727.3237126854,44022.9988517862,46132.378104336298,48276.7036154819,50643.965728077703,53832.914181597,55959.938057007399,59614.427024687298,65335.742882671599,73942.467872923502,76228.882351097098]
[{"$f":"IF(AND(StatData[[#This Row],[Shoda: Seskupený CZ-NACE]],StatData[[#This Row],[Shoda: Region]],StatData[[#This Row],[Shoda: Vzdělání]],StatData[[#This Row],[Shoda: Pohlaví]],StatData[[#This Row],[Shoda: Věk]]),1,0)","v":0},{"$f":"IF(StatData[[#This Row],[Seskupený CZ-NACE]]=VLOOKUP(Obor,TabObor[],2,0),1,0)","v":0},{"$f":"IF(StatData[[#This Row],[Region]]=VLOOKUP(Region,TabRegion[],2,0),1,0)","v":0},{"$f":"IF(StatData[[#This Row],[Vzdělání]]=Vzdělání,1,0)","v":1},{"$f":"IF(StatData[[#This Row],[Pohlaví]]=Pohlaví,1,0)","v":0},{"$f":"IF(StatData[[#This Row],[Věk]]=Věk,1,0)","v":0},368,"Školství a kultura",2,"Střední s maturitou a vyšší odborné","Muž","35 až 54 let ",3954.35302734375,50521.942298088201,22040.9166,25109.062252511201,27783.817644668099,28614.289499999999,30174.777998104099,31407.157800000001,33394.833824280198,34584.525842921503,35525.987198291899,36953.216378971003,37492.758175421899,38922.225881252001,40358.753906093603,40999.079758950902,42264.335904980297,43463.669200753196,44152.607229695597,44796.175080971399,45583.179090048703,46671.307951587602,49076.257332090201,51487.197254057202,53859.030494997001,58319.588721009699,64929.1292834669,71401.4062672414,80455.972574163607,99917.9784643569]
[{"$f":"IF(AND(StatData[[#This Row],[Shoda: Seskupený CZ-NACE]],StatData[[#This Row],[Shoda: Region]],StatData[[#This Row],[Shoda: Vzdělání]],StatData[[#This Row],[Shoda: Pohlaví]],StatData[[#This Row],[Shoda: Věk]]),1,0)","v":0},{"$f":"IF(StatData[[#This Row],[Seskupený CZ-NACE]]=VLOOKUP(Obor,TabObor[],2,0),1,0)","v":0},{"$f":"IF(StatData[[#This Row],[Region]]=VLOOKUP(Region,TabRegion[],2,0),1,0)","v":0},{"$f":"IF(StatData[[#This Row],[Vzdělání]]=Vzdělání,1,0)","v":1},{"$f":"IF(StatData[[#This Row],[Pohlaví]]=Pohlaví,1,0)","v":0},{"$f":"IF(StatData[[#This Row],[Věk]]=Věk,1,0)","v":0},369,"Školství a kultura",2,"Střední s maturitou a vyšší odborné","Muž","55 a více let",1964.42309570313,44592.823732951299,19315.054319666699,19315.054319666699,23805.9166,27835.25,28248.741958136001,28248.741958136001,28833.188900000001,30187.4166,31678.6666,32925.461143811699,34274.842645839497,36205.845340469401,37244.385578477602,37244.385578477602,38162.328064568697,38906.376852296598,39919.550420526502,41380.373417445997,42584.289664476797,44237.987317222301,45541.424066516098,46998.141426597103,49102.247423044799,51108.439695695903,53000.372288854298,56767.595443548496,61651.407765653203,75781.913688375993]
[{"$f":"IF(AND(StatData[[#This Row],[Shoda: Seskupený CZ-NACE]],StatData[[#This Row],[Shoda: Region]],StatData[[#This Row],[Shoda: Vzdělání]],StatData[[#This Row],[Shoda: Pohlaví]],StatData[[#This Row],[Shoda: Věk]]),1,0)","v":0},{"$f":"IF(StatData[[#This Row],[Seskupený CZ-NACE]]=VLOOKUP(Obor,TabObor[],2,0),1,0)","v":0},{"$f":"IF(StatData[[#This Row],[Region]]=VLOOKUP(Region,TabRegion[],2,0),1,0)","v":0},{"$f":"IF(StatData[[#This Row],[Vzdělání]]=Vzdělání,1,0)","v":1},{"$f":"IF(StatData[[#This Row],[Pohlaví]]=Pohlaví,1,0)","v":1},{"$f":"IF(StatData[[#This Row],[Věk]]=Věk,1,0)","v":1},370,"Školství a kultura",2,"Střední s maturitou a vyšší odborné","Žena","do 34 let    ",3751.28662109375,35306.039875565897,22330.289700000001,22807.9451620623,23368.774700000002,24917.253700000001,26081.722900000001,27080.312080669599,28138.803400000001,28689.456999999999,29490.001400000001,30179.786400000001,31018.563900000001,31132.079924411501,31862.019232577299,32577.1698,32657.389652469199,32774.252417852404,33338.857460569699,34040.803111615904,34482.590889072097,35718.044468529602,36923.114962851898,37866.106769927697,38509.069333566003,39436.689029365902,40666.972670935502,41969.565341364301,44710.196709363001,50146.949065171502]
[{"$f":"IF(AND(StatData[[#This Row],[Shoda: Seskupený CZ-NACE]],StatData[[#This Row],[Shoda: Region]],StatData[[#This Row],[Shoda: Vzdělání]],StatData[[#This Row],[Shoda: Pohlaví]],StatData[[#This Row],[Shoda: Věk]]),1,0)","v":0},{"$f":"IF(StatData[[#This Row],[Seskupený CZ-NACE]]=VLOOKUP(Obor,TabObor[],2,0),1,0)","v":0},{"$f":"IF(StatData[[#This Row],[Region]]=VLOOKUP(Region,TabRegion[],2,0),1,0)","v":0},{"$f":"IF(StatData[[#This Row],[Vzdělání]]=Vzdělání,1,0)","v":1},{"$f":"IF(StatData[[#This Row],[Pohlaví]]=Pohlaví,1,0)","v":1},{"$f":"IF(StatData[[#This Row],[Věk]]=Věk,1,0)","v":0},371,"Školství a kultura",2,"Střední s maturitou a vyšší odborné","Žena","35 až 54 let ",13507.3671875,38640.917026515599,22828.75,24912.25,25493.4044151667,26277.873824766401,27438.708840170999,28313.4444,29536.860400000001,30432.1309847786,31338.7405657696,32082.346054065401,32748.9166,33367.421614413302,33898.986969157901,34732.106453974498,35441.246552082201,36023.937274493299,36660.961118691499,37191.752894130899,37713.941754302701,38786.713494046198,39747.035278814597,40875.291666621,41931.834633166,43328.822691050002,45148.746856868602,47524.071762621599,51659.755015245799,58974.728632102597]
[{"$f":"IF(AND(StatData[[#This Row],[Shoda: Seskupený CZ-NACE]],StatData[[#This Row],[Shoda: Region]],StatData[[#This Row],[Shoda: Vzdělání]],StatData[[#This Row],[Shoda: Pohlaví]],StatData[[#This Row],[Shoda: Věk]]),1,0)","v":0},{"$f":"IF(StatData[[#This Row],[Seskupený CZ-NACE]]=VLOOKUP(Obor,TabObor[],2,0),1,0)","v":0},{"$f":"IF(StatData[[#This Row],[Region]]=VLOOKUP(Region,TabRegion[],2,0),1,0)","v":0},{"$f":"IF(StatData[[#This Row],[Vzdělání]]=Vzdělání,1,0)","v":1},{"$f":"IF(StatData[[#This Row],[Pohlaví]]=Pohlaví,1,0)","v":1},{"$f":"IF(StatData[[#This Row],[Věk]]=Věk,1,0)","v":0},372,"Školství a kultura",2,"Střední s maturitou a vyšší odborné","Žena","55 a více let",6564.31591796875,42953.409621869803,23964.583299999998,26038,27776.333299999998,29231.6666,30412.484585078499,32112.1239751951,33507.948213560099,34408.1308467493,35530.638223722199,36552.223398587601,37249.383016637599,38127.441026216402,38909.501554947397,39698.4236168758,40246.830647960902,40754.462407135899,41305.810613444002,41759.269748859202,42214.8807613319,43035.4067716719,43970.004377440797,45115.5705149938,46218.365968764097,48056.368519187003,50491.025177216899,52710.3008569917,56474.5640222445,63182.136464265997]
[{"$f":"IF(AND(StatData[[#This Row],[Shoda: Seskupený CZ-NACE]],StatData[[#This Row],[Shoda: Region]],StatData[[#This Row],[Shoda: Vzdělání]],StatData[[#This Row],[Shoda: Pohlaví]],StatData[[#This Row],[Shoda: Věk]]),1,0)","v":0},{"$f":"IF(StatData[[#This Row],[Seskupený CZ-NACE]]=VLOOKUP(Obor,TabObor[],2,0),1,0)","v":0},{"$f":"IF(StatData[[#This Row],[Region]]=VLOOKUP(Region,TabRegion[],2,0),1,0)","v":0},{"$f":"IF(StatData[[#This Row],[Vzdělání]]=Vzdělání,1,0)","v":0},{"$f":"IF(StatData[[#This Row],[Pohlaví]]=Pohlaví,1,0)","v":0},{"$f":"IF(StatData[[#This Row],[Věk]]=Věk,1,0)","v":1},373,"Školství a kultura",2,"Vysokoškolské ","Muž","do 34 let    ",3048.75,52562.753133252903,22786.924056666699,27063.888878632901,30102.1757887729,31594.323898123501,33384.102146397301,34853.032894984397,36730.422478526401,37665.328406967499,38934.682977117402,40701.591185858299,41597.829086853897,42950.194870553401,43071.796699781997,43956.4904716725,45101.220485392201,45935.132144090603,47030.239625953203,47872.966372284602,48454.1511344588,50204.503679729904,51834.380848897999,54779.883573747502,57582.984070452403,61762.169809798099,66317.050848856496,71455.447043355001,78271.414345931902,90673.188096521801]
[{"$f":"IF(AND(StatData[[#This Row],[Shoda: Seskupený CZ-NACE]],StatData[[#This Row],[Shoda: Region]],StatData[[#This Row],[Shoda: Vzdělání]],StatData[[#This Row],[Shoda: Pohlaví]],StatData[[#This Row],[Shoda: Věk]]),1,0)","v":0},{"$f":"IF(StatData[[#This Row],[Seskupený CZ-NACE]]=VLOOKUP(Obor,TabObor[],2,0),1,0)","v":0},{"$f":"IF(StatData[[#This Row],[Region]]=VLOOKUP(Region,TabRegion[],2,0),1,0)","v":0},{"$f":"IF(StatData[[#This Row],[Vzdělání]]=Vzdělání,1,0)","v":0},{"$f":"IF(StatData[[#This Row],[Pohlaví]]=Pohlaví,1,0)","v":0},{"$f":"IF(StatData[[#This Row],[Věk]]=Věk,1,0)","v":0},374,"Školství a kultura",2,"Vysokoškolské ","Muž","35 až 54 let ",7291.78076171875,65361.330175513802,25402.945696750001,30587.5544257732,35002.6272987298,37466.4143447366,39653.245542672797,41597.5863414708,43343.393651954597,45166.193575819198,46584.249139068197,47342.547219821397,48305.848278195503,49749.8808559686,50775.090883900601,51331.888452561201,52588.684287057797,53551.137631741898,54763.555657889701,56233.267504484698,57526.975761806701,60531.843999663797,64156.027993761003,68779.315046837,73389.991834334403,79259.977233660597,84592.8713041991,93498.626938047106,104297.547100806,121222.526981558]
[{"$f":"IF(AND(StatData[[#This Row],[Shoda: Seskupený CZ-NACE]],StatData[[#This Row],[Shoda: Region]],StatData[[#This Row],[Shoda: Vzdělání]],StatData[[#This Row],[Shoda: Pohlaví]],StatData[[#This Row],[Shoda: Věk]]),1,0)","v":0},{"$f":"IF(StatData[[#This Row],[Seskupený CZ-NACE]]=VLOOKUP(Obor,TabObor[],2,0),1,0)","v":0},{"$f":"IF(StatData[[#This Row],[Region]]=VLOOKUP(Region,TabRegion[],2,0),1,0)","v":0},{"$f":"IF(StatData[[#This Row],[Vzdělání]]=Vzdělání,1,0)","v":0},{"$f":"IF(StatData[[#This Row],[Pohlaví]]=Pohlaví,1,0)","v":0},{"$f":"IF(StatData[[#This Row],[Věk]]=Věk,1,0)","v":0},375,"Školství a kultura",2,"Vysokoškolské ","Muž","55 a více let",3180.73828125,64310.249835601797,29863.660301489399,30636.9576831829,35539.447135626098,39362.398950871197,42095.460608049703,44185.875132133297,45708.4544862494,46921.7328675186,48466.204324903403,49157.628423654802,50356.861306871899,50725.106905509303,51748.034689413202,52776.049753109299,53386.262853133201,54246.369166088698,55267.082266948499,56191.000762014097,57351.767725698097,59420.474483697202,61785.805334065699,63729.873538779902,66578.080428512403,71972.956185650793,79470.157639158002,88326.713712480501,100024.66617938101,119535.972449268]
[{"$f":"IF(AND(StatData[[#This Row],[Shoda: Seskupený CZ-NACE]],StatData[[#This Row],[Shoda: Region]],StatData[[#This Row],[Shoda: Vzdělání]],StatData[[#This Row],[Shoda: Pohlaví]],StatData[[#This Row],[Shoda: Věk]]),1,0)","v":0},{"$f":"IF(StatData[[#This Row],[Seskupený CZ-NACE]]=VLOOKUP(Obor,TabObor[],2,0),1,0)","v":0},{"$f":"IF(StatData[[#This Row],[Region]]=VLOOKUP(Region,TabRegion[],2,0),1,0)","v":0},{"$f":"IF(StatData[[#This Row],[Vzdělání]]=Vzdělání,1,0)","v":0},{"$f":"IF(StatData[[#This Row],[Pohlaví]]=Pohlaví,1,0)","v":1},{"$f":"IF(StatData[[#This Row],[Věk]]=Věk,1,0)","v":1},376,"Školství a kultura",2,"Vysokoškolské ","Žena","do 34 let    ",4414.2109375,44209.858005761802,28701.314699999999,30685.269613810899,32058.455380404299,33665.989667310801,34944.380526353198,35552.057252106897,36354.735919214399,36811.723186570998,37434.263561908003,37992.0401002699,38406.786104657498,39048.261057293901,39614.731756660498,40044.758478192198,40617.312630750799,41229.4257651179,41724.762939982698,42192.938080513799,42738.795888122499,44051.963313111599,45231.114864464202,46605.512761805199,47934.757251780196,49497.818915138902,51283.934733128503,53631.396278512402,57369.149604088001,62510.673835439899]
[{"$f":"IF(AND(StatData[[#This Row],[Shoda: Seskupený CZ-NACE]],StatData[[#This Row],[Shoda: Region]],StatData[[#This Row],[Shoda: Vzdělání]],StatData[[#This Row],[Shoda: Pohlaví]],StatData[[#This Row],[Shoda: Věk]]),1,0)","v":0},{"$f":"IF(StatData[[#This Row],[Seskupený CZ-NACE]]=VLOOKUP(Obor,TabObor[],2,0),1,0)","v":0},{"$f":"IF(StatData[[#This Row],[Region]]=VLOOKUP(Region,TabRegion[],2,0),1,0)","v":0},{"$f":"IF(StatData[[#This Row],[Vzdělání]]=Vzdělání,1,0)","v":0},{"$f":"IF(StatData[[#This Row],[Pohlaví]]=Pohlaví,1,0)","v":1},{"$f":"IF(StatData[[#This Row],[Věk]]=Věk,1,0)","v":0},377,"Školství a kultura",2,"Vysokoškolské ","Žena","35 až 54 let ",17837.255859375,53139.028110782798,31202.8657442193,33635.096605139501,36203.463172291602,38435.773477037903,39976.158562074197,41192.8458041431,42416.919028147699,43606.083823355402,44623.563002846597,45483.013823477901,46246.410081354101,46904.360987623302,47609.863388635102,48239.080333295802,48893.895468744297,49477.380267222798,49963.008300237001,50530.467804864602,51135.750945360902,52296.291288472501,53567.485037954801,55094.334897038898,56607.739636068603,58527.574195647998,60668.089006368202,63915.700582139703,70763.604332383693,82049.505126533404]
[{"$f":"IF(AND(StatData[[#This Row],[Shoda: Seskupený CZ-NACE]],StatData[[#This Row],[Shoda: Region]],StatData[[#This Row],[Shoda: Vzdělání]],StatData[[#This Row],[Shoda: Pohlaví]],StatData[[#This Row],[Shoda: Věk]]),1,0)","v":0},{"$f":"IF(StatData[[#This Row],[Seskupený CZ-NACE]]=VLOOKUP(Obor,TabObor[],2,0),1,0)","v":0},{"$f":"IF(StatData[[#This Row],[Region]]=VLOOKUP(Region,TabRegion[],2,0),1,0)","v":0},{"$f":"IF(StatData[[#This Row],[Vzdělání]]=Vzdělání,1,0)","v":0},{"$f":"IF(StatData[[#This Row],[Pohlaví]]=Pohlaví,1,0)","v":1},{"$f":"IF(StatData[[#This Row],[Věk]]=Věk,1,0)","v":0},378,"Školství a kultura",2,"Vysokoškolské ","Žena","55 a více let",7121.27880859375,60059.196701785702,41906.5244811187,43951.228084174203,46080.2237775135,47681.980750345501,48955.437707792102,49803.518798860699,50524.102966418497,51294.681428343501,52051.661014260302,52576.3480802626,53088.180964582003,53589.537269940003,54100.3861793291,54600.153146281802,55055.8257031342,55467.2916886108,55866.542929963303,56315.436578019202,56743.299860480198,57704.350089546599,58725.595370572199,60015.608661650098,61510.719456091698,63455.371101776997,66108.534582117296,71256.357813387105,79536.501121159803,93385.180057061196]
[{"$f":"IF(AND(StatData[[#This Row],[Shoda: Seskupený CZ-NACE]],StatData[[#This Row],[Shoda: Region]],StatData[[#This Row],[Shoda: Vzdělání]],StatData[[#This Row],[Shoda: Pohlaví]],StatData[[#This Row],[Shoda: Věk]]),1,0)","v":0},{"$f":"IF(StatData[[#This Row],[Seskupený CZ-NACE]]=VLOOKUP(Obor,TabObor[],2,0),1,0)","v":0},{"$f":"IF(StatData[[#This Row],[Region]]=VLOOKUP(Region,TabRegion[],2,0),1,0)","v":0},{"$f":"IF(StatData[[#This Row],[Vzdělání]]=Vzdělání,1,0)","v":0},{"$f":"IF(StatData[[#This Row],[Pohlaví]]=Pohlaví,1,0)","v":0},{"$f":"IF(StatData[[#This Row],[Věk]]=Věk,1,0)","v":1},379,"Školství a kultura",3,"Střední bez maturity","Muž","do 34 let    ",1534.61804199219,33573.445954847397,18959.138289166702,19923.2222,20060.0615989697,20211.058067818201,22287.3904,22382.552199999998,22470.4485390833,22926.747687368301,24186.023399999998,25491.660563228801,26415.9842952418,27429.444574523401,28451.789356374298,29317.004520264702,29577.407094793001,31297.4154545612,31781.9923851448,31820.242755170799,32372.996282512198,34252.857646493198,36337.787287921099,37467.362257994901,38377.976688669703,40015.023164035898,41069.773160668898,43171.040365673602,46692.347255440996,52367.774806122099]
[{"$f":"IF(AND(StatData[[#This Row],[Shoda: Seskupený CZ-NACE]],StatData[[#This Row],[Shoda: Region]],StatData[[#This Row],[Shoda: Vzdělání]],StatData[[#This Row],[Shoda: Pohlaví]],StatData[[#This Row],[Shoda: Věk]]),1,0)","v":0},{"$f":"IF(StatData[[#This Row],[Seskupený CZ-NACE]]=VLOOKUP(Obor,TabObor[],2,0),1,0)","v":0},{"$f":"IF(StatData[[#This Row],[Region]]=VLOOKUP(Region,TabRegion[],2,0),1,0)","v":0},{"$f":"IF(StatData[[#This Row],[Vzdělání]]=Vzdělání,1,0)","v":0},{"$f":"IF(StatData[[#This Row],[Pohlaví]]=Pohlaví,1,0)","v":0},{"$f":"IF(StatData[[#This Row],[Věk]]=Věk,1,0)","v":0},380,"Školství a kultura",3,"Střední bez maturity","Muž","35 až 54 let ",6567.43359375,38488.2655082852,19830.8807071267,21197.596612693302,21838.523093790802,22652.3835,24891.954302763901,26003.6525,26381.910192465599,27530.5,28760.25,29272.028288878199,29895.213915778899,30857.495419511299,31825.272234018801,32520.0466068848,33453.910020517797,34027.130823728097,34765.106132378198,35302.0382594201,35586.263464031101,36852.287213001102,38490.547415375302,39572.723758984801,40596.7148192245,42485.574170361702,44585.846226679503,46708.285287829996,50729.163039838102,61739.385018667701]
[{"$f":"IF(AND(StatData[[#This Row],[Shoda: Seskupený CZ-NACE]],StatData[[#This Row],[Shoda: Region]],StatData[[#This Row],[Shoda: Vzdělání]],StatData[[#This Row],[Shoda: Pohlaví]],StatData[[#This Row],[Shoda: Věk]]),1,0)","v":0},{"$f":"IF(StatData[[#This Row],[Seskupený CZ-NACE]]=VLOOKUP(Obor,TabObor[],2,0),1,0)","v":0},{"$f":"IF(StatData[[#This Row],[Region]]=VLOOKUP(Region,TabRegion[],2,0),1,0)","v":0},{"$f":"IF(StatData[[#This Row],[Vzdělání]]=Vzdělání,1,0)","v":0},{"$f":"IF(StatData[[#This Row],[Pohlaví]]=Pohlaví,1,0)","v":0},{"$f":"IF(StatData[[#This Row],[Věk]]=Věk,1,0)","v":0},381,"Školství a kultura",3,"Střední bez maturity","Muž","55 a více let",4680.2705078125,37663.894400993398,22518.4774,24717.164000000001,26607.917700000002,27692.2902076846,28687.0353,29257.75,30016.880475461501,30669.3063982401,31236.6315039152,31864.663452928002,32360.8401535261,32831.227876367899,33048.048794707101,33453.3944321776,34002.255108206198,34605.401424805401,35230.370602210198,35903.374944618699,36329.004875130202,37728.9640634639,39015.708316487297,40502.774608596003,41956.001868354797,43437.555955617601,44393.255426008298,46661.6321512992,48284.253904353202,52896.925904862102]
[{"$f":"IF(AND(StatData[[#This Row],[Shoda: Seskupený CZ-NACE]],StatData[[#This Row],[Shoda: Region]],StatData[[#This Row],[Shoda: Vzdělání]],StatData[[#This Row],[Shoda: Pohlaví]],StatData[[#This Row],[Shoda: Věk]]),1,0)","v":0},{"$f":"IF(StatData[[#This Row],[Seskupený CZ-NACE]]=VLOOKUP(Obor,TabObor[],2,0),1,0)","v":0},{"$f":"IF(StatData[[#This Row],[Region]]=VLOOKUP(Region,TabRegion[],2,0),1,0)","v":0},{"$f":"IF(StatData[[#This Row],[Vzdělání]]=Vzdělání,1,0)","v":0},{"$f":"IF(StatData[[#This Row],[Pohlaví]]=Pohlaví,1,0)","v":1},{"$f":"IF(StatData[[#This Row],[Věk]]=Věk,1,0)","v":1},382,"Školství a kultura",3,"Střední bez maturity","Žena","do 34 let    ",1848.20495605469,28188.143121803299,20551.935330312601,21463.650399999999,21615.5,21621.75,21794.517800000001,22467.2988114338,22530.623114499998,22858.457200000001,23284.089,23655.962599999999,23978.2497,24370.4166,24731.583299999998,25094.814356577299,25520.188099999999,25936.765599999999,26283.379000000001,26451.431147964398,26736.298108375398,27311.196400000001,27886.121899999998,28590.118299999998,29680.274795113499,30375.408484979002,31786.0044095798,34256.025113488402,37707.366138716003,43636.961807435502]
[{"$f":"IF(AND(StatData[[#This Row],[Shoda: Seskupený CZ-NACE]],StatData[[#This Row],[Shoda: Region]],StatData[[#This Row],[Shoda: Vzdělání]],StatData[[#This Row],[Shoda: Pohlaví]],StatData[[#This Row],[Shoda: Věk]]),1,0)","v":0},{"$f":"IF(StatData[[#This Row],[Seskupený CZ-NACE]]=VLOOKUP(Obor,TabObor[],2,0),1,0)","v":0},{"$f":"IF(StatData[[#This Row],[Region]]=VLOOKUP(Region,TabRegion[],2,0),1,0)","v":0},{"$f":"IF(StatData[[#This Row],[Vzdělání]]=Vzdělání,1,0)","v":0},{"$f":"IF(StatData[[#This Row],[Pohlaví]]=Pohlaví,1,0)","v":1},{"$f":"IF(StatData[[#This Row],[Věk]]=Věk,1,0)","v":0},383,"Školství a kultura",3,"Střední bez maturity","Žena","35 až 54 let ",15563.3232421875,27465.509369208899,20382.782599999999,21378.055809772301,21927.736499999999,22310.583299999998,22739.1666,23100.643700000001,23424.952799999999,23640.083299999998,23896.88030275,24138.1666,24370.051500000001,24641.485700000001,24897.373100000001,25133.701099999998,25359.7978444736,25619.908100000001,25830.871599999999,26107.544900000001,26382.827486296501,26998.9166,27673.601699999999,28392.377799999998,29036.920031179801,29857.1666,30825.996500000001,32223.497196155698,34022.935532199997,37255.692084433002]
[{"$f":"IF(AND(StatData[[#This Row],[Shoda: Seskupený CZ-NACE]],StatData[[#This Row],[Shoda: Region]],StatData[[#This Row],[Shoda: Vzdělání]],StatData[[#This Row],[Shoda: Pohlaví]],StatData[[#This Row],[Shoda: Věk]]),1,0)","v":0},{"$f":"IF(StatData[[#This Row],[Seskupený CZ-NACE]]=VLOOKUP(Obor,TabObor[],2,0),1,0)","v":0},{"$f":"IF(StatData[[#This Row],[Region]]=VLOOKUP(Region,TabRegion[],2,0),1,0)","v":0},{"$f":"IF(StatData[[#This Row],[Vzdělání]]=Vzdělání,1,0)","v":0},{"$f":"IF(StatData[[#This Row],[Pohlaví]]=Pohlaví,1,0)","v":1},{"$f":"IF(StatData[[#This Row],[Věk]]=Věk,1,0)","v":0},384,"Školství a kultura",3,"Střední bez maturity","Žena","55 a více let",8421.9921875,27441.7240649388,20425.5,21143.785652094099,21642.632600000001,22127,22514.293699999998,22832.75,23166.836200000002,23395.244699999999,23692.2916,23899.75,24206.739600000001,24521.904699999999,24823.0272,25123.073100000001,25378.262999999999,25642.4941006845,25931.1666,26174.545472477799,26470.4166,27101.815500000001,27799.2858490135,28415.7762,29245.1525,30154.600175950101,31237.4444,32458.598668014201,34366.048764558,37821.123328355199]
[{"$f":"IF(AND(StatData[[#This Row],[Shoda: Seskupený CZ-NACE]],StatData[[#This Row],[Shoda: Region]],StatData[[#This Row],[Shoda: Vzdělání]],StatData[[#This Row],[Shoda: Pohlaví]],StatData[[#This Row],[Shoda: Věk]]),1,0)","v":0},{"$f":"IF(StatData[[#This Row],[Seskupený CZ-NACE]]=VLOOKUP(Obor,TabObor[],2,0),1,0)","v":0},{"$f":"IF(StatData[[#This Row],[Region]]=VLOOKUP(Region,TabRegion[],2,0),1,0)","v":0},{"$f":"IF(StatData[[#This Row],[Vzdělání]]=Vzdělání,1,0)","v":1},{"$f":"IF(StatData[[#This Row],[Pohlaví]]=Pohlaví,1,0)","v":0},{"$f":"IF(StatData[[#This Row],[Věk]]=Věk,1,0)","v":1},385,"Školství a kultura",3,"Střední s maturitou a vyšší odborné","Muž","do 34 let    ",5948.68408203125,41480.946643422598,20755.488309833301,22704.946570379299,25152.459599999998,25892.8172627637,26582.5,27408.570199999998,28629.931346806599,30180.489596513798,30820.5426265932,31512.0201571738,31939.617439304599,32705.944357754001,33472.452022946803,34810.170862089399,35556.730462313397,36579.5813554919,37408.4190021904,38387.258775695998,39042.992666496597,40280.957633484599,41980.376875431801,43554.669196951603,46149.013281625201,48162.082169313602,51828.950474115598,54901.580788475403,59925.338334476699,69870.383295592401]
[{"$f":"IF(AND(StatData[[#This Row],[Shoda: Seskupený CZ-NACE]],StatData[[#This Row],[Shoda: Region]],StatData[[#This Row],[Shoda: Vzdělání]],StatData[[#This Row],[Shoda: Pohlaví]],StatData[[#This Row],[Shoda: Věk]]),1,0)","v":0},{"$f":"IF(StatData[[#This Row],[Seskupený CZ-NACE]]=VLOOKUP(Obor,TabObor[],2,0),1,0)","v":0},{"$f":"IF(StatData[[#This Row],[Region]]=VLOOKUP(Region,TabRegion[],2,0),1,0)","v":0},{"$f":"IF(StatData[[#This Row],[Vzdělání]]=Vzdělání,1,0)","v":1},{"$f":"IF(StatData[[#This Row],[Pohlaví]]=Pohlaví,1,0)","v":0},{"$f":"IF(StatData[[#This Row],[Věk]]=Věk,1,0)","v":0},386,"Školství a kultura",3,"Střední s maturitou a vyšší odborné","Muž","35 až 54 let ",12453.17578125,48176.995308531899,24069.923840399999,25573.414449907199,27649.456360331202,28550.984782981501,29437.856735178,30379.465616146401,31884.321916752899,32834.4201736455,33920.492805886097,34800.3929828451,35605.747724146699,36674.694052445302,37914.754207269099,38789.928195649198,39957.168923190096,40803.101690726202,41496.029005511198,42530.629159399803,43132.058657736801,44576.421183763297,46267.918866157699,48284.462612327399,51227.570246664996,53572.688858553403,58751.9701996601,63655.957920055502,74569.739235485904,94697.968012322701]
[{"$f":"IF(AND(StatData[[#This Row],[Shoda: Seskupený CZ-NACE]],StatData[[#This Row],[Shoda: Region]],StatData[[#This Row],[Shoda: Vzdělání]],StatData[[#This Row],[Shoda: Pohlaví]],StatData[[#This Row],[Shoda: Věk]]),1,0)","v":0},{"$f":"IF(StatData[[#This Row],[Seskupený CZ-NACE]]=VLOOKUP(Obor,TabObor[],2,0),1,0)","v":0},{"$f":"IF(StatData[[#This Row],[Region]]=VLOOKUP(Region,TabRegion[],2,0),1,0)","v":0},{"$f":"IF(StatData[[#This Row],[Vzdělání]]=Vzdělání,1,0)","v":1},{"$f":"IF(StatData[[#This Row],[Pohlaví]]=Pohlaví,1,0)","v":0},{"$f":"IF(StatData[[#This Row],[Věk]]=Věk,1,0)","v":0},387,"Školství a kultura",3,"Střední s maturitou a vyšší odborné","Muž","55 a více let",6374.12744140625,43801.907342988103,21284.792514033899,22254.244900000002,24683.720099999999,26562.7051544719,28609.2111,29717.700551289799,31139.4682378291,32026.271236791399,33144.549356764197,33679.280651326,34383.342582584097,35547.318848695002,36425.126492910502,37221.1739348923,38358.434611942401,39012.708695491798,40053.653960317999,40826.304944903502,41954.931746301299,43408.015715220303,45060.528278972997,46476.266967866097,48429.784928905203,50097.092404766801,51912.453304733099,55800.368174600197,63271.0448911645,72302.524337684197]
[{"$f":"IF(AND(StatData[[#This Row],[Shoda: Seskupený CZ-NACE]],StatData[[#This Row],[Shoda: Region]],StatData[[#This Row],[Shoda: Vzdělání]],StatData[[#This Row],[Shoda: Pohlaví]],StatData[[#This Row],[Shoda: Věk]]),1,0)","v":0},{"$f":"IF(StatData[[#This Row],[Seskupený CZ-NACE]]=VLOOKUP(Obor,TabObor[],2,0),1,0)","v":0},{"$f":"IF(StatData[[#This Row],[Region]]=VLOOKUP(Region,TabRegion[],2,0),1,0)","v":0},{"$f":"IF(StatData[[#This Row],[Vzdělání]]=Vzdělání,1,0)","v":1},{"$f":"IF(StatData[[#This Row],[Pohlaví]]=Pohlaví,1,0)","v":1},{"$f":"IF(StatData[[#This Row],[Věk]]=Věk,1,0)","v":1},388,"Školství a kultura",3,"Střední s maturitou a vyšší odborné","Žena","do 34 let    ",10777.125,34390.213228270302,22684.333299999998,23681.725853981399,24257.581900000001,25528.4797,26197.831376113299,26858.735888463201,27508.615498342398,28076.3600363023,28504.920359836,28963.834105502501,29605.186000000002,30098.8341,30660.453341135901,31312.531723417302,31911.015072863,32439.4316013307,33052.4859726832,33559.835214354003,34078.138336709497,35144.833858960497,36016.203397224403,36907.208863114603,37763.843537699497,38643.900375434401,39716.4003202081,41058.587728027102,43221.953768503401,47759.271129957597]
[{"$f":"IF(AND(StatData[[#This Row],[Shoda: Seskupený CZ-NACE]],StatData[[#This Row],[Shoda: Region]],StatData[[#This Row],[Shoda: Vzdělání]],StatData[[#This Row],[Shoda: Pohlaví]],StatData[[#This Row],[Shoda: Věk]]),1,0)","v":0},{"$f":"IF(StatData[[#This Row],[Seskupený CZ-NACE]]=VLOOKUP(Obor,TabObor[],2,0),1,0)","v":0},{"$f":"IF(StatData[[#This Row],[Region]]=VLOOKUP(Region,TabRegion[],2,0),1,0)","v":0},{"$f":"IF(StatData[[#This Row],[Vzdělání]]=Vzdělání,1,0)","v":1},{"$f":"IF(StatData[[#This Row],[Pohlaví]]=Pohlaví,1,0)","v":1},{"$f":"IF(StatData[[#This Row],[Věk]]=Věk,1,0)","v":0},389,"Školství a kultura",3,"Střední s maturitou a vyšší odborné","Žena","35 až 54 let ",37448.65234375,36859.688424984997,22835.8827047466,23564.466772833799,24146.330721492301,25165.309300000001,26121.714493478601,26865.452093510801,27844.518800000002,28725.0854,29470.573279762499,30287.5995,30893.126100238402,31479.130842196901,32138.4341522631,32829.267553983504,33405.539522193998,34123.703624585803,34758.482593762303,35492.143295594396,35927.792020434099,37268.8455249869,38545.968229614002,39609.373441549098,40814.582833807799,42183.995482652899,43688.585470188802,45773.8666861331,48933.8609729776,55025.088390911304]
[{"$f":"IF(AND(StatData[[#This Row],[Shoda: Seskupený CZ-NACE]],StatData[[#This Row],[Shoda: Region]],StatData[[#This Row],[Shoda: Vzdělání]],StatData[[#This Row],[Shoda: Pohlaví]],StatData[[#This Row],[Shoda: Věk]]),1,0)","v":0},{"$f":"IF(StatData[[#This Row],[Seskupený CZ-NACE]]=VLOOKUP(Obor,TabObor[],2,0),1,0)","v":0},{"$f":"IF(StatData[[#This Row],[Region]]=VLOOKUP(Region,TabRegion[],2,0),1,0)","v":0},{"$f":"IF(StatData[[#This Row],[Vzdělání]]=Vzdělání,1,0)","v":1},{"$f":"IF(StatData[[#This Row],[Pohlaví]]=Pohlaví,1,0)","v":1},{"$f":"IF(StatData[[#This Row],[Věk]]=Věk,1,0)","v":0},390,"Školství a kultura",3,"Střední s maturitou a vyšší odborné","Žena","55 a více let",18072.833984375,41615.296728772497,22774.737811583302,24592.6666,26047.5920170674,27708.940200000001,29323.635469032,30702.034863496101,31969.393731129399,33352.176255779203,34434.297394004301,35649.448239483201,36516.450020743301,37415.909349388399,38261.481878774903,39097.499724602501,39572.457302087503,40160.831437025001,40697.293033551199,41258.555544648603,41688.352228769298,42637.151056578899,43607.103802047401,44485.337994250898,45610.8302638651,47199.458988197199,49106.206201799301,51573.7732059392,55174.646942668303,62079.178574448801]
[{"$f":"IF(AND(StatData[[#This Row],[Shoda: Seskupený CZ-NACE]],StatData[[#This Row],[Shoda: Region]],StatData[[#This Row],[Shoda: Vzdělání]],StatData[[#This Row],[Shoda: Pohlaví]],StatData[[#This Row],[Shoda: Věk]]),1,0)","v":0},{"$f":"IF(StatData[[#This Row],[Seskupený CZ-NACE]]=VLOOKUP(Obor,TabObor[],2,0),1,0)","v":0},{"$f":"IF(StatData[[#This Row],[Region]]=VLOOKUP(Region,TabRegion[],2,0),1,0)","v":0},{"$f":"IF(StatData[[#This Row],[Vzdělání]]=Vzdělání,1,0)","v":0},{"$f":"IF(StatData[[#This Row],[Pohlaví]]=Pohlaví,1,0)","v":0},{"$f":"IF(StatData[[#This Row],[Věk]]=Věk,1,0)","v":1},391,"Školství a kultura",3,"Vysokoškolské ","Muž","do 34 let    ",9478.9296875,50493.740941440199,28396.409500000002,30392.652871883802,32220.689592765299,34361.996482661401,35104.260475304,36175.711027393998,37268.7162875508,38361.348268604597,39396.619860875202,40376.849720532002,41207.830781488898,42017.214367857101,42884.4442155016,43340.292073832097,44082.124746790199,44926.3279500551,45656.052535918403,46233.480623083102,46879.102918446297,48361.258019099398,49695.720679099402,51138.2943226809,52914.088753527598,55784.356597699501,59623.873526114803,65114.312068101797,73409.864535868997,89315.003810808601]
[{"$f":"IF(AND(StatData[[#This Row],[Shoda: Seskupený CZ-NACE]],StatData[[#This Row],[Shoda: Region]],StatData[[#This Row],[Shoda: Vzdělání]],StatData[[#This Row],[Shoda: Pohlaví]],StatData[[#This Row],[Shoda: Věk]]),1,0)","v":0},{"$f":"IF(StatData[[#This Row],[Seskupený CZ-NACE]]=VLOOKUP(Obor,TabObor[],2,0),1,0)","v":0},{"$f":"IF(StatData[[#This Row],[Region]]=VLOOKUP(Region,TabRegion[],2,0),1,0)","v":0},{"$f":"IF(StatData[[#This Row],[Vzdělání]]=Vzdělání,1,0)","v":0},{"$f":"IF(StatData[[#This Row],[Pohlaví]]=Pohlaví,1,0)","v":0},{"$f":"IF(StatData[[#This Row],[Věk]]=Věk,1,0)","v":0},392,"Školství a kultura",3,"Vysokoškolské ","Muž","35 až 54 let ",25378.033203125,65305.003335800502,27909.797825371999,31685.914696473199,35468.461905941498,38131.477033581097,40061.658486671397,41563.750944532097,43034.156694568002,44154.826738858901,45209.849777613199,46423.341432772097,47266.6925319035,48285.615238929902,49129.8005372607,50053.826172843299,50982.063746939501,51913.5799151885,52948.726259835603,53827.437984412703,54938.040257441702,57287.219024060803,60303.793818398102,64167.834967593401,69659.808397176603,76110.921696600402,83539.217034367102,92661.067256208305,105284.02392750399,129612.645899661]
[{"$f":"IF(AND(StatData[[#This Row],[Shoda: Seskupený CZ-NACE]],StatData[[#This Row],[Shoda: Region]],StatData[[#This Row],[Shoda: Vzdělání]],StatData[[#This Row],[Shoda: Pohlaví]],StatData[[#This Row],[Shoda: Věk]]),1,0)","v":0},{"$f":"IF(StatData[[#This Row],[Seskupený CZ-NACE]]=VLOOKUP(Obor,TabObor[],2,0),1,0)","v":0},{"$f":"IF(StatData[[#This Row],[Region]]=VLOOKUP(Region,TabRegion[],2,0),1,0)","v":0},{"$f":"IF(StatData[[#This Row],[Vzdělání]]=Vzdělání,1,0)","v":0},{"$f":"IF(StatData[[#This Row],[Pohlaví]]=Pohlaví,1,0)","v":0},{"$f":"IF(StatData[[#This Row],[Věk]]=Věk,1,0)","v":0},393,"Školství a kultura",3,"Vysokoškolské ","Muž","55 a více let",12881.0185546875,59539.583955648297,21791.463989333301,26305.003475673901,28853.0624759987,30189.1295872552,33417.043484157002,36603.298607584802,38672.350069111802,40895.649046878403,42473.825054948597,44292.596792530901,45748.891390724202,46851.055226406199,48482.7313727621,49559.244459636298,50232.044744579202,51206.733775904897,52020.6853569714,53002.3524870076,53857.1383933201,55967.299127416103,58103.305387663102,60240.516508505898,62842.9999626512,67323.258472208705,74503.956614887196,84255.237470512395,96386.250565674607,115225.864546792]
[{"$f":"IF(AND(StatData[[#This Row],[Shoda: Seskupený CZ-NACE]],StatData[[#This Row],[Shoda: Region]],StatData[[#This Row],[Shoda: Vzdělání]],StatData[[#This Row],[Shoda: Pohlaví]],StatData[[#This Row],[Shoda: Věk]]),1,0)","v":0},{"$f":"IF(StatData[[#This Row],[Seskupený CZ-NACE]]=VLOOKUP(Obor,TabObor[],2,0),1,0)","v":0},{"$f":"IF(StatData[[#This Row],[Region]]=VLOOKUP(Region,TabRegion[],2,0),1,0)","v":0},{"$f":"IF(StatData[[#This Row],[Vzdělání]]=Vzdělání,1,0)","v":0},{"$f":"IF(StatData[[#This Row],[Pohlaví]]=Pohlaví,1,0)","v":1},{"$f":"IF(StatData[[#This Row],[Věk]]=Věk,1,0)","v":1},394,"Školství a kultura",3,"Vysokoškolské ","Žena","do 34 let    ",15574.18359375,42199.8076208782,26392.243456083299,28548.558980760499,29951.641199999998,31354.552745147801,32770.905033722302,33978.979922526902,34634.391683815898,35450.571345853503,36334.357445232199,36916.461665029703,37536.633348325602,38053.5819505728,38576.419056588697,39231.058149054799,39704.326367390699,40289.223509325697,40818.488403807401,41344.0478921471,41718.793228863302,42556.338096554296,43500.9610027655,44593.140800070898,45689.6107698548,46718.218444712802,48194.575469199997,50148.276367416896,53344.429564357903,58127.110609563497]
[{"$f":"IF(AND(StatData[[#This Row],[Shoda: Seskupený CZ-NACE]],StatData[[#This Row],[Shoda: Region]],StatData[[#This Row],[Shoda: Vzdělání]],StatData[[#This Row],[Shoda: Pohlaví]],StatData[[#This Row],[Shoda: Věk]]),1,0)","v":0},{"$f":"IF(StatData[[#This Row],[Seskupený CZ-NACE]]=VLOOKUP(Obor,TabObor[],2,0),1,0)","v":0},{"$f":"IF(StatData[[#This Row],[Region]]=VLOOKUP(Region,TabRegion[],2,0),1,0)","v":0},{"$f":"IF(StatData[[#This Row],[Vzdělání]]=Vzdělání,1,0)","v":0},{"$f":"IF(StatData[[#This Row],[Pohlaví]]=Pohlaví,1,0)","v":1},{"$f":"IF(StatData[[#This Row],[Věk]]=Věk,1,0)","v":0},395,"Školství a kultura",3,"Vysokoškolské ","Žena","35 až 54 let ",53282.046875,51328.546396388803,31559.801299999999,34109.382866912601,35985.436806841797,37593.069951870799,38958.987234302302,40226.103431354502,41197.281810815897,42054.333087564599,43042.5544553281,43949.724794835798,44803.090420918903,45593.3657807333,46300.475960222597,46950.110446536899,47489.1564890851,48120.8317347751,48727.915131110203,49258.301498038098,49803.550283839002,50968.032388122898,52157.7737205745,53478.830319555796,54836.296871455597,56359.089842275098,58433.930281792302,61236.621028328198,66512.785888274506,78016.088290978703]
[{"$f":"IF(AND(StatData[[#This Row],[Shoda: Seskupený CZ-NACE]],StatData[[#This Row],[Shoda: Region]],StatData[[#This Row],[Shoda: Vzdělání]],StatData[[#This Row],[Shoda: Pohlaví]],StatData[[#This Row],[Shoda: Věk]]),1,0)","v":0},{"$f":"IF(StatData[[#This Row],[Seskupený CZ-NACE]]=VLOOKUP(Obor,TabObor[],2,0),1,0)","v":0},{"$f":"IF(StatData[[#This Row],[Region]]=VLOOKUP(Region,TabRegion[],2,0),1,0)","v":0},{"$f":"IF(StatData[[#This Row],[Vzdělání]]=Vzdělání,1,0)","v":0},{"$f":"IF(StatData[[#This Row],[Pohlaví]]=Pohlaví,1,0)","v":1},{"$f":"IF(StatData[[#This Row],[Věk]]=Věk,1,0)","v":0},396,"Školství a kultura",3,"Vysokoškolské ","Žena","55 a více let",21346.03125,58019.4771811803,37122.746254562,40865.122503430197,43372.3611555916,45303.743509838503,46840.321778605401,48409.270757065402,49307.121637842101,50089.150206022197,50827.143124393297,51485.982308515297,52054.803120689401,52610.569013134998,53081.110974863499,53603.093428816101,54047.413276458399,54493.431144378897,54910.802431545999,55256.958801339497,55648.030703038101,56579.0882542158,57492.692889686303,58573.153510387398,59930.851774911403,61878.609554897303,64161.447364096297,68699.974760328099,76417.086508136301,87786.535742666398]
[{"$f":"IF(AND(StatData[[#This Row],[Shoda: Seskupený CZ-NACE]],StatData[[#This Row],[Shoda: Region]],StatData[[#This Row],[Shoda: Vzdělání]],StatData[[#This Row],[Shoda: Pohlaví]],StatData[[#This Row],[Shoda: Věk]]),1,0)","v":0},{"$f":"IF(StatData[[#This Row],[Seskupený CZ-NACE]]=VLOOKUP(Obor,TabObor[],2,0),1,0)","v":0},{"$f":"IF(StatData[[#This Row],[Region]]=VLOOKUP(Region,TabRegion[],2,0),1,0)","v":1},{"$f":"IF(StatData[[#This Row],[Vzdělání]]=Vzdělání,1,0)","v":0},{"$f":"IF(StatData[[#This Row],[Pohlaví]]=Pohlaví,1,0)","v":0},{"$f":"IF(StatData[[#This Row],[Věk]]=Věk,1,0)","v":1},397,"Veřejná správa, obrana, sociální zabezpečení",1,"Střední bez maturity","Muž","do 34 let    ",146.32795715332,35551.697844118098,24785.340100000001,26330.234700000001,27563.3063,28591.357499999998,29232.6685,29390.651600000001,29532.9804,30699.083299999998,31510,31590.317800000001,31791.365099999999,32316.446400000001,32448.79,33293.899299999997,33696.174700000003,34804.321199999998,35225,35636.786800000002,35956.543245672001,36578.185864125102,37040.701969141301,37774.762405055597,38280.426464713702,38734.028217683503,39312.127560362198,40530.255336375798,42305.332926625,49984.9015969764]
[{"$f":"IF(AND(StatData[[#This Row],[Shoda: Seskupený CZ-NACE]],StatData[[#This Row],[Shoda: Region]],StatData[[#This Row],[Shoda: Vzdělání]],StatData[[#This Row],[Shoda: Pohlaví]],StatData[[#This Row],[Shoda: Věk]]),1,0)","v":0},{"$f":"IF(StatData[[#This Row],[Seskupený CZ-NACE]]=VLOOKUP(Obor,TabObor[],2,0),1,0)","v":0},{"$f":"IF(StatData[[#This Row],[Region]]=VLOOKUP(Region,TabRegion[],2,0),1,0)","v":1},{"$f":"IF(StatData[[#This Row],[Vzdělání]]=Vzdělání,1,0)","v":0},{"$f":"IF(StatData[[#This Row],[Pohlaví]]=Pohlaví,1,0)","v":0},{"$f":"IF(StatData[[#This Row],[Věk]]=Věk,1,0)","v":0},398,"Veřejná správa, obrana, sociální zabezpečení",1,"Střední bez maturity","Muž","35 až 54 let ",664.12677001953102,40457.314355932001,26974.333299999998,28239.25,29784.749400000001,30580.844099999998,31165.9166,31795.3858,32538.749599999999,33360.416599999997,34091,34548.147821718201,35165.7742,35932.832841141797,36537.627379932303,37129.303227606499,37644.9804097179,38258.546625037903,38689.283488117901,39144.0505279524,39611.678458118899,40742.203321289002,42202.702872171001,43125.077596072697,44324.8801763675,45684.414691476399,46739.9765450103,48558.7593137109,50586.376562826597,55188.543352268702]
[{"$f":"IF(AND(StatData[[#This Row],[Shoda: Seskupený CZ-NACE]],StatData[[#This Row],[Shoda: Region]],StatData[[#This Row],[Shoda: Vzdělání]],StatData[[#This Row],[Shoda: Pohlaví]],StatData[[#This Row],[Shoda: Věk]]),1,0)","v":0},{"$f":"IF(StatData[[#This Row],[Seskupený CZ-NACE]]=VLOOKUP(Obor,TabObor[],2,0),1,0)","v":0},{"$f":"IF(StatData[[#This Row],[Region]]=VLOOKUP(Region,TabRegion[],2,0),1,0)","v":1},{"$f":"IF(StatData[[#This Row],[Vzdělání]]=Vzdělání,1,0)","v":0},{"$f":"IF(StatData[[#This Row],[Pohlaví]]=Pohlaví,1,0)","v":0},{"$f":"IF(StatData[[#This Row],[Věk]]=Věk,1,0)","v":0},399,"Veřejná správa, obrana, sociální zabezpečení",1,"Střední bez maturity","Muž","55 a více let",727.821533203125,38026.316688329098,27251.583299999998,28078.4715,28651.0687,29289.6666,29841.75,30396.528399999999,30987.125599999999,31564,31978.9663,32402.932199999999,32976.083299999998,33397.428099999997,33766.166599999997,34016.083299999998,34542.166599999997,35058.2867661317,35755.227099999996,36314.6658042419,36641.954359987198,37462.225648748798,38532.369461333903,39515.540992054499,41026.921040807698,42265.283526379601,43933.144708955602,46116.616418506397,49397.076014569597,52957.866427428198]
[{"$f":"IF(AND(StatData[[#This Row],[Shoda: Seskupený CZ-NACE]],StatData[[#This Row],[Shoda: Region]],StatData[[#This Row],[Shoda: Vzdělání]],StatData[[#This Row],[Shoda: Pohlaví]],StatData[[#This Row],[Shoda: Věk]]),1,0)","v":0},{"$f":"IF(StatData[[#This Row],[Seskupený CZ-NACE]]=VLOOKUP(Obor,TabObor[],2,0),1,0)","v":0},{"$f":"IF(StatData[[#This Row],[Region]]=VLOOKUP(Region,TabRegion[],2,0),1,0)","v":1},{"$f":"IF(StatData[[#This Row],[Vzdělání]]=Vzdělání,1,0)","v":0},{"$f":"IF(StatData[[#This Row],[Pohlaví]]=Pohlaví,1,0)","v":1},{"$f":"IF(StatData[[#This Row],[Věk]]=Věk,1,0)","v":1},400,"Veřejná správa, obrana, sociální zabezpečení",1,"Střední bez maturity","Žena","do 34 let    ","*","*","*","*","*","*","*","*","*","*","*","*","*","*","*","*","*","*","*","*","*","*","*","*","*","*","*","*","*","*"]
[{"$f":"IF(AND(StatData[[#This Row],[Shoda: Seskupený CZ-NACE]],StatData[[#This Row],[Shoda: Region]],StatData[[#This Row],[Shoda: Vzdělání]],StatData[[#This Row],[Shoda: Pohlaví]],StatData[[#This Row],[Shoda: Věk]]),1,0)","v":0},{"$f":"IF(StatData[[#This Row],[Seskupený CZ-NACE]]=VLOOKUP(Obor,TabObor[],2,0),1,0)","v":0},{"$f":"IF(StatData[[#This Row],[Region]]=VLOOKUP(Region,TabRegion[],2,0),1,0)","v":1},{"$f":"IF(StatData[[#This Row],[Vzdělání]]=Vzdělání,1,0)","v":0},{"$f":"IF(StatData[[#This Row],[Pohlaví]]=Pohlaví,1,0)","v":1},{"$f":"IF(StatData[[#This Row],[Věk]]=Věk,1,0)","v":0},401,"Veřejná správa, obrana, sociální zabezpečení",1,"Střední bez maturity","Žena","35 až 54 let ",723.08428955078102,33182.5553494954,20747.4434,21750.874099041601,22428.973699999999,23217.936132847299,23892.037499999999,25104.392199999998,26176.333299999998,26827.181700000001,27086.583299999998,27502.252,28183.3766,28636.756099999999,29269.1666,29792.5664,30224.644400000001,30572.1234,30990.431400000001,31441.108800000002,31986.507399999999,32928.513400000003,33716.308400000002,34543.054400000001,35889.080239817398,37851.461579549097,39521.993127460199,41260.023517325797,44539.961170721501,49803.026778746796]
[{"$f":"IF(AND(StatData[[#This Row],[Shoda: Seskupený CZ-NACE]],StatData[[#This Row],[Shoda: Region]],StatData[[#This Row],[Shoda: Vzdělání]],StatData[[#This Row],[Shoda: Pohlaví]],StatData[[#This Row],[Shoda: Věk]]),1,0)","v":0},{"$f":"IF(StatData[[#This Row],[Seskupený CZ-NACE]]=VLOOKUP(Obor,TabObor[],2,0),1,0)","v":0},{"$f":"IF(StatData[[#This Row],[Region]]=VLOOKUP(Region,TabRegion[],2,0),1,0)","v":1},{"$f":"IF(StatData[[#This Row],[Vzdělání]]=Vzdělání,1,0)","v":0},{"$f":"IF(StatData[[#This Row],[Pohlaví]]=Pohlaví,1,0)","v":1},{"$f":"IF(StatData[[#This Row],[Věk]]=Věk,1,0)","v":0},402,"Veřejná správa, obrana, sociální zabezpečení",1,"Střední bez maturity","Žena","55 a více let",733.46228027343795,34341.096067403501,20958.833299999998,21517.333299999998,22635.6666,23417.713,24364.748599999999,25738.25,26809.800999999999,27394.6037,28165.6666,29207.998899999999,29668.75,30283.1361,30972.938300000002,31649.25,32199.5,32762.1666,33405.166599999997,33778.1731,34308.984299999996,35138.296399999999,36010.077477348299,36790.795170998499,38065.239456647403,39097.605414897298,40385.873132277098,42005.288567406002,44844.4083548044,48595.718366039597]
[{"$f":"IF(AND(StatData[[#This Row],[Shoda: Seskupený CZ-NACE]],StatData[[#This Row],[Shoda: Region]],StatData[[#This Row],[Shoda: Vzdělání]],StatData[[#This Row],[Shoda: Pohlaví]],StatData[[#This Row],[Shoda: Věk]]),1,0)","v":0},{"$f":"IF(StatData[[#This Row],[Seskupený CZ-NACE]]=VLOOKUP(Obor,TabObor[],2,0),1,0)","v":0},{"$f":"IF(StatData[[#This Row],[Region]]=VLOOKUP(Region,TabRegion[],2,0),1,0)","v":1},{"$f":"IF(StatData[[#This Row],[Vzdělání]]=Vzdělání,1,0)","v":1},{"$f":"IF(StatData[[#This Row],[Pohlaví]]=Pohlaví,1,0)","v":0},{"$f":"IF(StatData[[#This Row],[Věk]]=Věk,1,0)","v":1},403,"Veřejná správa, obrana, sociální zabezpečení",1,"Střední s maturitou a vyšší odborné","Muž","do 34 let    ",2645.60034179688,47397.0554725927,31517.3024,32721.2350200943,34229.083299999998,35080,36255.401872193499,37213.329766224699,38213.342059967399,39302.0749230445,40046.794355929102,41005.888890643,41710.996998886301,42484.000560289802,43187.577047753497,43807.4475747611,44476.842624522702,45068.889894149499,45747.155238632302,46510.040580287103,47166.418171773599,48457.911583771602,49537.737529284903,50786.630464438502,51925.585647013002,53335.170314725699,54989.0420365846,57164.634176188803,60050.461567021797,65345.3580124125]
[{"$f":"IF(AND(StatData[[#This Row],[Shoda: Seskupený CZ-NACE]],StatData[[#This Row],[Shoda: Region]],StatData[[#This Row],[Shoda: Vzdělání]],StatData[[#This Row],[Shoda: Pohlaví]],StatData[[#This Row],[Shoda: Věk]]),1,0)","v":0},{"$f":"IF(StatData[[#This Row],[Seskupený CZ-NACE]]=VLOOKUP(Obor,TabObor[],2,0),1,0)","v":0},{"$f":"IF(StatData[[#This Row],[Region]]=VLOOKUP(Region,TabRegion[],2,0),1,0)","v":1},{"$f":"IF(StatData[[#This Row],[Vzdělání]]=Vzdělání,1,0)","v":1},{"$f":"IF(StatData[[#This Row],[Pohlaví]]=Pohlaví,1,0)","v":0},{"$f":"IF(StatData[[#This Row],[Věk]]=Věk,1,0)","v":0},404,"Veřejná správa, obrana, sociální zabezpečení",1,"Střední s maturitou a vyšší odborné","Muž","35 až 54 let ",6258.330078125,57907.857424309899,36037.468771070802,38528.412358923597,40549.781004676901,42449.329865733103,44564.561837151101,46114.478554045199,47556.526416218803,48858.273090349699,49935.329471565201,50881.5534476912,51865.807213468303,52681.892897958802,53461.605986145099,54202.898387486202,54952.933190502001,55676.218699396697,56346.6394226142,56973.408211877198,57626.646493578199,58919.016534502603,60284.901081994802,61821.8449104752,63445.720553621599,65159.853661815803,67162.782728070903,70023.598695410401,73470.536164347897,79503.119676252507]
[{"$f":"IF(AND(StatData[[#This Row],[Shoda: Seskupený CZ-NACE]],StatData[[#This Row],[Shoda: Region]],StatData[[#This Row],[Shoda: Vzdělání]],StatData[[#This Row],[Shoda: Pohlaví]],StatData[[#This Row],[Shoda: Věk]]),1,0)","v":0},{"$f":"IF(StatData[[#This Row],[Seskupený CZ-NACE]]=VLOOKUP(Obor,TabObor[],2,0),1,0)","v":0},{"$f":"IF(StatData[[#This Row],[Region]]=VLOOKUP(Region,TabRegion[],2,0),1,0)","v":1},{"$f":"IF(StatData[[#This Row],[Vzdělání]]=Vzdělání,1,0)","v":1},{"$f":"IF(StatData[[#This Row],[Pohlaví]]=Pohlaví,1,0)","v":0},{"$f":"IF(StatData[[#This Row],[Věk]]=Věk,1,0)","v":0},405,"Veřejná správa, obrana, sociální zabezpečení",1,"Střední s maturitou a vyšší odborné","Muž","55 a více let",2325.77709960938,51972.741372778502,31252.1666,32958.916599999997,34502.416599999997,35692.5,36407.1080818958,37267.146927788301,38261.9980851289,39059.0232859467,39883.751354708802,40688.825853666502,41516.990234367702,42432.0853922963,43361.972768040898,44411.118818660798,45380.453203704303,46398.392997652598,47340.2225879588,48401.963555411901,49826.300119935797,52671.154913639999,55066.135909639903,57681.353128223498,60390.054894526998,62661.927372548103,65526.643208294197,68247.7799697382,71571.966607903494,77482.566304164793]
[{"$f":"IF(AND(StatData[[#This Row],[Shoda: Seskupený CZ-NACE]],StatData[[#This Row],[Shoda: Region]],StatData[[#This Row],[Shoda: Vzdělání]],StatData[[#This Row],[Shoda: Pohlaví]],StatData[[#This Row],[Shoda: Věk]]),1,0)","v":0},{"$f":"IF(StatData[[#This Row],[Seskupený CZ-NACE]]=VLOOKUP(Obor,TabObor[],2,0),1,0)","v":0},{"$f":"IF(StatData[[#This Row],[Region]]=VLOOKUP(Region,TabRegion[],2,0),1,0)","v":1},{"$f":"IF(StatData[[#This Row],[Vzdělání]]=Vzdělání,1,0)","v":1},{"$f":"IF(StatData[[#This Row],[Pohlaví]]=Pohlaví,1,0)","v":1},{"$f":"IF(StatData[[#This Row],[Věk]]=Věk,1,0)","v":1},406,"Veřejná správa, obrana, sociální zabezpečení",1,"Střední s maturitou a vyšší odborné","Žena","do 34 let    ",1302.28100585938,40753.250177769602,27270.527999999998,28386.934693752999,29286.697499999998,29941.702971160001,30488.854500000001,31005.75,31642.963899999999,32328.084599999998,32760.935399999998,33397.135399999999,33867.590799999998,34445.472900000001,34980.938499999997,35524.126499999998,36200.809799076102,36747.362571206198,37478.292014567502,38160.903320987301,38890.870246091203,40379.933413592902,41903.468117674303,43598.9149408054,45599.787366722703,47502.660795296397,49264.482011448403,51599.203439907396,54054.289434872597,58610.201327903902]
[{"$f":"IF(AND(StatData[[#This Row],[Shoda: Seskupený CZ-NACE]],StatData[[#This Row],[Shoda: Region]],StatData[[#This Row],[Shoda: Vzdělání]],StatData[[#This Row],[Shoda: Pohlaví]],StatData[[#This Row],[Shoda: Věk]]),1,0)","v":0},{"$f":"IF(StatData[[#This Row],[Seskupený CZ-NACE]]=VLOOKUP(Obor,TabObor[],2,0),1,0)","v":0},{"$f":"IF(StatData[[#This Row],[Region]]=VLOOKUP(Region,TabRegion[],2,0),1,0)","v":1},{"$f":"IF(StatData[[#This Row],[Vzdělání]]=Vzdělání,1,0)","v":1},{"$f":"IF(StatData[[#This Row],[Pohlaví]]=Pohlaví,1,0)","v":1},{"$f":"IF(StatData[[#This Row],[Věk]]=Věk,1,0)","v":0},407,"Veřejná správa, obrana, sociální zabezpečení",1,"Střední s maturitou a vyšší odborné","Žena","35 až 54 let ",7304.244140625,46186.293488639902,31807.7592,33036.712899999999,33975.924500000001,34791.274899999997,35457.324500000002,36139.848780840497,36707.5966221419,37292.3133388731,37769.314001037303,38323.852949690197,38935.348198953499,39387.287038414797,39959.4556510857,40511.112970614602,41057.510212060799,41753.845256562301,42344.524616335897,42933.371695403599,43640.759274190001,45096.822226334603,46608.446705992101,48273.741937989398,50436.094708635101,52610.3785072381,54909.590643906799,57631.602434390501,61694.412671966304,67875.196421154498]
[{"$f":"IF(AND(StatData[[#This Row],[Shoda: Seskupený CZ-NACE]],StatData[[#This Row],[Shoda: Region]],StatData[[#This Row],[Shoda: Vzdělání]],StatData[[#This Row],[Shoda: Pohlaví]],StatData[[#This Row],[Shoda: Věk]]),1,0)","v":0},{"$f":"IF(StatData[[#This Row],[Seskupený CZ-NACE]]=VLOOKUP(Obor,TabObor[],2,0),1,0)","v":0},{"$f":"IF(StatData[[#This Row],[Region]]=VLOOKUP(Region,TabRegion[],2,0),1,0)","v":1},{"$f":"IF(StatData[[#This Row],[Vzdělání]]=Vzdělání,1,0)","v":1},{"$f":"IF(StatData[[#This Row],[Pohlaví]]=Pohlaví,1,0)","v":1},{"$f":"IF(StatData[[#This Row],[Věk]]=Věk,1,0)","v":0},408,"Veřejná správa, obrana, sociální zabezpečení",1,"Střední s maturitou a vyšší odborné","Žena","55 a více let",5420.1826171875,47454.956129251099,33522.242100000003,35026.859299999996,35908.3417091909,36610.465801193197,37389.830410481904,38097.698137504703,38682.599353970101,39188.662938764399,39716.4067797272,40170.4893760099,40795.788161765602,41270.737929286603,41725.020234370597,42196.768989959397,42732.993034506297,43283.916422447597,43802.590723116104,44452.231249389799,45023.602350071502,46176.645646849604,47560.0422971144,48950.984666454598,50698.478998267798,52839.924387575003,55203.938397229103,58250.331104283199,62595.385074911603,69346.887253265493]
[{"$f":"IF(AND(StatData[[#This Row],[Shoda: Seskupený CZ-NACE]],StatData[[#This Row],[Shoda: Region]],StatData[[#This Row],[Shoda: Vzdělání]],StatData[[#This Row],[Shoda: Pohlaví]],StatData[[#This Row],[Shoda: Věk]]),1,0)","v":0},{"$f":"IF(StatData[[#This Row],[Seskupený CZ-NACE]]=VLOOKUP(Obor,TabObor[],2,0),1,0)","v":0},{"$f":"IF(StatData[[#This Row],[Region]]=VLOOKUP(Region,TabRegion[],2,0),1,0)","v":1},{"$f":"IF(StatData[[#This Row],[Vzdělání]]=Vzdělání,1,0)","v":0},{"$f":"IF(StatData[[#This Row],[Pohlaví]]=Pohlaví,1,0)","v":0},{"$f":"IF(StatData[[#This Row],[Věk]]=Věk,1,0)","v":1},409,"Veřejná správa, obrana, sociální zabezpečení",1,"Vysokoškolské ","Muž","do 34 let    ",2858.42578125,52934.425811086498,33457.057399999998,35309.333299999998,37102.969463094501,38444.020854508301,39466.899945666897,40519.605210048801,41576.028634563103,42533.672096748203,43495.1231631669,44277.315747820401,44992.883665704103,45911.399953341002,46527.922822316599,47321.814175332103,47848.854220607398,48528.733691973997,49258.159947190499,49893.961862985299,50500.198859174001,52089.5780577728,53466.522315939903,55078.892468075799,57036.7227504904,59062.025966222398,61937.611859582801,65539.151174831393,70561.251176717298,80270.252278921296]
[{"$f":"IF(AND(StatData[[#This Row],[Shoda: Seskupený CZ-NACE]],StatData[[#This Row],[Shoda: Region]],StatData[[#This Row],[Shoda: Vzdělání]],StatData[[#This Row],[Shoda: Pohlaví]],StatData[[#This Row],[Shoda: Věk]]),1,0)","v":0},{"$f":"IF(StatData[[#This Row],[Seskupený CZ-NACE]]=VLOOKUP(Obor,TabObor[],2,0),1,0)","v":0},{"$f":"IF(StatData[[#This Row],[Region]]=VLOOKUP(Region,TabRegion[],2,0),1,0)","v":1},{"$f":"IF(StatData[[#This Row],[Vzdělání]]=Vzdělání,1,0)","v":0},{"$f":"IF(StatData[[#This Row],[Pohlaví]]=Pohlaví,1,0)","v":0},{"$f":"IF(StatData[[#This Row],[Věk]]=Věk,1,0)","v":0},410,"Veřejná správa, obrana, sociální zabezpečení",1,"Vysokoškolské ","Muž","35 až 54 let ",11160.3349609375,72319.087533119498,42309.614168995802,45245.922057702097,47713.237587896299,49634.145063341603,51245.451501105403,52701.4016452582,54099.566501872403,55265.200706116098,56456.118743866296,57553.865690916296,58635.549275945501,59821.7093507545,61062.760511036598,62238.035807242697,63306.921225198203,64459.031852122498,65691.0028479748,67002.521553612794,68099.214061054707,70324.126784118605,72776.576656971098,75488.589787282297,78373.184328917996,81335.4187573784,85329.928996938994,90455.9627596871,99451.438137365301,117323.76816059899]
[{"$f":"IF(AND(StatData[[#This Row],[Shoda: Seskupený CZ-NACE]],StatData[[#This Row],[Shoda: Region]],StatData[[#This Row],[Shoda: Vzdělání]],StatData[[#This Row],[Shoda: Pohlaví]],StatData[[#This Row],[Shoda: Věk]]),1,0)","v":0},{"$f":"IF(StatData[[#This Row],[Seskupený CZ-NACE]]=VLOOKUP(Obor,TabObor[],2,0),1,0)","v":0},{"$f":"IF(StatData[[#This Row],[Region]]=VLOOKUP(Region,TabRegion[],2,0),1,0)","v":1},{"$f":"IF(StatData[[#This Row],[Vzdělání]]=Vzdělání,1,0)","v":0},{"$f":"IF(StatData[[#This Row],[Pohlaví]]=Pohlaví,1,0)","v":0},{"$f":"IF(StatData[[#This Row],[Věk]]=Věk,1,0)","v":0},411,"Veřejná správa, obrana, sociální zabezpečení",1,"Vysokoškolské ","Muž","55 a více let",4757.453125,69153.029248220497,40740.636906710803,43332.7431811118,44909.406999721599,46457.012801752702,47746.550227610503,48988.593725735802,50269.605382479996,51461.499271131397,52529.177865720201,53496.839393501497,54677.3134007603,55693.009893925097,56600.200442704401,57608.1690631733,58754.312045715502,59786.278318188903,60886.456778364904,62039.873992500798,63171.7741939595,66020.152915187195,68897.371644697399,72127.316104791098,75416.884846083107,79088.014352933998,83176.274413174498,89149.789824663894,97356.960237170395,113658.548732839]
[{"$f":"IF(AND(StatData[[#This Row],[Shoda: Seskupený CZ-NACE]],StatData[[#This Row],[Shoda: Region]],StatData[[#This Row],[Shoda: Vzdělání]],StatData[[#This Row],[Shoda: Pohlaví]],StatData[[#This Row],[Shoda: Věk]]),1,0)","v":0},{"$f":"IF(StatData[[#This Row],[Seskupený CZ-NACE]]=VLOOKUP(Obor,TabObor[],2,0),1,0)","v":0},{"$f":"IF(StatData[[#This Row],[Region]]=VLOOKUP(Region,TabRegion[],2,0),1,0)","v":1},{"$f":"IF(StatData[[#This Row],[Vzdělání]]=Vzdělání,1,0)","v":0},{"$f":"IF(StatData[[#This Row],[Pohlaví]]=Pohlaví,1,0)","v":1},{"$f":"IF(StatData[[#This Row],[Věk]]=Věk,1,0)","v":1},412,"Veřejná správa, obrana, sociální zabezpečení",1,"Vysokoškolské ","Žena","do 34 let    ",3161.02270507813,49330.0103141379,32150.055400000001,33985.163099999998,35344.656300000002,36286.4090820044,37517.502218129899,38461.941272675504,39166.772692011698,39917.070258914697,40681.966844177899,41354.143857149298,41866.219363453602,42592.397896603303,43254.207906922398,43809.423226608502,44366.116533453103,45047.707559426402,45603.368227591403,46212.783379688102,46810.094938951202,48059.823851350397,49533.027462999999,50975.3726827262,52616.562139109403,54550.105963024303,56774.214239885099,59908.704624817598,65375.667036112703,74528.285287703402]
[{"$f":"IF(AND(StatData[[#This Row],[Shoda: Seskupený CZ-NACE]],StatData[[#This Row],[Shoda: Region]],StatData[[#This Row],[Shoda: Vzdělání]],StatData[[#This Row],[Shoda: Pohlaví]],StatData[[#This Row],[Shoda: Věk]]),1,0)","v":0},{"$f":"IF(StatData[[#This Row],[Seskupený CZ-NACE]]=VLOOKUP(Obor,TabObor[],2,0),1,0)","v":0},{"$f":"IF(StatData[[#This Row],[Region]]=VLOOKUP(Region,TabRegion[],2,0),1,0)","v":1},{"$f":"IF(StatData[[#This Row],[Vzdělání]]=Vzdělání,1,0)","v":0},{"$f":"IF(StatData[[#This Row],[Pohlaví]]=Pohlaví,1,0)","v":1},{"$f":"IF(StatData[[#This Row],[Věk]]=Věk,1,0)","v":0},413,"Veřejná správa, obrana, sociální zabezpečení",1,"Vysokoškolské ","Žena","35 až 54 let ",10627.427734375,62188.340866775099,38289.334798930402,40314.2993475193,42020.036308716699,43515.439855908298,44810.0981117599,45958.680064518398,47194.235503362703,48149.4556530275,49096.699379845602,50041.731069997302,50981.886626626801,51898.0536356964,52795.499711644297,53647.025480933597,54518.332542323202,55338.564262188404,56177.499707208503,57087.504695571501,57934.424125031699,59904.2484422915,62077.480846872902,64392.897810477298,67102.012895341293,70245.723196273204,73882.685984660697,78812.896779476607,85665.6272185282,98388.838482110106]
[{"$f":"IF(AND(StatData[[#This Row],[Shoda: Seskupený CZ-NACE]],StatData[[#This Row],[Shoda: Region]],StatData[[#This Row],[Shoda: Vzdělání]],StatData[[#This Row],[Shoda: Pohlaví]],StatData[[#This Row],[Shoda: Věk]]),1,0)","v":0},{"$f":"IF(StatData[[#This Row],[Seskupený CZ-NACE]]=VLOOKUP(Obor,TabObor[],2,0),1,0)","v":0},{"$f":"IF(StatData[[#This Row],[Region]]=VLOOKUP(Region,TabRegion[],2,0),1,0)","v":1},{"$f":"IF(StatData[[#This Row],[Vzdělání]]=Vzdělání,1,0)","v":0},{"$f":"IF(StatData[[#This Row],[Pohlaví]]=Pohlaví,1,0)","v":1},{"$f":"IF(StatData[[#This Row],[Věk]]=Věk,1,0)","v":0},414,"Veřejná správa, obrana, sociální zabezpečení",1,"Vysokoškolské ","Žena","55 a více let",4290.615234375,66150.729740427094,41373.669471538698,43276.225442416799,45144.372714017503,46424.736230658797,47549.887975984297,48580.728247544001,49483.196079436297,50503.356705801503,51581.234703840899,52636.891081819398,53596.322198759502,54449.245090772602,55293.526766176998,55984.858470074498,56863.562227242997,57643.569396871499,58638.687731052298,59502.219633965004,60467.704330100998,62540.3608512313,64778.152350601398,67894.601966617396,71305.020078358706,75025.630210012096,78568.552438193394,84189.881325042705,92356.309710452697,107845.836989831]
[{"$f":"IF(AND(StatData[[#This Row],[Shoda: Seskupený CZ-NACE]],StatData[[#This Row],[Shoda: Region]],StatData[[#This Row],[Shoda: Vzdělání]],StatData[[#This Row],[Shoda: Pohlaví]],StatData[[#This Row],[Shoda: Věk]]),1,0)","v":0},{"$f":"IF(StatData[[#This Row],[Seskupený CZ-NACE]]=VLOOKUP(Obor,TabObor[],2,0),1,0)","v":0},{"$f":"IF(StatData[[#This Row],[Region]]=VLOOKUP(Region,TabRegion[],2,0),1,0)","v":0},{"$f":"IF(StatData[[#This Row],[Vzdělání]]=Vzdělání,1,0)","v":0},{"$f":"IF(StatData[[#This Row],[Pohlaví]]=Pohlaví,1,0)","v":0},{"$f":"IF(StatData[[#This Row],[Věk]]=Věk,1,0)","v":1},415,"Veřejná správa, obrana, sociální zabezpečení",2,"Střední bez maturity","Muž","do 34 let    ",337.07647705078102,33130.350220270499,23273.732800000002,24354.609899999999,26300.963,26973.9166,27744.083299999998,28366.127499999999,28647.774600000001,29171.553859457799,29921.238000000001,30310,30710,31093.5576,31415,31670.077399999998,31890,32393.296475468302,32666.632600000001,33090,33350,33905.013099999996,34557.5,35062.5,35623.293899999997,36245.085267038601,37097.197443611098,38013.144014064601,39775.071482903397,42669.581792566598]
[{"$f":"IF(AND(StatData[[#This Row],[Shoda: Seskupený CZ-NACE]],StatData[[#This Row],[Shoda: Region]],StatData[[#This Row],[Shoda: Vzdělání]],StatData[[#This Row],[Shoda: Pohlaví]],StatData[[#This Row],[Shoda: Věk]]),1,0)","v":0},{"$f":"IF(StatData[[#This Row],[Seskupený CZ-NACE]]=VLOOKUP(Obor,TabObor[],2,0),1,0)","v":0},{"$f":"IF(StatData[[#This Row],[Region]]=VLOOKUP(Region,TabRegion[],2,0),1,0)","v":0},{"$f":"IF(StatData[[#This Row],[Vzdělání]]=Vzdělání,1,0)","v":0},{"$f":"IF(StatData[[#This Row],[Pohlaví]]=Pohlaví,1,0)","v":0},{"$f":"IF(StatData[[#This Row],[Věk]]=Věk,1,0)","v":0},416,"Veřejná správa, obrana, sociální zabezpečení",2,"Střední bez maturity","Muž","35 až 54 let ",1318.51867675781,36394.112025215698,25866.583299999998,27234.75,28451.9166,29221.6666,29728.9591,30553.4166,31029.637407073598,31602.583299999998,32130,32620.536400390502,33148.5228201973,33509.127764887802,33991.520193039098,34373.714954144998,34737.922454954598,35231.360569804303,35681.749068591103,36132.747464443899,36451.333793261401,37046.768894729699,37663.430350204202,38478.739127101901,39246.561069924501,40410.605931769802,41726.734739557302,42816.176140120697,44312.9066953578,46224.661276148297]
[{"$f":"IF(AND(StatData[[#This Row],[Shoda: Seskupený CZ-NACE]],StatData[[#This Row],[Shoda: Region]],StatData[[#This Row],[Shoda: Vzdělání]],StatData[[#This Row],[Shoda: Pohlaví]],StatData[[#This Row],[Shoda: Věk]]),1,0)","v":0},{"$f":"IF(StatData[[#This Row],[Seskupený CZ-NACE]]=VLOOKUP(Obor,TabObor[],2,0),1,0)","v":0},{"$f":"IF(StatData[[#This Row],[Region]]=VLOOKUP(Region,TabRegion[],2,0),1,0)","v":0},{"$f":"IF(StatData[[#This Row],[Vzdělání]]=Vzdělání,1,0)","v":0},{"$f":"IF(StatData[[#This Row],[Pohlaví]]=Pohlaví,1,0)","v":0},{"$f":"IF(StatData[[#This Row],[Věk]]=Věk,1,0)","v":0},417,"Veřejná správa, obrana, sociální zabezpečení",2,"Střední bez maturity","Muž","55 a více let",1034.37622070313,34892.419433515803,24175.833299999998,25845.1666,27323.1666,28122.25,28815.412899999999,29348.4160494676,29869.224200000001,30365.902399999999,30743.300616360899,31096.330597116099,31544.583299999998,31906.845509299499,32188.4166,32601.813284296801,32935.866787562998,33294.843395427997,33636.725977515802,33965.332259399598,34310.092385311698,34975.150122195701,35666.125099999997,36588.1977662879,37479.401901005003,38405.2565539797,39906.861073677203,41038.3737532495,42915.392885892601,46551.567553093999]
[{"$f":"IF(AND(StatData[[#This Row],[Shoda: Seskupený CZ-NACE]],StatData[[#This Row],[Shoda: Region]],StatData[[#This Row],[Shoda: Vzdělání]],StatData[[#This Row],[Shoda: Pohlaví]],StatData[[#This Row],[Shoda: Věk]]),1,0)","v":0},{"$f":"IF(StatData[[#This Row],[Seskupený CZ-NACE]]=VLOOKUP(Obor,TabObor[],2,0),1,0)","v":0},{"$f":"IF(StatData[[#This Row],[Region]]=VLOOKUP(Region,TabRegion[],2,0),1,0)","v":0},{"$f":"IF(StatData[[#This Row],[Vzdělání]]=Vzdělání,1,0)","v":0},{"$f":"IF(StatData[[#This Row],[Pohlaví]]=Pohlaví,1,0)","v":1},{"$f":"IF(StatData[[#This Row],[Věk]]=Věk,1,0)","v":1},418,"Veřejná správa, obrana, sociální zabezpečení",2,"Střední bez maturity","Žena","do 34 let    ",65.122245788574205,28974.773472072098,"*","*","*","*","*","*","*","*",23300.9359,"*","*","*","*","*","*","*","*","*",27160.958600000002,"*","*","*","*",32901.973400000003,"*","*","*","*"]
[{"$f":"IF(AND(StatData[[#This Row],[Shoda: Seskupený CZ-NACE]],StatData[[#This Row],[Shoda: Region]],StatData[[#This Row],[Shoda: Vzdělání]],StatData[[#This Row],[Shoda: Pohlaví]],StatData[[#This Row],[Shoda: Věk]]),1,0)","v":0},{"$f":"IF(StatData[[#This Row],[Seskupený CZ-NACE]]=VLOOKUP(Obor,TabObor[],2,0),1,0)","v":0},{"$f":"IF(StatData[[#This Row],[Region]]=VLOOKUP(Region,TabRegion[],2,0),1,0)","v":0},{"$f":"IF(StatData[[#This Row],[Vzdělání]]=Vzdělání,1,0)","v":0},{"$f":"IF(StatData[[#This Row],[Pohlaví]]=Pohlaví,1,0)","v":1},{"$f":"IF(StatData[[#This Row],[Věk]]=Věk,1,0)","v":0},419,"Veřejná správa, obrana, sociální zabezpečení",2,"Střední bez maturity","Žena","35 až 54 let ",619.98828125,29776.038182955599,19899.6666,20412.1666,20993.1394,21569.145199999999,21949.687099999999,22602.6476,23176.766100000001,23885.8508,24484.477299999999,24911.345700000002,25757.1666,26401.6666,26731.423900000002,27286.0906,27637.4166,28029.417379243801,28449.6666,28713.898399999998,29272.5887,29902.833299999998,30842.083299999998,31782.377499999999,32639.783019215702,33441.893673725601,34515.935071799897,36415.662976830303,38805.228885067103,42809.107387391297]
[{"$f":"IF(AND(StatData[[#This Row],[Shoda: Seskupený CZ-NACE]],StatData[[#This Row],[Shoda: Region]],StatData[[#This Row],[Shoda: Vzdělání]],StatData[[#This Row],[Shoda: Pohlaví]],StatData[[#This Row],[Shoda: Věk]]),1,0)","v":0},{"$f":"IF(StatData[[#This Row],[Seskupený CZ-NACE]]=VLOOKUP(Obor,TabObor[],2,0),1,0)","v":0},{"$f":"IF(StatData[[#This Row],[Region]]=VLOOKUP(Region,TabRegion[],2,0),1,0)","v":0},{"$f":"IF(StatData[[#This Row],[Vzdělání]]=Vzdělání,1,0)","v":0},{"$f":"IF(StatData[[#This Row],[Pohlaví]]=Pohlaví,1,0)","v":1},{"$f":"IF(StatData[[#This Row],[Věk]]=Věk,1,0)","v":0},420,"Veřejná správa, obrana, sociální zabezpečení",2,"Střední bez maturity","Žena","55 a více let",445.85638427734398,31172.495581084801,20194.140500000001,20516.6666,21041.784199999998,21313.1666,21707.102200000001,22119.347900000001,22764.333299999998,23701.5344,24710.583299999998,25191.3001,25651.9166,26093.5458,26475.1217,27144.4791,27624.75,27985.593199999999,28443.6666,29235.824499999999,29728.865900000001,31111.333299999998,32446.349300000002,33339.765661151803,34715,35956.9668877523,37693.1343288895,39763.744817369297,43237.924245713402,46387.343665433596]
[{"$f":"IF(AND(StatData[[#This Row],[Shoda: Seskupený CZ-NACE]],StatData[[#This Row],[Shoda: Region]],StatData[[#This Row],[Shoda: Vzdělání]],StatData[[#This Row],[Shoda: Pohlaví]],StatData[[#This Row],[Shoda: Věk]]),1,0)","v":0},{"$f":"IF(StatData[[#This Row],[Seskupený CZ-NACE]]=VLOOKUP(Obor,TabObor[],2,0),1,0)","v":0},{"$f":"IF(StatData[[#This Row],[Region]]=VLOOKUP(Region,TabRegion[],2,0),1,0)","v":0},{"$f":"IF(StatData[[#This Row],[Vzdělání]]=Vzdělání,1,0)","v":1},{"$f":"IF(StatData[[#This Row],[Pohlaví]]=Pohlaví,1,0)","v":0},{"$f":"IF(StatData[[#This Row],[Věk]]=Věk,1,0)","v":1},421,"Veřejná správa, obrana, sociální zabezpečení",2,"Střední s maturitou a vyšší odborné","Muž","do 34 let    ",3713.14916992188,42740.457327236902,30294.272799999999,31335.611700000001,32140.833299999998,32926.666599999997,33885,34681.574048513401,35444.583299999998,36194.046959875101,36948.2763760831,37712.177122773697,38489.2039295578,39229.989897176798,40119.107069012898,40898.282165766897,41403.832584510797,41815.967169709802,42354.8390702119,42815.449020465603,43165.697722829696,43940.059067062903,44836.262808473002,45630.770823667102,46601.5533619321,47629.311516506197,48891.758412027397,50390.472776150098,52273.567169735899,56211.213560735203]
[{"$f":"IF(AND(StatData[[#This Row],[Shoda: Seskupený CZ-NACE]],StatData[[#This Row],[Shoda: Region]],StatData[[#This Row],[Shoda: Vzdělání]],StatData[[#This Row],[Shoda: Pohlaví]],StatData[[#This Row],[Shoda: Věk]]),1,0)","v":0},{"$f":"IF(StatData[[#This Row],[Seskupený CZ-NACE]]=VLOOKUP(Obor,TabObor[],2,0),1,0)","v":0},{"$f":"IF(StatData[[#This Row],[Region]]=VLOOKUP(Region,TabRegion[],2,0),1,0)","v":0},{"$f":"IF(StatData[[#This Row],[Vzdělání]]=Vzdělání,1,0)","v":1},{"$f":"IF(StatData[[#This Row],[Pohlaví]]=Pohlaví,1,0)","v":0},{"$f":"IF(StatData[[#This Row],[Věk]]=Věk,1,0)","v":0},422,"Veřejná správa, obrana, sociální zabezpečení",2,"Střední s maturitou a vyšší odborné","Muž","35 až 54 let ",6209.89501953125,51720.733666328902,34457.923442288396,36301.431465757902,37759.720728026899,39316.554181861902,40619.779684698296,41951.081112190397,43262.792829516198,44325.365815237303,45180.132454821098,45989.2287015611,46759.112087195303,47503.422839448998,48161.356246803203,48808.515429919898,49457.6516561834,50104.100317259697,50676.396191136701,51221.993877961097,51849.401084565798,52904.510586420904,54172.5022326041,55312.155955617702,56617.575542380197,57975.967070601502,59710.949955107797,61566.369910291702,64043.257917412797,68623.579432592]
[{"$f":"IF(AND(StatData[[#This Row],[Shoda: Seskupený CZ-NACE]],StatData[[#This Row],[Shoda: Region]],StatData[[#This Row],[Shoda: Vzdělání]],StatData[[#This Row],[Shoda: Pohlaví]],StatData[[#This Row],[Shoda: Věk]]),1,0)","v":0},{"$f":"IF(StatData[[#This Row],[Seskupený CZ-NACE]]=VLOOKUP(Obor,TabObor[],2,0),1,0)","v":0},{"$f":"IF(StatData[[#This Row],[Region]]=VLOOKUP(Region,TabRegion[],2,0),1,0)","v":0},{"$f":"IF(StatData[[#This Row],[Vzdělání]]=Vzdělání,1,0)","v":1},{"$f":"IF(StatData[[#This Row],[Pohlaví]]=Pohlaví,1,0)","v":0},{"$f":"IF(StatData[[#This Row],[Věk]]=Věk,1,0)","v":0},423,"Veřejná správa, obrana, sociální zabezpečení",2,"Střední s maturitou a vyšší odborné","Muž","55 a více let",2071.91381835938,48085.925619312999,29117.785899999999,31244.9166,32759.9166,33959.189590990201,35075.379399999998,36203.217544624502,36856.307412582297,37833.706542457498,38490.895968010896,39155.222447746601,39925.201235731802,40776.3774267552,41495.972183696998,42260.928348297799,42844.842353853601,43585.778155538297,44296.585458395901,44939.931031256601,45731.179657772402,47767.913572752303,50002.313778803298,52458.416709655801,54842.437010534202,57461.536558622101,59772.920277996898,63054.4129668327,66019.892512833394,70981.094046992206]
[{"$f":"IF(AND(StatData[[#This Row],[Shoda: Seskupený CZ-NACE]],StatData[[#This Row],[Shoda: Region]],StatData[[#This Row],[Shoda: Vzdělání]],StatData[[#This Row],[Shoda: Pohlaví]],StatData[[#This Row],[Shoda: Věk]]),1,0)","v":0},{"$f":"IF(StatData[[#This Row],[Seskupený CZ-NACE]]=VLOOKUP(Obor,TabObor[],2,0),1,0)","v":0},{"$f":"IF(StatData[[#This Row],[Region]]=VLOOKUP(Region,TabRegion[],2,0),1,0)","v":0},{"$f":"IF(StatData[[#This Row],[Vzdělání]]=Vzdělání,1,0)","v":1},{"$f":"IF(StatData[[#This Row],[Pohlaví]]=Pohlaví,1,0)","v":1},{"$f":"IF(StatData[[#This Row],[Věk]]=Věk,1,0)","v":1},424,"Veřejná správa, obrana, sociální zabezpečení",2,"Střední s maturitou a vyšší odborné","Žena","do 34 let    ",1309.5107421875,37249.779168518799,25185.120900000002,26749.317599999998,27633.4077,28469.080099999999,29093.189200000001,29747.5,30314.081699999999,30736.2259822823,31258.9856,31686.518,32046.571599999999,32485.558000000001,32911.081240736297,33311.318599999999,33687.100923543301,34355.213400000001,34726.832874025102,35241.666599999997,35946.082840689603,36988.5074422283,38212.289393599698,39304.348840609397,40631.267035795303,42382.168898181699,43938.686252230596,46050.537428316398,49028.2080508695,52662.070429387903]
[{"$f":"IF(AND(StatData[[#This Row],[Shoda: Seskupený CZ-NACE]],StatData[[#This Row],[Shoda: Region]],StatData[[#This Row],[Shoda: Vzdělání]],StatData[[#This Row],[Shoda: Pohlaví]],StatData[[#This Row],[Shoda: Věk]]),1,0)","v":0},{"$f":"IF(StatData[[#This Row],[Seskupený CZ-NACE]]=VLOOKUP(Obor,TabObor[],2,0),1,0)","v":0},{"$f":"IF(StatData[[#This Row],[Region]]=VLOOKUP(Region,TabRegion[],2,0),1,0)","v":0},{"$f":"IF(StatData[[#This Row],[Vzdělání]]=Vzdělání,1,0)","v":1},{"$f":"IF(StatData[[#This Row],[Pohlaví]]=Pohlaví,1,0)","v":1},{"$f":"IF(StatData[[#This Row],[Věk]]=Věk,1,0)","v":0},425,"Veřejná správa, obrana, sociální zabezpečení",2,"Střední s maturitou a vyšší odborné","Žena","35 až 54 let ",8860.267578125,41858.463945566204,30929.204300000001,32127.541499999999,33027.317999999999,33750.212299999999,34331.583299999998,34923.482642645402,35343.430099999998,35758.147199999999,36207.618547149097,36639.973533725301,37002.4238599073,37397.377634845798,37763.302114696897,38152.353255174698,38514.539840793099,38892.135577593297,39242.0949784896,39654.618866373101,40106.5818953329,40982.920350784203,42016.121667354797,43106.549732218002,44365.526665205303,45874.5350118024,47706.717147761599,50009.578532527303,53069.604326764202,57967.319037674199]
[{"$f":"IF(AND(StatData[[#This Row],[Shoda: Seskupený CZ-NACE]],StatData[[#This Row],[Shoda: Region]],StatData[[#This Row],[Shoda: Vzdělání]],StatData[[#This Row],[Shoda: Pohlaví]],StatData[[#This Row],[Shoda: Věk]]),1,0)","v":0},{"$f":"IF(StatData[[#This Row],[Seskupený CZ-NACE]]=VLOOKUP(Obor,TabObor[],2,0),1,0)","v":0},{"$f":"IF(StatData[[#This Row],[Region]]=VLOOKUP(Region,TabRegion[],2,0),1,0)","v":0},{"$f":"IF(StatData[[#This Row],[Vzdělání]]=Vzdělání,1,0)","v":1},{"$f":"IF(StatData[[#This Row],[Pohlaví]]=Pohlaví,1,0)","v":1},{"$f":"IF(StatData[[#This Row],[Věk]]=Věk,1,0)","v":0},426,"Veřejná správa, obrana, sociální zabezpečení",2,"Střední s maturitou a vyšší odborné","Žena","55 a více let",4956.138671875,43965.593338922001,33168.7741398711,34121.0452,35044.787100000001,35772.293446018601,36381.5815319061,37007.663980156103,37481.939841344698,38036.706337926298,38474.885473440299,38866.4879424924,39212.230439361403,39631.708674160502,39971.671355560997,40315.140788312798,40698.830299872498,41139.383132931704,41570.468545312397,42017.148072484597,42442.923583509,43299.0054971754,44263.9676419057,45471.466983570303,46710.608966353102,47883.223905126601,49739.442746096101,51982.274074358502,54815.310152128397,59821.890929328103]
[{"$f":"IF(AND(StatData[[#This Row],[Shoda: Seskupený CZ-NACE]],StatData[[#This Row],[Shoda: Region]],StatData[[#This Row],[Shoda: Vzdělání]],StatData[[#This Row],[Shoda: Pohlaví]],StatData[[#This Row],[Shoda: Věk]]),1,0)","v":0},{"$f":"IF(StatData[[#This Row],[Seskupený CZ-NACE]]=VLOOKUP(Obor,TabObor[],2,0),1,0)","v":0},{"$f":"IF(StatData[[#This Row],[Region]]=VLOOKUP(Region,TabRegion[],2,0),1,0)","v":0},{"$f":"IF(StatData[[#This Row],[Vzdělání]]=Vzdělání,1,0)","v":0},{"$f":"IF(StatData[[#This Row],[Pohlaví]]=Pohlaví,1,0)","v":0},{"$f":"IF(StatData[[#This Row],[Věk]]=Věk,1,0)","v":1},427,"Veřejná správa, obrana, sociální zabezpečení",2,"Vysokoškolské ","Muž","do 34 let    ",1377.25732421875,47163.097605503499,31964.176899999999,33129.086338915098,34427.007708272402,35657.244833992998,37361.704047187901,38521.838495941003,39593.811500220698,40484.144275208098,41386.716280661101,41968.000527256001,42749.757116713903,43325.337618252597,43984.853192102797,44364.754415930001,44732.421927436502,45192.037092396997,45699.829659089599,46128.632902067598,46581.810918849798,47590.281330221304,48698.644497328998,49892.771111737798,51173.925364795403,52672.393513635303,54389.820696598799,56575.409775432701,59163.806026721599,63889.0294013944]
[{"$f":"IF(AND(StatData[[#This Row],[Shoda: Seskupený CZ-NACE]],StatData[[#This Row],[Shoda: Region]],StatData[[#This Row],[Shoda: Vzdělání]],StatData[[#This Row],[Shoda: Pohlaví]],StatData[[#This Row],[Shoda: Věk]]),1,0)","v":0},{"$f":"IF(StatData[[#This Row],[Seskupený CZ-NACE]]=VLOOKUP(Obor,TabObor[],2,0),1,0)","v":0},{"$f":"IF(StatData[[#This Row],[Region]]=VLOOKUP(Region,TabRegion[],2,0),1,0)","v":0},{"$f":"IF(StatData[[#This Row],[Vzdělání]]=Vzdělání,1,0)","v":0},{"$f":"IF(StatData[[#This Row],[Pohlaví]]=Pohlaví,1,0)","v":0},{"$f":"IF(StatData[[#This Row],[Věk]]=Věk,1,0)","v":0},428,"Veřejná správa, obrana, sociální zabezpečení",2,"Vysokoškolské ","Muž","35 až 54 let ",4573.24609375,62177.383920605898,39567.345094642696,41365.762515014801,43122.857027883001,44739.171970687297,46056.6578947128,47436.483181482799,48658.792848507597,49915.994755747102,50818.135222790297,51769.124880511001,52802.712698887597,53637.049646931599,54751.743849084203,55705.766914485001,56689.2879746904,57660.057302282097,58836.415167692001,59861.209543096396,60776.063885320902,62650.772572663504,64410.210488894198,66385.437436030901,68066.502930080096,70495.797582933999,73087.526774024504,76728.180187836304,82032.212088946399,91530.470304606904]
[{"$f":"IF(AND(StatData[[#This Row],[Shoda: Seskupený CZ-NACE]],StatData[[#This Row],[Shoda: Region]],StatData[[#This Row],[Shoda: Vzdělání]],StatData[[#This Row],[Shoda: Pohlaví]],StatData[[#This Row],[Shoda: Věk]]),1,0)","v":0},{"$f":"IF(StatData[[#This Row],[Seskupený CZ-NACE]]=VLOOKUP(Obor,TabObor[],2,0),1,0)","v":0},{"$f":"IF(StatData[[#This Row],[Region]]=VLOOKUP(Region,TabRegion[],2,0),1,0)","v":0},{"$f":"IF(StatData[[#This Row],[Vzdělání]]=Vzdělání,1,0)","v":0},{"$f":"IF(StatData[[#This Row],[Pohlaví]]=Pohlaví,1,0)","v":0},{"$f":"IF(StatData[[#This Row],[Věk]]=Věk,1,0)","v":0},429,"Veřejná správa, obrana, sociální zabezpečení",2,"Vysokoškolské ","Muž","55 a více let",1856.55578613281,61359.725626460699,38386.990817376798,40281.571076955501,41661.445089175897,42761.790300943401,43373.369756817701,44208.2589858766,44867.579529491297,45475.443573275203,46220.522504021501,46871.524478979001,47813.196589202598,48661.921233767702,49634.1643708224,50708.815557752998,51701.425653878498,52807.630585694897,53956.389163755797,55037.841166270402,56374.404219367803,59565.541226593501,62534.693568987903,65122.677713806203,68727.648757995397,72122.196918154397,75486.964908423601,80805.993238428302,87049.859959199501,97723.507991709906]
[{"$f":"IF(AND(StatData[[#This Row],[Shoda: Seskupený CZ-NACE]],StatData[[#This Row],[Shoda: Region]],StatData[[#This Row],[Shoda: Vzdělání]],StatData[[#This Row],[Shoda: Pohlaví]],StatData[[#This Row],[Shoda: Věk]]),1,0)","v":0},{"$f":"IF(StatData[[#This Row],[Seskupený CZ-NACE]]=VLOOKUP(Obor,TabObor[],2,0),1,0)","v":0},{"$f":"IF(StatData[[#This Row],[Region]]=VLOOKUP(Region,TabRegion[],2,0),1,0)","v":0},{"$f":"IF(StatData[[#This Row],[Vzdělání]]=Vzdělání,1,0)","v":0},{"$f":"IF(StatData[[#This Row],[Pohlaví]]=Pohlaví,1,0)","v":1},{"$f":"IF(StatData[[#This Row],[Věk]]=Věk,1,0)","v":1},430,"Veřejná správa, obrana, sociální zabezpečení",2,"Vysokoškolské ","Žena","do 34 let    ",1278.88391113281,41707.607487499699,29318.9251,30430.110400000001,31141.6470631304,31749.3917,32406.510300000002,33017.752491429201,33822,34307.162499999999,34754.363054294903,35265.333299999998,35870.658859396601,36435.391236634197,37082.1688123325,37658.113149564,38150.749985360497,38652.891833723399,39136.273445147403,39690.013081794503,40088.394398724202,41427.311747370099,42631.047377650902,43966.488604924503,44955.037234555799,46155.449579783701,47765.448614339599,50244.725021057398,52784.024623039099,58559.073680230496]
[{"$f":"IF(AND(StatData[[#This Row],[Shoda: Seskupený CZ-NACE]],StatData[[#This Row],[Shoda: Region]],StatData[[#This Row],[Shoda: Vzdělání]],StatData[[#This Row],[Shoda: Pohlaví]],StatData[[#This Row],[Shoda: Věk]]),1,0)","v":0},{"$f":"IF(StatData[[#This Row],[Seskupený CZ-NACE]]=VLOOKUP(Obor,TabObor[],2,0),1,0)","v":0},{"$f":"IF(StatData[[#This Row],[Region]]=VLOOKUP(Region,TabRegion[],2,0),1,0)","v":0},{"$f":"IF(StatData[[#This Row],[Vzdělání]]=Vzdělání,1,0)","v":0},{"$f":"IF(StatData[[#This Row],[Pohlaví]]=Pohlaví,1,0)","v":1},{"$f":"IF(StatData[[#This Row],[Věk]]=Věk,1,0)","v":0},431,"Veřejná správa, obrana, sociální zabezpečení",2,"Vysokoškolské ","Žena","35 až 54 let ",5813.8994140625,51256.159787157303,34829.563377758001,36046.363017131996,36990.834172728901,37716.807313540397,38510.0982767069,39272.380013860296,39963.015092002599,40687.6725807845,41326.929751738397,42034.602265450703,42708.925101155801,43327.813715789402,44036.441596622397,44769.745849643899,45427.190326016302,46081.2490353131,46751.982680065899,47412.812954627399,48139.678794961197,49557.304799240403,51149.253713180202,53240.914978189299,55457.113989711303,57905.554027333303,60955.255856641401,64374.484837622796,68472.012456500306,76264.160500448896]
[{"$f":"IF(AND(StatData[[#This Row],[Shoda: Seskupený CZ-NACE]],StatData[[#This Row],[Shoda: Region]],StatData[[#This Row],[Shoda: Vzdělání]],StatData[[#This Row],[Shoda: Pohlaví]],StatData[[#This Row],[Shoda: Věk]]),1,0)","v":0},{"$f":"IF(StatData[[#This Row],[Seskupený CZ-NACE]]=VLOOKUP(Obor,TabObor[],2,0),1,0)","v":0},{"$f":"IF(StatData[[#This Row],[Region]]=VLOOKUP(Region,TabRegion[],2,0),1,0)","v":0},{"$f":"IF(StatData[[#This Row],[Vzdělání]]=Vzdělání,1,0)","v":0},{"$f":"IF(StatData[[#This Row],[Pohlaví]]=Pohlaví,1,0)","v":1},{"$f":"IF(StatData[[#This Row],[Věk]]=Věk,1,0)","v":0},432,"Veřejná správa, obrana, sociální zabezpečení",2,"Vysokoškolské ","Žena","55 a více let",1824.32531738281,57679.166896526302,38708.6764669818,40278.446134130398,41319.544430055801,42064.055688852801,42792.682676064098,43427.1235689202,44244.901771502802,44948.088515036099,45556.108865935901,46152.429437362603,46876.838162820997,47607.224011362603,48344.391788070403,49153.099961694497,49828.627127500702,50503.060938362098,51216.705949005802,51843.639783025799,52718.596248997797,54388.825189500101,56353.185466397998,58717.208462053997,61480.186677793397,65124.833728436002,68983.497883097603,73313.684071564203,79685.944732609598,90472.991561741204]
[{"$f":"IF(AND(StatData[[#This Row],[Shoda: Seskupený CZ-NACE]],StatData[[#This Row],[Shoda: Region]],StatData[[#This Row],[Shoda: Vzdělání]],StatData[[#This Row],[Shoda: Pohlaví]],StatData[[#This Row],[Shoda: Věk]]),1,0)","v":0},{"$f":"IF(StatData[[#This Row],[Seskupený CZ-NACE]]=VLOOKUP(Obor,TabObor[],2,0),1,0)","v":0},{"$f":"IF(StatData[[#This Row],[Region]]=VLOOKUP(Region,TabRegion[],2,0),1,0)","v":0},{"$f":"IF(StatData[[#This Row],[Vzdělání]]=Vzdělání,1,0)","v":0},{"$f":"IF(StatData[[#This Row],[Pohlaví]]=Pohlaví,1,0)","v":0},{"$f":"IF(StatData[[#This Row],[Věk]]=Věk,1,0)","v":1},433,"Veřejná správa, obrana, sociální zabezpečení",3,"Střední bez maturity","Muž","do 34 let    ",1395.32470703125,33863.526032607297,22944.490099999999,24354.609899999999,26193.9166,27504.508300000001,28574.389800000001,29629.833299999998,30310,30805.797299999998,31229.616699999999,31659.414510658698,32130,32425.9166,32751.3815,33061.666599999997,33330,33617.152199999997,33767.5982,33951.964999999997,34112.217499999999,34550.587871458301,35121.865599999997,35700.406307398203,36235.355518547702,36858.191303359199,37586.725600933103,38401.713601999101,39765.053723549703,42739.676752801497]
[{"$f":"IF(AND(StatData[[#This Row],[Shoda: Seskupený CZ-NACE]],StatData[[#This Row],[Shoda: Region]],StatData[[#This Row],[Shoda: Vzdělání]],StatData[[#This Row],[Shoda: Pohlaví]],StatData[[#This Row],[Shoda: Věk]]),1,0)","v":0},{"$f":"IF(StatData[[#This Row],[Seskupený CZ-NACE]]=VLOOKUP(Obor,TabObor[],2,0),1,0)","v":0},{"$f":"IF(StatData[[#This Row],[Region]]=VLOOKUP(Region,TabRegion[],2,0),1,0)","v":0},{"$f":"IF(StatData[[#This Row],[Vzdělání]]=Vzdělání,1,0)","v":0},{"$f":"IF(StatData[[#This Row],[Pohlaví]]=Pohlaví,1,0)","v":0},{"$f":"IF(StatData[[#This Row],[Věk]]=Věk,1,0)","v":0},434,"Veřejná správa, obrana, sociální zabezpečení",3,"Střední bez maturity","Muž","35 až 54 let ",4476.3359375,35881.412541512698,23568.145799999998,25358.568200000002,26724.833299999998,27762,28780.663700000001,29634.384900000001,30310,30825.783204847099,31361.5172361925,31890.652978547299,32461.9166,32926.743663397901,33382.014133370103,33811.044043198803,34244.818700000003,34726.944704114198,35132.044000000002,35570,35978.7126189845,36716.374594721798,37328.398402989202,38000.039298066898,38853.491921772402,39967.659862860302,41546.739609363503,42861.443476130902,44677.891090296202,47403.077247344503]
[{"$f":"IF(AND(StatData[[#This Row],[Shoda: Seskupený CZ-NACE]],StatData[[#This Row],[Shoda: Region]],StatData[[#This Row],[Shoda: Vzdělání]],StatData[[#This Row],[Shoda: Pohlaví]],StatData[[#This Row],[Shoda: Věk]]),1,0)","v":0},{"$f":"IF(StatData[[#This Row],[Seskupený CZ-NACE]]=VLOOKUP(Obor,TabObor[],2,0),1,0)","v":0},{"$f":"IF(StatData[[#This Row],[Region]]=VLOOKUP(Region,TabRegion[],2,0),1,0)","v":0},{"$f":"IF(StatData[[#This Row],[Vzdělání]]=Vzdělání,1,0)","v":0},{"$f":"IF(StatData[[#This Row],[Pohlaví]]=Pohlaví,1,0)","v":0},{"$f":"IF(StatData[[#This Row],[Věk]]=Věk,1,0)","v":0},435,"Veřejná správa, obrana, sociální zabezpečení",3,"Střední bez maturity","Muž","55 a více let",3085.11157226563,33531.118535205802,22296.6666,23566.251272389101,24909.702300000001,25804.647799999999,26679.674200000001,27455.770400000001,28154.603500000001,28743.333299999998,29266.132900000001,29855.179499999998,30337.957352254201,30772.438021584599,31241.833299999998,31617.554601493699,31941.2182337257,32297.240630066299,32646.994442379,33020.725505091898,33363.101542552598,33994.898699999998,34771.749670737503,35611.083299999998,36516.493158908597,37340.730488786699,38523.017860699103,39867.893226561602,42040.698167892901,44561.755290524801]
[{"$f":"IF(AND(StatData[[#This Row],[Shoda: Seskupený CZ-NACE]],StatData[[#This Row],[Shoda: Region]],StatData[[#This Row],[Shoda: Vzdělání]],StatData[[#This Row],[Shoda: Pohlaví]],StatData[[#This Row],[Shoda: Věk]]),1,0)","v":0},{"$f":"IF(StatData[[#This Row],[Seskupený CZ-NACE]]=VLOOKUP(Obor,TabObor[],2,0),1,0)","v":0},{"$f":"IF(StatData[[#This Row],[Region]]=VLOOKUP(Region,TabRegion[],2,0),1,0)","v":0},{"$f":"IF(StatData[[#This Row],[Vzdělání]]=Vzdělání,1,0)","v":0},{"$f":"IF(StatData[[#This Row],[Pohlaví]]=Pohlaví,1,0)","v":1},{"$f":"IF(StatData[[#This Row],[Věk]]=Věk,1,0)","v":1},436,"Veřejná správa, obrana, sociální zabezpečení",3,"Střední bez maturity","Žena","do 34 let    ",192.65580749511699,27627.386465482301,19020.6185,19952.25,20140.801100000001,20377.137299999999,21015.743699999999,21455.927793317998,21858.583299999998,22517.103299999999,22918.3194,23148.5,23545.4166,24154.362099999998,24272.340400000001,24897.345700000002,25201.996299999999,25889.2016,26375.294000000002,26738.921300000002,27075.021000000001,28010.414499999999,28864.333299999998,29921.855599999999,31000.977299999999,32175.833299999998,33212.798499999997,34440.265895288197,35209.055428662599,37261.681848621003]
[{"$f":"IF(AND(StatData[[#This Row],[Shoda: Seskupený CZ-NACE]],StatData[[#This Row],[Shoda: Region]],StatData[[#This Row],[Shoda: Vzdělání]],StatData[[#This Row],[Shoda: Pohlaví]],StatData[[#This Row],[Shoda: Věk]]),1,0)","v":0},{"$f":"IF(StatData[[#This Row],[Seskupený CZ-NACE]]=VLOOKUP(Obor,TabObor[],2,0),1,0)","v":0},{"$f":"IF(StatData[[#This Row],[Region]]=VLOOKUP(Region,TabRegion[],2,0),1,0)","v":0},{"$f":"IF(StatData[[#This Row],[Vzdělání]]=Vzdělání,1,0)","v":0},{"$f":"IF(StatData[[#This Row],[Pohlaví]]=Pohlaví,1,0)","v":1},{"$f":"IF(StatData[[#This Row],[Věk]]=Věk,1,0)","v":0},437,"Veřejná správa, obrana, sociální zabezpečení",3,"Střední bez maturity","Žena","35 až 54 let ",2050.44848632813,28269.592341687301,20012.25,20523.236099999998,20947.083299999998,21251.75,21715.073400000001,22094.2081,22506.9166,22940.109899999999,23373.101200000001,23830.601600000002,24189.063999999998,24524.1666,24945.831999999999,25286.048200000001,25597.809499999999,25976.5,26398.801200000002,26716.6021,27145.083299999998,27968.1666,28734.6666,29633.75,30572.583299999998,31627.210157055601,32977.4138607848,34879.142500000002,36984.6357834882,40735.754046435002]
[{"$f":"IF(AND(StatData[[#This Row],[Shoda: Seskupený CZ-NACE]],StatData[[#This Row],[Shoda: Region]],StatData[[#This Row],[Shoda: Vzdělání]],StatData[[#This Row],[Shoda: Pohlaví]],StatData[[#This Row],[Shoda: Věk]]),1,0)","v":0},{"$f":"IF(StatData[[#This Row],[Seskupený CZ-NACE]]=VLOOKUP(Obor,TabObor[],2,0),1,0)","v":0},{"$f":"IF(StatData[[#This Row],[Region]]=VLOOKUP(Region,TabRegion[],2,0),1,0)","v":0},{"$f":"IF(StatData[[#This Row],[Vzdělání]]=Vzdělání,1,0)","v":0},{"$f":"IF(StatData[[#This Row],[Pohlaví]]=Pohlaví,1,0)","v":1},{"$f":"IF(StatData[[#This Row],[Věk]]=Věk,1,0)","v":0},438,"Veřejná správa, obrana, sociální zabezpečení",3,"Střední bez maturity","Žena","55 a více let",1613.28552246094,28575.114614837301,19611.992900000001,20169.0035592311,20532.283299999999,20875.842499999999,21162.409800000001,21532.1666,21849.130399999998,22121.583299999998,22566.100399999999,23087.4166,23567.1142,24092.9313,24562.487000000001,24924.242399999999,25331.962500000001,25760.463299999999,26170.153999999999,26604.333299999998,27181.5,28453.2981,29002.4166,30069.1666,31294.458500000001,32756.773851761001,34399.091534679399,36220.625449656603,38408.787351384301,42527.969554819203]
[{"$f":"IF(AND(StatData[[#This Row],[Shoda: Seskupený CZ-NACE]],StatData[[#This Row],[Shoda: Region]],StatData[[#This Row],[Shoda: Vzdělání]],StatData[[#This Row],[Shoda: Pohlaví]],StatData[[#This Row],[Shoda: Věk]]),1,0)","v":0},{"$f":"IF(StatData[[#This Row],[Seskupený CZ-NACE]]=VLOOKUP(Obor,TabObor[],2,0),1,0)","v":0},{"$f":"IF(StatData[[#This Row],[Region]]=VLOOKUP(Region,TabRegion[],2,0),1,0)","v":0},{"$f":"IF(StatData[[#This Row],[Vzdělání]]=Vzdělání,1,0)","v":1},{"$f":"IF(StatData[[#This Row],[Pohlaví]]=Pohlaví,1,0)","v":0},{"$f":"IF(StatData[[#This Row],[Věk]]=Věk,1,0)","v":1},439,"Veřejná správa, obrana, sociální zabezpečení",3,"Střední s maturitou a vyšší odborné","Muž","do 34 let    ",12470.6171875,40977.037001563898,25902.991399999999,30310,31466.6666,32318.1055068061,33069.084600000002,33752.799400000004,34478.099300000002,35294.418078442002,35909.104410369298,36475.712453382897,37091.252876257597,37696.666388586702,38304.175616146298,38937.964345468798,39596.320253441998,40185.495269729901,40769.561403284897,41316.477116347698,41822.8375123605,42739.627683586397,43561.092809611197,44374.358608766197,45217.288774267901,46074.841073526703,47082.53419744,48330.912802121296,50071.577842654398,52811.073099545698]
[{"$f":"IF(AND(StatData[[#This Row],[Shoda: Seskupený CZ-NACE]],StatData[[#This Row],[Shoda: Region]],StatData[[#This Row],[Shoda: Vzdělání]],StatData[[#This Row],[Shoda: Pohlaví]],StatData[[#This Row],[Shoda: Věk]]),1,0)","v":0},{"$f":"IF(StatData[[#This Row],[Seskupený CZ-NACE]]=VLOOKUP(Obor,TabObor[],2,0),1,0)","v":0},{"$f":"IF(StatData[[#This Row],[Region]]=VLOOKUP(Region,TabRegion[],2,0),1,0)","v":0},{"$f":"IF(StatData[[#This Row],[Vzdělání]]=Vzdělání,1,0)","v":1},{"$f":"IF(StatData[[#This Row],[Pohlaví]]=Pohlaví,1,0)","v":0},{"$f":"IF(StatData[[#This Row],[Věk]]=Věk,1,0)","v":0},440,"Veřejná správa, obrana, sociální zabezpečení",3,"Střední s maturitou a vyšší odborné","Muž","35 až 54 let ",20012.134765625,51135.8151251366,34534.243699999999,36214.662051279702,37619.161494463202,39040.954500230102,40494.6700824953,41763.378449435098,42955.407802706497,44028.373509946599,44939.931031256601,45729.896238161797,46451.592421722497,47126.500382823397,47803.3403682563,48466.323996544997,49086.226188827401,49622.091928889997,50212.589491686398,50758.9812991941,51302.449934493401,52374.342993934501,53551.081369930602,54697.041841152,55944.528412721302,57379.412164963498,58931.729621705097,60806.9667218752,63045.343603784997,66896.670420033101]
[{"$f":"IF(AND(StatData[[#This Row],[Shoda: Seskupený CZ-NACE]],StatData[[#This Row],[Shoda: Region]],StatData[[#This Row],[Shoda: Vzdělání]],StatData[[#This Row],[Shoda: Pohlaví]],StatData[[#This Row],[Shoda: Věk]]),1,0)","v":0},{"$f":"IF(StatData[[#This Row],[Seskupený CZ-NACE]]=VLOOKUP(Obor,TabObor[],2,0),1,0)","v":0},{"$f":"IF(StatData[[#This Row],[Region]]=VLOOKUP(Region,TabRegion[],2,0),1,0)","v":0},{"$f":"IF(StatData[[#This Row],[Vzdělání]]=Vzdělání,1,0)","v":1},{"$f":"IF(StatData[[#This Row],[Pohlaví]]=Pohlaví,1,0)","v":0},{"$f":"IF(StatData[[#This Row],[Věk]]=Věk,1,0)","v":0},441,"Veřejná správa, obrana, sociální zabezpečení",3,"Střední s maturitou a vyšší odborné","Muž","55 a více let",5583.95166015625,48983.222178828997,29921.111099999998,31487.107199999999,33028.255299999997,34244.397560880097,35513.588499999998,36457.8287335348,37319.538915888399,38141.939221907,39017.674939926103,39776.451164046201,40584.935906196799,41374.585261825297,42102.968322898603,42876.625858497398,43827.907715731497,44726.774845665997,45516.853349915902,46242.946964429699,47054.134781642097,49193.296473088601,51494.899255331802,53908.289019420903,56255.074929927803,58882.998973312198,61542.644590267599,63916.808654286098,66586.658604304394,70676.240761837107]
[{"$f":"IF(AND(StatData[[#This Row],[Shoda: Seskupený CZ-NACE]],StatData[[#This Row],[Shoda: Region]],StatData[[#This Row],[Shoda: Vzdělání]],StatData[[#This Row],[Shoda: Pohlaví]],StatData[[#This Row],[Shoda: Věk]]),1,0)","v":0},{"$f":"IF(StatData[[#This Row],[Seskupený CZ-NACE]]=VLOOKUP(Obor,TabObor[],2,0),1,0)","v":0},{"$f":"IF(StatData[[#This Row],[Region]]=VLOOKUP(Region,TabRegion[],2,0),1,0)","v":0},{"$f":"IF(StatData[[#This Row],[Vzdělání]]=Vzdělání,1,0)","v":1},{"$f":"IF(StatData[[#This Row],[Pohlaví]]=Pohlaví,1,0)","v":1},{"$f":"IF(StatData[[#This Row],[Věk]]=Věk,1,0)","v":1},442,"Veřejná správa, obrana, sociální zabezpečení",3,"Střední s maturitou a vyšší odborné","Žena","do 34 let    ",3848.59252929688,35491.7814749709,24318.334500000001,25720.6325,26789.676899999999,27437.017500000002,28143.347399999999,28831.204699999998,29389,29911.0658,30375.0935759473,30777.1774,31203.823700000001,31616.000939619898,31961.2231610909,32360.877113549799,32797.877800000002,33256.013515496998,33601.254500000003,33995,34414.070699999997,35328.136700000003,36285.619473577302,37335.904266440702,38600.430615365804,39764.1283227362,41497.823751556098,43289.142457587797,45591.4607552331,48921.258242211203]
[{"$f":"IF(AND(StatData[[#This Row],[Shoda: Seskupený CZ-NACE]],StatData[[#This Row],[Shoda: Region]],StatData[[#This Row],[Shoda: Vzdělání]],StatData[[#This Row],[Shoda: Pohlaví]],StatData[[#This Row],[Shoda: Věk]]),1,0)","v":0},{"$f":"IF(StatData[[#This Row],[Seskupený CZ-NACE]]=VLOOKUP(Obor,TabObor[],2,0),1,0)","v":0},{"$f":"IF(StatData[[#This Row],[Region]]=VLOOKUP(Region,TabRegion[],2,0),1,0)","v":0},{"$f":"IF(StatData[[#This Row],[Vzdělání]]=Vzdělání,1,0)","v":1},{"$f":"IF(StatData[[#This Row],[Pohlaví]]=Pohlaví,1,0)","v":1},{"$f":"IF(StatData[[#This Row],[Věk]]=Věk,1,0)","v":0},443,"Veřejná správa, obrana, sociální zabezpečení",3,"Střední s maturitou a vyšší odborné","Žena","35 až 54 let ",24071.39453125,41022.355052279701,30239.3004,31413.252400000001,32307,33015.284131370201,33657.671575103297,34227.202522604399,34751.457446473301,35219.983186750404,35647.003499999999,36065.3920324383,36488.8075144377,36901.668987884899,37309.062043040802,37710.043134674102,38095.305635519697,38506.532289643401,38909.919884954499,39313.830873306499,39727.453610623801,40588.623205613098,41542.752982448997,42589.289485517998,43756.166430238598,45119.147842438899,46655.601308555197,48675.285052116204,51516.864923797402,55874.671920433801]
[{"$f":"IF(AND(StatData[[#This Row],[Shoda: Seskupený CZ-NACE]],StatData[[#This Row],[Shoda: Region]],StatData[[#This Row],[Shoda: Vzdělání]],StatData[[#This Row],[Shoda: Pohlaví]],StatData[[#This Row],[Shoda: Věk]]),1,0)","v":0},{"$f":"IF(StatData[[#This Row],[Seskupený CZ-NACE]]=VLOOKUP(Obor,TabObor[],2,0),1,0)","v":0},{"$f":"IF(StatData[[#This Row],[Region]]=VLOOKUP(Region,TabRegion[],2,0),1,0)","v":0},{"$f":"IF(StatData[[#This Row],[Vzdělání]]=Vzdělání,1,0)","v":1},{"$f":"IF(StatData[[#This Row],[Pohlaví]]=Pohlaví,1,0)","v":1},{"$f":"IF(StatData[[#This Row],[Věk]]=Věk,1,0)","v":0},444,"Veřejná správa, obrana, sociální zabezpečení",3,"Střední s maturitou a vyšší odborné","Žena","55 a více let",12984.12890625,43525.639143990898,32118.382285381598,33521.804157436898,34594.831972410502,35415.916599999997,36126.510667395603,36727.3624603321,37256.577250492701,37757.287343565898,38228.766414307996,38638.716205355202,39027.434147446402,39418.049002954504,39792.669738241697,40159.1922384719,40572.646745524697,40957.532337119199,41412.552625630997,41804.8899353698,42206.732071198399,43156.148999307297,44151.241601271497,45229.204852510098,46383.103901304501,47685.102677005001,49177.244591748698,51159.089807041397,53875.213985690498,58457.636223184003]
[{"$f":"IF(AND(StatData[[#This Row],[Shoda: Seskupený CZ-NACE]],StatData[[#This Row],[Shoda: Region]],StatData[[#This Row],[Shoda: Vzdělání]],StatData[[#This Row],[Shoda: Pohlaví]],StatData[[#This Row],[Shoda: Věk]]),1,0)","v":0},{"$f":"IF(StatData[[#This Row],[Seskupený CZ-NACE]]=VLOOKUP(Obor,TabObor[],2,0),1,0)","v":0},{"$f":"IF(StatData[[#This Row],[Region]]=VLOOKUP(Region,TabRegion[],2,0),1,0)","v":0},{"$f":"IF(StatData[[#This Row],[Vzdělání]]=Vzdělání,1,0)","v":0},{"$f":"IF(StatData[[#This Row],[Pohlaví]]=Pohlaví,1,0)","v":0},{"$f":"IF(StatData[[#This Row],[Věk]]=Věk,1,0)","v":1},445,"Veřejná správa, obrana, sociální zabezpečení",3,"Vysokoškolské ","Muž","do 34 let    ",5170.244140625,46003.227236352999,31891.3555073424,33009.687588454697,34054.492960563701,35409.954309068402,36447.063189694702,37514.695002627799,38276.306278705997,39159.911942890198,39951.968533152998,40819.901314710602,41561.885717755897,42165.118566300996,42780.295429988,43283.595902654699,43846.137018311601,44351.505420981397,44762.504996115298,45250.904876312903,45647.048453262498,46656.338599666698,47654.290567273601,48614.361939148002,49626.061763137899,50841.930210560502,52434.936261615498,54640.033345239201,57409.931930672697,62165.547745690397]
[{"$f":"IF(AND(StatData[[#This Row],[Shoda: Seskupený CZ-NACE]],StatData[[#This Row],[Shoda: Region]],StatData[[#This Row],[Shoda: Vzdělání]],StatData[[#This Row],[Shoda: Pohlaví]],StatData[[#This Row],[Shoda: Věk]]),1,0)","v":0},{"$f":"IF(StatData[[#This Row],[Seskupený CZ-NACE]]=VLOOKUP(Obor,TabObor[],2,0),1,0)","v":0},{"$f":"IF(StatData[[#This Row],[Region]]=VLOOKUP(Region,TabRegion[],2,0),1,0)","v":0},{"$f":"IF(StatData[[#This Row],[Vzdělání]]=Vzdělání,1,0)","v":0},{"$f":"IF(StatData[[#This Row],[Pohlaví]]=Pohlaví,1,0)","v":0},{"$f":"IF(StatData[[#This Row],[Věk]]=Věk,1,0)","v":0},446,"Veřejná správa, obrana, sociální zabezpečení",3,"Vysokoškolské ","Muž","35 až 54 let ",16977.537109375,61307.5783985374,38783.070772538304,40625.320145826598,42204.1447603216,43687.6359072786,45002.150374868201,46190.710197381202,47440.179920194802,48513.339881412699,49632.182100555299,50677.267952829898,51691.934828404497,52732.822336101199,53693.117894362098,54574.236686889199,55462.637755675802,56377.218314420403,57327.241331458499,58248.918351915701,59187.846963452103,61076.588990044896,63159.233051397103,65050.706883665698,67265.487148508604,69637.044033373997,72263.316027422494,75615.982935598295,80675.313727254499,90314.343068871603]
[{"$f":"IF(AND(StatData[[#This Row],[Shoda: Seskupený CZ-NACE]],StatData[[#This Row],[Shoda: Region]],StatData[[#This Row],[Shoda: Vzdělání]],StatData[[#This Row],[Shoda: Pohlaví]],StatData[[#This Row],[Shoda: Věk]]),1,0)","v":0},{"$f":"IF(StatData[[#This Row],[Seskupený CZ-NACE]]=VLOOKUP(Obor,TabObor[],2,0),1,0)","v":0},{"$f":"IF(StatData[[#This Row],[Region]]=VLOOKUP(Region,TabRegion[],2,0),1,0)","v":0},{"$f":"IF(StatData[[#This Row],[Vzdělání]]=Vzdělání,1,0)","v":0},{"$f":"IF(StatData[[#This Row],[Pohlaví]]=Pohlaví,1,0)","v":0},{"$f":"IF(StatData[[#This Row],[Věk]]=Věk,1,0)","v":0},447,"Veřejná správa, obrana, sociální zabezpečení",3,"Vysokoškolské ","Muž","55 a více let",6295.9150390625,61270.095611011297,38225.236531123803,39823.374072224098,41026.1957453656,41951.053420432101,42873.139052652201,43589.424315948403,44343.824691551199,45175.919404440603,45963.4199585034,46766.733817046901,47515.026739151202,48395.310356668298,49435.826331302203,50408.018708755801,51455.228790012698,52328.4198754807,53412.013000661798,54602.021180322903,55995.415741708799,58832.577055190202,61809.408926221797,65088.5963182454,68444.712725324702,71650.256344504494,75500.006989374699,80560.527596878397,87187.773668333306,99822.248005745496]
[{"$f":"IF(AND(StatData[[#This Row],[Shoda: Seskupený CZ-NACE]],StatData[[#This Row],[Shoda: Region]],StatData[[#This Row],[Shoda: Vzdělání]],StatData[[#This Row],[Shoda: Pohlaví]],StatData[[#This Row],[Shoda: Věk]]),1,0)","v":0},{"$f":"IF(StatData[[#This Row],[Seskupený CZ-NACE]]=VLOOKUP(Obor,TabObor[],2,0),1,0)","v":0},{"$f":"IF(StatData[[#This Row],[Region]]=VLOOKUP(Region,TabRegion[],2,0),1,0)","v":0},{"$f":"IF(StatData[[#This Row],[Vzdělání]]=Vzdělání,1,0)","v":0},{"$f":"IF(StatData[[#This Row],[Pohlaví]]=Pohlaví,1,0)","v":1},{"$f":"IF(StatData[[#This Row],[Věk]]=Věk,1,0)","v":1},448,"Veřejná správa, obrana, sociální zabezpečení",3,"Vysokoškolské ","Žena","do 34 let    ",4809.08740234375,40208.607836055598,28883.1967,29987.583299999998,30748.789799999999,31384.671411035299,31935.333299999998,32511.018955392599,33061.564550123803,33644.827772219898,34183.577728949902,34796.1299101896,35250.5476449454,35753.030240772197,36220.299739415001,36733.041500776097,37241.7236864972,37775.346089362101,38208.018701002104,38673.517612122298,39123.487216014997,40102.788564729897,41197.328624006499,42238.242669567197,43268.830382918102,44525.094991153601,45978.991701894804,47801.501905229401,50362.759499714703,54424.637395086997]
[{"$f":"IF(AND(StatData[[#This Row],[Shoda: Seskupený CZ-NACE]],StatData[[#This Row],[Shoda: Region]],StatData[[#This Row],[Shoda: Vzdělání]],StatData[[#This Row],[Shoda: Pohlaví]],StatData[[#This Row],[Shoda: Věk]]),1,0)","v":0},{"$f":"IF(StatData[[#This Row],[Seskupený CZ-NACE]]=VLOOKUP(Obor,TabObor[],2,0),1,0)","v":0},{"$f":"IF(StatData[[#This Row],[Region]]=VLOOKUP(Region,TabRegion[],2,0),1,0)","v":0},{"$f":"IF(StatData[[#This Row],[Vzdělání]]=Vzdělání,1,0)","v":0},{"$f":"IF(StatData[[#This Row],[Pohlaví]]=Pohlaví,1,0)","v":1},{"$f":"IF(StatData[[#This Row],[Věk]]=Věk,1,0)","v":0},449,"Veřejná správa, obrana, sociální zabezpečení",3,"Vysokoškolské ","Žena","35 až 54 let ",21063.30078125,49699.378635130197,33937.354695030299,35292.417500000003,36365.793201933899,37235.012869599603,38057.4150101505,38782.877003208101,39514.870961852503,40198.340743523098,40822.7536549051,41470.1814799274,42084.284693580303,42614.635727451197,43176.964426479797,43745.602760536502,44333.088449836898,44924.744912249698,45572.630021613302,46156.535450419498,46772.364448369801,47977.026420442999,49405.657845871501,50954.588524076098,53010.407510429097,55273.971475234299,58093.978229404303,61847.678554684397,66384.527722074199,74309.190110480995]
[{"$f":"IF(AND(StatData[[#This Row],[Shoda: Seskupený CZ-NACE]],StatData[[#This Row],[Shoda: Region]],StatData[[#This Row],[Shoda: Vzdělání]],StatData[[#This Row],[Shoda: Pohlaví]],StatData[[#This Row],[Shoda: Věk]]),1,0)","v":0},{"$f":"IF(StatData[[#This Row],[Seskupený CZ-NACE]]=VLOOKUP(Obor,TabObor[],2,0),1,0)","v":0},{"$f":"IF(StatData[[#This Row],[Region]]=VLOOKUP(Region,TabRegion[],2,0),1,0)","v":0},{"$f":"IF(StatData[[#This Row],[Vzdělání]]=Vzdělání,1,0)","v":0},{"$f":"IF(StatData[[#This Row],[Pohlaví]]=Pohlaví,1,0)","v":1},{"$f":"IF(StatData[[#This Row],[Věk]]=Věk,1,0)","v":0},450,"Veřejná správa, obrana, sociální zabezpečení",3,"Vysokoškolské ","Žena","55 a více let",6979.99267578125,56869.305874637103,38295.821657394401,39967.502034857898,41131.350045822801,42035.997069400502,42847.8030687387,43494.966127478598,44149.072590894997,44860.593563943803,45551.633415661599,46245.614654660101,46975.246150160798,47635.003013830297,48221.470964780703,48825.765831679302,49487.793360677599,50151.1274311733,50812.743439096303,51507.4349620102,52200.790034819998,53697.771441274199,55519.876067159603,57751.362630086303,60598.635939780797,64036.086127531802,67834.729219002096,71939.548601117101,78566.918843994994,88977.501777349593]
[{"$f":"IF(AND(StatData[[#This Row],[Shoda: Seskupený CZ-NACE]],StatData[[#This Row],[Shoda: Region]],StatData[[#This Row],[Shoda: Vzdělání]],StatData[[#This Row],[Shoda: Pohlaví]],StatData[[#This Row],[Shoda: Věk]]),1,0)","v":0},{"$f":"IF(StatData[[#This Row],[Seskupený CZ-NACE]]=VLOOKUP(Obor,TabObor[],2,0),1,0)","v":0},{"$f":"IF(StatData[[#This Row],[Region]]=VLOOKUP(Region,TabRegion[],2,0),1,0)","v":1},{"$f":"IF(StatData[[#This Row],[Vzdělání]]=Vzdělání,1,0)","v":0},{"$f":"IF(StatData[[#This Row],[Pohlaví]]=Pohlaví,1,0)","v":0},{"$f":"IF(StatData[[#This Row],[Věk]]=Věk,1,0)","v":1},451,"Zdravotnictví",1,"Střední bez maturity","Muž","do 34 let    ",186.25614929199199,43761.893203353997,26051.423599999998,27218.491988421101,29559.281299999999,30538.793074542202,32582.244299999998,33048.772238301302,33884.833299999998,34712,35602.992899999997,36595.780223922797,37453.429931978797,38298.844877444099,38883.114125220403,39314.509767104202,40010.426225694697,41067.871857854603,41802.765175815402,43061.606382401696,44318.642301535598,45214.717469974501,46675.109463116903,48246.223860004502,49629.564358469397,51558.359945222903,53424.077586437903,54743.182135077703,56959.3384993008,63577.550090701901]
[{"$f":"IF(AND(StatData[[#This Row],[Shoda: Seskupený CZ-NACE]],StatData[[#This Row],[Shoda: Region]],StatData[[#This Row],[Shoda: Vzdělání]],StatData[[#This Row],[Shoda: Pohlaví]],StatData[[#This Row],[Shoda: Věk]]),1,0)","v":0},{"$f":"IF(StatData[[#This Row],[Seskupený CZ-NACE]]=VLOOKUP(Obor,TabObor[],2,0),1,0)","v":0},{"$f":"IF(StatData[[#This Row],[Region]]=VLOOKUP(Region,TabRegion[],2,0),1,0)","v":1},{"$f":"IF(StatData[[#This Row],[Vzdělání]]=Vzdělání,1,0)","v":0},{"$f":"IF(StatData[[#This Row],[Pohlaví]]=Pohlaví,1,0)","v":0},{"$f":"IF(StatData[[#This Row],[Věk]]=Věk,1,0)","v":0},452,"Zdravotnictví",1,"Střední bez maturity","Muž","35 až 54 let ",891.25347900390602,47169.416232661897,30641.055680274101,32383.492264136501,33648.845300000001,34775.25,35671.522700000001,36455.5724279036,37016.6792659036,37543.468759017502,38184.282609071,38838.722002959898,39538.947548401302,40471.4596433119,41377.946386764503,42126.315607392498,42730.389504005703,43212.197564699003,43864.946776271798,44779.243096096601,45431.771563478898,46972.307966153297,48674.8591534921,50154.629685494998,51654.395948900499,53326.320353993797,54852.986626829399,57255.355616590103,60550.758556775698,72706.349683142107]
[{"$f":"IF(AND(StatData[[#This Row],[Shoda: Seskupený CZ-NACE]],StatData[[#This Row],[Shoda: Region]],StatData[[#This Row],[Shoda: Vzdělání]],StatData[[#This Row],[Shoda: Pohlaví]],StatData[[#This Row],[Shoda: Věk]]),1,0)","v":0},{"$f":"IF(StatData[[#This Row],[Seskupený CZ-NACE]]=VLOOKUP(Obor,TabObor[],2,0),1,0)","v":0},{"$f":"IF(StatData[[#This Row],[Region]]=VLOOKUP(Region,TabRegion[],2,0),1,0)","v":1},{"$f":"IF(StatData[[#This Row],[Vzdělání]]=Vzdělání,1,0)","v":0},{"$f":"IF(StatData[[#This Row],[Pohlaví]]=Pohlaví,1,0)","v":0},{"$f":"IF(StatData[[#This Row],[Věk]]=Věk,1,0)","v":0},453,"Zdravotnictví",1,"Střední bez maturity","Muž","55 a více let",554.45782470703102,43422.820382994898,29799.149099999999,30727.018899999999,31409.741445249601,31962.336200000002,32776.296600000001,33630.649422105002,34257,34867.2428,35212.016606824604,35254.124199999998,35812.509557006902,36466.675210629102,37154.264276461901,37707.973529332899,38187.666774603698,38844.935706976299,39399.418664632401,39997.163701440797,40501.667027958698,41966.647464517402,43809.700278109303,45600.900779123003,47776.576650683899,49429.7878587339,51738.536607870898,53777.046903697701,57166.4486065647,63914.354873095697]
[{"$f":"IF(AND(StatData[[#This Row],[Shoda: Seskupený CZ-NACE]],StatData[[#This Row],[Shoda: Region]],StatData[[#This Row],[Shoda: Vzdělání]],StatData[[#This Row],[Shoda: Pohlaví]],StatData[[#This Row],[Shoda: Věk]]),1,0)","v":0},{"$f":"IF(StatData[[#This Row],[Seskupený CZ-NACE]]=VLOOKUP(Obor,TabObor[],2,0),1,0)","v":0},{"$f":"IF(StatData[[#This Row],[Region]]=VLOOKUP(Region,TabRegion[],2,0),1,0)","v":1},{"$f":"IF(StatData[[#This Row],[Vzdělání]]=Vzdělání,1,0)","v":0},{"$f":"IF(StatData[[#This Row],[Pohlaví]]=Pohlaví,1,0)","v":1},{"$f":"IF(StatData[[#This Row],[Věk]]=Věk,1,0)","v":1},454,"Zdravotnictví",1,"Střední bez maturity","Žena","do 34 let    ",175.60533142089801,38839.133761934499,25883.536700000001,27308.717281160902,28478.100126949401,29391.623100000001,30527.980899999999,31741.036700000001,32030.010399999999,32530.1721,32963.243460524704,33589.355600000003,34207.75,34647.362500000003,35463.370000000003,35787.666599999997,36325.079092917702,36970.727523522801,37265.708124598597,37778.024585249099,38382.401137414803,39442.2264026337,40606.588085332201,41787.521219365299,42914.262034200801,43881.121630274101,45790.885791677603,48017.428666110201,49457.864647530798,53696.281010019004]
[{"$f":"IF(AND(StatData[[#This Row],[Shoda: Seskupený CZ-NACE]],StatData[[#This Row],[Shoda: Region]],StatData[[#This Row],[Shoda: Vzdělání]],StatData[[#This Row],[Shoda: Pohlaví]],StatData[[#This Row],[Shoda: Věk]]),1,0)","v":0},{"$f":"IF(StatData[[#This Row],[Seskupený CZ-NACE]]=VLOOKUP(Obor,TabObor[],2,0),1,0)","v":0},{"$f":"IF(StatData[[#This Row],[Region]]=VLOOKUP(Region,TabRegion[],2,0),1,0)","v":1},{"$f":"IF(StatData[[#This Row],[Vzdělání]]=Vzdělání,1,0)","v":0},{"$f":"IF(StatData[[#This Row],[Pohlaví]]=Pohlaví,1,0)","v":1},{"$f":"IF(StatData[[#This Row],[Věk]]=Věk,1,0)","v":0},455,"Zdravotnictví",1,"Střední bez maturity","Žena","35 až 54 let ",982.54382324218795,39125.013849481897,26687.190433575401,28231.833299999998,29433.25,30464.306331803102,31024.4597535346,31405.392400000001,31969.1666,32526.939600000002,33093.823900000003,33492.5164,34099.75,34532.743799999997,35016.416599999997,35518.916599999997,36011.8273810225,36572.068245955801,37091.777508340601,37722.396928851798,38069.549070724897,38938.274212848002,39852.493846924102,41135.337807735297,42926.430096793301,44299.092221003899,46147.616194204602,48634.598681181902,51021.181808109701,55042.590054655702]
[{"$f":"IF(AND(StatData[[#This Row],[Shoda: Seskupený CZ-NACE]],StatData[[#This Row],[Shoda: Region]],StatData[[#This Row],[Shoda: Vzdělání]],StatData[[#This Row],[Shoda: Pohlaví]],StatData[[#This Row],[Shoda: Věk]]),1,0)","v":0},{"$f":"IF(StatData[[#This Row],[Seskupený CZ-NACE]]=VLOOKUP(Obor,TabObor[],2,0),1,0)","v":0},{"$f":"IF(StatData[[#This Row],[Region]]=VLOOKUP(Region,TabRegion[],2,0),1,0)","v":1},{"$f":"IF(StatData[[#This Row],[Vzdělání]]=Vzdělání,1,0)","v":0},{"$f":"IF(StatData[[#This Row],[Pohlaví]]=Pohlaví,1,0)","v":1},{"$f":"IF(StatData[[#This Row],[Věk]]=Věk,1,0)","v":0},456,"Zdravotnictví",1,"Střední bez maturity","Žena","55 a více let",676.34246826171898,38542.035727682101,26615.7474,27538.840499999998,28698.482412470701,29181.288558022199,30018.864000000001,30616.5,31270.272400000002,32073.425423334898,32621.25,33002.333299999998,33508.5783229019,33967.75,34470.210299999999,35271.064134041997,35659.565399999999,36166.947995327799,36547.374663168703,36931.696811027003,37372.892798113302,38135.3135684269,39236.457728551097,40239.3539297803,41586.479204140902,43155.001775758501,45083.741548323203,47335.291294781397,49998.559457256597,54467.138760250098]
[{"$f":"IF(AND(StatData[[#This Row],[Shoda: Seskupený CZ-NACE]],StatData[[#This Row],[Shoda: Region]],StatData[[#This Row],[Shoda: Vzdělání]],StatData[[#This Row],[Shoda: Pohlaví]],StatData[[#This Row],[Shoda: Věk]]),1,0)","v":0},{"$f":"IF(StatData[[#This Row],[Seskupený CZ-NACE]]=VLOOKUP(Obor,TabObor[],2,0),1,0)","v":0},{"$f":"IF(StatData[[#This Row],[Region]]=VLOOKUP(Region,TabRegion[],2,0),1,0)","v":1},{"$f":"IF(StatData[[#This Row],[Vzdělání]]=Vzdělání,1,0)","v":1},{"$f":"IF(StatData[[#This Row],[Pohlaví]]=Pohlaví,1,0)","v":0},{"$f":"IF(StatData[[#This Row],[Věk]]=Věk,1,0)","v":1},457,"Zdravotnictví",1,"Střední s maturitou a vyšší odborné","Muž","do 34 let    ",542.24957275390602,53228.6389261359,30931.069974228401,32991.314256140999,34308.5,35435.356899999999,36663.086623659299,38539.461512201298,39375.870458102399,40134.2770758072,40580.656626326301,41965.658769391397,43410.797706690799,44312.7253742182,45597.446346375502,46114.231869645599,47226.867103374003,48221.826873997998,48739.062638016199,49745.088512438801,50631.725075859802,52674.862350483803,55342.728173264499,57685.441790191297,60910.342852715898,63826.2613933838,66805.355133596197,70202.455425490596,73659.327606334598,82276.732982627698]
[{"$f":"IF(AND(StatData[[#This Row],[Shoda: Seskupený CZ-NACE]],StatData[[#This Row],[Shoda: Region]],StatData[[#This Row],[Shoda: Vzdělání]],StatData[[#This Row],[Shoda: Pohlaví]],StatData[[#This Row],[Shoda: Věk]]),1,0)","v":0},{"$f":"IF(StatData[[#This Row],[Seskupený CZ-NACE]]=VLOOKUP(Obor,TabObor[],2,0),1,0)","v":0},{"$f":"IF(StatData[[#This Row],[Region]]=VLOOKUP(Region,TabRegion[],2,0),1,0)","v":1},{"$f":"IF(StatData[[#This Row],[Vzdělání]]=Vzdělání,1,0)","v":1},{"$f":"IF(StatData[[#This Row],[Pohlaví]]=Pohlaví,1,0)","v":0},{"$f":"IF(StatData[[#This Row],[Věk]]=Věk,1,0)","v":0},458,"Zdravotnictví",1,"Střední s maturitou a vyšší odborné","Muž","35 až 54 let ",1199.26501464844,61954.769778209702,33185.587616805104,35325.084900000002,37290.012370846402,38276.606051921197,39849.581280203303,41367.577576901,42264.049415187401,43418.043093955501,44533.4563292741,45537.8153248577,46700.378306278501,47958.5347940707,49451.210578709302,50470.561468216401,51766.411806181502,52738.451177723902,53681.014504496998,55073.547057439697,56705.598011955801,59942.667835559099,63667.6957558086,67375.876399709101,71029.930753284905,75405.371342010898,80600.645672880302,84571.630678402595,89865.999444037996,102030.93410648299]
[{"$f":"IF(AND(StatData[[#This Row],[Shoda: Seskupený CZ-NACE]],StatData[[#This Row],[Shoda: Region]],StatData[[#This Row],[Shoda: Vzdělání]],StatData[[#This Row],[Shoda: Pohlaví]],StatData[[#This Row],[Shoda: Věk]]),1,0)","v":0},{"$f":"IF(StatData[[#This Row],[Seskupený CZ-NACE]]=VLOOKUP(Obor,TabObor[],2,0),1,0)","v":0},{"$f":"IF(StatData[[#This Row],[Region]]=VLOOKUP(Region,TabRegion[],2,0),1,0)","v":1},{"$f":"IF(StatData[[#This Row],[Vzdělání]]=Vzdělání,1,0)","v":1},{"$f":"IF(StatData[[#This Row],[Pohlaví]]=Pohlaví,1,0)","v":0},{"$f":"IF(StatData[[#This Row],[Věk]]=Věk,1,0)","v":0},459,"Zdravotnictví",1,"Střední s maturitou a vyšší odborné","Muž","55 a více let",507.69546508789102,54927.130465547198,30835.9166,32959.25,35004.732126208,36151.993913603597,37191.773124364801,38098.397944635399,38791.853364346702,39812.575921415497,40928.904863115997,41905.085347186003,42801.5987512469,43897.173182626699,44800.800482031402,46025.414988979101,46637.937058859003,48216.5695079609,49191.3259046026,50406.819036372799,51029.549364107697,52435.937395593501,54319.750830879799,56754.907428997001,58860.248557301296,63053.6970784765,68301.408829898093,74837.374228125904,81150.014525360602,95300.526842362306]
[{"$f":"IF(AND(StatData[[#This Row],[Shoda: Seskupený CZ-NACE]],StatData[[#This Row],[Shoda: Region]],StatData[[#This Row],[Shoda: Vzdělání]],StatData[[#This Row],[Shoda: Pohlaví]],StatData[[#This Row],[Shoda: Věk]]),1,0)","v":0},{"$f":"IF(StatData[[#This Row],[Seskupený CZ-NACE]]=VLOOKUP(Obor,TabObor[],2,0),1,0)","v":0},{"$f":"IF(StatData[[#This Row],[Region]]=VLOOKUP(Region,TabRegion[],2,0),1,0)","v":1},{"$f":"IF(StatData[[#This Row],[Vzdělání]]=Vzdělání,1,0)","v":1},{"$f":"IF(StatData[[#This Row],[Pohlaví]]=Pohlaví,1,0)","v":1},{"$f":"IF(StatData[[#This Row],[Věk]]=Věk,1,0)","v":1},460,"Zdravotnictví",1,"Střední s maturitou a vyšší odborné","Žena","do 34 let    ",2476.46875,45461.590235083801,24993.3202922811,25326.409100000001,27678.085599999999,30541.445208992802,31589.583299999998,32697.617947690102,32697.617947690102,32697.617947690102,34026.642003557303,35469.188520972399,35469.188520972297,35469.188520972399,36021.390931117501,37197.771834411797,38098.039273963899,39002.811656616097,39726.818045284897,41091.346423507297,42088.529633580802,44478.855794251001,46580.967241885301,48587.430750229803,52121.328868004697,54723.819784312203,57629.753967196397,60717.566356553398,64216.997512468399,70259.735787106096]
[{"$f":"IF(AND(StatData[[#This Row],[Shoda: Seskupený CZ-NACE]],StatData[[#This Row],[Shoda: Region]],StatData[[#This Row],[Shoda: Vzdělání]],StatData[[#This Row],[Shoda: Pohlaví]],StatData[[#This Row],[Shoda: Věk]]),1,0)","v":0},{"$f":"IF(StatData[[#This Row],[Seskupený CZ-NACE]]=VLOOKUP(Obor,TabObor[],2,0),1,0)","v":0},{"$f":"IF(StatData[[#This Row],[Region]]=VLOOKUP(Region,TabRegion[],2,0),1,0)","v":1},{"$f":"IF(StatData[[#This Row],[Vzdělání]]=Vzdělání,1,0)","v":1},{"$f":"IF(StatData[[#This Row],[Pohlaví]]=Pohlaví,1,0)","v":1},{"$f":"IF(StatData[[#This Row],[Věk]]=Věk,1,0)","v":0},461,"Zdravotnictví",1,"Střední s maturitou a vyšší odborné","Žena","35 až 54 let ",7527.306640625,57102.798796426599,31509.837178527901,34069.2258,36032.940058088898,36922.418600187797,37636.056928153797,38573.527441277598,39521.408028291997,41230.090562627898,42510.688562687501,43928.297738358699,44622.410236018499,45929.575653316002,46771.225224718699,47732.833485794799,48571.294714921904,49934.792695071199,51193.846006457199,52515.242024294101,53864.803869449897,57418.159582434302,60783.768035173598,64287.245473652802,66965.299172935702,70399.149716807005,73824.929279702003,77535.845242445095,82647.307315188897,88824.241227438804]
[{"$f":"IF(AND(StatData[[#This Row],[Shoda: Seskupený CZ-NACE]],StatData[[#This Row],[Shoda: Region]],StatData[[#This Row],[Shoda: Vzdělání]],StatData[[#This Row],[Shoda: Pohlaví]],StatData[[#This Row],[Shoda: Věk]]),1,0)","v":0},{"$f":"IF(StatData[[#This Row],[Seskupený CZ-NACE]]=VLOOKUP(Obor,TabObor[],2,0),1,0)","v":0},{"$f":"IF(StatData[[#This Row],[Region]]=VLOOKUP(Region,TabRegion[],2,0),1,0)","v":1},{"$f":"IF(StatData[[#This Row],[Vzdělání]]=Vzdělání,1,0)","v":1},{"$f":"IF(StatData[[#This Row],[Pohlaví]]=Pohlaví,1,0)","v":1},{"$f":"IF(StatData[[#This Row],[Věk]]=Věk,1,0)","v":0},462,"Zdravotnictví",1,"Střední s maturitou a vyšší odborné","Žena","55 a více let",5062.85595703125,55521.585554834899,32212.388265743099,33703.797460006703,34242.940223222802,34242.940223222802,35871.087176644098,36243.284996310002,38591.001869833402,38591.001869833402,39846.165158521297,40878.553575332298,42542.363859310899,43621.388728374797,44808.0381957227,46454.875285447801,47577.4930323015,48886.164558836499,49826.463430407901,51017.984703753398,52219.722695233097,54428.156845188103,57557.740281566803,60990.996884815002,64730.574413585797,68817.204920059099,73127.114033014397,77177.763061304795,82264.719860135607,90356.422219284505]
[{"$f":"IF(AND(StatData[[#This Row],[Shoda: Seskupený CZ-NACE]],StatData[[#This Row],[Shoda: Region]],StatData[[#This Row],[Shoda: Vzdělání]],StatData[[#This Row],[Shoda: Pohlaví]],StatData[[#This Row],[Shoda: Věk]]),1,0)","v":0},{"$f":"IF(StatData[[#This Row],[Seskupený CZ-NACE]]=VLOOKUP(Obor,TabObor[],2,0),1,0)","v":0},{"$f":"IF(StatData[[#This Row],[Region]]=VLOOKUP(Region,TabRegion[],2,0),1,0)","v":1},{"$f":"IF(StatData[[#This Row],[Vzdělání]]=Vzdělání,1,0)","v":0},{"$f":"IF(StatData[[#This Row],[Pohlaví]]=Pohlaví,1,0)","v":0},{"$f":"IF(StatData[[#This Row],[Věk]]=Věk,1,0)","v":1},463,"Zdravotnictví",1,"Vysokoškolské ","Muž","do 34 let    ",1362.5146484375,81870.985116171694,37658.6667449612,42691.462064474697,44627.648706951601,47322.655474697,49813.844764437599,50085.492244325796,50085.492244325796,51112.155420568299,53042.588659783898,55656.1027321082,57821.585996899303,60132.9640669035,61223.796986988797,63677.417757485302,65882.558022249694,68042.115921407196,69871.212690164393,71541.021000909095,73864.384214950405,78807.271173545698,83349.271692429305,89612.983249789293,95749.9189397749,102702.519251618,109811.909163057,118189.97739359501,131570.99136143699,149049.167761527]
[{"$f":"IF(AND(StatData[[#This Row],[Shoda: Seskupený CZ-NACE]],StatData[[#This Row],[Shoda: Region]],StatData[[#This Row],[Shoda: Vzdělání]],StatData[[#This Row],[Shoda: Pohlaví]],StatData[[#This Row],[Shoda: Věk]]),1,0)","v":0},{"$f":"IF(StatData[[#This Row],[Seskupený CZ-NACE]]=VLOOKUP(Obor,TabObor[],2,0),1,0)","v":0},{"$f":"IF(StatData[[#This Row],[Region]]=VLOOKUP(Region,TabRegion[],2,0),1,0)","v":1},{"$f":"IF(StatData[[#This Row],[Vzdělání]]=Vzdělání,1,0)","v":0},{"$f":"IF(StatData[[#This Row],[Pohlaví]]=Pohlaví,1,0)","v":0},{"$f":"IF(StatData[[#This Row],[Věk]]=Věk,1,0)","v":0},464,"Zdravotnictví",1,"Vysokoškolské ","Muž","35 až 54 let ",1939.59838867188,121402.885838656,38936.003958309797,45112.538944219501,49257.831562292296,53526.246155400302,56977.771744043297,60457.011720080001,63569.8702271152,66178.443832927296,70524.493564246106,74047.606156650596,79418.324792132495,82496.004794602995,85797.038997821597,89427.8248394658,93875.976867258898,98726.608981254496,104457.833430449,110042.78450610999,115099.696921077,125330.53180759,132801.38750989901,140657.68136682501,149602.87631247201,156763.02923624101,166658.16948194499,183036.92719066501,200131.59244009299,233739.165679292]
[{"$f":"IF(AND(StatData[[#This Row],[Shoda: Seskupený CZ-NACE]],StatData[[#This Row],[Shoda: Region]],StatData[[#This Row],[Shoda: Vzdělání]],StatData[[#This Row],[Shoda: Pohlaví]],StatData[[#This Row],[Shoda: Věk]]),1,0)","v":0},{"$f":"IF(StatData[[#This Row],[Seskupený CZ-NACE]]=VLOOKUP(Obor,TabObor[],2,0),1,0)","v":0},{"$f":"IF(StatData[[#This Row],[Region]]=VLOOKUP(Region,TabRegion[],2,0),1,0)","v":1},{"$f":"IF(StatData[[#This Row],[Vzdělání]]=Vzdělání,1,0)","v":0},{"$f":"IF(StatData[[#This Row],[Pohlaví]]=Pohlaví,1,0)","v":0},{"$f":"IF(StatData[[#This Row],[Věk]]=Věk,1,0)","v":0},465,"Zdravotnictví",1,"Vysokoškolské ","Muž","55 a více let",1108.11755371094,120383.200368654,44989.955952454497,46487.152381559303,46487.152381559303,49848.564187874799,50761.360645810397,55537.231167362399,58016.092064092001,62185.733228589997,66693.538681160295,71871.662960751302,76265.166998316796,81492.276660800504,86206.537867260195,88410.909020917301,89487.051554503501,93572.522285787505,96870.836189550697,101646.10589292301,106687.630139906,114514.703530566,126291.296906328,138465.805128479,150003.31038017999,159996.922104217,173752.84056354701,190417.79942880399,203172.27233164301,236522.025656415]
[{"$f":"IF(AND(StatData[[#This Row],[Shoda: Seskupený CZ-NACE]],StatData[[#This Row],[Shoda: Region]],StatData[[#This Row],[Shoda: Vzdělání]],StatData[[#This Row],[Shoda: Pohlaví]],StatData[[#This Row],[Shoda: Věk]]),1,0)","v":0},{"$f":"IF(StatData[[#This Row],[Seskupený CZ-NACE]]=VLOOKUP(Obor,TabObor[],2,0),1,0)","v":0},{"$f":"IF(StatData[[#This Row],[Region]]=VLOOKUP(Region,TabRegion[],2,0),1,0)","v":1},{"$f":"IF(StatData[[#This Row],[Vzdělání]]=Vzdělání,1,0)","v":0},{"$f":"IF(StatData[[#This Row],[Pohlaví]]=Pohlaví,1,0)","v":1},{"$f":"IF(StatData[[#This Row],[Věk]]=Věk,1,0)","v":1},466,"Zdravotnictví",1,"Vysokoškolské ","Žena","do 34 let    ",3388.90893554688,66093.779620196394,37752.025121330502,39252.21680527,40647.515564962901,41606.293355871698,42722.928515248597,43929.296217127201,45393.953705733598,46427.262296922803,47122.610442469901,48134.258173375201,49230.354758560003,50116.220973388801,50896.659306920803,51280.642411303197,52954.331313339499,53773.687881623999,55169.188097533399,56642.253133684098,58029.184886465096,61328.951893648598,64470.6361687803,68413.432569769197,71845.447664963998,76391.205417809702,82678.508052831807,92842.161917112404,105584.633505593,121378.996008858]
[{"$f":"IF(AND(StatData[[#This Row],[Shoda: Seskupený CZ-NACE]],StatData[[#This Row],[Shoda: Region]],StatData[[#This Row],[Shoda: Vzdělání]],StatData[[#This Row],[Shoda: Pohlaví]],StatData[[#This Row],[Shoda: Věk]]),1,0)","v":0},{"$f":"IF(StatData[[#This Row],[Seskupený CZ-NACE]]=VLOOKUP(Obor,TabObor[],2,0),1,0)","v":0},{"$f":"IF(StatData[[#This Row],[Region]]=VLOOKUP(Region,TabRegion[],2,0),1,0)","v":1},{"$f":"IF(StatData[[#This Row],[Vzdělání]]=Vzdělání,1,0)","v":0},{"$f":"IF(StatData[[#This Row],[Pohlaví]]=Pohlaví,1,0)","v":1},{"$f":"IF(StatData[[#This Row],[Věk]]=Věk,1,0)","v":0},467,"Zdravotnictví",1,"Vysokoškolské ","Žena","35 až 54 let ",5209.54296875,78185.378546197098,32454.417301438501,37281.152191523302,39183.798875340799,40663.223518278799,42224.0608258824,45327.454016743097,46855.426753735097,48997.722889111697,51146.075901945303,53352.298081786401,54737.975524497197,56387.349908727199,58848.325683198702,60932.195586456801,61601.725878045101,62314.717781879699,64824.756059940497,66761.880174844497,69245.2492961643,72338.855717462196,77024.008998772901,82300.522000868499,88186.136399626397,93270.164942875606,100414.30070712601,113064.274554694,130488.96557122799,156800.660658749]
[{"$f":"IF(AND(StatData[[#This Row],[Shoda: Seskupený CZ-NACE]],StatData[[#This Row],[Shoda: Region]],StatData[[#This Row],[Shoda: Vzdělání]],StatData[[#This Row],[Shoda: Pohlaví]],StatData[[#This Row],[Shoda: Věk]]),1,0)","v":0},{"$f":"IF(StatData[[#This Row],[Seskupený CZ-NACE]]=VLOOKUP(Obor,TabObor[],2,0),1,0)","v":0},{"$f":"IF(StatData[[#This Row],[Region]]=VLOOKUP(Region,TabRegion[],2,0),1,0)","v":1},{"$f":"IF(StatData[[#This Row],[Vzdělání]]=Vzdělání,1,0)","v":0},{"$f":"IF(StatData[[#This Row],[Pohlaví]]=Pohlaví,1,0)","v":1},{"$f":"IF(StatData[[#This Row],[Věk]]=Věk,1,0)","v":0},468,"Zdravotnictví",1,"Vysokoškolské ","Žena","55 a více let",2041.6396484375,87530.213771180905,20086.934440666701,20086.934440666701,39420.448156399201,39420.448156399201,42773.052965114701,47998.1334385339,50445.736344455101,53452.365906192899,55352.0261687928,58386.965389388497,60957.316240102802,63300.8197732548,67033.322772837404,69129.8639264792,72091.068753616797,74543.655094012895,76431.837634287906,78542.691241863504,80677.400311061298,86313.732073630701,91080.960794461294,94375.4881433665,100865.130985453,110252.33077777999,120600.004559988,130282.468792375,149751.32952601899,168732.12145007899]
[{"$f":"IF(AND(StatData[[#This Row],[Shoda: Seskupený CZ-NACE]],StatData[[#This Row],[Shoda: Region]],StatData[[#This Row],[Shoda: Vzdělání]],StatData[[#This Row],[Shoda: Pohlaví]],StatData[[#This Row],[Shoda: Věk]]),1,0)","v":0},{"$f":"IF(StatData[[#This Row],[Seskupený CZ-NACE]]=VLOOKUP(Obor,TabObor[],2,0),1,0)","v":0},{"$f":"IF(StatData[[#This Row],[Region]]=VLOOKUP(Region,TabRegion[],2,0),1,0)","v":0},{"$f":"IF(StatData[[#This Row],[Vzdělání]]=Vzdělání,1,0)","v":0},{"$f":"IF(StatData[[#This Row],[Pohlaví]]=Pohlaví,1,0)","v":0},{"$f":"IF(StatData[[#This Row],[Věk]]=Věk,1,0)","v":1},469,"Zdravotnictví",2,"Střední bez maturity","Muž","do 34 let    ",253.26670837402301,40957.180093495001,26890.114382306601,27929.921357960298,28971.714228675399,29777.569660393801,30323.9166,30942.243999999999,31879.6436407033,33001.233221226998,33926.114844714197,34352.2457956402,34912.996934536997,35649.630223464897,36121.604087576699,36223.792301811103,36471.891609185499,37345.081008428097,37690.428582756897,38245.0424641516,38769.911121366204,40023.863870739697,41526.729340126898,43052.401714425498,44754.6649625313,46576.532632257396,47849.328227887199,50900.197462422497,54808.382324344602,61550.1393120016]
[{"$f":"IF(AND(StatData[[#This Row],[Shoda: Seskupený CZ-NACE]],StatData[[#This Row],[Shoda: Region]],StatData[[#This Row],[Shoda: Vzdělání]],StatData[[#This Row],[Shoda: Pohlaví]],StatData[[#This Row],[Shoda: Věk]]),1,0)","v":0},{"$f":"IF(StatData[[#This Row],[Seskupený CZ-NACE]]=VLOOKUP(Obor,TabObor[],2,0),1,0)","v":0},{"$f":"IF(StatData[[#This Row],[Region]]=VLOOKUP(Region,TabRegion[],2,0),1,0)","v":0},{"$f":"IF(StatData[[#This Row],[Vzdělání]]=Vzdělání,1,0)","v":0},{"$f":"IF(StatData[[#This Row],[Pohlaví]]=Pohlaví,1,0)","v":0},{"$f":"IF(StatData[[#This Row],[Věk]]=Věk,1,0)","v":0},470,"Zdravotnictví",2,"Střední bez maturity","Muž","35 až 54 let ",1132.96240234375,46283.574247149299,28715.327557746299,29876.166095719502,31449.705699999999,32303.9031358674,33618.420116129098,34605.653286833003,35627.045320179197,36386.1533713463,37358.559087475303,38381.565349049197,39119.450619729301,40002.132130055601,40780.687736142201,41547.303411025903,42307.509916042101,42897.5819577945,43616.790408458997,44281.176496697903,44818.505138292297,45845.893762464199,47157.332906223499,48566.680509362399,50217.186204272999,52677.433712321101,56473.798468278801,60707.165389829199,65506.092236989803,69322.802429124305]
[{"$f":"IF(AND(StatData[[#This Row],[Shoda: Seskupený CZ-NACE]],StatData[[#This Row],[Shoda: Region]],StatData[[#This Row],[Shoda: Vzdělání]],StatData[[#This Row],[Shoda: Pohlaví]],StatData[[#This Row],[Shoda: Věk]]),1,0)","v":0},{"$f":"IF(StatData[[#This Row],[Seskupený CZ-NACE]]=VLOOKUP(Obor,TabObor[],2,0),1,0)","v":0},{"$f":"IF(StatData[[#This Row],[Region]]=VLOOKUP(Region,TabRegion[],2,0),1,0)","v":0},{"$f":"IF(StatData[[#This Row],[Vzdělání]]=Vzdělání,1,0)","v":0},{"$f":"IF(StatData[[#This Row],[Pohlaví]]=Pohlaví,1,0)","v":0},{"$f":"IF(StatData[[#This Row],[Věk]]=Věk,1,0)","v":0},471,"Zdravotnictví",2,"Střední bez maturity","Muž","55 a více let",674.28125,43751.867460588597,26824.480086491702,27877.6101135674,29014.079612167199,30026,31305.138335244999,32125.8101616085,32865.900128081303,33406.421861948402,34037.6375179889,34963.074250092701,35645.295419933303,36493.049406238999,37323.527187043102,38685.3304929183,39172.864881523899,39903.936564096497,40601.780773351798,41297.9400359176,41900.374240307603,42969.904185957603,44648.604225700597,46042.062966580903,48018.592704338102,50089.2449492573,52519.6043561345,57712.913408188397,63945.9507626782,69252.224663525907]
[{"$f":"IF(AND(StatData[[#This Row],[Shoda: Seskupený CZ-NACE]],StatData[[#This Row],[Shoda: Region]],StatData[[#This Row],[Shoda: Vzdělání]],StatData[[#This Row],[Shoda: Pohlaví]],StatData[[#This Row],[Shoda: Věk]]),1,0)","v":0},{"$f":"IF(StatData[[#This Row],[Seskupený CZ-NACE]]=VLOOKUP(Obor,TabObor[],2,0),1,0)","v":0},{"$f":"IF(StatData[[#This Row],[Region]]=VLOOKUP(Region,TabRegion[],2,0),1,0)","v":0},{"$f":"IF(StatData[[#This Row],[Vzdělání]]=Vzdělání,1,0)","v":0},{"$f":"IF(StatData[[#This Row],[Pohlaví]]=Pohlaví,1,0)","v":1},{"$f":"IF(StatData[[#This Row],[Věk]]=Věk,1,0)","v":1},472,"Zdravotnictví",2,"Střední bez maturity","Žena","do 34 let    ",379.72250366210898,33142.593898847699,22938.083299999998,24210.8482495262,25130.298299999999,25821.5708149005,26170.290756692299,27073.936577636901,27485.464291680699,27952.528646730399,28504.307144387101,28996.622160627699,29773.082463951901,30224.099310193898,30552.333299999998,30978.207685147499,31264.953361786502,31447.811744294599,31908.489176817598,32316.009418201898,32785.014903902797,33599.722907850999,34446.114385440203,35093.000758839298,35951.301358529803,37172.939245809699,38817.367146073499,40025.241772704401,41604.740176501997,44647.476745705302]
[{"$f":"IF(AND(StatData[[#This Row],[Shoda: Seskupený CZ-NACE]],StatData[[#This Row],[Shoda: Region]],StatData[[#This Row],[Shoda: Vzdělání]],StatData[[#This Row],[Shoda: Pohlaví]],StatData[[#This Row],[Shoda: Věk]]),1,0)","v":0},{"$f":"IF(StatData[[#This Row],[Seskupený CZ-NACE]]=VLOOKUP(Obor,TabObor[],2,0),1,0)","v":0},{"$f":"IF(StatData[[#This Row],[Region]]=VLOOKUP(Region,TabRegion[],2,0),1,0)","v":0},{"$f":"IF(StatData[[#This Row],[Vzdělání]]=Vzdělání,1,0)","v":0},{"$f":"IF(StatData[[#This Row],[Pohlaví]]=Pohlaví,1,0)","v":1},{"$f":"IF(StatData[[#This Row],[Věk]]=Věk,1,0)","v":0},473,"Zdravotnictví",2,"Střední bez maturity","Žena","35 až 54 let ",2045.5498046875,34144.612412750503,23527.525000000001,24774.3076,25535.75,26057.952917988801,26836.999099062999,27329.199613824399,28009.1659043412,28558.027970446001,28926.772553731698,29500.470447180101,29973.984400000001,30477.4627409026,30992.560700000002,31512.856217578599,31942.608391707799,32392.119600000002,32804.601502199803,33209.997189411901,33593.455903851202,34123.229268890398,34904.078710979004,35794.094793125703,37008.446056421897,38080.938897767497,39434.552918708097,41519.000520403701,43920.929146278599,47625.777018212597]
[{"$f":"IF(AND(StatData[[#This Row],[Shoda: Seskupený CZ-NACE]],StatData[[#This Row],[Shoda: Region]],StatData[[#This Row],[Shoda: Vzdělání]],StatData[[#This Row],[Shoda: Pohlaví]],StatData[[#This Row],[Shoda: Věk]]),1,0)","v":0},{"$f":"IF(StatData[[#This Row],[Seskupený CZ-NACE]]=VLOOKUP(Obor,TabObor[],2,0),1,0)","v":0},{"$f":"IF(StatData[[#This Row],[Region]]=VLOOKUP(Region,TabRegion[],2,0),1,0)","v":0},{"$f":"IF(StatData[[#This Row],[Vzdělání]]=Vzdělání,1,0)","v":0},{"$f":"IF(StatData[[#This Row],[Pohlaví]]=Pohlaví,1,0)","v":1},{"$f":"IF(StatData[[#This Row],[Věk]]=Věk,1,0)","v":0},474,"Zdravotnictví",2,"Střední bez maturity","Žena","55 a více let",1254.68786621094,34551.2097773594,22261.510999999999,23239,23920.7673,25211.6666,25915.971454432001,26388.616907158899,26818.333299999998,27390.4761,27816.315239888401,28353.083299999998,28947.0566,29487.155500000001,30063.203677670699,30687.083299999998,31219.823714655799,31672.726612850201,32143.281096296501,32748.952190592499,33436.790902829896,34312.942188013702,35186.515792021397,36242.397882443001,37531.811489069099,39470.822625289598,41190.149236870297,41789.540997054901,44360.0370717142,50682.468425283601]
[{"$f":"IF(AND(StatData[[#This Row],[Shoda: Seskupený CZ-NACE]],StatData[[#This Row],[Shoda: Region]],StatData[[#This Row],[Shoda: Vzdělání]],StatData[[#This Row],[Shoda: Pohlaví]],StatData[[#This Row],[Shoda: Věk]]),1,0)","v":0},{"$f":"IF(StatData[[#This Row],[Seskupený CZ-NACE]]=VLOOKUP(Obor,TabObor[],2,0),1,0)","v":0},{"$f":"IF(StatData[[#This Row],[Region]]=VLOOKUP(Region,TabRegion[],2,0),1,0)","v":0},{"$f":"IF(StatData[[#This Row],[Vzdělání]]=Vzdělání,1,0)","v":1},{"$f":"IF(StatData[[#This Row],[Pohlaví]]=Pohlaví,1,0)","v":0},{"$f":"IF(StatData[[#This Row],[Věk]]=Věk,1,0)","v":1},475,"Zdravotnictví",2,"Střední s maturitou a vyšší odborné","Muž","do 34 let    ",446.31036376953102,49821.201502855998,28949.131977899899,30212.0118,31209.967799406,32541.1331681874,33938.767221592301,34925.594258953599,35865.761912694499,37316.4678702975,38153.428638175203,38930.588628163001,39753.754242158298,41098.782675923103,41766.468024147303,42793.868105468398,44162.549927967098,44890.0989363146,45755.748520305096,47077.291844981701,48038.061975819699,50847.684070828,52646.761579238198,54915.331844723303,57377.022168330201,60300.549492697101,62521.683955941699,65173.537725052403,69169.0173668395,75332.9924642478]
[{"$f":"IF(AND(StatData[[#This Row],[Shoda: Seskupený CZ-NACE]],StatData[[#This Row],[Shoda: Region]],StatData[[#This Row],[Shoda: Vzdělání]],StatData[[#This Row],[Shoda: Pohlaví]],StatData[[#This Row],[Shoda: Věk]]),1,0)","v":0},{"$f":"IF(StatData[[#This Row],[Seskupený CZ-NACE]]=VLOOKUP(Obor,TabObor[],2,0),1,0)","v":0},{"$f":"IF(StatData[[#This Row],[Region]]=VLOOKUP(Region,TabRegion[],2,0),1,0)","v":0},{"$f":"IF(StatData[[#This Row],[Vzdělání]]=Vzdělání,1,0)","v":1},{"$f":"IF(StatData[[#This Row],[Pohlaví]]=Pohlaví,1,0)","v":0},{"$f":"IF(StatData[[#This Row],[Věk]]=Věk,1,0)","v":0},476,"Zdravotnictví",2,"Střední s maturitou a vyšší odborné","Muž","35 až 54 let ",1367.90319824219,54055.526785735899,26914.620051321599,26914.620051321599,27800.2328293055,32185.217891083601,35530.418176992003,37203.413827800403,38830.594863595499,40408.562389102,41443.380946463403,41443.380946463403,42095.300775114199,43893.468078011101,44969.682457388197,45979.5289016022,46525.163112702299,46613.549374926697,47863.837577081496,49122.619227878597,51159.124079381203,55548.444323813899,59833.453905627597,63225.0789855119,64561.203695936303,67270.648428680506,69730.997838503899,72284.171621716407,75886.0182221633,81832.117163968098]
[{"$f":"IF(AND(StatData[[#This Row],[Shoda: Seskupený CZ-NACE]],StatData[[#This Row],[Shoda: Region]],StatData[[#This Row],[Shoda: Vzdělání]],StatData[[#This Row],[Shoda: Pohlaví]],StatData[[#This Row],[Shoda: Věk]]),1,0)","v":0},{"$f":"IF(StatData[[#This Row],[Seskupený CZ-NACE]]=VLOOKUP(Obor,TabObor[],2,0),1,0)","v":0},{"$f":"IF(StatData[[#This Row],[Region]]=VLOOKUP(Region,TabRegion[],2,0),1,0)","v":0},{"$f":"IF(StatData[[#This Row],[Vzdělání]]=Vzdělání,1,0)","v":1},{"$f":"IF(StatData[[#This Row],[Pohlaví]]=Pohlaví,1,0)","v":0},{"$f":"IF(StatData[[#This Row],[Věk]]=Věk,1,0)","v":0},477,"Zdravotnictví",2,"Střední s maturitou a vyšší odborné","Muž","55 a více let",476.17111206054699,51614.900696571996,28764.6669254642,"*",32230.838550401098,"*",35082.895696227301,"*",37321.414673169304,"*",39460.348404312899,"*",41825.109924522701,"*",43219.398848919896,"*",44568.6095017322,"*",44568.6095017322,"*",46015.266036454101,48185.5862001965,50272.7458262609,53625.874227789704,58722.988631482702,63727.8132593552,68205.208133760607,70672.795662164703,75460.7761398906,86698.3371329316]
[{"$f":"IF(AND(StatData[[#This Row],[Shoda: Seskupený CZ-NACE]],StatData[[#This Row],[Shoda: Region]],StatData[[#This Row],[Shoda: Vzdělání]],StatData[[#This Row],[Shoda: Pohlaví]],StatData[[#This Row],[Shoda: Věk]]),1,0)","v":0},{"$f":"IF(StatData[[#This Row],[Seskupený CZ-NACE]]=VLOOKUP(Obor,TabObor[],2,0),1,0)","v":0},{"$f":"IF(StatData[[#This Row],[Region]]=VLOOKUP(Region,TabRegion[],2,0),1,0)","v":0},{"$f":"IF(StatData[[#This Row],[Vzdělání]]=Vzdělání,1,0)","v":1},{"$f":"IF(StatData[[#This Row],[Pohlaví]]=Pohlaví,1,0)","v":1},{"$f":"IF(StatData[[#This Row],[Věk]]=Věk,1,0)","v":1},478,"Zdravotnictví",2,"Střední s maturitou a vyšší odborné","Žena","do 34 let    ",3059.25024414063,42356.074635479999,24064.743900000001,26097.714331144402,26097.714331144402,27751.662798843699,29817.816200000001,29874.4308893698,30052.9316357057,30059.170632082201,31825.972273994899,31825.972273994899,32820.481063523599,33164.203804561701,33817.668916941198,35508.881755076203,35508.881755076203,35559.8353777706,36292.5171057548,37866.705947626797,38799.752826096701,41748.520387802302,44492.778097379101,46951.827439492903,49681.420174578197,52513.683428490702,55403.570047454399,57669.533481788603,60953.1296903888,66328.300616965498]
[{"$f":"IF(AND(StatData[[#This Row],[Shoda: Seskupený CZ-NACE]],StatData[[#This Row],[Shoda: Region]],StatData[[#This Row],[Shoda: Vzdělání]],StatData[[#This Row],[Shoda: Pohlaví]],StatData[[#This Row],[Shoda: Věk]]),1,0)","v":0},{"$f":"IF(StatData[[#This Row],[Seskupený CZ-NACE]]=VLOOKUP(Obor,TabObor[],2,0),1,0)","v":0},{"$f":"IF(StatData[[#This Row],[Region]]=VLOOKUP(Region,TabRegion[],2,0),1,0)","v":0},{"$f":"IF(StatData[[#This Row],[Vzdělání]]=Vzdělání,1,0)","v":1},{"$f":"IF(StatData[[#This Row],[Pohlaví]]=Pohlaví,1,0)","v":1},{"$f":"IF(StatData[[#This Row],[Věk]]=Věk,1,0)","v":0},479,"Zdravotnictví",2,"Střední s maturitou a vyšší odborné","Žena","35 až 54 let ",12924.75390625,46900.3433389087,24264.1824575315,26546.1733420036,27536.697754571102,28518.501584137099,30087.596230783402,30715.8080068089,32176.190221221099,32728.408976667499,33131.837894636403,33758.822246530603,34806.476100698703,35746.365898741496,36976.210093385402,37578.779058109503,38982.309678419399,40588.8628054207,41683.883652851699,43248.988106348697,44281.1524983852,46488.607800737002,49239.982387620003,53441.621865041001,55790.168601964702,59127.7835665686,63088.963139426298,66262.282972097702,69760.150350479395,76114.811408268404]
[{"$f":"IF(AND(StatData[[#This Row],[Shoda: Seskupený CZ-NACE]],StatData[[#This Row],[Shoda: Region]],StatData[[#This Row],[Shoda: Vzdělání]],StatData[[#This Row],[Shoda: Pohlaví]],StatData[[#This Row],[Shoda: Věk]]),1,0)","v":0},{"$f":"IF(StatData[[#This Row],[Seskupený CZ-NACE]]=VLOOKUP(Obor,TabObor[],2,0),1,0)","v":0},{"$f":"IF(StatData[[#This Row],[Region]]=VLOOKUP(Region,TabRegion[],2,0),1,0)","v":0},{"$f":"IF(StatData[[#This Row],[Vzdělání]]=Vzdělání,1,0)","v":1},{"$f":"IF(StatData[[#This Row],[Pohlaví]]=Pohlaví,1,0)","v":1},{"$f":"IF(StatData[[#This Row],[Věk]]=Věk,1,0)","v":0},480,"Zdravotnictví",2,"Střední s maturitou a vyšší odborné","Žena","55 a více let",5516.7568359375,51662.0006970268,24351.271122753598,27834.462141562301,30965.345418659101,31133.576449566099,33890.519835469,35667.633811337597,35908.077878540797,36595.757672649001,37671.560873480797,37980.304689708799,39513.559124911801,41083.743792378002,41963.079871893598,42445.488872549497,44083.527236113601,45490.504443373902,45497.511741567003,47011.576048553303,48602.292560338698,51624.226552756598,54441.873770603503,58083.154140099599,61315.673579817703,65093.501724066198,68191.071086001699,72216.234953359599,76574.912156057704,82047.059909219606]
[{"$f":"IF(AND(StatData[[#This Row],[Shoda: Seskupený CZ-NACE]],StatData[[#This Row],[Shoda: Region]],StatData[[#This Row],[Shoda: Vzdělání]],StatData[[#This Row],[Shoda: Pohlaví]],StatData[[#This Row],[Shoda: Věk]]),1,0)","v":0},{"$f":"IF(StatData[[#This Row],[Seskupený CZ-NACE]]=VLOOKUP(Obor,TabObor[],2,0),1,0)","v":0},{"$f":"IF(StatData[[#This Row],[Region]]=VLOOKUP(Region,TabRegion[],2,0),1,0)","v":0},{"$f":"IF(StatData[[#This Row],[Vzdělání]]=Vzdělání,1,0)","v":0},{"$f":"IF(StatData[[#This Row],[Pohlaví]]=Pohlaví,1,0)","v":0},{"$f":"IF(StatData[[#This Row],[Věk]]=Věk,1,0)","v":1},481,"Zdravotnictví",2,"Vysokoškolské ","Muž","do 34 let    ",1229.275390625,78919.381628618299,31166.1974274352,31166.1974274352,38023.153863794003,42081.852134622,46474.741557745503,49201.902468068904,49929.240509705603,50360.417534083099,53916.7324678722,57204.789144475602,57927.595375922298,59924.186255287597,61356.092061142597,63001.275595015002,64017.3470576693,65835.870357707798,67245.3018373409,69446.548805908606,73681.180824786905,77997.722829799095,85152.4767360939,88212.824830262995,90915.457190151894,101179.905104269,111367.934150799,114192.594131983,125000.943164021,143360.02477876999]
[{"$f":"IF(AND(StatData[[#This Row],[Shoda: Seskupený CZ-NACE]],StatData[[#This Row],[Shoda: Region]],StatData[[#This Row],[Shoda: Vzdělání]],StatData[[#This Row],[Shoda: Pohlaví]],StatData[[#This Row],[Shoda: Věk]]),1,0)","v":0},{"$f":"IF(StatData[[#This Row],[Seskupený CZ-NACE]]=VLOOKUP(Obor,TabObor[],2,0),1,0)","v":0},{"$f":"IF(StatData[[#This Row],[Region]]=VLOOKUP(Region,TabRegion[],2,0),1,0)","v":0},{"$f":"IF(StatData[[#This Row],[Vzdělání]]=Vzdělání,1,0)","v":0},{"$f":"IF(StatData[[#This Row],[Pohlaví]]=Pohlaví,1,0)","v":0},{"$f":"IF(StatData[[#This Row],[Věk]]=Věk,1,0)","v":0},482,"Zdravotnictví",2,"Vysokoškolské ","Muž","35 až 54 let ",2265.02490234375,102141.95819207899,22047.3612614167,30585.0602668596,32489.531718910901,36506.318520332999,39219.834270897802,42695.836189547401,44521.681605130303,44521.681605130303,46073.565570986299,46073.565570986299,46073.565570986299,51382.589704643702,58612.009654080503,60345.360150320303,65421.807246767399,69845.779139077,74271.187735367406,78787.051159597497,84161.485168269399,97751.867641138801,113368.572812988,125645.795729077,131551.28359293001,143418.62299995599,157190.63271270899,170438.23436665599,183967.812445458,214980.413376585]
[{"$f":"IF(AND(StatData[[#This Row],[Shoda: Seskupený CZ-NACE]],StatData[[#This Row],[Shoda: Region]],StatData[[#This Row],[Shoda: Vzdělání]],StatData[[#This Row],[Shoda: Pohlaví]],StatData[[#This Row],[Shoda: Věk]]),1,0)","v":0},{"$f":"IF(StatData[[#This Row],[Seskupený CZ-NACE]]=VLOOKUP(Obor,TabObor[],2,0),1,0)","v":0},{"$f":"IF(StatData[[#This Row],[Region]]=VLOOKUP(Region,TabRegion[],2,0),1,0)","v":0},{"$f":"IF(StatData[[#This Row],[Vzdělání]]=Vzdělání,1,0)","v":0},{"$f":"IF(StatData[[#This Row],[Pohlaví]]=Pohlaví,1,0)","v":0},{"$f":"IF(StatData[[#This Row],[Věk]]=Věk,1,0)","v":0},483,"Zdravotnictví",2,"Vysokoškolské ","Muž","55 a více let",1433.40026855469,100732.42597222301,28815.393575952701,"*",28815.393575952701,"*",30767.9847265272,"*",31512.056050603202,"*",39234.385964625202,"*",56686.126776804798,"*",56686.126776804798,"*",57717.267669963097,"*",77096.978103617497,"*",93498.688993983698,105787.574714004,116971.868855169,123114.924092545,123114.924092545,134917.551962083,149057.488011785,166858.08857123501,187086.65596967799,220934.23285090399]
[{"$f":"IF(AND(StatData[[#This Row],[Shoda: Seskupený CZ-NACE]],StatData[[#This Row],[Shoda: Region]],StatData[[#This Row],[Shoda: Vzdělání]],StatData[[#This Row],[Shoda: Pohlaví]],StatData[[#This Row],[Shoda: Věk]]),1,0)","v":0},{"$f":"IF(StatData[[#This Row],[Seskupený CZ-NACE]]=VLOOKUP(Obor,TabObor[],2,0),1,0)","v":0},{"$f":"IF(StatData[[#This Row],[Region]]=VLOOKUP(Region,TabRegion[],2,0),1,0)","v":0},{"$f":"IF(StatData[[#This Row],[Vzdělání]]=Vzdělání,1,0)","v":0},{"$f":"IF(StatData[[#This Row],[Pohlaví]]=Pohlaví,1,0)","v":1},{"$f":"IF(StatData[[#This Row],[Věk]]=Věk,1,0)","v":1},484,"Zdravotnictví",2,"Vysokoškolské ","Žena","do 34 let    ",2942.65087890625,59828.1221294118,28502.958279808099,30944.270828422701,30944.270828422701,32640.360710237801,32640.360710237801,34456.095172533598,36207.886793846403,38357.812689628801,38869.730617803601,40021.633778468997,42502.9317736999,44705.899701313901,45009.849486475097,46643.115828743597,48522.1748443619,50401.643424174603,51900.450873433299,53492.349719131802,54761.184119170102,57845.6006062999,60611.223057702198,63522.882735615603,66558.037027604005,71664.857284244106,73685.968204124802,83525.940423114705,95721.237976525197,108679.513087466]
[{"$f":"IF(AND(StatData[[#This Row],[Shoda: Seskupený CZ-NACE]],StatData[[#This Row],[Shoda: Region]],StatData[[#This Row],[Shoda: Vzdělání]],StatData[[#This Row],[Shoda: Pohlaví]],StatData[[#This Row],[Shoda: Věk]]),1,0)","v":0},{"$f":"IF(StatData[[#This Row],[Seskupený CZ-NACE]]=VLOOKUP(Obor,TabObor[],2,0),1,0)","v":0},{"$f":"IF(StatData[[#This Row],[Region]]=VLOOKUP(Region,TabRegion[],2,0),1,0)","v":0},{"$f":"IF(StatData[[#This Row],[Vzdělání]]=Vzdělání,1,0)","v":0},{"$f":"IF(StatData[[#This Row],[Pohlaví]]=Pohlaví,1,0)","v":1},{"$f":"IF(StatData[[#This Row],[Věk]]=Věk,1,0)","v":0},485,"Zdravotnictví",2,"Vysokoškolské ","Žena","35 až 54 let ",4923.505859375,72836.952397841305,27697.785856063299,30546.087067720899,30589.812534142598,34320.653693175896,36144.886232974197,38470.630670238097,41128.132523656597,42931.89650984,45101.356727651,47552.732029685001,49878.268770996903,51756.125280796099,53630.4665346486,55430.763827696399,56546.368252140703,58481.931034631598,60804.2181728184,62789.808865342799,64842.665472141802,68045.598464292605,72113.631083411601,75333.142302214503,80824.863500246895,87215.819120839195,95967.677820475103,107136.313387068,122998.067869048,153025.03556172099]
[{"$f":"IF(AND(StatData[[#This Row],[Shoda: Seskupený CZ-NACE]],StatData[[#This Row],[Shoda: Region]],StatData[[#This Row],[Shoda: Vzdělání]],StatData[[#This Row],[Shoda: Pohlaví]],StatData[[#This Row],[Shoda: Věk]]),1,0)","v":0},{"$f":"IF(StatData[[#This Row],[Seskupený CZ-NACE]]=VLOOKUP(Obor,TabObor[],2,0),1,0)","v":0},{"$f":"IF(StatData[[#This Row],[Region]]=VLOOKUP(Region,TabRegion[],2,0),1,0)","v":0},{"$f":"IF(StatData[[#This Row],[Vzdělání]]=Vzdělání,1,0)","v":0},{"$f":"IF(StatData[[#This Row],[Pohlaví]]=Pohlaví,1,0)","v":1},{"$f":"IF(StatData[[#This Row],[Věk]]=Věk,1,0)","v":0},486,"Zdravotnictví",2,"Vysokoškolské ","Žena","55 a více let",1399.2626953125,82260.542744093997,21882.162264166702,"*",21882.162264166702,"*",22100.991497499999,"*",25682.1034261323,"*",38085.288457666597,"*",51589.971169481898,"*",58924.590578798801,"*",64785.528568724498,"*",71240.852724004697,"*",77518.8314447921,82677.837759643095,89090.771873886406,96903.874459667801,100750.53218469401,109535.64887400701,123828.90072074599,133526.390794648,148696.471184316,171694.57390053201]
[{"$f":"IF(AND(StatData[[#This Row],[Shoda: Seskupený CZ-NACE]],StatData[[#This Row],[Shoda: Region]],StatData[[#This Row],[Shoda: Vzdělání]],StatData[[#This Row],[Shoda: Pohlaví]],StatData[[#This Row],[Shoda: Věk]]),1,0)","v":0},{"$f":"IF(StatData[[#This Row],[Seskupený CZ-NACE]]=VLOOKUP(Obor,TabObor[],2,0),1,0)","v":0},{"$f":"IF(StatData[[#This Row],[Region]]=VLOOKUP(Region,TabRegion[],2,0),1,0)","v":0},{"$f":"IF(StatData[[#This Row],[Vzdělání]]=Vzdělání,1,0)","v":0},{"$f":"IF(StatData[[#This Row],[Pohlaví]]=Pohlaví,1,0)","v":0},{"$f":"IF(StatData[[#This Row],[Věk]]=Věk,1,0)","v":1},487,"Zdravotnictví",3,"Střední bez maturity","Muž","do 34 let    ",834.18377685546898,38596.395775294703,25671.583299999998,26579.811036220101,27601.820800000001,28386.4621832464,28634.3710274146,29058.378496203899,29571.741066071201,29581.342718065898,30351.647359980299,30491.3819370743,31203.956907487402,31993.182318198698,32540.015133383698,33046.954438931098,34058.048379122003,34534.402378429702,34963.593775030196,35530.701328390998,36152.925243910497,37206.322097762299,38636.639657300599,40771.932778339702,42428.439455274798,44714.367361198798,47605.399185754097,50061.196418326799,53959.831236408703,60021.301012374897]
[{"$f":"IF(AND(StatData[[#This Row],[Shoda: Seskupený CZ-NACE]],StatData[[#This Row],[Shoda: Region]],StatData[[#This Row],[Shoda: Vzdělání]],StatData[[#This Row],[Shoda: Pohlaví]],StatData[[#This Row],[Shoda: Věk]]),1,0)","v":0},{"$f":"IF(StatData[[#This Row],[Seskupený CZ-NACE]]=VLOOKUP(Obor,TabObor[],2,0),1,0)","v":0},{"$f":"IF(StatData[[#This Row],[Region]]=VLOOKUP(Region,TabRegion[],2,0),1,0)","v":0},{"$f":"IF(StatData[[#This Row],[Vzdělání]]=Vzdělání,1,0)","v":0},{"$f":"IF(StatData[[#This Row],[Pohlaví]]=Pohlaví,1,0)","v":0},{"$f":"IF(StatData[[#This Row],[Věk]]=Věk,1,0)","v":0},488,"Zdravotnictví",3,"Střední bez maturity","Muž","35 až 54 let ",3788.02856445313,42250.400684098902,24323.513800000001,26861.6666,28308.5,29370.0006995562,30250.403699999999,31312.2314717851,31754.896060359199,32574.076507695499,33181.478378950203,33868.563290923899,33868.563290923899,34160.492430302002,34807.792018381297,35526.921072074299,36352.584660818597,36913.512919039596,37656.3109612595,38321.577065076599,39083.1036316151,40894.950947195299,42457.789450462697,44143.714835990701,46266.794799583098,49641.598323429796,53100.670431834602,58858.101256182897,63523.587197433299,67920.927420639899]
[{"$f":"IF(AND(StatData[[#This Row],[Shoda: Seskupený CZ-NACE]],StatData[[#This Row],[Shoda: Region]],StatData[[#This Row],[Shoda: Vzdělání]],StatData[[#This Row],[Shoda: Pohlaví]],StatData[[#This Row],[Shoda: Věk]]),1,0)","v":0},{"$f":"IF(StatData[[#This Row],[Seskupený CZ-NACE]]=VLOOKUP(Obor,TabObor[],2,0),1,0)","v":0},{"$f":"IF(StatData[[#This Row],[Region]]=VLOOKUP(Region,TabRegion[],2,0),1,0)","v":0},{"$f":"IF(StatData[[#This Row],[Vzdělání]]=Vzdělání,1,0)","v":0},{"$f":"IF(StatData[[#This Row],[Pohlaví]]=Pohlaví,1,0)","v":0},{"$f":"IF(StatData[[#This Row],[Věk]]=Věk,1,0)","v":0},489,"Zdravotnictví",3,"Střední bez maturity","Muž","55 a více let",2045.28454589844,41374.231850892298,25755.416956392499,27203.964674561699,28060.129148108001,29040.508004754,29835.207350834899,30493.432400000002,31166.3098782011,31784.6143598811,32324.509863507901,32924.185231452502,33569.380325621401,34231.429106823198,34737.911217563997,35477.044194205002,35973.783435647099,36415.684144849198,36852.463740928899,37519.413059791201,38199.432961715502,39388.253560803401,40742.766751982097,42433.0821030308,44349.674447615798,47029.7644757487,50152.010131044102,55147.5251119635,62535.643279621501,69065.182861607303]
[{"$f":"IF(AND(StatData[[#This Row],[Shoda: Seskupený CZ-NACE]],StatData[[#This Row],[Shoda: Region]],StatData[[#This Row],[Shoda: Vzdělání]],StatData[[#This Row],[Shoda: Pohlaví]],StatData[[#This Row],[Shoda: Věk]]),1,0)","v":0},{"$f":"IF(StatData[[#This Row],[Seskupený CZ-NACE]]=VLOOKUP(Obor,TabObor[],2,0),1,0)","v":0},{"$f":"IF(StatData[[#This Row],[Region]]=VLOOKUP(Region,TabRegion[],2,0),1,0)","v":0},{"$f":"IF(StatData[[#This Row],[Vzdělání]]=Vzdělání,1,0)","v":0},{"$f":"IF(StatData[[#This Row],[Pohlaví]]=Pohlaví,1,0)","v":1},{"$f":"IF(StatData[[#This Row],[Věk]]=Věk,1,0)","v":1},490,"Zdravotnictví",3,"Střední bez maturity","Žena","do 34 let    ",1196.32458496094,32918.341760368297,23479.075400000002,24289.487000000001,24917.036359062,25605.530200000001,26201.568645475101,26697.651999992799,27340.8170766082,27723.090899999999,28281.581802347999,28724.5960997478,29013.6666,29464.003025948001,30048.7749605672,30375.338395573199,30764.183440396399,31181.4819480568,31638.8369066021,32054.192459657399,32520.873604356799,33321.908387066898,34120.3358890823,35050.678079331599,36009.074837745102,37019.901963588702,38264.401158599998,39316.489643128603,40919.823503424901,43394.807044210698]
[{"$f":"IF(AND(StatData[[#This Row],[Shoda: Seskupený CZ-NACE]],StatData[[#This Row],[Shoda: Region]],StatData[[#This Row],[Shoda: Vzdělání]],StatData[[#This Row],[Shoda: Pohlaví]],StatData[[#This Row],[Shoda: Věk]]),1,0)","v":0},{"$f":"IF(StatData[[#This Row],[Seskupený CZ-NACE]]=VLOOKUP(Obor,TabObor[],2,0),1,0)","v":0},{"$f":"IF(StatData[[#This Row],[Region]]=VLOOKUP(Region,TabRegion[],2,0),1,0)","v":0},{"$f":"IF(StatData[[#This Row],[Vzdělání]]=Vzdělání,1,0)","v":0},{"$f":"IF(StatData[[#This Row],[Pohlaví]]=Pohlaví,1,0)","v":1},{"$f":"IF(StatData[[#This Row],[Věk]]=Věk,1,0)","v":0},491,"Zdravotnictví",3,"Střední bez maturity","Žena","35 až 54 let ",7467.56103515625,32922.145327897597,22247.851699999999,23527.310399999998,24546.093487019501,25173.25,25899.983438341798,26476.508962942899,27092.559400262398,27531.971209060099,27719.25,28216.877340549501,28673.369080310898,28970.793591574398,29459.049124899298,29916.1335,30348.815276293099,30762.910594036799,31257.571420407901,31715.1756320758,32197.466596721999,33199.794426324203,34282.693263011402,35285.942409350697,36294.0162978679,37437.496169542603,38761.293008995803,40161.598889012399,41913.556570480199,44954.7704738377]
[{"$f":"IF(AND(StatData[[#This Row],[Shoda: Seskupený CZ-NACE]],StatData[[#This Row],[Shoda: Region]],StatData[[#This Row],[Shoda: Vzdělání]],StatData[[#This Row],[Shoda: Pohlaví]],StatData[[#This Row],[Shoda: Věk]]),1,0)","v":0},{"$f":"IF(StatData[[#This Row],[Seskupený CZ-NACE]]=VLOOKUP(Obor,TabObor[],2,0),1,0)","v":0},{"$f":"IF(StatData[[#This Row],[Region]]=VLOOKUP(Region,TabRegion[],2,0),1,0)","v":0},{"$f":"IF(StatData[[#This Row],[Vzdělání]]=Vzdělání,1,0)","v":0},{"$f":"IF(StatData[[#This Row],[Pohlaví]]=Pohlaví,1,0)","v":1},{"$f":"IF(StatData[[#This Row],[Věk]]=Věk,1,0)","v":0},492,"Zdravotnictví",3,"Střední bez maturity","Žena","55 a více let",4072.66479492188,33246.656314452601,23080.833299999998,23909.6666,24562,25301.196499999998,25932.506758601499,26473.606966655301,26987.991928239699,27510.5,27981.9166,28387.7988317739,28851.75,29381.421976955698,29842.000025188099,30308.448702721998,30803.396264413299,31268.2922165526,31366.357650301299,31472.201929730702,32025.070375657699,33070.010047023097,34092.894670538,35166.297880264101,36417.526341467397,37811.391484323001,39233.833546178903,40751.676869084098,42697.157810882098,45872.243994579301]
[{"$f":"IF(AND(StatData[[#This Row],[Shoda: Seskupený CZ-NACE]],StatData[[#This Row],[Shoda: Region]],StatData[[#This Row],[Shoda: Vzdělání]],StatData[[#This Row],[Shoda: Pohlaví]],StatData[[#This Row],[Shoda: Věk]]),1,0)","v":0},{"$f":"IF(StatData[[#This Row],[Seskupený CZ-NACE]]=VLOOKUP(Obor,TabObor[],2,0),1,0)","v":0},{"$f":"IF(StatData[[#This Row],[Region]]=VLOOKUP(Region,TabRegion[],2,0),1,0)","v":0},{"$f":"IF(StatData[[#This Row],[Vzdělání]]=Vzdělání,1,0)","v":1},{"$f":"IF(StatData[[#This Row],[Pohlaví]]=Pohlaví,1,0)","v":0},{"$f":"IF(StatData[[#This Row],[Věk]]=Věk,1,0)","v":1},493,"Zdravotnictví",3,"Střední s maturitou a vyšší odborné","Muž","do 34 let    ",1669.20739746094,49197.923410950898,28686.112916266,30100.322800000002,31241.717000000001,32697.0388190249,34228.129365320099,35137.445535303603,36423.217264963998,37989.433514775897,39058.384970884697,40167.488503388602,40823.245336284403,41517.447161639102,42138.226846284299,43178.115486247603,44166.9207156017,45248.542586659001,46218.382181945497,46967.896359003797,47812.141914096501,49988.030669861197,51894.172564469904,53891.821718659703,55927.2361098888,57890.677000962503,60853.454491325203,64177.378344227698,68694.440038975503,73550.895304039994]
[{"$f":"IF(AND(StatData[[#This Row],[Shoda: Seskupený CZ-NACE]],StatData[[#This Row],[Shoda: Region]],StatData[[#This Row],[Shoda: Vzdělání]],StatData[[#This Row],[Shoda: Pohlaví]],StatData[[#This Row],[Shoda: Věk]]),1,0)","v":0},{"$f":"IF(StatData[[#This Row],[Seskupený CZ-NACE]]=VLOOKUP(Obor,TabObor[],2,0),1,0)","v":0},{"$f":"IF(StatData[[#This Row],[Region]]=VLOOKUP(Region,TabRegion[],2,0),1,0)","v":0},{"$f":"IF(StatData[[#This Row],[Vzdělání]]=Vzdělání,1,0)","v":1},{"$f":"IF(StatData[[#This Row],[Pohlaví]]=Pohlaví,1,0)","v":0},{"$f":"IF(StatData[[#This Row],[Věk]]=Věk,1,0)","v":0},494,"Zdravotnictví",3,"Střední s maturitou a vyšší odborné","Muž","35 až 54 let ",3934.44018554688,53433.240406939804,23740.6903882689,27378.098518720501,29847.5928498617,31496.981432893499,33620.869589802402,34534.252337995298,34695.895683182804,35502.360147500702,36930.572950683403,38446.047889572299,39742.961495017102,41104.445423802797,42543.760723455198,44074.2825486808,45721.253002102203,47355.356013635203,49028.234563231003,50664.708148888902,51585.008077049002,54302.305239184403,58066.668988907899,61188.467773610799,64311.393917154099,67181.389930229503,69923.8492747501,73599.128951737104,77417.387456371405,83910.976850169507]
[{"$f":"IF(AND(StatData[[#This Row],[Shoda: Seskupený CZ-NACE]],StatData[[#This Row],[Shoda: Region]],StatData[[#This Row],[Shoda: Vzdělání]],StatData[[#This Row],[Shoda: Pohlaví]],StatData[[#This Row],[Shoda: Věk]]),1,0)","v":0},{"$f":"IF(StatData[[#This Row],[Seskupený CZ-NACE]]=VLOOKUP(Obor,TabObor[],2,0),1,0)","v":0},{"$f":"IF(StatData[[#This Row],[Region]]=VLOOKUP(Region,TabRegion[],2,0),1,0)","v":0},{"$f":"IF(StatData[[#This Row],[Vzdělání]]=Vzdělání,1,0)","v":1},{"$f":"IF(StatData[[#This Row],[Pohlaví]]=Pohlaví,1,0)","v":0},{"$f":"IF(StatData[[#This Row],[Věk]]=Věk,1,0)","v":0},495,"Zdravotnictví",3,"Střední s maturitou a vyšší odborné","Muž","55 a více let",1392.9189453125,52357.255608009596,27817.467694188999,29267.443999306801,30545.047600000002,31497.2388324397,32838.951475087502,33641.530635292402,34304.316076613803,34748.038386146603,35780.319546886101,36691.0412965656,37422.855510771202,38438.577269720001,39662.591722644298,40654.763582989603,41588.491735043899,42530.676580902997,43567.891772158197,44628.106689058797,45955.321313280299,47855.749856652001,50917.942306796998,53854.345822771204,57234.030208469099,61714.050811998597,66267.728917350207,70220.051235163497,75784.6316756304,85590.453180252807]
[{"$f":"IF(AND(StatData[[#This Row],[Shoda: Seskupený CZ-NACE]],StatData[[#This Row],[Shoda: Region]],StatData[[#This Row],[Shoda: Vzdělání]],StatData[[#This Row],[Shoda: Pohlaví]],StatData[[#This Row],[Shoda: Věk]]),1,0)","v":0},{"$f":"IF(StatData[[#This Row],[Seskupený CZ-NACE]]=VLOOKUP(Obor,TabObor[],2,0),1,0)","v":0},{"$f":"IF(StatData[[#This Row],[Region]]=VLOOKUP(Region,TabRegion[],2,0),1,0)","v":0},{"$f":"IF(StatData[[#This Row],[Vzdělání]]=Vzdělání,1,0)","v":1},{"$f":"IF(StatData[[#This Row],[Pohlaví]]=Pohlaví,1,0)","v":1},{"$f":"IF(StatData[[#This Row],[Věk]]=Věk,1,0)","v":1},496,"Zdravotnictví",3,"Střední s maturitou a vyšší odborné","Žena","do 34 let    ",8598.3349609375,43790.737850433303,26586.1693261972,27840.282190294802,29068.567005069901,29988.0778787893,31693.644118141001,33245.801890702904,34345.696547758198,35244.036012567398,35905.421636265302,36212.657159445,36869.6369972256,37634.891193016898,38255.700712842503,39308.942630946003,39668.821600723502,40639.1809923693,41731.881841185903,42207.709888231402,43083.475963702498,44718.423892793297,45792.644183934499,47381.7190318332,49254.541545815198,51011.796341071196,53061.113687105099,55308.509172462298,58490.960350339599,63434.694259231001]
[{"$f":"IF(AND(StatData[[#This Row],[Shoda: Seskupený CZ-NACE]],StatData[[#This Row],[Shoda: Region]],StatData[[#This Row],[Shoda: Vzdělání]],StatData[[#This Row],[Shoda: Pohlaví]],StatData[[#This Row],[Shoda: Věk]]),1,0)","v":0},{"$f":"IF(StatData[[#This Row],[Seskupený CZ-NACE]]=VLOOKUP(Obor,TabObor[],2,0),1,0)","v":0},{"$f":"IF(StatData[[#This Row],[Region]]=VLOOKUP(Region,TabRegion[],2,0),1,0)","v":0},{"$f":"IF(StatData[[#This Row],[Vzdělání]]=Vzdělání,1,0)","v":1},{"$f":"IF(StatData[[#This Row],[Pohlaví]]=Pohlaví,1,0)","v":1},{"$f":"IF(StatData[[#This Row],[Věk]]=Věk,1,0)","v":0},497,"Zdravotnictví",3,"Střední s maturitou a vyšší odborné","Žena","35 až 54 let ",33415.18359375,49960.36663746,27335.8290881268,28357.340473576802,30021.833299999998,30752.802697823601,31987.7623239446,33319.535159330801,33991.4344852016,34903.480918020898,36103.195989482803,37646.616411878902,38916.702532953597,40158.775158643999,41733.526958197603,42591.967121452399,43714.435318178301,44924.537995213002,46113.887667032097,47491.620414848301,48291.339166761303,50920.882003143197,53255.286711130298,56018.2172163793,58534.614405516899,61301.104817566702,64101.675934152103,67311.921652089601,71185.720875696104,77375.5413923421]
[{"$f":"IF(AND(StatData[[#This Row],[Shoda: Seskupený CZ-NACE]],StatData[[#This Row],[Shoda: Region]],StatData[[#This Row],[Shoda: Vzdělání]],StatData[[#This Row],[Shoda: Pohlaví]],StatData[[#This Row],[Shoda: Věk]]),1,0)","v":0},{"$f":"IF(StatData[[#This Row],[Seskupený CZ-NACE]]=VLOOKUP(Obor,TabObor[],2,0),1,0)","v":0},{"$f":"IF(StatData[[#This Row],[Region]]=VLOOKUP(Region,TabRegion[],2,0),1,0)","v":0},{"$f":"IF(StatData[[#This Row],[Vzdělání]]=Vzdělání,1,0)","v":1},{"$f":"IF(StatData[[#This Row],[Pohlaví]]=Pohlaví,1,0)","v":1},{"$f":"IF(StatData[[#This Row],[Věk]]=Věk,1,0)","v":0},498,"Zdravotnictví",3,"Střední s maturitou a vyšší odborné","Žena","55 a více let",15585.103515625,51019.717305390302,27433.495419346102,27537.726309791,29365.257826434401,30762.283779601599,31501.695350337101,32438.3955685131,33929.669241880903,35770.329459198801,36440.070042064697,37539.658391598103,39041.516919082504,40215.668563324602,41279.128996685402,42389.030661921301,43984.2371826245,44905.676129309097,45714.507916420902,47257.156578783797,48644.0678398698,51185.360501757903,53738.572812820399,57138.119872260999,60184.212486153498,63558.951086927002,66641.459694040503,70142.853634502695,74374.522156873296,80955.899430486301]
[{"$f":"IF(AND(StatData[[#This Row],[Shoda: Seskupený CZ-NACE]],StatData[[#This Row],[Shoda: Region]],StatData[[#This Row],[Shoda: Vzdělání]],StatData[[#This Row],[Shoda: Pohlaví]],StatData[[#This Row],[Shoda: Věk]]),1,0)","v":0},{"$f":"IF(StatData[[#This Row],[Seskupený CZ-NACE]]=VLOOKUP(Obor,TabObor[],2,0),1,0)","v":0},{"$f":"IF(StatData[[#This Row],[Region]]=VLOOKUP(Region,TabRegion[],2,0),1,0)","v":0},{"$f":"IF(StatData[[#This Row],[Vzdělání]]=Vzdělání,1,0)","v":0},{"$f":"IF(StatData[[#This Row],[Pohlaví]]=Pohlaví,1,0)","v":0},{"$f":"IF(StatData[[#This Row],[Věk]]=Věk,1,0)","v":1},499,"Zdravotnictví",3,"Vysokoškolské ","Muž","do 34 let    ",3442.7578125,82965.9694269959,34963.456703456301,38043.123639606398,41652.384510608797,43042.861951657302,46348.364483701997,49578.423340073299,51793.853985210299,53053.316440467599,55131.901684154698,56614.686571542799,58627.111851038302,60774.9945682697,62766.601493574002,63631.640209930003,66021.001396081003,68114.587504212395,68681.059667629204,70331.648692435803,73061.186706964596,78874.754329806005,86376.0597961444,93529.039823024897,99744.036859374595,105897.464674995,114324.841894371,123425.77993554399,136891.45261506599,151467.523349397]
[{"$f":"IF(AND(StatData[[#This Row],[Shoda: Seskupený CZ-NACE]],StatData[[#This Row],[Shoda: Region]],StatData[[#This Row],[Shoda: Vzdělání]],StatData[[#This Row],[Shoda: Pohlaví]],StatData[[#This Row],[Shoda: Věk]]),1,0)","v":0},{"$f":"IF(StatData[[#This Row],[Seskupený CZ-NACE]]=VLOOKUP(Obor,TabObor[],2,0),1,0)","v":0},{"$f":"IF(StatData[[#This Row],[Region]]=VLOOKUP(Region,TabRegion[],2,0),1,0)","v":0},{"$f":"IF(StatData[[#This Row],[Vzdělání]]=Vzdělání,1,0)","v":0},{"$f":"IF(StatData[[#This Row],[Pohlaví]]=Pohlaví,1,0)","v":0},{"$f":"IF(StatData[[#This Row],[Věk]]=Věk,1,0)","v":0},500,"Zdravotnictví",3,"Vysokoškolské ","Muž","35 až 54 let ",6559.142578125,113544.89516859,30555.137249302999,37516.553945778498,39458.574780549097,40335.446003067198,43784.300746264802,44981.638971473301,46637.630431612401,51633.577872314301,56768.525394201097,60610.963023485703,64699.351580182301,68764.006084664798,70452.232414366998,73705.740342203993,77893.670967406098,83418.492878606106,90097.795997439098,93769.947579280895,96872.885064639893,105899.28935591099,121425.593366482,134796.56049161099,147745.85504114901,159350.98205810401,170137.272073664,183526.81890256799,203261.98865960099,234939.29646435301]
[{"$f":"IF(AND(StatData[[#This Row],[Shoda: Seskupený CZ-NACE]],StatData[[#This Row],[Shoda: Region]],StatData[[#This Row],[Shoda: Vzdělání]],StatData[[#This Row],[Shoda: Pohlaví]],StatData[[#This Row],[Shoda: Věk]]),1,0)","v":0},{"$f":"IF(StatData[[#This Row],[Seskupený CZ-NACE]]=VLOOKUP(Obor,TabObor[],2,0),1,0)","v":0},{"$f":"IF(StatData[[#This Row],[Region]]=VLOOKUP(Region,TabRegion[],2,0),1,0)","v":0},{"$f":"IF(StatData[[#This Row],[Vzdělání]]=Vzdělání,1,0)","v":0},{"$f":"IF(StatData[[#This Row],[Pohlaví]]=Pohlaví,1,0)","v":0},{"$f":"IF(StatData[[#This Row],[Věk]]=Věk,1,0)","v":0},501,"Zdravotnictví",3,"Vysokoškolské ","Muž","55 a více let",3311.77026367188,114922.799892689,28038.359910937201,29441.891896731599,37182.959047361197,41226.632211819699,41496.097259032496,42123.426460634801,46794.752910208503,46794.752910208503,53928.7164315095,57202.359250964299,57202.359250964299,60765.384680000003,69061.213871662098,71489.922923304795,75404.249470377094,81796.697365340398,86891.880758072002,93126.3509030446,98844.7826654854,108555.576998597,121903.707495656,134620.38669831399,147803.73303903799,162148.39924973299,175687.99310078999,190400.997636538,209258.13723910201,245185.245190438]
[{"$f":"IF(AND(StatData[[#This Row],[Shoda: Seskupený CZ-NACE]],StatData[[#This Row],[Shoda: Region]],StatData[[#This Row],[Shoda: Vzdělání]],StatData[[#This Row],[Shoda: Pohlaví]],StatData[[#This Row],[Shoda: Věk]]),1,0)","v":0},{"$f":"IF(StatData[[#This Row],[Seskupený CZ-NACE]]=VLOOKUP(Obor,TabObor[],2,0),1,0)","v":0},{"$f":"IF(StatData[[#This Row],[Region]]=VLOOKUP(Region,TabRegion[],2,0),1,0)","v":0},{"$f":"IF(StatData[[#This Row],[Vzdělání]]=Vzdělání,1,0)","v":0},{"$f":"IF(StatData[[#This Row],[Pohlaví]]=Pohlaví,1,0)","v":1},{"$f":"IF(StatData[[#This Row],[Věk]]=Věk,1,0)","v":1},502,"Zdravotnictví",3,"Vysokoškolské ","Žena","do 34 let    ",8755.75,61677.381023969399,31268.704967514601,32066.993509354201,35170.128105545402,37002.9863404352,38380.485142876198,39625.043258281497,41311.355906205798,42293.028566773202,43519.694714465499,44611.171949854099,46004.637186669301,46940.875593189201,48271.015679167896,49025.666290237001,50263.163085955202,51266.852211883699,52468.697091961003,53372.351348597302,54670.509827398499,56986.855191424802,59782.5582693955,62279.831797538201,66014.745843050798,70839.929053312298,78478.797732995605,88665.491356329003,100661.950808068,115828.75989063999]
[{"$f":"IF(AND(StatData[[#This Row],[Shoda: Seskupený CZ-NACE]],StatData[[#This Row],[Shoda: Region]],StatData[[#This Row],[Shoda: Vzdělání]],StatData[[#This Row],[Shoda: Pohlaví]],StatData[[#This Row],[Shoda: Věk]]),1,0)","v":0},{"$f":"IF(StatData[[#This Row],[Seskupený CZ-NACE]]=VLOOKUP(Obor,TabObor[],2,0),1,0)","v":0},{"$f":"IF(StatData[[#This Row],[Region]]=VLOOKUP(Region,TabRegion[],2,0),1,0)","v":0},{"$f":"IF(StatData[[#This Row],[Vzdělání]]=Vzdělání,1,0)","v":0},{"$f":"IF(StatData[[#This Row],[Pohlaví]]=Pohlaví,1,0)","v":1},{"$f":"IF(StatData[[#This Row],[Věk]]=Věk,1,0)","v":0},503,"Zdravotnictví",3,"Vysokoškolské ","Žena","35 až 54 let ",15747.322265625,70646.527015421598,29376.933876425199,30551.759757976601,33555.398653698197,36003.349628415497,38274.903841146799,40824.159476468798,42735.391172761003,43202.392628046102,44190.746722667202,46013.147018820702,48053.008825655997,49351.506452252703,50833.290707994303,52427.127804804499,53897.6083058941,55803.245176664197,57532.510875688902,59041.2303962921,60945.723265684901,63864.336280007301,66789.187545912602,70977.781901874594,75853.411621519903,82911.804067477104,90137.600175205895,101888.827348494,123925.35651975901,152916.39449830999]
[{"$f":"IF(AND(StatData[[#This Row],[Shoda: Seskupený CZ-NACE]],StatData[[#This Row],[Shoda: Region]],StatData[[#This Row],[Shoda: Vzdělání]],StatData[[#This Row],[Shoda: Pohlaví]],StatData[[#This Row],[Shoda: Věk]]),1,0)","v":0},{"$f":"IF(StatData[[#This Row],[Seskupený CZ-NACE]]=VLOOKUP(Obor,TabObor[],2,0),1,0)","v":0},{"$f":"IF(StatData[[#This Row],[Region]]=VLOOKUP(Region,TabRegion[],2,0),1,0)","v":0},{"$f":"IF(StatData[[#This Row],[Vzdělání]]=Vzdělání,1,0)","v":0},{"$f":"IF(StatData[[#This Row],[Pohlaví]]=Pohlaví,1,0)","v":1},{"$f":"IF(StatData[[#This Row],[Věk]]=Věk,1,0)","v":0},504,"Zdravotnictví",3,"Vysokoškolské ","Žena","55 a více let",5354.78369140625,77068.239624525901,23602.6950633333,25011.9121210833,28087.956390321899,28771.762022324601,29930.338458465099,31442.9900671252,34076.030781893998,41357.416313356203,42735.391172761003,43865.180556507003,47038.752510998398,50454.034614925302,52460.9810185565,54532.159538695501,55259.876760287203,57944.751678599598,58062.723751599799,61607.211834889102,64850.7878106723,71146.939552623502,78059.406520044795,86084.772541838698,95745.319654926803,99163.145367931502,107558.588250835,122444.72283497,141878.81718739599,169925.75335105101]
[{"$f":"IF(AND(StatData[[#This Row],[Shoda: Seskupený CZ-NACE]],StatData[[#This Row],[Shoda: Region]],StatData[[#This Row],[Shoda: Vzdělání]],StatData[[#This Row],[Shoda: Pohlaví]],StatData[[#This Row],[Shoda: Věk]]),1,0)","v":0},{"$f":"IF(StatData[[#This Row],[Seskupený CZ-NACE]]=VLOOKUP(Obor,TabObor[],2,0),1,0)","v":0},{"$f":"IF(StatData[[#This Row],[Region]]=VLOOKUP(Region,TabRegion[],2,0),1,0)","v":1},{"$f":"IF(StatData[[#This Row],[Vzdělání]]=Vzdělání,1,0)","v":0},{"$f":"IF(StatData[[#This Row],[Pohlaví]]=Pohlaví,1,0)","v":0},{"$f":"IF(StatData[[#This Row],[Věk]]=Věk,1,0)","v":1},505,"Sociální služby",1,"Střední bez maturity","Muž","do 34 let    ",70.091850280761705,37935.566752077102,"*","*","*","*","*","*","*","*",33213.488700000002,"*","*","*","*","*","*","*","*","*",38288.473051551497,"*","*","*","*",41522.468772011503,"*","*","*","*"]
[{"$f":"IF(AND(StatData[[#This Row],[Shoda: Seskupený CZ-NACE]],StatData[[#This Row],[Shoda: Region]],StatData[[#This Row],[Shoda: Vzdělání]],StatData[[#This Row],[Shoda: Pohlaví]],StatData[[#This Row],[Shoda: Věk]]),1,0)","v":0},{"$f":"IF(StatData[[#This Row],[Seskupený CZ-NACE]]=VLOOKUP(Obor,TabObor[],2,0),1,0)","v":0},{"$f":"IF(StatData[[#This Row],[Region]]=VLOOKUP(Region,TabRegion[],2,0),1,0)","v":1},{"$f":"IF(StatData[[#This Row],[Vzdělání]]=Vzdělání,1,0)","v":0},{"$f":"IF(StatData[[#This Row],[Pohlaví]]=Pohlaví,1,0)","v":0},{"$f":"IF(StatData[[#This Row],[Věk]]=Věk,1,0)","v":0},506,"Sociální služby",1,"Střední bez maturity","Muž","35 až 54 let ",162.78240966796901,41217.095095756202,27114.833299999998,29198.7399,30590.4619351523,31761.337899999999,32647.704900000001,33455.839800000002,33905.666599999997,34422.836505504703,35001.184699999998,35626.166599999997,36206.480379465203,36619.239075274803,37301.703679975501,37847.253518157202,38265.931899363102,38823.809509650702,38944.584951120902,39602.334276559202,40070.4621985989,41003.684671902702,41962.895949029502,43476.4282993585,45440.103632635801,46945.228621919799,49491.077239376697,51332.317402027402,55871.049431516301,58046.029704052897]
[{"$f":"IF(AND(StatData[[#This Row],[Shoda: Seskupený CZ-NACE]],StatData[[#This Row],[Shoda: Region]],StatData[[#This Row],[Shoda: Vzdělání]],StatData[[#This Row],[Shoda: Pohlaví]],StatData[[#This Row],[Shoda: Věk]]),1,0)","v":0},{"$f":"IF(StatData[[#This Row],[Seskupený CZ-NACE]]=VLOOKUP(Obor,TabObor[],2,0),1,0)","v":0},{"$f":"IF(StatData[[#This Row],[Region]]=VLOOKUP(Region,TabRegion[],2,0),1,0)","v":1},{"$f":"IF(StatData[[#This Row],[Vzdělání]]=Vzdělání,1,0)","v":0},{"$f":"IF(StatData[[#This Row],[Pohlaví]]=Pohlaví,1,0)","v":0},{"$f":"IF(StatData[[#This Row],[Věk]]=Věk,1,0)","v":0},507,"Sociální služby",1,"Střední bez maturity","Muž","55 a více let",157.35331726074199,38710.688977475802,28381.7337863461,29268.6766334323,30151.5,30419,31234.6666,31835.9835610341,32115.184799999999,32431.083299999998,33610.4807,34050.824800000002,34166.083299999998,34694.833299999998,35300.820699999997,35818.245134739802,36332.760522662902,36806.493211650501,37108.756619813597,37357.703238869901,38350.181225501103,38762.181342362797,39467.3033192289,40055.045066913597,41059.558845041502,42764.372383586197,45611.757530604402,47205.7429746864,49118.495639119901,53354.674351992297]
[{"$f":"IF(AND(StatData[[#This Row],[Shoda: Seskupený CZ-NACE]],StatData[[#This Row],[Shoda: Region]],StatData[[#This Row],[Shoda: Vzdělání]],StatData[[#This Row],[Shoda: Pohlaví]],StatData[[#This Row],[Shoda: Věk]]),1,0)","v":0},{"$f":"IF(StatData[[#This Row],[Seskupený CZ-NACE]]=VLOOKUP(Obor,TabObor[],2,0),1,0)","v":0},{"$f":"IF(StatData[[#This Row],[Region]]=VLOOKUP(Region,TabRegion[],2,0),1,0)","v":1},{"$f":"IF(StatData[[#This Row],[Vzdělání]]=Vzdělání,1,0)","v":0},{"$f":"IF(StatData[[#This Row],[Pohlaví]]=Pohlaví,1,0)","v":1},{"$f":"IF(StatData[[#This Row],[Věk]]=Věk,1,0)","v":1},508,"Sociální služby",1,"Střední bez maturity","Žena","do 34 let    ",192.69372558593801,39678.099541800198,28246.135672265598,29716.743859902799,31024.581300000002,32290.941599999998,33293.691299999999,33846.107566315397,34133.849073843703,34731.503499999999,35194.015301749503,35302.380799999999,35700.092734080499,36029.099124769498,36883.8393252026,37643.4014516475,38037.368794250899,38609.869351199697,38933.082919934801,39102.090723559602,39294.637928973199,39749.021646299603,41126.313914938699,42686.069513759801,44119.563789724198,44602.908169588802,45823.223873331801,46900.307703221399,48526.178824219503,50140.349605935597]
[{"$f":"IF(AND(StatData[[#This Row],[Shoda: Seskupený CZ-NACE]],StatData[[#This Row],[Shoda: Region]],StatData[[#This Row],[Shoda: Vzdělání]],StatData[[#This Row],[Shoda: Pohlaví]],StatData[[#This Row],[Shoda: Věk]]),1,0)","v":0},{"$f":"IF(StatData[[#This Row],[Seskupený CZ-NACE]]=VLOOKUP(Obor,TabObor[],2,0),1,0)","v":0},{"$f":"IF(StatData[[#This Row],[Region]]=VLOOKUP(Region,TabRegion[],2,0),1,0)","v":1},{"$f":"IF(StatData[[#This Row],[Vzdělání]]=Vzdělání,1,0)","v":0},{"$f":"IF(StatData[[#This Row],[Pohlaví]]=Pohlaví,1,0)","v":1},{"$f":"IF(StatData[[#This Row],[Věk]]=Věk,1,0)","v":0},509,"Sociální služby",1,"Střední bez maturity","Žena","35 až 54 let ",735.34729003906295,38569.488640435004,25442.072199999999,27001.1522616498,27924.314320807702,28504.130514700701,28936.1281157169,29839.684112315699,31016.75,31603.942484657899,32303.775099999999,32971.611700000001,33813.25,34377.760522773999,34904.427698187399,35136.788703951301,35724.565199999997,36317.340030972002,36635.145119470901,37149.015033670803,37921.169264664502,39154.644968516201,40246.699653112802,41636.644567117,42854.127970312496,44490.251295361901,45774.032203484399,47558.456539760402,49610.754684977102,52577.889226713902]
[{"$f":"IF(AND(StatData[[#This Row],[Shoda: Seskupený CZ-NACE]],StatData[[#This Row],[Shoda: Region]],StatData[[#This Row],[Shoda: Vzdělání]],StatData[[#This Row],[Shoda: Pohlaví]],StatData[[#This Row],[Shoda: Věk]]),1,0)","v":0},{"$f":"IF(StatData[[#This Row],[Seskupený CZ-NACE]]=VLOOKUP(Obor,TabObor[],2,0),1,0)","v":0},{"$f":"IF(StatData[[#This Row],[Region]]=VLOOKUP(Region,TabRegion[],2,0),1,0)","v":1},{"$f":"IF(StatData[[#This Row],[Vzdělání]]=Vzdělání,1,0)","v":0},{"$f":"IF(StatData[[#This Row],[Pohlaví]]=Pohlaví,1,0)","v":1},{"$f":"IF(StatData[[#This Row],[Věk]]=Věk,1,0)","v":0},510,"Sociální služby",1,"Střední bez maturity","Žena","55 a více let",464.93572998046898,39362.765460543997,26541.034100000001,28108.2209,28290.093799999999,29697.253910895601,30194.105644637599,31317.113399999998,31608.473731344198,31979,32754.510999999999,33273.333299999998,33962.996400000004,35252.666599999997,35904.376146446499,36758.378112817998,37188.037748300703,37505.107046120902,37756.8533626563,38341.364761721597,38518.975018876299,39753.824303180103,40719.504540018599,41922.814898882498,43668.531361461901,45137.6866327397,46843.385982462998,49118.085056607903,50654.520608904,53881.828227867503]
[{"$f":"IF(AND(StatData[[#This Row],[Shoda: Seskupený CZ-NACE]],StatData[[#This Row],[Shoda: Region]],StatData[[#This Row],[Shoda: Vzdělání]],StatData[[#This Row],[Shoda: Pohlaví]],StatData[[#This Row],[Shoda: Věk]]),1,0)","v":0},{"$f":"IF(StatData[[#This Row],[Seskupený CZ-NACE]]=VLOOKUP(Obor,TabObor[],2,0),1,0)","v":0},{"$f":"IF(StatData[[#This Row],[Region]]=VLOOKUP(Region,TabRegion[],2,0),1,0)","v":1},{"$f":"IF(StatData[[#This Row],[Vzdělání]]=Vzdělání,1,0)","v":1},{"$f":"IF(StatData[[#This Row],[Pohlaví]]=Pohlaví,1,0)","v":0},{"$f":"IF(StatData[[#This Row],[Věk]]=Věk,1,0)","v":1},511,"Sociální služby",1,"Střední s maturitou a vyšší odborné","Muž","do 34 let    ",146.06353759765599,42061.649987407101,30554.632707856399,31812.559905261998,33762.708899999998,34023.445500000002,34854.640200000002,35262.666599999997,35815.870074981802,36148.2170996368,36866.404077370898,37258.079235888297,37527.579066337399,37911.821648871599,38425.423768077097,38988.133152081697,39446.3509545009,39554.041880778001,39971.527813090303,40109.861289484601,40360.916352209701,40930.986292986003,42121.369089699299,44021.938498438802,46896.682349010604,47512.053699768498,48361.102427997299,49816.680642676198,51963.715027204402,55811.151382028598]
[{"$f":"IF(AND(StatData[[#This Row],[Shoda: Seskupený CZ-NACE]],StatData[[#This Row],[Shoda: Region]],StatData[[#This Row],[Shoda: Vzdělání]],StatData[[#This Row],[Shoda: Pohlaví]],StatData[[#This Row],[Shoda: Věk]]),1,0)","v":0},{"$f":"IF(StatData[[#This Row],[Seskupený CZ-NACE]]=VLOOKUP(Obor,TabObor[],2,0),1,0)","v":0},{"$f":"IF(StatData[[#This Row],[Region]]=VLOOKUP(Region,TabRegion[],2,0),1,0)","v":1},{"$f":"IF(StatData[[#This Row],[Vzdělání]]=Vzdělání,1,0)","v":1},{"$f":"IF(StatData[[#This Row],[Pohlaví]]=Pohlaví,1,0)","v":0},{"$f":"IF(StatData[[#This Row],[Věk]]=Věk,1,0)","v":0},512,"Sociální služby",1,"Střední s maturitou a vyšší odborné","Muž","35 až 54 let ",376.49768066406301,53281.830540020601,32152.054247797001,34309.972339970402,35944.895554041002,37079.697360618702,37916.514809206601,38690.169618366497,39455.197129254302,40040.892188654703,40676.508575407497,41355.520056371599,41487.970318072497,41969.119200291898,42506.075911729,43221.055564888702,43493.033051489001,43783.932235476699,44617.411877412698,45233.876552807596,45675.932376127799,47565.465592924003,48557.885140571198,49936.232261224497,52772.7192756894,55639.768216327597,64361.024419945003,72521.505742436595,101238.256273914,103119.594487772]
[{"$f":"IF(AND(StatData[[#This Row],[Shoda: Seskupený CZ-NACE]],StatData[[#This Row],[Shoda: Region]],StatData[[#This Row],[Shoda: Vzdělání]],StatData[[#This Row],[Shoda: Pohlaví]],StatData[[#This Row],[Shoda: Věk]]),1,0)","v":0},{"$f":"IF(StatData[[#This Row],[Seskupený CZ-NACE]]=VLOOKUP(Obor,TabObor[],2,0),1,0)","v":0},{"$f":"IF(StatData[[#This Row],[Region]]=VLOOKUP(Region,TabRegion[],2,0),1,0)","v":1},{"$f":"IF(StatData[[#This Row],[Vzdělání]]=Vzdělání,1,0)","v":1},{"$f":"IF(StatData[[#This Row],[Pohlaví]]=Pohlaví,1,0)","v":0},{"$f":"IF(StatData[[#This Row],[Věk]]=Věk,1,0)","v":0},513,"Sociální služby",1,"Střední s maturitou a vyšší odborné","Muž","55 a více let",139.46536254882801,42986.178055436401,27612.088858835199,30172.333299999998,31236.5759,31569.744454353,33416.707810927197,34191.666599999997,35664.938506721999,36284.429110518802,37135.516835656199,37815.462072150302,38284.401168754302,38290.044499585601,38290.044499585601,38518.285953539496,39217.774381280498,39836.501531804002,40886.1270859836,41455.153865660199,41835.748567651499,43707.569031291103,44556.333577222802,45646.630099681999,46743.3430999181,48049.383508384199,49582.692368784199,52640.087964249899,54935.743783785598,63831.8978411239]
[{"$f":"IF(AND(StatData[[#This Row],[Shoda: Seskupený CZ-NACE]],StatData[[#This Row],[Shoda: Region]],StatData[[#This Row],[Shoda: Vzdělání]],StatData[[#This Row],[Shoda: Pohlaví]],StatData[[#This Row],[Shoda: Věk]]),1,0)","v":0},{"$f":"IF(StatData[[#This Row],[Seskupený CZ-NACE]]=VLOOKUP(Obor,TabObor[],2,0),1,0)","v":0},{"$f":"IF(StatData[[#This Row],[Region]]=VLOOKUP(Region,TabRegion[],2,0),1,0)","v":1},{"$f":"IF(StatData[[#This Row],[Vzdělání]]=Vzdělání,1,0)","v":1},{"$f":"IF(StatData[[#This Row],[Pohlaví]]=Pohlaví,1,0)","v":1},{"$f":"IF(StatData[[#This Row],[Věk]]=Věk,1,0)","v":1},514,"Sociální služby",1,"Střední s maturitou a vyšší odborné","Žena","do 34 let    ",678.19769287109398,41849.059940897998,29633,30424.2355843675,30974.4166,31835.532591187799,32747.4261810961,33795.914186318303,34297.921662090201,35164.503384925702,35730.191656928902,36446.747770824797,37133.390072571798,37412.862259948197,37941.601335521802,38217.5614864296,38595.301123521604,38968.935923876503,39440.586613162202,39924.045844620799,40660.621976003997,41999.569296221503,42964.7785216056,44092.2137576932,45639.8353483424,46840.831813752498,48870.180447764098,51011.647478522696,53465.950923881297,57952.422567840302]
[{"$f":"IF(AND(StatData[[#This Row],[Shoda: Seskupený CZ-NACE]],StatData[[#This Row],[Shoda: Region]],StatData[[#This Row],[Shoda: Vzdělání]],StatData[[#This Row],[Shoda: Pohlaví]],StatData[[#This Row],[Shoda: Věk]]),1,0)","v":0},{"$f":"IF(StatData[[#This Row],[Seskupený CZ-NACE]]=VLOOKUP(Obor,TabObor[],2,0),1,0)","v":0},{"$f":"IF(StatData[[#This Row],[Region]]=VLOOKUP(Region,TabRegion[],2,0),1,0)","v":1},{"$f":"IF(StatData[[#This Row],[Vzdělání]]=Vzdělání,1,0)","v":1},{"$f":"IF(StatData[[#This Row],[Pohlaví]]=Pohlaví,1,0)","v":1},{"$f":"IF(StatData[[#This Row],[Věk]]=Věk,1,0)","v":0},515,"Sociální služby",1,"Střední s maturitou a vyšší odborné","Žena","35 až 54 let ",1572.01794433594,45938.439857363701,30051.119872301599,31858.663970920701,33177.921108040202,34053.120934796403,35070.952718350803,35331.0422681614,36131.089660202997,36619.085896385201,37473.486379543603,37878.159474553802,38523.758262971198,39397.325013060603,40164.8756975336,40909.053904853899,41246.506721886399,42116.791027080399,42745.496204833602,43409.278978992203,43871.477280442698,45152.830467153799,46261.825348156097,47685.596167951197,49274.793457457403,51345.200410921199,54123.239520335897,57995.437556464698,62767.064586335102,69173.4882717867]
[{"$f":"IF(AND(StatData[[#This Row],[Shoda: Seskupený CZ-NACE]],StatData[[#This Row],[Shoda: Region]],StatData[[#This Row],[Shoda: Vzdělání]],StatData[[#This Row],[Shoda: Pohlaví]],StatData[[#This Row],[Shoda: Věk]]),1,0)","v":0},{"$f":"IF(StatData[[#This Row],[Seskupený CZ-NACE]]=VLOOKUP(Obor,TabObor[],2,0),1,0)","v":0},{"$f":"IF(StatData[[#This Row],[Region]]=VLOOKUP(Region,TabRegion[],2,0),1,0)","v":1},{"$f":"IF(StatData[[#This Row],[Vzdělání]]=Vzdělání,1,0)","v":1},{"$f":"IF(StatData[[#This Row],[Pohlaví]]=Pohlaví,1,0)","v":1},{"$f":"IF(StatData[[#This Row],[Věk]]=Věk,1,0)","v":0},516,"Sociální služby",1,"Střední s maturitou a vyšší odborné","Žena","55 a více let",776.428466796875,48537.454312163798,30436.4166,32834.777699999999,33950.083299999998,34946.661472422697,35473.288421384401,35660.5,36440.783422306398,37229.5746179587,37842.539699096204,38897.420543263899,39828.220287976001,40789.971357869297,41444.855200198901,42086.9676108528,43318.691180203998,44311.138110159598,44993.083883432402,45768.898980473503,46759.2942502566,48443.771376693097,50023.7253606823,52451.217563532002,54157.314927742496,56709.6663948977,59477.845415791598,63522.806811912502,67855.054527859102,74070.196268897402]
[{"$f":"IF(AND(StatData[[#This Row],[Shoda: Seskupený CZ-NACE]],StatData[[#This Row],[Shoda: Region]],StatData[[#This Row],[Shoda: Vzdělání]],StatData[[#This Row],[Shoda: Pohlaví]],StatData[[#This Row],[Shoda: Věk]]),1,0)","v":0},{"$f":"IF(StatData[[#This Row],[Seskupený CZ-NACE]]=VLOOKUP(Obor,TabObor[],2,0),1,0)","v":0},{"$f":"IF(StatData[[#This Row],[Region]]=VLOOKUP(Region,TabRegion[],2,0),1,0)","v":1},{"$f":"IF(StatData[[#This Row],[Vzdělání]]=Vzdělání,1,0)","v":0},{"$f":"IF(StatData[[#This Row],[Pohlaví]]=Pohlaví,1,0)","v":0},{"$f":"IF(StatData[[#This Row],[Věk]]=Věk,1,0)","v":1},517,"Sociální služby",1,"Vysokoškolské ","Muž","do 34 let    ",212.80207824707,44481.684202981603,31808.7930386072,"*",34288.815429059498,"*",35868.434488550098,"*",37968.931071420498,"*",38687.985475892303,"*",39889.946445797097,"*",40637.667561554903,"*",41475.620582831703,"*",42861.801238740198,"*",43288.429571865599,44172.7357572408,45996.937320184603,47917.493048692602,48921.121659808399,49069.826134180897,50945.954297177799,53172.856540681001,54778.897402128299,59201.334561281299]
[{"$f":"IF(AND(StatData[[#This Row],[Shoda: Seskupený CZ-NACE]],StatData[[#This Row],[Shoda: Region]],StatData[[#This Row],[Shoda: Vzdělání]],StatData[[#This Row],[Shoda: Pohlaví]],StatData[[#This Row],[Shoda: Věk]]),1,0)","v":0},{"$f":"IF(StatData[[#This Row],[Seskupený CZ-NACE]]=VLOOKUP(Obor,TabObor[],2,0),1,0)","v":0},{"$f":"IF(StatData[[#This Row],[Region]]=VLOOKUP(Region,TabRegion[],2,0),1,0)","v":1},{"$f":"IF(StatData[[#This Row],[Vzdělání]]=Vzdělání,1,0)","v":0},{"$f":"IF(StatData[[#This Row],[Pohlaví]]=Pohlaví,1,0)","v":0},{"$f":"IF(StatData[[#This Row],[Věk]]=Věk,1,0)","v":0},518,"Sociální služby",1,"Vysokoškolské ","Muž","35 až 54 let ",414.66580200195301,56431.539718002197,37350.024206007103,37992.195363706604,39804.733932746603,41155.611092478401,42331.036472311702,42388.822961282,42829.034750662599,42829.034750662599,43111.8862988935,43657.3857373395,44620.523036400104,45120.433087303099,46348.9799551693,47624.624749781498,48467.543319918797,48850.841957494798,49357.437504328198,50397.540225256897,51243.320754695502,53652.351062419497,55745.305817770197,56813.045256540303,59653.037713580998,61083.482590325002,64889.885947742798,70329.558328953499,83406.565300001501,96308.587124414596]
[{"$f":"IF(AND(StatData[[#This Row],[Shoda: Seskupený CZ-NACE]],StatData[[#This Row],[Shoda: Region]],StatData[[#This Row],[Shoda: Vzdělání]],StatData[[#This Row],[Shoda: Pohlaví]],StatData[[#This Row],[Shoda: Věk]]),1,0)","v":0},{"$f":"IF(StatData[[#This Row],[Seskupený CZ-NACE]]=VLOOKUP(Obor,TabObor[],2,0),1,0)","v":0},{"$f":"IF(StatData[[#This Row],[Region]]=VLOOKUP(Region,TabRegion[],2,0),1,0)","v":1},{"$f":"IF(StatData[[#This Row],[Vzdělání]]=Vzdělání,1,0)","v":0},{"$f":"IF(StatData[[#This Row],[Pohlaví]]=Pohlaví,1,0)","v":0},{"$f":"IF(StatData[[#This Row],[Věk]]=Věk,1,0)","v":0},519,"Sociální služby",1,"Vysokoškolské ","Muž","55 a více let",180.90890502929699,58688.334262228498,35521.833299999998,36019.984769685601,37733.184330310003,37851.678376053802,39586.084799777003,40915.483654392599,42650.496178379901,43907.155383590398,45562.463280500699,46306.225721060197,47886.647494108503,47990.0943239021,50514.882153644801,51273.752315693899,52612.463491890201,52657.383898346998,53796.3107613666,55190.016733183002,55781.062666837999,57249.7755398308,60061.158465970897,65090.890504758303,69264.406773074705,71451.626110748097,74441.287825385196,76909.212341858496,79583.8530594888,89389.306875253693]
[{"$f":"IF(AND(StatData[[#This Row],[Shoda: Seskupený CZ-NACE]],StatData[[#This Row],[Shoda: Region]],StatData[[#This Row],[Shoda: Vzdělání]],StatData[[#This Row],[Shoda: Pohlaví]],StatData[[#This Row],[Shoda: Věk]]),1,0)","v":0},{"$f":"IF(StatData[[#This Row],[Seskupený CZ-NACE]]=VLOOKUP(Obor,TabObor[],2,0),1,0)","v":0},{"$f":"IF(StatData[[#This Row],[Region]]=VLOOKUP(Region,TabRegion[],2,0),1,0)","v":1},{"$f":"IF(StatData[[#This Row],[Vzdělání]]=Vzdělání,1,0)","v":0},{"$f":"IF(StatData[[#This Row],[Pohlaví]]=Pohlaví,1,0)","v":1},{"$f":"IF(StatData[[#This Row],[Věk]]=Věk,1,0)","v":1},520,"Sociální služby",1,"Vysokoškolské ","Žena","do 34 let    ",872.46081542968795,43726.595249198399,30318.625920221501,32295.324106810702,33695.2827301652,34800.082464565799,35310.897927609403,36296.725885152598,37324.934116610799,37766.4033923397,38358.8598103892,38677.885013290499,39509.001318213101,40023.871043747,40230.934485262303,41144.451939209197,41657.822477577298,42168.107055618202,42558.074388913803,42944.850320976097,43256.656523548903,44140.622161567502,44478.197458967297,45083.561680283899,46048.830598597699,47457.320616835597,49624.674211461599,52006.094725722702,54318.864991948198,59836.411155626098]
[{"$f":"IF(AND(StatData[[#This Row],[Shoda: Seskupený CZ-NACE]],StatData[[#This Row],[Shoda: Region]],StatData[[#This Row],[Shoda: Vzdělání]],StatData[[#This Row],[Shoda: Pohlaví]],StatData[[#This Row],[Shoda: Věk]]),1,0)","v":0},{"$f":"IF(StatData[[#This Row],[Seskupený CZ-NACE]]=VLOOKUP(Obor,TabObor[],2,0),1,0)","v":0},{"$f":"IF(StatData[[#This Row],[Region]]=VLOOKUP(Region,TabRegion[],2,0),1,0)","v":1},{"$f":"IF(StatData[[#This Row],[Vzdělání]]=Vzdělání,1,0)","v":0},{"$f":"IF(StatData[[#This Row],[Pohlaví]]=Pohlaví,1,0)","v":1},{"$f":"IF(StatData[[#This Row],[Věk]]=Věk,1,0)","v":0},521,"Sociální služby",1,"Vysokoškolské ","Žena","35 až 54 let ",1561.70556640625,48405.611900837001,32793.761110890802,34503.563403590997,35597.090512534298,36828.197264718598,37463.986214435703,37833.476066344003,38852.758012755599,39454.458260571897,39855.356761889401,40355.771330357398,41317.894323683497,41808.256020236302,42506.176436116803,43497.741171178401,43822.749551622197,44205.4659941883,44458.049597502497,45185.269802451898,45994.257507554903,46615.025876316096,48187.536704493803,49146.651466124596,50691.516501358899,53276.921836692003,56259.7555221238,59549.172514850397,65625.595502790005,73017.368436616205]
[{"$f":"IF(AND(StatData[[#This Row],[Shoda: Seskupený CZ-NACE]],StatData[[#This Row],[Shoda: Region]],StatData[[#This Row],[Shoda: Vzdělání]],StatData[[#This Row],[Shoda: Pohlaví]],StatData[[#This Row],[Shoda: Věk]]),1,0)","v":0},{"$f":"IF(StatData[[#This Row],[Seskupený CZ-NACE]]=VLOOKUP(Obor,TabObor[],2,0),1,0)","v":0},{"$f":"IF(StatData[[#This Row],[Region]]=VLOOKUP(Region,TabRegion[],2,0),1,0)","v":1},{"$f":"IF(StatData[[#This Row],[Vzdělání]]=Vzdělání,1,0)","v":0},{"$f":"IF(StatData[[#This Row],[Pohlaví]]=Pohlaví,1,0)","v":1},{"$f":"IF(StatData[[#This Row],[Věk]]=Věk,1,0)","v":0},522,"Sociální služby",1,"Vysokoškolské ","Žena","55 a více let",412.21951293945301,55069.680885928501,36154.818514430699,38752.493552548403,39007.942416257101,39007.942416257101,39632.084488065499,40424.478742931198,40424.478742931198,40432.250572869598,40884.736117085798,41795.6117059975,43290.577210300602,45239.0040729959,46609.268858553602,46980.689208162599,48456.492751591497,49716.632082939897,50895.165868009099,52117.181723185196,52359.132889887798,53478.464819234199,56097.5484359908,57022.464755979403,58468.669518325398,64327.212009972602,64817.275665739799,70510.637476747404,78984.150493365698,85849.722531789506]
[{"$f":"IF(AND(StatData[[#This Row],[Shoda: Seskupený CZ-NACE]],StatData[[#This Row],[Shoda: Region]],StatData[[#This Row],[Shoda: Vzdělání]],StatData[[#This Row],[Shoda: Pohlaví]],StatData[[#This Row],[Shoda: Věk]]),1,0)","v":0},{"$f":"IF(StatData[[#This Row],[Seskupený CZ-NACE]]=VLOOKUP(Obor,TabObor[],2,0),1,0)","v":0},{"$f":"IF(StatData[[#This Row],[Region]]=VLOOKUP(Region,TabRegion[],2,0),1,0)","v":0},{"$f":"IF(StatData[[#This Row],[Vzdělání]]=Vzdělání,1,0)","v":0},{"$f":"IF(StatData[[#This Row],[Pohlaví]]=Pohlaví,1,0)","v":0},{"$f":"IF(StatData[[#This Row],[Věk]]=Věk,1,0)","v":1},523,"Sociální služby",2,"Střední bez maturity","Muž","do 34 let    ",162.62789916992199,35654.030490982797,20044.583299999998,20549.0488,22003.583299999998,24020.726200000001,25322.7716,26668.556100000002,28363.133300000001,29306.739600000001,31080.701211014501,31236.671900000001,32340.824517180299,33055.958727675701,33963.611127957702,34119.305161291202,34982.850992729604,35332.072762097698,35977.842970813399,37159.668606609201,37460.495657936,37605.536090764101,38443.510210016,39363.9963714111,40865.728555160502,41959.379551798796,42954.109141588902,44932.438986894696,45106.241094414603,47417.150461163001]
[{"$f":"IF(AND(StatData[[#This Row],[Shoda: Seskupený CZ-NACE]],StatData[[#This Row],[Shoda: Region]],StatData[[#This Row],[Shoda: Vzdělání]],StatData[[#This Row],[Shoda: Pohlaví]],StatData[[#This Row],[Shoda: Věk]]),1,0)","v":0},{"$f":"IF(StatData[[#This Row],[Seskupený CZ-NACE]]=VLOOKUP(Obor,TabObor[],2,0),1,0)","v":0},{"$f":"IF(StatData[[#This Row],[Region]]=VLOOKUP(Region,TabRegion[],2,0),1,0)","v":0},{"$f":"IF(StatData[[#This Row],[Vzdělání]]=Vzdělání,1,0)","v":0},{"$f":"IF(StatData[[#This Row],[Pohlaví]]=Pohlaví,1,0)","v":0},{"$f":"IF(StatData[[#This Row],[Věk]]=Věk,1,0)","v":0},524,"Sociální služby",2,"Střední bez maturity","Muž","35 až 54 let ",401.42388916015602,37966.794503610203,20499.583299999998,"*",23262.570899999999,"*",28879.836266943399,"*",32077.517264439601,"*",33977.791028634099,"*",35644.974554243498,"*",36718.374185759902,"*",37701.059903635003,"*",38482.473492681798,"*",39598.304093795501,40920.5116925646,42026.926045494904,42319.9505494392,42319.9505494392,42319.9505494392,42574.414748096598,43649.155372078101,45334.3861219432,49436.260724603002]
[{"$f":"IF(AND(StatData[[#This Row],[Shoda: Seskupený CZ-NACE]],StatData[[#This Row],[Shoda: Region]],StatData[[#This Row],[Shoda: Vzdělání]],StatData[[#This Row],[Shoda: Pohlaví]],StatData[[#This Row],[Shoda: Věk]]),1,0)","v":0},{"$f":"IF(StatData[[#This Row],[Seskupený CZ-NACE]]=VLOOKUP(Obor,TabObor[],2,0),1,0)","v":0},{"$f":"IF(StatData[[#This Row],[Region]]=VLOOKUP(Region,TabRegion[],2,0),1,0)","v":0},{"$f":"IF(StatData[[#This Row],[Vzdělání]]=Vzdělání,1,0)","v":0},{"$f":"IF(StatData[[#This Row],[Pohlaví]]=Pohlaví,1,0)","v":0},{"$f":"IF(StatData[[#This Row],[Věk]]=Věk,1,0)","v":0},525,"Sociální služby",2,"Střední bez maturity","Muž","55 a více let",314.00604248046898,37411.706638535397,26190.940299999998,27471.833299999998,28378.317910243899,28378.317910243899,28850.017599999999,29711.282299999999,31147.8610729955,31521.592543041999,32198.070976422601,32819.5,33366.345398719699,33769.170761888898,34504.592888264699,34966.340727675903,35520.661595762998,35856.6867289207,36579.407568880699,36761.650534155502,37380.674684507401,38041.6384826262,38684.854821987203,39202.903104309502,40476.848782087603,41201.156712174401,42496.454432222301,45005.554714020996,47365.623230635101,51059.145005067701]
[{"$f":"IF(AND(StatData[[#This Row],[Shoda: Seskupený CZ-NACE]],StatData[[#This Row],[Shoda: Region]],StatData[[#This Row],[Shoda: Vzdělání]],StatData[[#This Row],[Shoda: Pohlaví]],StatData[[#This Row],[Shoda: Věk]]),1,0)","v":0},{"$f":"IF(StatData[[#This Row],[Seskupený CZ-NACE]]=VLOOKUP(Obor,TabObor[],2,0),1,0)","v":0},{"$f":"IF(StatData[[#This Row],[Region]]=VLOOKUP(Region,TabRegion[],2,0),1,0)","v":0},{"$f":"IF(StatData[[#This Row],[Vzdělání]]=Vzdělání,1,0)","v":0},{"$f":"IF(StatData[[#This Row],[Pohlaví]]=Pohlaví,1,0)","v":1},{"$f":"IF(StatData[[#This Row],[Věk]]=Věk,1,0)","v":1},526,"Sociální služby",2,"Střední bez maturity","Žena","do 34 let    ",532.03259277343795,33180.072613148899,22153.332299999998,24411.083299999998,25479.926100000001,26225.576965938199,26380.447100000001,26792.8094693405,27053.471089423401,27489.5923,27620.687731024998,28162.311837843001,28216.0863905304,29100.0019462825,29878.885399999999,30458.575853275899,30840.522799999999,31321.325099999998,31797.1253,32611.632099999999,33151.846931693399,34310.216883579502,35679.655315658303,36216.786315261103,37050.2243535253,37852.813495373601,38861.8380210572,40101.484053521002,41226.6575457082,43568.658702073102]
[{"$f":"IF(AND(StatData[[#This Row],[Shoda: Seskupený CZ-NACE]],StatData[[#This Row],[Shoda: Region]],StatData[[#This Row],[Shoda: Vzdělání]],StatData[[#This Row],[Shoda: Pohlaví]],StatData[[#This Row],[Shoda: Věk]]),1,0)","v":0},{"$f":"IF(StatData[[#This Row],[Seskupený CZ-NACE]]=VLOOKUP(Obor,TabObor[],2,0),1,0)","v":0},{"$f":"IF(StatData[[#This Row],[Region]]=VLOOKUP(Region,TabRegion[],2,0),1,0)","v":0},{"$f":"IF(StatData[[#This Row],[Vzdělání]]=Vzdělání,1,0)","v":0},{"$f":"IF(StatData[[#This Row],[Pohlaví]]=Pohlaví,1,0)","v":1},{"$f":"IF(StatData[[#This Row],[Věk]]=Věk,1,0)","v":0},527,"Sociální služby",2,"Střední bez maturity","Žena","35 až 54 let ",3103.65869140625,35764.582976017897,24570.203300000001,24821.6666,26041.75,26715.506300000001,27663.387200000001,28623.4737694949,29299.1666,29906.4539,30291.498049543501,30507.856619607799,31276.563200000001,31898.456591594899,32376.702624850401,33145.669126406297,33747.071809257999,34333.674581053499,35008.185808263501,35449.523859256296,36014.1855940436,37212.398877687898,38345.035152942699,39109.3495632083,40111.571453343502,40886.897030655498,42010.492978689297,43294.315388434297,44707.729350757698,47218.6906503313]
[{"$f":"IF(AND(StatData[[#This Row],[Shoda: Seskupený CZ-NACE]],StatData[[#This Row],[Shoda: Region]],StatData[[#This Row],[Shoda: Vzdělání]],StatData[[#This Row],[Shoda: Pohlaví]],StatData[[#This Row],[Shoda: Věk]]),1,0)","v":0},{"$f":"IF(StatData[[#This Row],[Seskupený CZ-NACE]]=VLOOKUP(Obor,TabObor[],2,0),1,0)","v":0},{"$f":"IF(StatData[[#This Row],[Region]]=VLOOKUP(Region,TabRegion[],2,0),1,0)","v":0},{"$f":"IF(StatData[[#This Row],[Vzdělání]]=Vzdělání,1,0)","v":0},{"$f":"IF(StatData[[#This Row],[Pohlaví]]=Pohlaví,1,0)","v":1},{"$f":"IF(StatData[[#This Row],[Věk]]=Věk,1,0)","v":0},528,"Sociální služby",2,"Střední bez maturity","Žena","55 a více let",1764.31604003906,37445.402596017797,24895.211599999999,26192.387299999999,27038.1567,27973.2466909469,28709.1666,29568.1004339592,30143.9166,30817.637799140601,31341.322592049299,31961.154507053201,32698.575697460401,33428.758059365697,34210.399583950297,34846.279242876299,35373.3440740605,36060.612499554198,36647.380303236401,37344.134538742299,37395.8807847793,38932.974763971899,39966.882290310699,40945.675260035103,42033.638908918903,43170.591464708203,44620.414579974196,45225.119313609597,47661.4910020799,48872.551686429899]
[{"$f":"IF(AND(StatData[[#This Row],[Shoda: Seskupený CZ-NACE]],StatData[[#This Row],[Shoda: Region]],StatData[[#This Row],[Shoda: Vzdělání]],StatData[[#This Row],[Shoda: Pohlaví]],StatData[[#This Row],[Shoda: Věk]]),1,0)","v":0},{"$f":"IF(StatData[[#This Row],[Seskupený CZ-NACE]]=VLOOKUP(Obor,TabObor[],2,0),1,0)","v":0},{"$f":"IF(StatData[[#This Row],[Region]]=VLOOKUP(Region,TabRegion[],2,0),1,0)","v":0},{"$f":"IF(StatData[[#This Row],[Vzdělání]]=Vzdělání,1,0)","v":1},{"$f":"IF(StatData[[#This Row],[Pohlaví]]=Pohlaví,1,0)","v":0},{"$f":"IF(StatData[[#This Row],[Věk]]=Věk,1,0)","v":1},529,"Sociální služby",2,"Střední s maturitou a vyšší odborné","Muž","do 34 let    ",208.42311096191401,40780.011139492701,26252.265899999999,27887.327141821101,29996.0825,31874.599773117799,33409.570068809197,33967.733222442701,34572.078597997599,34860.205514556903,35156.843401548598,35356.186814564397,37024.961896351197,37272.782418377603,37989.418495009602,38260.083949588101,38497.055514584499,39002.948500116603,39368.554549714601,39922.203725624197,40310.538984755898,41171.6929403002,42726.405950592401,44006.451079607003,44602.956216945502,45117.370717202,46927.021232970401,46927.021232970401,50994.5070693624,59293.958905015301]
[{"$f":"IF(AND(StatData[[#This Row],[Shoda: Seskupený CZ-NACE]],StatData[[#This Row],[Shoda: Region]],StatData[[#This Row],[Shoda: Vzdělání]],StatData[[#This Row],[Shoda: Pohlaví]],StatData[[#This Row],[Shoda: Věk]]),1,0)","v":0},{"$f":"IF(StatData[[#This Row],[Seskupený CZ-NACE]]=VLOOKUP(Obor,TabObor[],2,0),1,0)","v":0},{"$f":"IF(StatData[[#This Row],[Region]]=VLOOKUP(Region,TabRegion[],2,0),1,0)","v":0},{"$f":"IF(StatData[[#This Row],[Vzdělání]]=Vzdělání,1,0)","v":1},{"$f":"IF(StatData[[#This Row],[Pohlaví]]=Pohlaví,1,0)","v":0},{"$f":"IF(StatData[[#This Row],[Věk]]=Věk,1,0)","v":0},530,"Sociální služby",2,"Střední s maturitou a vyšší odborné","Muž","35 až 54 let ",451.45422363281301,42254.350009629699,29328.1461808032,31079.353484006799,32490.809846161199,34038.929140224303,34806.032134180001,35197.842909193401,36210.5729067024,36679.556857732598,37466.942739049198,37466.942739049198,37806.308762118497,38411.274041457204,38931.084967357499,38931.084967357499,38931.084967357499,38931.084967357499,39059.730639512702,39657.414654923399,40432.428935860597,41621.662852678797,42789.266490781898,43325.775584847499,44383.8482178247,45819.507760432498,48056.027607763703,50894.497862397802,53500.118682240201,60462.007177590698]
[{"$f":"IF(AND(StatData[[#This Row],[Shoda: Seskupený CZ-NACE]],StatData[[#This Row],[Shoda: Region]],StatData[[#This Row],[Shoda: Vzdělání]],StatData[[#This Row],[Shoda: Pohlaví]],StatData[[#This Row],[Shoda: Věk]]),1,0)","v":0},{"$f":"IF(StatData[[#This Row],[Seskupený CZ-NACE]]=VLOOKUP(Obor,TabObor[],2,0),1,0)","v":0},{"$f":"IF(StatData[[#This Row],[Region]]=VLOOKUP(Region,TabRegion[],2,0),1,0)","v":0},{"$f":"IF(StatData[[#This Row],[Vzdělání]]=Vzdělání,1,0)","v":1},{"$f":"IF(StatData[[#This Row],[Pohlaví]]=Pohlaví,1,0)","v":0},{"$f":"IF(StatData[[#This Row],[Věk]]=Věk,1,0)","v":0},531,"Sociální služby",2,"Střední s maturitou a vyšší odborné","Muž","55 a více let",270.36077880859398,41908.381005570402,20033.514999999999,21596.833299999998,24239.1666,27412.25,28817.833299999998,30784.306394949199,32812.830399999999,33876.2269769657,34649.769226773999,35353.169145334898,36035.5325963785,36952.419181666497,37601.511818030602,38143.180283863199,38595.033862223798,39049.3224881598,39354.319746026304,39992.913704026898,40885.719901448501,42078.380371351202,43032.652454326599,44509.207189694098,45598.997453757001,47306.013391232402,50381.061208310901,52572.989003017501,58092.4819492194,66250.259450060796]
[{"$f":"IF(AND(StatData[[#This Row],[Shoda: Seskupený CZ-NACE]],StatData[[#This Row],[Shoda: Region]],StatData[[#This Row],[Shoda: Vzdělání]],StatData[[#This Row],[Shoda: Pohlaví]],StatData[[#This Row],[Shoda: Věk]]),1,0)","v":0},{"$f":"IF(StatData[[#This Row],[Seskupený CZ-NACE]]=VLOOKUP(Obor,TabObor[],2,0),1,0)","v":0},{"$f":"IF(StatData[[#This Row],[Region]]=VLOOKUP(Region,TabRegion[],2,0),1,0)","v":0},{"$f":"IF(StatData[[#This Row],[Vzdělání]]=Vzdělání,1,0)","v":1},{"$f":"IF(StatData[[#This Row],[Pohlaví]]=Pohlaví,1,0)","v":1},{"$f":"IF(StatData[[#This Row],[Věk]]=Věk,1,0)","v":1},532,"Sociální služby",2,"Střední s maturitou a vyšší odborné","Žena","do 34 let    ",1274.72534179688,37481.056662819698,26524.9297588423,27587.891488433601,28462.7323,29454.56099518,30145.898099999999,31198.9837234511,31198.9837234511,31468.301335762299,32690.722699999998,32821.4054761273,32865.412841609199,33649.717605604499,33810.515176500601,34244.773045286398,34963.537116146399,35899.634511303702,35899.634511303702,35899.634511303702,36605.3668376196,37979.283126128197,39285.026378596202,39291.714055254502,40684.077496120102,41730.917456082097,42452.468071805502,44317.1256114563,46913.673703890498,52265.735386979701]
[{"$f":"IF(AND(StatData[[#This Row],[Shoda: Seskupený CZ-NACE]],StatData[[#This Row],[Shoda: Region]],StatData[[#This Row],[Shoda: Vzdělání]],StatData[[#This Row],[Shoda: Pohlaví]],StatData[[#This Row],[Shoda: Věk]]),1,0)","v":0},{"$f":"IF(StatData[[#This Row],[Seskupený CZ-NACE]]=VLOOKUP(Obor,TabObor[],2,0),1,0)","v":0},{"$f":"IF(StatData[[#This Row],[Region]]=VLOOKUP(Region,TabRegion[],2,0),1,0)","v":0},{"$f":"IF(StatData[[#This Row],[Vzdělání]]=Vzdělání,1,0)","v":1},{"$f":"IF(StatData[[#This Row],[Pohlaví]]=Pohlaví,1,0)","v":1},{"$f":"IF(StatData[[#This Row],[Věk]]=Věk,1,0)","v":0},533,"Sociální služby",2,"Střední s maturitou a vyšší odborné","Žena","35 až 54 let ",4059.439453125,44319.200073938497,29581.164630770501,31160.437185724801,32473.824458093601,32793.121959926902,33871.601070222401,34672.119754879401,35425.906333526102,35866.428917516001,36776.8321880234,37395.442512846603,38085.425914350599,38821.256460922697,39610.712293336401,40299.743042217298,40876.209764958898,41620.405964369202,42348.536239546404,42758.401146532502,43193.082038685301,43991.6032433824,45053.444567899198,46746.445441609801,48300.127152768597,50891.797428874997,52766.341952934701,55739.6668818166,57982.550906996599,62461.711517851603]
[{"$f":"IF(AND(StatData[[#This Row],[Shoda: Seskupený CZ-NACE]],StatData[[#This Row],[Shoda: Region]],StatData[[#This Row],[Shoda: Vzdělání]],StatData[[#This Row],[Shoda: Pohlaví]],StatData[[#This Row],[Shoda: Věk]]),1,0)","v":0},{"$f":"IF(StatData[[#This Row],[Seskupený CZ-NACE]]=VLOOKUP(Obor,TabObor[],2,0),1,0)","v":0},{"$f":"IF(StatData[[#This Row],[Region]]=VLOOKUP(Region,TabRegion[],2,0),1,0)","v":0},{"$f":"IF(StatData[[#This Row],[Vzdělání]]=Vzdělání,1,0)","v":1},{"$f":"IF(StatData[[#This Row],[Pohlaví]]=Pohlaví,1,0)","v":1},{"$f":"IF(StatData[[#This Row],[Věk]]=Věk,1,0)","v":0},534,"Sociální služby",2,"Střední s maturitou a vyšší odborné","Žena","55 a více let",2225.40185546875,46923.982298051596,29098.596074478999,31124.504783944802,32562.952846006901,34308.779899208901,35469.4244426187,36817.5063279682,38036.733633852702,39081.001814772302,40033.812972460801,40862.800120215499,41312.798864226403,41850.422556249803,41999.183642524396,42174.811075656202,42998.245450859402,43856.030437298301,43867.4087949327,44425.040689094203,45095.559267150697,46989.566036849297,47922.745092273297,50223.689747518903,51351.935372065098,53049.302738945298,56364.683812482901,59156.018763670298,62816.2539414274,67066.365435867003]
[{"$f":"IF(AND(StatData[[#This Row],[Shoda: Seskupený CZ-NACE]],StatData[[#This Row],[Shoda: Region]],StatData[[#This Row],[Shoda: Vzdělání]],StatData[[#This Row],[Shoda: Pohlaví]],StatData[[#This Row],[Shoda: Věk]]),1,0)","v":0},{"$f":"IF(StatData[[#This Row],[Seskupený CZ-NACE]]=VLOOKUP(Obor,TabObor[],2,0),1,0)","v":0},{"$f":"IF(StatData[[#This Row],[Region]]=VLOOKUP(Region,TabRegion[],2,0),1,0)","v":0},{"$f":"IF(StatData[[#This Row],[Vzdělání]]=Vzdělání,1,0)","v":0},{"$f":"IF(StatData[[#This Row],[Pohlaví]]=Pohlaví,1,0)","v":0},{"$f":"IF(StatData[[#This Row],[Věk]]=Věk,1,0)","v":1},535,"Sociální služby",2,"Vysokoškolské ","Muž","do 34 let    ","*","*","*","*","*","*","*","*","*","*","*","*","*","*","*","*","*","*","*","*","*","*","*","*","*","*","*","*","*","*"]
[{"$f":"IF(AND(StatData[[#This Row],[Shoda: Seskupený CZ-NACE]],StatData[[#This Row],[Shoda: Region]],StatData[[#This Row],[Shoda: Vzdělání]],StatData[[#This Row],[Shoda: Pohlaví]],StatData[[#This Row],[Shoda: Věk]]),1,0)","v":0},{"$f":"IF(StatData[[#This Row],[Seskupený CZ-NACE]]=VLOOKUP(Obor,TabObor[],2,0),1,0)","v":0},{"$f":"IF(StatData[[#This Row],[Region]]=VLOOKUP(Region,TabRegion[],2,0),1,0)","v":0},{"$f":"IF(StatData[[#This Row],[Vzdělání]]=Vzdělání,1,0)","v":0},{"$f":"IF(StatData[[#This Row],[Pohlaví]]=Pohlaví,1,0)","v":0},{"$f":"IF(StatData[[#This Row],[Věk]]=Věk,1,0)","v":0},536,"Sociální služby",2,"Vysokoškolské ","Muž","35 až 54 let ",334.98532104492199,60829.590093597799,35753.781396066501,38463.047594231699,40757.240581998602,41656.2566749377,43118.089978923097,43864.891554571499,44534.144664644999,45637.757411300197,46581.9156918097,47919.411714751499,48554.125197288697,48905.605518949596,49312.937046592997,50363.477096084098,51000.301882591702,51451.381458091499,51981.380070897503,52923.7030194943,52923.7030194943,53877.118827345497,56632.503028773303,59294.620952653197,65306.056039372699,76353.891643047202,77398.463121802895,84226.8409306338,90092.182857988897,94733.730138245606]
[{"$f":"IF(AND(StatData[[#This Row],[Shoda: Seskupený CZ-NACE]],StatData[[#This Row],[Shoda: Region]],StatData[[#This Row],[Shoda: Vzdělání]],StatData[[#This Row],[Shoda: Pohlaví]],StatData[[#This Row],[Shoda: Věk]]),1,0)","v":0},{"$f":"IF(StatData[[#This Row],[Seskupený CZ-NACE]]=VLOOKUP(Obor,TabObor[],2,0),1,0)","v":0},{"$f":"IF(StatData[[#This Row],[Region]]=VLOOKUP(Region,TabRegion[],2,0),1,0)","v":0},{"$f":"IF(StatData[[#This Row],[Vzdělání]]=Vzdělání,1,0)","v":0},{"$f":"IF(StatData[[#This Row],[Pohlaví]]=Pohlaví,1,0)","v":0},{"$f":"IF(StatData[[#This Row],[Věk]]=Věk,1,0)","v":0},537,"Sociální služby",2,"Vysokoškolské ","Muž","55 a více let",186.21960449218801,61386.350509828699,31744.1614925838,36016.4022948294,39168.197143438301,40642.839016338999,41746.474046640498,43036.192920552399,44767.118164843203,45426.071975999497,46217.340675945299,46663.462551504403,47583.664535401098,48048.717518343998,48602.194311844498,49595.370848965802,50886.774536809498,51521.574392454801,53165.852404812496,54199.353740275801,56262.723447902601,57887.895079010203,60399.5000595663,64358.552851952503,70387.089718395597,76784.223334806098,86548.422118242393,90690.695554517093,94189.615547395093,98575.622789221597]
[{"$f":"IF(AND(StatData[[#This Row],[Shoda: Seskupený CZ-NACE]],StatData[[#This Row],[Shoda: Region]],StatData[[#This Row],[Shoda: Vzdělání]],StatData[[#This Row],[Shoda: Pohlaví]],StatData[[#This Row],[Shoda: Věk]]),1,0)","v":0},{"$f":"IF(StatData[[#This Row],[Seskupený CZ-NACE]]=VLOOKUP(Obor,TabObor[],2,0),1,0)","v":0},{"$f":"IF(StatData[[#This Row],[Region]]=VLOOKUP(Region,TabRegion[],2,0),1,0)","v":0},{"$f":"IF(StatData[[#This Row],[Vzdělání]]=Vzdělání,1,0)","v":0},{"$f":"IF(StatData[[#This Row],[Pohlaví]]=Pohlaví,1,0)","v":1},{"$f":"IF(StatData[[#This Row],[Věk]]=Věk,1,0)","v":1},538,"Sociální služby",2,"Vysokoškolské ","Žena","do 34 let    ",787.993408203125,43202.8962837156,29956.372823570098,"*",34003.960179797497,"*",37077.3570272582,"*",38867.656606293,"*",38867.656606293,"*",39261.025544379598,"*",39472.7229657075,"*",39472.7229657075,"*",41094.1701323956,"*",42945.901421009701,42945.901421009701,43245.040365662397,45306.861399199101,45306.861399199101,45824.076919077401,49443.9627331784,55544.225600768703,56151.634513386904,56151.634513386904]
[{"$f":"IF(AND(StatData[[#This Row],[Shoda: Seskupený CZ-NACE]],StatData[[#This Row],[Shoda: Region]],StatData[[#This Row],[Shoda: Vzdělání]],StatData[[#This Row],[Shoda: Pohlaví]],StatData[[#This Row],[Shoda: Věk]]),1,0)","v":0},{"$f":"IF(StatData[[#This Row],[Seskupený CZ-NACE]]=VLOOKUP(Obor,TabObor[],2,0),1,0)","v":0},{"$f":"IF(StatData[[#This Row],[Region]]=VLOOKUP(Region,TabRegion[],2,0),1,0)","v":0},{"$f":"IF(StatData[[#This Row],[Vzdělání]]=Vzdělání,1,0)","v":0},{"$f":"IF(StatData[[#This Row],[Pohlaví]]=Pohlaví,1,0)","v":1},{"$f":"IF(StatData[[#This Row],[Věk]]=Věk,1,0)","v":0},539,"Sociální služby",2,"Vysokoškolské ","Žena","35 až 54 let ",1469.88647460938,53064.9345861986,31622.629335266702,34135.457591627797,36435.436719159101,37665.0396514557,39696.132758946304,41430.389336796899,42261.490931110202,42805.805206288802,43362.381336832601,43750.205874739098,44668.454180883702,45124.620430795498,45947.067968108502,46288.007429705103,47257.218086153604,48255.901113779197,48918.9399727786,49943.948941158698,51045.6439153061,53179.168977843699,55488.743047340999,58679.732469567301,60872.481106500803,63801.7400228345,64259.317658126703,65762.7466657201,69178.416965513898,76748.524981739596]
[{"$f":"IF(AND(StatData[[#This Row],[Shoda: Seskupený CZ-NACE]],StatData[[#This Row],[Shoda: Region]],StatData[[#This Row],[Shoda: Vzdělání]],StatData[[#This Row],[Shoda: Pohlaví]],StatData[[#This Row],[Shoda: Věk]]),1,0)","v":0},{"$f":"IF(StatData[[#This Row],[Seskupený CZ-NACE]]=VLOOKUP(Obor,TabObor[],2,0),1,0)","v":0},{"$f":"IF(StatData[[#This Row],[Region]]=VLOOKUP(Region,TabRegion[],2,0),1,0)","v":0},{"$f":"IF(StatData[[#This Row],[Vzdělání]]=Vzdělání,1,0)","v":0},{"$f":"IF(StatData[[#This Row],[Pohlaví]]=Pohlaví,1,0)","v":1},{"$f":"IF(StatData[[#This Row],[Věk]]=Věk,1,0)","v":0},540,"Sociální služby",2,"Vysokoškolské ","Žena","55 a více let",442.56854248046898,58405.5513942541,33021.2091450359,33601.1838997573,34997.113475151702,36225.157320685903,37086.075950270199,39382.397180055799,41095.184187872102,42948.172438715199,44081.875023132998,45323.356084946201,46019.970901354398,46304.857859940697,46731.5990961153,48538.473561630002,49487.280554382101,50650.9609102131,51872.027748258297,53072.105877656599,54283.3597995362,56853.702347640297,58968.300061952497,60864.061883978,63052.256790027699,66834.333901578299,73621.806303090503,83988.700984844807,91298.782476812295,100122.388415924]
[{"$f":"IF(AND(StatData[[#This Row],[Shoda: Seskupený CZ-NACE]],StatData[[#This Row],[Shoda: Region]],StatData[[#This Row],[Shoda: Vzdělání]],StatData[[#This Row],[Shoda: Pohlaví]],StatData[[#This Row],[Shoda: Věk]]),1,0)","v":0},{"$f":"IF(StatData[[#This Row],[Seskupený CZ-NACE]]=VLOOKUP(Obor,TabObor[],2,0),1,0)","v":0},{"$f":"IF(StatData[[#This Row],[Region]]=VLOOKUP(Region,TabRegion[],2,0),1,0)","v":0},{"$f":"IF(StatData[[#This Row],[Vzdělání]]=Vzdělání,1,0)","v":0},{"$f":"IF(StatData[[#This Row],[Pohlaví]]=Pohlaví,1,0)","v":0},{"$f":"IF(StatData[[#This Row],[Věk]]=Věk,1,0)","v":1},541,"Sociální služby",3,"Střední bez maturity","Muž","do 34 let    ",307.709716796875,34250.357800600897,21504.565299999998,23248.551800000001,24906.372899999998,26228.431499999999,27318.752401132198,28069.992481063498,28317.285899999999,29152.736950955601,29959.235937820002,30233.698935553999,31085.019427414802,32160.9862775322,32820.633564998403,33117.004895954698,33344.711263320103,33344.711263320103,33344.711263320103,33377.295219668398,33690.236154628801,34489.750922692503,35518.360136789699,36420.154507475403,37598.546456201097,38753.201883267699,40488.241319987603,40917.305372721697,43144.7833433263,45591.680715643299]
[{"$f":"IF(AND(StatData[[#This Row],[Shoda: Seskupený CZ-NACE]],StatData[[#This Row],[Shoda: Region]],StatData[[#This Row],[Shoda: Vzdělání]],StatData[[#This Row],[Shoda: Pohlaví]],StatData[[#This Row],[Shoda: Věk]]),1,0)","v":0},{"$f":"IF(StatData[[#This Row],[Seskupený CZ-NACE]]=VLOOKUP(Obor,TabObor[],2,0),1,0)","v":0},{"$f":"IF(StatData[[#This Row],[Region]]=VLOOKUP(Region,TabRegion[],2,0),1,0)","v":0},{"$f":"IF(StatData[[#This Row],[Vzdělání]]=Vzdělání,1,0)","v":0},{"$f":"IF(StatData[[#This Row],[Pohlaví]]=Pohlaví,1,0)","v":0},{"$f":"IF(StatData[[#This Row],[Věk]]=Věk,1,0)","v":0},542,"Sociální služby",3,"Střední bez maturity","Muž","35 až 54 let ",1477.55749511719,34777.170852245101,21785.083299999998,23363.759300333299,23363.759300333299,23368.6237365833,24658.418512596701,27087.4166,28621.963593776301,28790.1535928134,29654.520503250402,30557.824518180001,31343.826564922299,31780.033207602399,32555.347518843399,33161.177271038199,33645.6146250682,34012.2296113306,34449.488422680901,34957.649459438799,35510.360570909499,36506.1249365322,37280.921674185003,38242.306952263803,38966.358617355399,39733.527046910203,40813.919444463703,42087.163301883003,43661.046551679399,45869.647814660399]
[{"$f":"IF(AND(StatData[[#This Row],[Shoda: Seskupený CZ-NACE]],StatData[[#This Row],[Shoda: Region]],StatData[[#This Row],[Shoda: Vzdělání]],StatData[[#This Row],[Shoda: Pohlaví]],StatData[[#This Row],[Shoda: Věk]]),1,0)","v":0},{"$f":"IF(StatData[[#This Row],[Seskupený CZ-NACE]]=VLOOKUP(Obor,TabObor[],2,0),1,0)","v":0},{"$f":"IF(StatData[[#This Row],[Region]]=VLOOKUP(Region,TabRegion[],2,0),1,0)","v":0},{"$f":"IF(StatData[[#This Row],[Vzdělání]]=Vzdělání,1,0)","v":0},{"$f":"IF(StatData[[#This Row],[Pohlaví]]=Pohlaví,1,0)","v":0},{"$f":"IF(StatData[[#This Row],[Věk]]=Věk,1,0)","v":0},543,"Sociální služby",3,"Střední bez maturity","Muž","55 a více let",1045.01501464844,34596.976202079903,23191.3878,24924.390899999999,26462.583299999998,27310.7576419535,27617.4166,28199.300599999999,29064.734100000001,29826.9166,30529.823799999998,31139.053576186001,31802.456393115201,32294.7663331248,32626.702754880302,33047.518516580101,33047.518516580101,33321.052226259599,33638.820904745698,34105.780233275102,34278.269139547301,35080.002147799198,35901.4249201044,36818.057172276,37743.275308620199,38494.387914808001,39652.322115082199,40856.192053074599,42760.409353034796,45213.998434043002]
[{"$f":"IF(AND(StatData[[#This Row],[Shoda: Seskupený CZ-NACE]],StatData[[#This Row],[Shoda: Region]],StatData[[#This Row],[Shoda: Vzdělání]],StatData[[#This Row],[Shoda: Pohlaví]],StatData[[#This Row],[Shoda: Věk]]),1,0)","v":0},{"$f":"IF(StatData[[#This Row],[Seskupený CZ-NACE]]=VLOOKUP(Obor,TabObor[],2,0),1,0)","v":0},{"$f":"IF(StatData[[#This Row],[Region]]=VLOOKUP(Region,TabRegion[],2,0),1,0)","v":0},{"$f":"IF(StatData[[#This Row],[Vzdělání]]=Vzdělání,1,0)","v":0},{"$f":"IF(StatData[[#This Row],[Pohlaví]]=Pohlaví,1,0)","v":1},{"$f":"IF(StatData[[#This Row],[Věk]]=Věk,1,0)","v":1},544,"Sociální služby",3,"Střední bez maturity","Žena","do 34 let    ",1865.22937011719,32823.585221322101,23209.2821,24866.170269442999,25930.336905284799,26478.052685455001,26785.013800000001,27123.9704548144,27541.765708422001,28093.947541719499,28592.688203073099,29035.497622420899,29807.570884024699,30096.583299999998,30625.3982,31003.233104947099,31410.1096161528,31847.036800000002,32177.6104026092,32520.1960935471,32769.680932051997,33531.964965518499,34236.187945065503,35081.625786775898,35915.989977466801,36825.966011054399,37542.543216359198,38629.780764123701,40032.160240098601,42446.131813014901]
[{"$f":"IF(AND(StatData[[#This Row],[Shoda: Seskupený CZ-NACE]],StatData[[#This Row],[Shoda: Region]],StatData[[#This Row],[Shoda: Vzdělání]],StatData[[#This Row],[Shoda: Pohlaví]],StatData[[#This Row],[Shoda: Věk]]),1,0)","v":0},{"$f":"IF(StatData[[#This Row],[Seskupený CZ-NACE]]=VLOOKUP(Obor,TabObor[],2,0),1,0)","v":0},{"$f":"IF(StatData[[#This Row],[Region]]=VLOOKUP(Region,TabRegion[],2,0),1,0)","v":0},{"$f":"IF(StatData[[#This Row],[Vzdělání]]=Vzdělání,1,0)","v":0},{"$f":"IF(StatData[[#This Row],[Pohlaví]]=Pohlaví,1,0)","v":1},{"$f":"IF(StatData[[#This Row],[Věk]]=Věk,1,0)","v":0},545,"Sociální služby",3,"Střední bez maturity","Žena","35 až 54 let ",10380.9345703125,34853.295009344503,24212.4575,25261.5753268105,26002.2451,27008.298304953099,27862.0933,28606.4323,29175.220600000001,29850.715145251801,30353.1666,30937.035176931699,31514.709613915998,31994.487388876802,32530.156940673602,33035.364325685201,33550.462750587001,34021.906891009698,34483.543453398102,34941.125080697602,35362.275119085301,36125.727048406203,36843.861585340703,37704.407857188002,38449.2761017964,39188.432126795102,40063.207500369303,41103.724196744202,42380.456296859098,44365.452413790103]
[{"$f":"IF(AND(StatData[[#This Row],[Shoda: Seskupený CZ-NACE]],StatData[[#This Row],[Shoda: Region]],StatData[[#This Row],[Shoda: Vzdělání]],StatData[[#This Row],[Shoda: Pohlaví]],StatData[[#This Row],[Shoda: Věk]]),1,0)","v":0},{"$f":"IF(StatData[[#This Row],[Seskupený CZ-NACE]]=VLOOKUP(Obor,TabObor[],2,0),1,0)","v":0},{"$f":"IF(StatData[[#This Row],[Region]]=VLOOKUP(Region,TabRegion[],2,0),1,0)","v":0},{"$f":"IF(StatData[[#This Row],[Vzdělání]]=Vzdělání,1,0)","v":0},{"$f":"IF(StatData[[#This Row],[Pohlaví]]=Pohlaví,1,0)","v":1},{"$f":"IF(StatData[[#This Row],[Věk]]=Věk,1,0)","v":0},546,"Sociální služby",3,"Střední bez maturity","Žena","55 a více let",5198.224609375,34557.4877239376,21791.3658,23540.441500000001,24539.741181389301,25527.138299999999,26437.6666,27230.28,27890.058205074802,28595.180400000001,29283.261600000002,29803.7902548536,30375.306772104701,30967.356100000001,31682.2649828262,32337.934174404501,33009.79411219,33500.909699863601,34077.930931748699,34677.2239216628,35288.228732715601,36203.6809890234,37142.672500260203,38169.707435995399,39107.937728064098,39827.044194945403,40702.141693508798,41776.583501586603,43190.630857908902,44936.557545503201]
[{"$f":"IF(AND(StatData[[#This Row],[Shoda: Seskupený CZ-NACE]],StatData[[#This Row],[Shoda: Region]],StatData[[#This Row],[Shoda: Vzdělání]],StatData[[#This Row],[Shoda: Pohlaví]],StatData[[#This Row],[Shoda: Věk]]),1,0)","v":0},{"$f":"IF(StatData[[#This Row],[Seskupený CZ-NACE]]=VLOOKUP(Obor,TabObor[],2,0),1,0)","v":0},{"$f":"IF(StatData[[#This Row],[Region]]=VLOOKUP(Region,TabRegion[],2,0),1,0)","v":0},{"$f":"IF(StatData[[#This Row],[Vzdělání]]=Vzdělání,1,0)","v":1},{"$f":"IF(StatData[[#This Row],[Pohlaví]]=Pohlaví,1,0)","v":0},{"$f":"IF(StatData[[#This Row],[Věk]]=Věk,1,0)","v":1},547,"Sociální služby",3,"Střední s maturitou a vyšší odborné","Muž","do 34 let    ",495.43640136718801,38932.084879815302,22586.462100000001,26825.9166,27725.2280269857,29896.1021,30662.257799999999,31805.661367592598,32024.935705715499,32617.321655129101,33200.367041854697,33853.743885080003,33869.1916102826,33923.986157181898,34479.434777026698,34846.325454597398,35531.669655900201,36397.166791962401,37163.792147291002,37543.272972857798,38093.946463374697,39622.305042120002,40216.2560347935,41128.895101018803,42311.507063741403,44395.341955507698,46996.554596421302,47217.581409099599,49612.583896071003,55026.406585480603]
[{"$f":"IF(AND(StatData[[#This Row],[Shoda: Seskupený CZ-NACE]],StatData[[#This Row],[Shoda: Region]],StatData[[#This Row],[Shoda: Vzdělání]],StatData[[#This Row],[Shoda: Pohlaví]],StatData[[#This Row],[Shoda: Věk]]),1,0)","v":0},{"$f":"IF(StatData[[#This Row],[Seskupený CZ-NACE]]=VLOOKUP(Obor,TabObor[],2,0),1,0)","v":0},{"$f":"IF(StatData[[#This Row],[Region]]=VLOOKUP(Region,TabRegion[],2,0),1,0)","v":0},{"$f":"IF(StatData[[#This Row],[Vzdělání]]=Vzdělání,1,0)","v":1},{"$f":"IF(StatData[[#This Row],[Pohlaví]]=Pohlaví,1,0)","v":0},{"$f":"IF(StatData[[#This Row],[Věk]]=Věk,1,0)","v":0},548,"Sociální služby",3,"Střední s maturitou a vyšší odborné","Muž","35 až 54 let ",1388.25756835938,42289.786891905896,25105.895799999998,28112.4706580784,29255.302645662599,30614.527940688498,32419.519032851102,33196.946036360001,33853.4860218881,34786.906745294698,35467.845830843697,35960.423078552303,36663.6497181331,37312.954825551802,37459.789580345103,38257.747557863702,38794.6436558879,39272.397909335501,39823.417472489498,40448.483594629397,40727.5542816612,42188.303729563799,43540.857306540398,44942.5294333645,46054.604553188699,48235.494437388603,51092.613356055903,53251.246393994501,56274.787300372103,62819.3997768193]
[{"$f":"IF(AND(StatData[[#This Row],[Shoda: Seskupený CZ-NACE]],StatData[[#This Row],[Shoda: Region]],StatData[[#This Row],[Shoda: Vzdělání]],StatData[[#This Row],[Shoda: Pohlaví]],StatData[[#This Row],[Shoda: Věk]]),1,0)","v":0},{"$f":"IF(StatData[[#This Row],[Seskupený CZ-NACE]]=VLOOKUP(Obor,TabObor[],2,0),1,0)","v":0},{"$f":"IF(StatData[[#This Row],[Region]]=VLOOKUP(Region,TabRegion[],2,0),1,0)","v":0},{"$f":"IF(StatData[[#This Row],[Vzdělání]]=Vzdělání,1,0)","v":1},{"$f":"IF(StatData[[#This Row],[Pohlaví]]=Pohlaví,1,0)","v":0},{"$f":"IF(StatData[[#This Row],[Věk]]=Věk,1,0)","v":0},549,"Sociální služby",3,"Střední s maturitou a vyšší odborné","Muž","55 a více let",845.73553466796898,41089.356212053099,25707.333299999998,27628.311319327,29575.500499999998,29934.018521395599,30592.540400000002,31603.583299999998,32659.4840098083,33645.087590905103,34562.296895894498,34713.406981668202,35315.229325134402,35944.018313619199,36238.720340568703,36820.344491352298,37156.092078640002,37592.904639664703,37744.630530673901,38442.893522216102,39132.974368260999,40430.0266408069,41349.238516893398,42941.093662024803,44189.491298519497,46856.606257706102,48500.864224971003,52657.663032697099,57547.925005500001,61839.091020185297]
[{"$f":"IF(AND(StatData[[#This Row],[Shoda: Seskupený CZ-NACE]],StatData[[#This Row],[Shoda: Region]],StatData[[#This Row],[Shoda: Vzdělání]],StatData[[#This Row],[Shoda: Pohlaví]],StatData[[#This Row],[Shoda: Věk]]),1,0)","v":0},{"$f":"IF(StatData[[#This Row],[Seskupený CZ-NACE]]=VLOOKUP(Obor,TabObor[],2,0),1,0)","v":0},{"$f":"IF(StatData[[#This Row],[Region]]=VLOOKUP(Region,TabRegion[],2,0),1,0)","v":0},{"$f":"IF(StatData[[#This Row],[Vzdělání]]=Vzdělání,1,0)","v":1},{"$f":"IF(StatData[[#This Row],[Pohlaví]]=Pohlaví,1,0)","v":1},{"$f":"IF(StatData[[#This Row],[Věk]]=Věk,1,0)","v":1},550,"Sociální služby",3,"Střední s maturitou a vyšší odborné","Žena","do 34 let    ",3221.2421875,37780.751757889098,27311.922493726001,27972.205405836299,28616.462524808001,29407.0607982041,29927.818551070301,30441.824207500002,31043.543762266901,31640.933830343401,32227.248829063701,32800.929875273599,33391.7228162436,33834.911643592699,34304.3857952049,34711.235826775002,35008.3471193445,35449.300154947799,35848.270798349098,36334.529387843701,36809.843977723001,37575.075824047701,38441.727138449598,39437.507248750699,40318.550568328799,41645.907351879498,43449.925791095302,45436.023065928399,47909.520345711899,52284.3484858558]
[{"$f":"IF(AND(StatData[[#This Row],[Shoda: Seskupený CZ-NACE]],StatData[[#This Row],[Shoda: Region]],StatData[[#This Row],[Shoda: Vzdělání]],StatData[[#This Row],[Shoda: Pohlaví]],StatData[[#This Row],[Shoda: Věk]]),1,0)","v":0},{"$f":"IF(StatData[[#This Row],[Seskupený CZ-NACE]]=VLOOKUP(Obor,TabObor[],2,0),1,0)","v":0},{"$f":"IF(StatData[[#This Row],[Region]]=VLOOKUP(Region,TabRegion[],2,0),1,0)","v":0},{"$f":"IF(StatData[[#This Row],[Vzdělání]]=Vzdělání,1,0)","v":1},{"$f":"IF(StatData[[#This Row],[Pohlaví]]=Pohlaví,1,0)","v":1},{"$f":"IF(StatData[[#This Row],[Věk]]=Věk,1,0)","v":0},551,"Sociální služby",3,"Střední s maturitou a vyšší odborné","Žena","35 až 54 let ",12028.5546875,41690.883570726197,27466.961964629001,28821.107612296699,30163.8192911308,31099.5250670817,32045.556897269202,32776.551163075099,33510.055683067301,34154.060823984,34737.512045160001,35237.338652330996,35795.660564353297,36305.308699598398,36873.355469723399,37358.238895998897,37931.898225388402,38517.538080111197,39042.974553173997,39565.479999044197,40093.820411452303,41196.809779145602,42414.087386045801,43970.055757086397,45640.455109574898,47833.099803022502,50378.770352983702,53102.926462277297,55992.332834749497,59806.168739196102]
[{"$f":"IF(AND(StatData[[#This Row],[Shoda: Seskupený CZ-NACE]],StatData[[#This Row],[Shoda: Region]],StatData[[#This Row],[Shoda: Vzdělání]],StatData[[#This Row],[Shoda: Pohlaví]],StatData[[#This Row],[Shoda: Věk]]),1,0)","v":0},{"$f":"IF(StatData[[#This Row],[Seskupený CZ-NACE]]=VLOOKUP(Obor,TabObor[],2,0),1,0)","v":0},{"$f":"IF(StatData[[#This Row],[Region]]=VLOOKUP(Region,TabRegion[],2,0),1,0)","v":0},{"$f":"IF(StatData[[#This Row],[Vzdělání]]=Vzdělání,1,0)","v":1},{"$f":"IF(StatData[[#This Row],[Pohlaví]]=Pohlaví,1,0)","v":1},{"$f":"IF(StatData[[#This Row],[Věk]]=Věk,1,0)","v":0},552,"Sociální služby",3,"Střední s maturitou a vyšší odborné","Žena","55 a více let",5952.35302734375,44718.2337434371,26873.855800000001,29343.224699999999,30910.4310619102,32444.328610369001,33430.266446978298,34153.043205604998,34924.896691299102,35688.966491442901,36413.925653203303,37026.635738918601,37705.790986032604,38284.036887433198,38861.847452854097,39377.192913938197,39977.806136691703,40427.657951057903,41161.786112829002,41705.418395659799,42402.404888995501,43816.159260574903,45656.713719032203,47797.558545310902,50554.470238569498,53469.732319051996,56082.696968439399,58314.1097745527,60909.995111832999,65416.857349704202]
[{"$f":"IF(AND(StatData[[#This Row],[Shoda: Seskupený CZ-NACE]],StatData[[#This Row],[Shoda: Region]],StatData[[#This Row],[Shoda: Vzdělání]],StatData[[#This Row],[Shoda: Pohlaví]],StatData[[#This Row],[Shoda: Věk]]),1,0)","v":0},{"$f":"IF(StatData[[#This Row],[Seskupený CZ-NACE]]=VLOOKUP(Obor,TabObor[],2,0),1,0)","v":0},{"$f":"IF(StatData[[#This Row],[Region]]=VLOOKUP(Region,TabRegion[],2,0),1,0)","v":0},{"$f":"IF(StatData[[#This Row],[Vzdělání]]=Vzdělání,1,0)","v":0},{"$f":"IF(StatData[[#This Row],[Pohlaví]]=Pohlaví,1,0)","v":0},{"$f":"IF(StatData[[#This Row],[Věk]]=Věk,1,0)","v":1},553,"Sociální služby",3,"Vysokoškolské ","Muž","do 34 let    ",235.42239379882801,43726.368069901,32166.683573617502,32166.683573617502,33748.612830054,35002.998015575897,36129.530610239701,36768.196139401502,37285.307999272402,37735.7577664821,37740.365920575801,38278.553446061,39026.692691912896,39275.264845186699,39811.533309692699,39849.292785879297,40713.0201047921,41036.859144267699,41473.481431323497,41789.043407582198,42524.091934971402,43523.967052473403,44226.085514797604,45441.3181670177,46339.559772709399,47391.245001141499,48987.290306035902,50884.633996994999,53378.983100929298,56862.826180141099]
[{"$f":"IF(AND(StatData[[#This Row],[Shoda: Seskupený CZ-NACE]],StatData[[#This Row],[Shoda: Region]],StatData[[#This Row],[Shoda: Vzdělání]],StatData[[#This Row],[Shoda: Pohlaví]],StatData[[#This Row],[Shoda: Věk]]),1,0)","v":0},{"$f":"IF(StatData[[#This Row],[Seskupený CZ-NACE]]=VLOOKUP(Obor,TabObor[],2,0),1,0)","v":0},{"$f":"IF(StatData[[#This Row],[Region]]=VLOOKUP(Region,TabRegion[],2,0),1,0)","v":0},{"$f":"IF(StatData[[#This Row],[Vzdělání]]=Vzdělání,1,0)","v":0},{"$f":"IF(StatData[[#This Row],[Pohlaví]]=Pohlaví,1,0)","v":0},{"$f":"IF(StatData[[#This Row],[Věk]]=Věk,1,0)","v":0},554,"Sociální služby",3,"Vysokoškolské ","Muž","35 až 54 let ",1178.76818847656,56224.848666136299,36002.055020322499,37043.378977322602,38345.367988980899,39255.650080484796,40140.327900390999,40543.587443827601,41566.958767017502,42533.5603441157,43004.755695610897,43854.833940168799,44519.498180420902,44898.532285139299,46084.9790565148,47166.899114313797,47474.9170368755,48290.473588910601,49005.395690319398,49934.691372513298,50509.886730995597,51817.354230626603,53277.441674779802,55672.527181818798,58057.039272962,60720.823252555303,66008.836930355101,72692.741325454394,83288.212448329199,99343.149954499502]
[{"$f":"IF(AND(StatData[[#This Row],[Shoda: Seskupený CZ-NACE]],StatData[[#This Row],[Shoda: Region]],StatData[[#This Row],[Shoda: Vzdělání]],StatData[[#This Row],[Shoda: Pohlaví]],StatData[[#This Row],[Shoda: Věk]]),1,0)","v":0},{"$f":"IF(StatData[[#This Row],[Seskupený CZ-NACE]]=VLOOKUP(Obor,TabObor[],2,0),1,0)","v":0},{"$f":"IF(StatData[[#This Row],[Region]]=VLOOKUP(Region,TabRegion[],2,0),1,0)","v":0},{"$f":"IF(StatData[[#This Row],[Vzdělání]]=Vzdělání,1,0)","v":0},{"$f":"IF(StatData[[#This Row],[Pohlaví]]=Pohlaví,1,0)","v":0},{"$f":"IF(StatData[[#This Row],[Věk]]=Věk,1,0)","v":0},555,"Sociální služby",3,"Vysokoškolské ","Muž","55 a více let",681.33563232421898,67974.045883629296,30549.407578375802,32631.610072255298,33036.253103001502,33864.384398559203,35745.794707512003,36066.557983607301,37690.3455650346,39106.771476875401,40736.638136989997,41572.356425817197,42644.815656118102,44401.557609385702,45245.518552841,47142.917180015298,48921.209126029797,50226.273624621703,51498.609112193699,52796.013412544198,53651.927147718598,56722.385134545002,58668.693949693799,61727.524114746397,68732.147245299799,80214.480610107203,86060.557859319495,97465.704445231997,110530.65125543,144411.00392330001]
[{"$f":"IF(AND(StatData[[#This Row],[Shoda: Seskupený CZ-NACE]],StatData[[#This Row],[Shoda: Region]],StatData[[#This Row],[Shoda: Vzdělání]],StatData[[#This Row],[Shoda: Pohlaví]],StatData[[#This Row],[Shoda: Věk]]),1,0)","v":0},{"$f":"IF(StatData[[#This Row],[Seskupený CZ-NACE]]=VLOOKUP(Obor,TabObor[],2,0),1,0)","v":0},{"$f":"IF(StatData[[#This Row],[Region]]=VLOOKUP(Region,TabRegion[],2,0),1,0)","v":0},{"$f":"IF(StatData[[#This Row],[Vzdělání]]=Vzdělání,1,0)","v":0},{"$f":"IF(StatData[[#This Row],[Pohlaví]]=Pohlaví,1,0)","v":1},{"$f":"IF(StatData[[#This Row],[Věk]]=Věk,1,0)","v":1},556,"Sociální služby",3,"Vysokoškolské ","Žena","do 34 let    ",1724.38134765625,43169.583054864699,31190.546511226101,32376.116791314402,32991.560150029203,33816.609444945199,34333.840584438898,35093.261550167001,35986.241088819101,36544.138977695402,37200.733774652399,37966.677442624998,38343.676188802398,38891.190301178998,39467.763587048001,40110.036373866496,40679.0264338981,41161.727977909803,41738.358255167303,42269.107377741202,42442.141527369,43331.171126756301,44286.240959738097,44943.0492252646,45932.957093835699,46825.875026232803,48315.028858795798,50805.767464988101,52036.807954428499,55670.309507848098]
[{"$f":"IF(AND(StatData[[#This Row],[Shoda: Seskupený CZ-NACE]],StatData[[#This Row],[Shoda: Region]],StatData[[#This Row],[Shoda: Vzdělání]],StatData[[#This Row],[Shoda: Pohlaví]],StatData[[#This Row],[Shoda: Věk]]),1,0)","v":0},{"$f":"IF(StatData[[#This Row],[Seskupený CZ-NACE]]=VLOOKUP(Obor,TabObor[],2,0),1,0)","v":0},{"$f":"IF(StatData[[#This Row],[Region]]=VLOOKUP(Region,TabRegion[],2,0),1,0)","v":0},{"$f":"IF(StatData[[#This Row],[Vzdělání]]=Vzdělání,1,0)","v":0},{"$f":"IF(StatData[[#This Row],[Pohlaví]]=Pohlaví,1,0)","v":1},{"$f":"IF(StatData[[#This Row],[Věk]]=Věk,1,0)","v":0},557,"Sociální služby",3,"Vysokoškolské ","Žena","35 až 54 let ",5339.1689453125,50952.299898544799,32833.166864215702,35001.957623455099,36080.159430375898,37179.774604551101,37945.609593166198,38858.977067488602,39410.236402328701,40022.4576391296,40786.032137619302,41482.4877420829,42253.928608223498,42948.141314485503,43603.432134377399,44301.222556556102,44627.3641095817,45234.319091719197,45831.606669826499,46459.448460007399,47112.227853841199,48277.3633153798,49916.364736235497,51805.378806431203,53682.2791861347,55869.172717439302,58669.086431841199,62103.623151898399,67205.409840811495,76149.253452750097]
[{"$f":"IF(AND(StatData[[#This Row],[Shoda: Seskupený CZ-NACE]],StatData[[#This Row],[Shoda: Region]],StatData[[#This Row],[Shoda: Vzdělání]],StatData[[#This Row],[Shoda: Pohlaví]],StatData[[#This Row],[Shoda: Věk]]),1,0)","v":0},{"$f":"IF(StatData[[#This Row],[Seskupený CZ-NACE]]=VLOOKUP(Obor,TabObor[],2,0),1,0)","v":0},{"$f":"IF(StatData[[#This Row],[Region]]=VLOOKUP(Region,TabRegion[],2,0),1,0)","v":0},{"$f":"IF(StatData[[#This Row],[Vzdělání]]=Vzdělání,1,0)","v":0},{"$f":"IF(StatData[[#This Row],[Pohlaví]]=Pohlaví,1,0)","v":1},{"$f":"IF(StatData[[#This Row],[Věk]]=Věk,1,0)","v":0},558,"Sociální služby",3,"Vysokoškolské ","Žena","55 a více let",1550.89440917969,59111.048260124997,35292.636107968501,38103.706865649503,39029.692300403003,39911.347480013697,41272.612613433397,42034.163907840499,43066.259475502302,43826.713867073297,44449.796848045698,45376.762150016999,46454.001092663697,47571.733123762999,47968.709443984699,48815.294272819803,49912.286643337102,50866.577662173098,51725.896451161803,52315.465023597098,53153.409737882197,54898.864994360803,56232.109178335901,58581.577738269298,60457.752991638503,64173.113805393601,69624.402254704299,77154.936269844198,85691.358027335096,99988.167017701504]

{"sheet":"Kategorie a legenda","index":4,"n_rows":113,"n_cols":7,"rows_kept":113,"cut":false,"hidden":false,"merged":[]}
[null,"Výsledků",{"$f":"SUM(StatData[[#All],[Shoda]])","v":1},null,{"$f":"TabObor[[#Headers],[Seskupený CZ-NACE]]","v":"Seskupený CZ-NACE"},{"$f":"VLOOKUP(Obor,TabObor[],2,0)","v":"Celkem"}]
[null,"Řádek číslo:",{"$f":"(IFERROR(VLOOKUP(1,StatData[],7,0),Chyba))","v":16},null,{"$f":"TabRegion[[#Headers],[Kategorie regionu]]","v":"Kategorie regionu"},{"$f":"VLOOKUP(Region,TabRegion[],2)","v":1}]
[]
[null,"Pohlaví"]
[null,"Žena"]
[null,"Muž"]
[]
[]
[null,"Věk"]
[null,"do 34 let    "]
[null,"35 až 54 let "]
[null,"55 a více let"]
[]
[null,null,null,null,"Legenda:"]
[null,"Vzdělání",null,null,"Vzdělání","Stupeň dosaženého vzdělání (KKOV)"]
[null,"Základní a nedokončené  ",null,null,"Základní a nedokončené  ","A, B, C"]
[null,"Střední bez maturity",null,null,"Střední bez maturity","D, E, H, J"]
[null,"Střední s maturitou a vyšší odborné",null,null,"Střední s maturitou a vyšší odborné","K, L, M, N, P"]
[null,"Vysokoškolské ",null,null,"Vysokoškolské  ","R, T, V"]
[]
[null,null,null,null,"Klasifikace kmenových oborů vzdělání (KKOV)"]
[null,null,null,null,"https://csu.gov.cz/klasifikace_kmenovych_oboru_vzdelani_-kkov-"]
[]
[null,null,null,null,"Legenda:"]
[null,"Obor činnosti dle CZ-NACE","Seskupený CZ-NACE",null,"Seskupený CZ-NACE","Sekce CZ-NACE","Kategorie oboru činnosti"]
[null,"1. Souhrnná data bez rozlišení oborů","Celkem",null,"Celkem","Celkem",1]
[null,"2. A Zemědělství, lesnictví a rybářství","Zemědělství a průmysl",null,"Zemědělství a průmysl","A, B, D, E, F",2]
[null,"2. B Těžba a dobývání","Zemědělství a průmysl",null,"Zpracovatelský průmysl","C",3]
[null,"3. C Zpracovatelský průmysl","Zpracovatelský průmysl",null,"Obchod a doprava","G, H",4]
[null,"2. D Výroba a rozvod elektřiny, plynu, tepla a klimatizovaného vzduchu","Zemědělství a průmysl",null,"Služby v oblasti ubytování a stravování, nemovitosti a administrativy","I, L, N, S",5]
[null,"2. E Zásobování vodou; činnosti související s odpadními vodami, odpady a sanacemi","Zemědělství a průmysl",null,"Peněnictví a IT","J, K",6]
[null,"2. F Stavebnictví","Zemědělství a průmysl",null,"Veřejná správa, obrana, sociální zabezpečení","O",7]
[null,"4. G Velkoobchod a maloobchod; opravy a údržba motorových vozidel","Obchod a doprava",null,"Školství a kultura","M, P, R",8]
[null,"4. H Doprava a skladování","Obchod a doprava",null,"Zdravotnictví","Q86",9]
[null,"5. I Ubytování, stravování a pohostinství","Služby v oblasti ubytování a stravování, nemovitosti a administrativy",null,"Sociální služby","Q87 a Q88",10]
[null,"6. J Informační a komunikační činnosti","Peněnictví a IT"]
[null,"6. K Peněžnictví a pojišťovnictví","Peněnictví a IT",null,"Klasifikace ekonomických činností (CZ-NACE)"]
[null,"5. L Činnosti v oblasti nemovitostí","Služby v oblasti ubytování a stravování, nemovitosti a administrativy",null,"https://csu.gov.cz/klasifikace_ekonomickych_cinnosti_cz_nace"]
[null,"8. M Profesní, vědecké a technické činnosti","Školství a kultura"]
[null,"5. N Administrativní a podpůrné činnosti","Služby v oblasti ubytování a stravování, nemovitosti a administrativy"]
[null,"7. O Veřejná správa a obrana; povinné sociální zabezpečení","Veřejná správa, obrana, sociální zabezpečení"]
[null,"8. P Vzdělávání","Školství a kultura"]
[null,"9. Q 86 Zdravotní péče","Zdravotnictví"]
[null,"10. Q 87 Pobytové služby sociální péče, Q 88 Ambulantní nebo terénní sociální služby","Sociální služby"]
[null,"8. R Kulturní, zábavní a rekreační činnosti","Školství a kultura"]
[null,"5. S Ostatní činnosti","Služby v oblasti ubytování a stravování, nemovitosti a administrativy"]
[null,"5. T Činnosti domácností jako zaměstnavatelů; činnosti domácností produkujících blíže neurčené výrobky a služby pro vlastní potřebu","Služby v oblasti ubytování a stravování, nemovitosti a administrativy"]
[null,"5. U Činnosti exteritoriálních organizací a orgánů","Služby v oblasti ubytování a stravování, nemovitosti a administrativy"]
[]
[null,null,null,null,"Legenda:"]
[null,"Region","Kategorie regionu",null,"Region","Kraj"]
[null,"1. Hlavní město Praha",1,null,1,"Praha"]
[null,"3. Jihočeský kraj",3,null,2,"Středočeský, Plzeňský, Královéhradecký"]
[null,"3. Jihomoravský kraj",3,null,3,"Karlovarský, Zlínský, Olomoucký, Moravskoslezský, Vysočina, Liberecký, Pardubický, Jihočeský, Ústecký, Jihomoravský"]
[null,"3. Karlovarský kraj",3]
[null,"3. Kraj Vysočina",3]
[null,"2. Královéhradecký kraj",2]
[null,"3. Liberecký kraj",3]
[null,"3. Moravskoslezský kraj",3]
[null,"3. Olomoucký kraj",3]
[null,"3. Pardubický kraj",3]
[null,"2. Plzeňský kraj",2]
[null,"2. Středočeský kraj",2]
[null,"3. Ústecký kraj",3]
[null,"3. Zlínský kraj",3]
[]
[]
[null,"Percentil","Sloupec"]
[null,5,15]
[null,7.5,16]
[null,10,17]
[null,12.5,18]
[null,15,19]
[null,17.5,20]
[null,20,21]
[null,22.5,22]
[null,25,23]
[null,27.5,24]
[null,30,25]
[null,32.5,26]
[null,35,27]
[null,37.5,28]
[null,40,29]
[null,42.5,30]
[null,45,31]
[null,47.5,32]
[null,50,33]
[null,55,34]
[null,60,35]
[null,65,36]
[null,70,37]
[null,75,38]
[null,80,39]
[null,85,40]
[null,90,41]
[null,95,42]
[]
[]
[null,"Hodnota","Sloupec"]
[null,"Průměr",14]
[null,"Počet zaměstnanců ve vzorku",13]
[]
[]
[null,"Pro zadanou kombinaci kritérií nejsou statistická data k dispozici."]
[]
[null,"Aktuální verze nástroje"]
[null,"2025.1.0"]
[]
[null,"Online verze nástroje"]
[null,"https://insolvence.justice.cz/wp-content/uploads/2025/06/tool.version.txt"]
[]
[null,"Adresa pro stažení nové verze nástroje"]
[null,"https://insolvence.justice.cz/prijmova-potencialita-dluznika/"]

{"sheet":"CZ-NACE","index":5,"n_rows":1561,"n_cols":4,"rows_kept":1561,"cut":false,"hidden":false,"merged":[[1327,0,1328,0],[1327,1,1328,1],[1327,2,1328,2]]}
[null,null,null,"SEKCE A - ZEMĚDĚLSTVÍ, LESNICTVÍ A RYBÁŘSTVÍ"]
[]
["01",null,null,"Rostlinná a živočišná výroba, myslivost a související činnosti"]
[]
[null,"01.1",null,"Pěstování plodin jiných než trvalých"]
[null,null,"01.11","Pěstování obilovin (kromě rýže), luštěnin a olejnatých semen"]
[null,null,"01.12","Pěstování rýže"]
[null,null,"01.13","Pěstování zeleniny a melounů, kořenů a hlíz"]
[null,null,"01.14","Pěstování cukrové třtiny"]
[null,null,"01.15","Pěstování tabáku"]
[null,null,"01.16","Pěstování přadných rostlin "]
[null,null,"01.19","Pěstování ostatních plodin jiných než trvalých"]
[]
[null,"01.2",null,"Pěstování trvalých plodin "]
[null,null,"01.21","Pěstování vinných hroznů"]
[null,null,"01.22","Pěstování tropického a subtropického ovoce"]
[null,null,"01.23","Pěstování citrusových plodů "]
[null,null,"01.24","Pěstování jádrového a peckového ovoce"]
[null,null,"01.25","Pěstování ostatního stromového a keřového ovoce a ořechů "]
[null,null,"01.26","Pěstování olejnatých plodů "]
[null,null,"01.27","Pěstování rostlin pro výrobu nápojů "]
[null,null,"01.28","Pěstování koření, aromatických, léčivých a farmaceutických rostlin "]
[null,null,"01.29","Pěstování ostatních trvalých plodin "]
[]
[null,"01.3",null,"Množení rostlin "]
[null,null,"01.30","Množení rostlin "]
[]
[null,"01.4",null,"Živočišná výroba"]
[null,null,"01.41","Chov mléčného skotu "]
[null,null,"01.42","Chov jiného skotu"]
[null,null,"01.43","Chov koní a jiných koňovitých"]
[null,null,"01.44","Chov velbloudů a velbloudovitých"]
[null,null,"01.45","Chov ovcí a koz"]
[null,null,"01.46","Chov prasat"]
[null,null,"01.47","Chov drůbeže"]
[null,null,"01.49","Chov ostatních zvířat"]
[null,null,"01.49.1","Chov drobných hospodářských zvířat"]
[null,null,"01.49.2","Chov kožešinových zvířat"]
[null,null,"01.49.3","Chov zvířat pro zájmový chov"]
[null,null,"01.49.9","Chov ostatních zvířat j. n."]
[]
[null,"01.5",null,"Smíšené hospodářství"]
[null,null,"01.50","Smíšené hospodářství"]
[]
[null,"01.6",null,"Podpůrné činnosti pro zemědělství a posklizňové činnosti "]
[null,null,"01.61","Podpůrné činnosti pro rostlinnou výrobu"]
[null,null,"01.62","Podpůrné činnosti pro živočišnou výrobu"]
[null,null,"01.63","Posklizňové činnosti"]
[null,null,"01.64","Zpracování osiva pro účely množení"]
[]
[null,"01.7",null,"Lov a odchyt divokých zvířat a související činnosti "]
[null,null,"01.70","Lov a odchyt divokých zvířat a související činnosti "]
[]
["02",null,null,"Lesnictví a těžba dřeva"]
[]
[null,"02.1",null,"Lesní hospodářství a jiné činnosti v oblasti lesnictví"]
[null,null,"02.10","Lesní hospodářství a jiné činnosti v oblasti lesnictví"]
[]
[null,"02.2",null,"Těžba dřeva"]
[null,null,"02.20","Těžba dřeva"]
[]
[null,"02.3",null,"Sběr a získávání volně rostoucích plodů a materiálů, kromě dřeva"]
[null,null,"02.30","Sběr a získávání volně rostoucích plodů a materiálů, kromě dřeva"]
[]
[null,"02.4",null,"Podpůrné činnosti pro lesnictví"]
[null,null,"02.40","Podpůrné činnosti pro lesnictví"]
[]
["03",null,null,"Rybolov a akvakultura "]
[]
[null,"03.1",null,"Rybolov"]
[null,null,"03.11","Mořský rybolov"]
[null,null,"03.12","Sladkovodní rybolov"]
[]
[null,"03.2",null,"Akvakultura"]
[null,null,"03.21","Mořská akvakultura"]
[null,null,"03.22","Sladkovodní akvakultura"]
[]
[]
[null,null,null,"SEKCE B - TĚŽBA A DOBÝVÁNÍ"]
[]
["05",null,null,"Těžba a úprava černého a hnědého uhlí "]
[]
[null,"05.1",null,"Těžba a úprava černého uhlí"]
[null,null,"05.10","Těžba a úprava černého uhlí"]
[null,null,"05.10.1","Těžba černého uhlí"]
[null,null,"05.10.2","Úprava černého uhlí"]
[]
[null,"05.2",null,"Těžba a úprava hnědého uhlí"]
[null,null,"05.20","Těžba a úprava hnědého uhlí"]
[null,null,"05.20.1","Těžba hnědého uhlí, kromě lignitu"]
[null,null,"05.20.2  ","Úprava hnědého uhlí, kromě lignitu"]
[null,null,"05.20.3  ","Těžba lignitu"]
[null,null,"05.20.4  ","Úprava lignitu"]
[]
["06",null,null,"Těžba ropy a zemního plynu"]
[]
[null,"06.1",null,"Těžba ropy"]
[null,null,"06.10","Těžba ropy"]
[]
[null,"06.2",null,"Těžba zemního plynu"]
[null,null,"06.20","Těžba zemního plynu"]
[]
["07",null,null,"Těžba a úprava rud"]
[]
[null,"07.1",null,"Těžba a úprava železných rud"]
[null,null,"07.10","Těžba a úprava železných rud"]
[null,null,"07.10.1  ","Těžba železných rud"]
[null,null,"07.10.2  ","Úprava železných rud"]
[]
[null,"07.2",null,"Těžba a úprava neželezných rud "]
[null,null,"07.21","Těžba a úprava uranových a thoriových rud"]
[null,null,"07.21.1   ","Těžba uranových a thoriových rud"]
[null,null,"07.21.2  ","Úprava uranových a thoriových rud"]
[null,null,"07.29","Těžba a úprava ostatních neželezných rud "]
[null,null,"07.29.1   ","Těžba ostatních neželezných rud"]
[null,null,"07.29.2   ","Úprava ostatních neželezných rud"]
[]
["08",null,null,"Ostatní těžba a dobývání"]
[]
[null,"08.1",null,"Dobývání kamene, písků a jílů "]
[null,null,"08.11","Dobývání kamene pro výtvarné nebo stavební účely, vápence, sádrovce, křídy a břidlice"]
[null,null,"08.12","Provoz pískoven a štěrkopískoven; těžba jílů a kaolinu"]
[]
[null,"08.9",null,"Těžba a dobývání j. n."]
[null,null,"08.91","Těžba chemických minerálů a minerálů pro výrobu hnojiv"]
[null,null,"08.92","Těžba rašeliny "]
[null,null,"08.93","Těžba soli"]
[null,null,"08.99","Ostatní těžba a dobývání j. n."]
[]
["09",null,null,"Podpůrné činnosti při těžbě"]
[]
[null,"09.1",null,"Podpůrné činnosti při těžbě ropy a zemního plynu"]
[null,null,"09.10","Podpůrné činnosti při těžbě ropy a zemního plynu"]
[]
[null,"09.9",null,"Podpůrné činnosti při ostatní těžbě a dobývání"]
[null,null,"09.90","Podpůrné činnosti při ostatní těžbě a dobývání"]
[]
[]
[null,null,null,"SEKCE C - ZPRACOVATELSKÝ PRŮMYSL"]
[]
[10,null,null,"Výroba potravinářských výrobků"]
[]
[null,"10.1",null,"Zpracování a konzervování masa a výroba masných výrobků"]
[null,null,"10.11","Zpracování a konzervování masa, kromě drůbežího"]
[null,null,"10.12","Zpracování a konzervování drůbežího masa"]
[null,null,"10.13","Výroba masných výrobků a výrobků z drůbežího masa"]
[]
[null,"10.2",null,"Zpracování a konzervování ryb, korýšů a měkkýšů"]
[null,null,"10.20","Zpracování a konzervování ryb, korýšů a měkkýšů"]
[]
[null,"10.3",null,"Zpracování a konzervování ovoce a zeleniny "]
[null,null,"10.31","Zpracování a konzervování brambor"]
[null,null,"10.32","Výroba ovocných a zeleninových šťáv"]
[null,null,"10.39","Ostatní zpracování a konzervování ovoce a zeleniny "]
[]
[null,"10.4",null,"Výroba rostlinných a živočišných olejů a tuků"]
[null,null,"10.41","Výroba olejů a tuků"]
[null,null,"10.42","Výroba margarínu a podobných jedlých tuků"]
[]
[null,"10.5",null,"Výroba mléčných výrobků "]
[null,null,"10.51","Zpracování mléka, výroba mléčných výrobků a sýrů"]
[null,null,"10.52","Výroba zmrzliny"]
[]
[null,"10.6",null,"Výroba mlýnských a škrobárenských výrobků"]
[null,null,"10.61","Výroba mlýnských výrobků"]
[null,null,"10.62","Výroba škrobárenských výrobků"]
[]
[null,"10.7",null,"Výroba pekařských, cukrářských a jiných moučných výrobků"]
[null,null,"10.71","Výroba pekařských a cukrářských výrobků, kromě trvanlivých"]
[null,null,"10.72","Výroba sucharů a sušenek; výroba trvanlivých cukrářských výrobků "]
[null,null,"10.73","Výroba makaronů, nudlí, kuskusu a podobných moučných výrobků"]
[]
[null,"10.8",null,"Výroba ostatních potravinářských výrobků"]
[null,null,"10.81","Výroba cukru"]
[null,null,"10.82","Výroba kakaa, čokolády a cukrovinek"]
[null,null,"10.83","Zpracování čaje a kávy"]
[null,null,"10.84","Výroba koření a aromatických výtažků"]
[null,null,"10.85","Výroba hotových pokrmů"]
[null,null,"10.86","Výroba homogenizovaných potravinářských přípravků a dietních potravin"]
[null,null,"10.89","Výroba ostatních potravinářských výrobků j. n."]
[]
[null,"10.9",null,"Výroba průmyslových krmiv"]
[null,null,"10.91","Výroba průmyslových krmiv pro hospodářská zvířata"]
[null,null,"10.92","Výroba průmyslových krmiv pro zvířata v zájmovém chovu"]
[]
[11,null,null,"Výroba nápojů"]
[]
[null,"11.0",null,"Výroba nápojů"]
[null,null,"11.01","Destilace, rektifikace a míchání lihovin"]
[null,null,"11.02","Výroba vína z vinných hroznů "]
[null,null,"11.03","Výroba jablečného vína a jiných ovocných vín"]
[null,null,"11.04","Výroba ostatních nedestilovaných kvašených nápojů"]
[null,null,"11.05","Výroba piva "]
[null,null,"11.06","Výroba sladu"]
[null,null,"11.07","Výroba nealkoholických nápojů; stáčení minerálních a ostatních vod do lahví"]
[]
[12,null,null,"Výroba tabákových výrobků"]
[]
[null,"12.0",null,"Výroba tabákových výrobků"]
[null,null,"12.00","Výroba tabákových výrobků"]
[]
[13,null,null,"Výroba textilií "]
[]
[null,"13.1",null,"Úprava a spřádání textilních vláken a příze"]
[null,null,"13.10","Úprava a spřádání textilních vláken a příze"]
[]
[null,"13.2",null,"Tkaní textilií "]
[null,null,"13.20","Tkaní textilií "]
[]
[null,"13.3",null,"Konečná úprava textilií"]
[null,null,"13.30","Konečná úprava textilií"]
[]
[null,"13.9",null,"Výroba ostatních textilií"]
[null,null,"13.91","Výroba pletených a háčkovaných materiálů"]
[null,null,"13.92","Výroba konfekčních textilních výrobků, kromě oděvů"]
[null,null,"13.93","Výroba koberců a kobercových předložek"]
[null,null,"13.94","Výroba lan, provazů a síťovaných výrobků"]
[null,null,"13.95","Výroba netkaných textilií a výrobků z nich, kromě oděvů"]
[null,null,"13.96","Výroba ostatních technických a průmyslových textilií"]
[null,null,"13.99","Výroba ostatních textilií j. n."]
[]
[14,null,null,"Výroba oděvů"]
[]
[null,"14.1",null,"Výroba oděvů, kromě kožešinových výrobků "]
[null,null,"14.11","Výroba kožených oděvů "]
[null,null,"14.12","Výroba pracovních oděvů"]
[null,null,"14.13","Výroba ostatních svrchních oděvů"]
[null,null,"14.14","Výroba osobního prádla"]
[null,null,"14.19","Výroba ostatních oděvů a oděvních doplňků "]
[]
[null,"14.2",null,"Výroba kožešinových výrobků"]
[null,null,"14.20","Výroba kožešinových výrobků"]
[]
[null,"14.3",null,"Výroba pletených a háčkovaných oděvů"]
[null,null,"14.31","Výroba pletených a háčkovaných punčochových výrobků"]
[null,null,"14.39","Výroba ostatních pletených a háčkovaných oděvů"]
[]
[15,null,null,"Výroba usní a souvisejících výrobků "]
[]
[null,"15.1",null,"Činění a úprava usní (vyčiněných kůží); zpracování a barvení kožešin; výroba brašnářských, sedlářských a podobných výrobků"]
[null,null,"15.11","Činění a úprava usní (vyčiněných kůží); zpracování a barvení kožešin "]
[null,null,"15.12","Výroba brašnářských, sedlářských a podobných výrobků"]
[]
[null,"15.2",null,"Výroba obuvi "]
[null,null,"15.20","Výroba obuvi "]
[null,null,"15.20.1","Výroba obuvi s usňovým svrškem"]
[null,null,"15.20.9","Výroba obuvi z ostatních materiálů"]
[]
[16,null,null,"Zpracování dřeva, výroba dřevěných, korkových, proutěných a slaměných výrobků, kromě nábytku"]
[]
[null,"16.1",null,"Výroba pilařská a impregnace dřeva"]
[null,null,"16.10","Výroba pilařská a impregnace dřeva"]
[]
[null,"16.2",null,"Výroba dřevěných, korkových, proutěných a slaměných výrobků, kromě nábytku"]
[null,null,"16.21","Výroba dýh a desek na bázi dřeva "]
[null,null,"16.22","Výroba sestavených parketových podlah"]
[null,null,"16.23","Výroba ostatních výrobků stavebního truhlářství a tesařství"]
[null,null,"16.24","Výroba dřevěných obalů"]
[null,null,"16.29","Výroba ostatních dřevěných, korkových, proutěných a slaměných výrobků, kromě nábytku"]
[null,null," "]
[17,null,null,"Výroba papíru a výrobků z papíru"]
[]
[null,"17.1",null,"Výroba buničiny, papíru a lepenky"]
[null,null,"17.11","Výroba buničiny"]
[null,null,"17.11.1","Výroba chemických buničin"]
[null,null,"17.11.2","Výroba mechanických vláknin"]
[null,null,"17.11.3","Výroba ostatních papírenských vláknin"]
[null,null,"17.12","Výroba papíru a lepenky"]
[]
[null,"17.2",null,"Výroba výrobků z papíru a lepenky"]
[null,null,"17.21","Výroba vlnitého papíru a lepenky, papírových a lepenkových obalů"]
[null,null,"17.22","Výroba domácích potřeb, hygienických a toaletních výrobků z papíru"]
[null,null,"17.23","Výroba kancelářských potřeb z papíru"]
[null,null,"17.24","Výroba tapet"]
[null,null,"17.29","Výroba ostatních výrobků z papíru a lepenky"]
[]
[18,null,null,"Tisk a rozmnožování nahraných nosičů"]
[]
[null,"18.1",null,"Tisk a činnosti související s tiskem"]
[null,null,"18.11","Tisk novin"]
[null,null,"18.12","Tisk ostatní, kromě novin"]
[null,null,"18.13","Příprava tisku a digitálních dat"]
[null,null,"18.14","Vázání a související činnosti"]
[]
[null,"18.2",null,"Rozmnožování nahraných nosičů "]
[null,null,"18.20","Rozmnožování nahraných nosičů "]
[]
[19,null,null,"Výroba koksu a rafinovaných ropných produktů "]
[]
[null,"19.1",null,"Výroba koksárenských produktů"]
[null,null,"19.10","Výroba koksárenských produktů"]
[]
[null,"19.2",null,"Výroba rafinovaných ropných produktů "]
[null,null,"19.20","Výroba rafinovaných ropných produktů "]
[]
[20,null,null,"Výroba chemických látek a chemických přípravků"]
[]
[null,"20.1",null,"Výroba základních chemických látek, hnojiv a dusíkatých sloučenin, plastů a syntetického kaučuku v primárních formách"]
[null,null,"20.11","Výroba technických plynů"]
[null,null,"20.12","Výroba barviv a pigmentů"]
[null,null,"20.13","Výroba jiných základních anorganických chemických látek"]
[null,null,"20.14","Výroba jiných základních organických chemických látek"]
[null,null,"20.14.1","Výroba bioetanolu (biolihu) pro pohon motorů a pro výrobu směsí a komponent paliv pro pohon motorů"]
[null,null,"20.14.9","Výroba ostatních základních organických chemických látek"]
[null,null,"20.15","Výroba hnojiv a dusíkatých sloučenin"]
[null,null,"20.16","Výroba plastů v primárních formách"]
[null,null,"20.17","Výroba syntetického kaučuku v primárních formách"]
[]
[null,"20.2",null,"Výroba pesticidů a jiných agrochemických přípravků"]
[null,null,"20.20","Výroba pesticidů a jiných agrochemických přípravků"]
[]
[null,"20.3",null,"Výroba nátěrových barev, laků a jiných nátěrových materiálů, tiskařských barev a tmelů"]
[null,null,"20.30","Výroba nátěrových barev, laků a jiných nátěrových materiálů, tiskařských barev a tmelů"]
[]
[null,"20.4",null,"Výroba mýdel a detergentů, čisticích a lešticích prostředků, parfémů a toaletních přípravků"]
[null,null,"20.41","Výroba mýdel a detergentů, čisticích a lešticích prostředků"]
[null,null,"20.42","Výroba parfémů a toaletních přípravků"]
[]
[null,"20.5",null,"Výroba ostatních chemických výrobků"]
[null,null,"20.51","Výroba výbušnin"]
[null,null,"20.52","Výroba klihů "]
[null,null,"20.53","Výroba vonných silic "]
[null,null,"20.59","Výroba ostatních chemických výrobků j. n."]
[null,null,"20.59.1","Výroba metylesterů a etylesterů mastných kyselin pro pohon motorů a pro výrobu směsí paliv pro pohon motorů"]
[null,null,"20.59.9","Výroba jiných chemických výrobků j. n."]
[]
[null,"20.6",null,"Výroba chemických vláken"]
[null,null,"20.60","Výroba chemických vláken"]
[]
[21,null,null,"Výroba základních farmaceutických výrobků a farmaceutických přípravků"]
[]
[null,"21.1",null,"Výroba základních farmaceutických výrobků"]
[null,null,"21.10","Výroba základních farmaceutických výrobků"]
[]
[null,"21.2",null,"Výroba farmaceutických přípravků "]
[null,null,"21.20","Výroba farmaceutických přípravků "]
[]
[22,null,null,"Výroba pryžových a plastových výrobků"]
[]
[null,"22.1",null,"Výroba pryžových výrobků"]
[null,null,"22.11","Výroba pryžových plášťů a duší; protektorování pneumatik"]
[null,null,"22.19","Výroba ostatních pryžových výrobků"]
[]
[null,"22.2",null,"Výroba plastových výrobků"]
[null,null,"22.21","Výroba plastových desek, fólií, hadic, trubek a profilů"]
[null,null,"22.22","Výroba plastových obalů"]
[null,null,"22.23","Výroba plastových výrobků pro stavebnictví"]
[null,null,"22.29","Výroba ostatních plastových výrobků"]
[]
[23,null,null,"Výroba ostatních nekovových minerálních výrobků"]
[]
[null,"23.1",null,"Výroba skla a skleněných výrobků"]
[null,null,"23.11","Výroba plochého skla"]
[null,null,"23.12","Tvarování a zpracování plochého skla"]
[null,null,"23.13","Výroba dutého skla"]
[null,null,"23.14","Výroba skleněných vláken"]
[null,null,"23.19","Výroba a zpracování ostatního skla vč. technického"]
[]
[null,"23.2",null,"Výroba žáruvzdorných výrobků"]
[null,null,"23.20","Výroba žáruvzdorných výrobků"]
[]
[null,"23.3",null,"Výroba stavebních výrobků z jílovitých materiálů "]
[null,null,"23.31","Výroba keramických obkládaček a dlaždic"]
[null,null,"23.32","Výroba pálených zdicích materiálů, tašek, dlaždic a podobných výrobků"]
[]
[null,"23.4",null,"Výroba ostatních porcelánových a keramických výrobků "]
[null,null,"23.41","Výroba keramických a porcelánových výrobků převážně pro domácnost a ozdobných předmětů"]
[null,null,"23.42","Výroba keramických sanitárních výrobků"]
[null,null,"23.43","Výroba keramických izolátorů a izolačního příslušenství"]
[null,null,"23.44","Výroba ostatních technických keramických výrobků"]
[null,null,"23.49","Výroba ostatních keramických výrobků"]
[]
[null,"23.5",null,"Výroba cementu, vápna a sádry"]
[null,null,"23.51","Výroba cementu"]
[null,null,"23.52","Výroba vápna a sádry"]
[]
[null,"23.6",null,"Výroba betonových, cementových a sádrových výrobků"]
[null,null,"23.61","Výroba betonových výrobků pro stavební účely"]
[null,null,"23.62","Výroba sádrových výrobků pro stavební účely"]
[null,null,"23.63","Výroba betonu připraveného k lití"]
[null,null,"23.64","Výroba malt "]
[null,null,"23.65","Výroba vláknitých cementů"]
[null,null,"23.69","Výroba ostatních betonových, cementových a sádrových výrobků "]
[]
[null,"23.7",null,"Řezání, tvarování a konečná úprava kamenů "]
[null,null,"23.70","Řezání, tvarování a konečná úprava kamenů "]
[]
[null,"23.9",null,"Výroba brusiv a ostatních nekovových minerálních výrobků j. n."]
[null,null,"23.91","Výroba brusiv"]
[null,null,"23.99","Výroba ostatních nekovových minerálních výrobků j. n."]
[]
[24,null,null,"Výroba základních kovů, hutní zpracování kovů; slévárenství"]
[]
[null,"24.1",null,"Výroba surového železa, oceli a feroslitin, plochých výrobků (kromě pásky za studena), tváření výrobků za tepla  "]
[null,null,"24.10","Výroba surového železa, oceli a feroslitin, plochých výrobků (kromě pásky za studena), tváření výrobků za tepla  "]
[null,null,"24.10.1","Výroba surového železa, oceli a feroslitin"]
[null,null,"24.10.2","Výroba plochých výrobků (kromě pásky za studena)"]
[null,null,"24.10.3","Tváření výrobků za tepla  "]
[]
[null,"24.2",null,"Výroba ocelových trub, trubek, dutých profilů a souvisejících potrubních tvarovek"]
[null,null,"24.20","Výroba ocelových trub, trubek, dutých profilů a souvisejících potrubních tvarovek"]
[]
[null,"24.3",null,"Výroba ostatních výrobků získaných jednostupňovým zpracováním oceli"]
[null,null,"24.31","Tažení tyčí za studena"]
[null,null,"24.32","Válcování ocelových úzkých pásů za studena"]
[null,null,"24.33","Tváření ocelových profilů za studena "]
[null,null,"24.34","Tažení ocelového drátu za studena"]
[]
[null,"24.4",null,"Výroba a hutní zpracování drahých a neželezných kovů"]
[null,null,"24.41","Výroba a hutní zpracování drahých kovů"]
[null,null,"24.42","Výroba a hutní zpracování hliníku"]
[null,null,"24.43","Výroba a hutní zpracování olova, zinku a cínu"]
[null,null,"24.44","Výroba a hutní zpracování mědi"]
[null,null,"24.45","Výroba a hutní zpracování ostatních neželezných kovů"]
[null,null,"24.46","Zpracování jaderného paliva"]
[]
[null,"24.5",null,"Slévárenství"]
[null,null,"24.51","Výroba odlitků z litiny"]
[null,null,"24.51.1","Výroba odlitků z litiny s lupínkovým grafitem"]
[null,null,"24.51.2","Výroba odlitků z litiny s kuličkovým grafitem"]
[null,null,"24.51.9","Výroba ostatních odlitků z litiny"]
[null,null,"24.52","Výroba odlitků z oceli"]
[null,null,"24.52.1","Výroba odlitků z uhlíkatých ocelí"]
[null,null,"24.52.2","Výroba odlitků z legovaných ocelí"]
[null,null,"24.53","Výroba odlitků z lehkých neželezných kovů"]
[null,null,"24.54","Výroba odlitků z ostatních neželezných kovů"]
[]
[25,null,null,"Výroba kovových konstrukcí a kovodělných výrobků, kromě strojů a zařízení"]
[]
[null,"25.1",null,"Výroba konstrukčních kovových výrobků"]
[null,null,"25.11","Výroba kovových konstrukcí a jejich dílů"]
[null,null,"25.12","Výroba kovových dveří a oken"]
[]
[null,"25.2",null,"Výroba radiátorů a kotlů k ústřednímu topení, kovových nádrží a zásobníků "]
[null,null,"25.21","Výroba radiátorů a kotlů k ústřednímu topení"]
[null,null,"25.29","Výroba kovových nádrží a zásobníků"]
[]
[null,"25.3",null,"Výroba parních kotlů, kromě kotlů pro ústřední topení"]
[null,null,"25.30","Výroba parních kotlů, kromě kotlů pro ústřední topení"]
[]
[null,"25.4",null,"Výroba zbraní a střeliva"]
[null,null,"25.40","Výroba zbraní a střeliva"]
[]
[null,"25.5",null,"Kování, lisování, ražení, válcování a protlačování kovů; prášková metalurgie"]
[null,null,"25.50","Kování, lisování, ražení, válcování a protlačování kovů; prášková metalurgie"]
[]
[null,"25.6",null,"Povrchová úprava a zušlechťování kovů; obrábění"]
[null,null,"25.61","Povrchová úprava a zušlechťování kovů"]
[null,null,"25.62","Obrábění"]
[]
[null,"25.7",null,"Výroba nožířských výrobků, nástrojů a železářských výrobků "]
[null,null,"25.71","Výroba nožířských výrobků"]
[null,null,"25.72","Výroba zámků a kování"]
[null,null,"25.73","Výroba nástrojů a nářadí"]
[]
[null,"25.9",null,"Výroba ostatních kovodělných výrobků"]
[null,null,"25.91","Výroba ocelových sudů a podobných nádob"]
[null,null,"25.92","Výroba drobných kovových obalů"]
[null,null,"25.93","Výroba drátěných výrobků, řetězů a pružin"]
[null,null,"25.94","Výroba spojovacích materiálů a spojovacích výrobků se závity"]
[null,null,"25.99","Výroba ostatních kovodělných výrobků j. n."]
[null,null," "]
[26,null,null,"Výroba počítačů, elektronických a optických přístrojů a zařízení"]
[]
[null,"26.1",null,"Výroba elektronických součástek a desek"]
[null,null,"26.11","Výroba elektronických součástek "]
[null,null,"26.12","Výroba osazených elektronických desek"]
[]
[null,"26.2",null,"Výroba počítačů a periferních zařízení"]
[null,null,"26.20","Výroba počítačů a periferních zařízení"]
[]
[null,"26.3",null,"Výroba komunikačních zařízení"]
[null,null,"26.30","Výroba komunikačních zařízení"]
[]
[null,"26.4",null,"Výroba spotřební elektroniky "]
[null,null,"26.40","Výroba spotřební elektroniky "]
[]
[null,"26.5",null,"Výroba měřicích, zkušebních a navigačních přístrojů; výroba časoměrných přístrojů"]
[null,null,"26.51","Výroba měřicích, zkušebních a navigačních přístrojů "]
[null,null,"26.52","Výroba časoměrných přístrojů"]
[]
[null,"26.6",null,"Výroba ozařovacích, elektroléčebných a elektroterapeutických přístrojů"]
[null,null,"26.60","Výroba ozařovacích, elektroléčebných a elektroterapeutických přístrojů"]
[]
[null,"26.7",null,"Výroba optických a fotografických přístrojů a zařízení"]
[null,null,"26.70","Výroba optických a fotografických přístrojů a zařízení"]
[]
[null,"26.8",null,"Výroba magnetických a optických médií"]
[null,null,"26.80","Výroba magnetických a optických médií"]
[]
[27,null,null,"Výroba elektrických zařízení"]
[]
[null,"27.1",null,"Výroba elektrických motorů, generátorů, transformátorů a elektrických rozvodných a kontrolních zařízení"]
[null,null,"27.11","Výroba elektrických motorů, generátorů a transformátorů"]
[null,null,"27.12","Výroba elektrických rozvodných a kontrolních zařízení"]
[]
[null,"27.2",null,"Výroba baterií a akumulátorů "]
[null,null,"27.20","Výroba baterií a akumulátorů "]
[]
[null,"27.3",null,"Výroba optických a elektrických kabelů, elektrických vodičů a elektroinstalačních zařízení "]
[null,null,"27.31","Výroba optických kabelů "]
[null,null,"27.32","Výroba elektrických vodičů a kabelů j. n."]
[null,null,"27.33","Výroba elektroinstalačních zařízení"]
[]
[null,"27.4",null,"Výroba elektrických osvětlovacích zařízení "]
[null,null,"27.40","Výroba elektrických osvětlovacích zařízení "]
[]
[null,"27.5",null,"Výroba spotřebičů převážně pro domácnost"]
[null,null,"27.51","Výroba elektrických spotřebičů převážně pro domácnost"]
[null,null,"27.52","Výroba neelektrických spotřebičů převážně pro domácnost"]
[]
[null,"27.9",null,"Výroba ostatních elektrických zařízení"]
[null,null,"27.90","Výroba ostatních elektrických zařízení"]
[]
[28,null,null,"Výroba strojů a zařízení j. n."]
[]
[null,"28.1",null,"Výroba strojů a zařízení pro všeobecné účely"]
[null,null,"28.11","Výroba motorů a turbín, kromě motorů pro letadla, automobily a motocykly"]
[null,null,"28.12","Výroba hydraulických a pneumatických zařízení "]
[null,null,"28.13","Výroba ostatních čerpadel a kompresorů"]
[null,null,"28.14","Výroba ostatních potrubních armatur"]
[null,null,"28.15","Výroba ložisek, ozubených kol, převodů a hnacích prvků"]
[]
[null,"28.2",null,"Výroba ostatních strojů a zařízení pro všeobecné účely"]
[null,null,"28.21","Výroba pecí a hořáků pro topeniště"]
[null,null,"28.22","Výroba zdvihacích a manipulačních zařízení"]
[null,null,"28.23","Výroba kancelářských strojů a zařízení, kromě počítačů a periferních zařízení"]
[null,null,"28.24","Výroba ručních mechanizovaných nástrojů"]
[null,null,"28.25","Výroba průmyslových chladicích a klimatizačních zařízení"]
[null,null,"28.29","Výroba ostatních strojů a zařízení pro všeobecné účely j. n."]
[]
[null,"28.3",null,"Výroba zemědělských a lesnických strojů"]
[null,null,"28.30","Výroba zemědělských a lesnických strojů"]
[]
[null,"28.4",null,"Výroba kovoobráběcích a ostatních obráběcích strojů "]
[null,null,"28.41","Výroba kovoobráběcích strojů "]
[null,null,"28.49","Výroba ostatních obráběcích strojů"]
[]
[null,"28.9",null,"Výroba ostatních strojů pro speciální účely"]
[null,null,"28.91","Výroba strojů pro metalurgii"]
[null,null,"28.92","Výroba strojů pro těžbu, dobývání a stavebnictví"]
[null,null,"28.93","Výroba strojů na výrobu potravin, nápojů a zpracování tabáku"]
[null,null,"28.94","Výroba strojů na výrobu textilu, oděvních výrobků a výrobků z usní"]
[null,null,"28.95","Výroba strojů a přístrojů na výrobu papíru a lepenky"]
[null,null,"28.96","Výroba strojů na výrobu plastů a pryže"]
[null,null,"28.99","Výroba ostatních strojů pro speciální účely j. n."]
[]
[29,null,null,"Výroba motorových vozidel (kromě motocyklů), přívěsů a návěsů"]
[]
[null,"29.1",null,"Výroba motorových vozidel a jejich motorů"]
[null,null,"29.10","Výroba motorových vozidel a jejich motorů"]
[]
[null,"29.2",null,"Výroba karoserií motorových vozidel; výroba přívěsů a návěsů"]
[null,null,"29.20","Výroba karoserií motorových vozidel; výroba přívěsů a návěsů"]
[]
[null,"29.3",null,"Výroba dílů a příslušenství pro motorová vozidla a jejich motory"]
[null,null,"29.31","Výroba elektrického a elektronického zařízení pro motorová vozidla"]
[null,null,"29.32","Výroba ostatních dílů a příslušenství pro motorová vozidla"]
[]
[30,null,null,"Výroba ostatních dopravních prostředků a zařízení"]
[]
[null,"30.1",null,"Stavba lodí a člunů"]
[null,null,"30.11","Stavba lodí a plavidel"]
[null,null,"30.12","Stavba rekreačních a sportovních člunů"]
[]
[null,"30.2",null,"Výroba železničních lokomotiv a vozového parku"]
[null,null,"30.20","Výroba železničních lokomotiv a vozového parku"]
[]
[null,"30.3",null,"Výroba letadel a jejich motorů, kosmických lodí a souvisejících zařízení"]
[null,null,"30.30","Výroba letadel a jejich motorů, kosmických lodí a souvisejících zařízení"]
[]
[null,"30.4",null,"Výroba vojenských bojových vozidel"]
[null,null,"30.40","Výroba vojenských bojových vozidel"]
[]
[null,"30.9",null,"Výroba dopravních prostředků a zařízení j. n."]
[null,null,"30.91","Výroba motocyklů"]
[null,null,"30.92","Výroba jízdních kol a vozíků pro invalidy"]
[null,null,"30.99","Výroba ostatních dopravních prostředků a zařízení j. n."]
[]
[31,null,null,"Výroba nábytku"]
[]
[null,"31.0",null,"Výroba nábytku"]
[null,null,"31.01","Výroba kancelářského nábytku a zařízení obchodů"]
[null,null,"31.02","Výroba kuchyňského nábytku"]
[null,null,"31.03","Výroba matrací"]
[null,null,"31.09","Výroba ostatního nábytku"]
[]
[32,null,null,"Ostatní zpracovatelský průmysl"]
[]
[null,"32.1",null,"Výroba klenotů, bižuterie a příbuzných výrobků"]
[null,null,"32.11","Ražení mincí"]
[null,null,"32.12","Výroba klenotů a příbuzných výrobků"]
[null,null,"32.13","Výroba bižuterie a příbuzných výrobků"]
[]
[null,"32.2",null,"Výroba hudebních nástrojů"]
[null,null,"32.20","Výroba hudebních nástrojů"]
[]
[null,"32.3",null,"Výroba sportovních potřeb"]
[null,null,"32.30","Výroba sportovních potřeb"]
[]
[null,"32.4",null,"Výroba her a hraček"]
[null,null,"32.40","Výroba her a hraček"]
[]
[null,"32.5",null,"Výroba lékařských a dentálních nástrojů a potřeb"]
[null,null,"32.50","Výroba lékařských a dentálních nástrojů a potřeb"]
[]
[null,"32.9",null,"Zpracovatelský průmysl j. n."]
[null,null,"32.91","Výroba košťat a kartáčnických výrobků"]
[null,null,"32.99","Ostatní zpracovatelský průmysl j. n. "]
[]
[33,null,null,"Opravy a instalace strojů a zařízení"]
[]
[null,"33.1",null,"Opravy kovodělných výrobků, strojů a zařízení"]
[null,null,"33.11","Opravy kovodělných výrobků"]
[null,null,"33.12","Opravy strojů"]
[null,null,"33.13","Opravy elektronických a optických přístrojů a zařízení"]
[null,null,"33.14","Opravy elektrických zařízení"]
[null,null,"33.15","Opravy a údržba lodí a člunů"]
[null,null,"33.16","Opravy a údržba letadel a kosmických lodí"]
[null,null,"33.17","Opravy a údržba ostatních dopravních prostředků a zařízení j. n. "]
[null,null,"33.17.1","Opravy a údržba kolejových vozidel"]
[null,null,"33.17.9","Opravy a údržba ostatních dopravních prostředků a zařízení j. n. kromě kolejových vozidel"]
[null,null,"33.19","Opravy ostatních zařízení"]
[]
[null,"33.2",null,"Instalace průmyslových strojů a zařízení"]
[null,null,"33.20","Instalace průmyslových strojů a zařízení"]
[]
[]
[null,null,null,"SEKCE D – VÝROBA A ROZVOD ELEKTŘINY, PLYNU, TEPLA A KLIMATIZOVANÉHO VZDUCHU"]
[]
[35,null,null,"Výroba a rozvod elektřiny, plynu, tepla a klimatizovaného vzduchu"]
[]
[null," 35.1",null,"Výroba, přenos a rozvod elektřiny"]
[null,null,"35.11","Výroba elektřiny "]
[null,null,"35.12","Přenos elektřiny "]
[null,null,"35.13","Rozvod elektřiny "]
[null,null,"35.14","Obchod s elektřinou "]
[]
[null,"35.2",null,"Výroba plynu; rozvod plynných paliv prostřednictvím sítí"]
[null,null,"35.21","Výroba plynu"]
[null,null,"35.22","Rozvod plynných paliv prostřednictvím sítí"]
[null,null,"35.23","Obchod s plynem prostřednictvím sítí"]
[]
[null,"35.3",null,"Výroba a rozvod tepla a klimatizovaného vzduchu, výroba ledu "]
[null,null,"35.30","Výroba a rozvod tepla a klimatizovaného vzduchu, výroba ledu"]
[null,null,"35.30.1","Výroba tepla"]
[null,null,"35.30.2","Rozvod tepla"]
[null,null,"35.30.3","Výroba klimatizovaného vzduchu"]
[null,null,"35.30.4","Rozvod klimatizovaného vzduchu"]
[null,null,"35.30.5","Výroba chladicí vody"]
[null,null,"35.30.6","Rozvod chladicí vody"]
[null,null,"35.30.7","Výroba ledu"]
[]
[null,null," "]
[null,null,null,"SEKCE E – ZÁSOBOVÁNÍ VODOU; ČINNOSTI SOUVISEJÍCÍ S ODPADNÍMI VODAMI, ODPADY A SANACEMI"]
[]
[36,null,null,"Shromažďování, úprava a rozvod vody "]
[]
[null,"36.0",null,"Shromažďování, úprava a rozvod vody "]
[null,null,"36.00","Shromažďování, úprava a rozvod vody "]
[]
[37,null,null,"Činnosti související s odpadními vodami"]
[]
[null,"37.0",null,"Činnosti související s odpadními vodami"]
[null,null,"37.00","Činnosti související s odpadními vodami"]
[]
[38,null,null,"Shromažďování, sběr a odstraňování odpadů, úprava odpadů k dalšímu využití"]
[]
[null,"38.1",null,"Shromažďování a sběr odpadů"]
[null,null,"38.11","Shromažďování a sběr odpadů, kromě nebezpečných"]
[null,null,"38.12","Shromažďování a sběr nebezpečných odpadů"]
[]
[null,"38.2",null,"Odstraňování odpadů"]
[null,null,"38.21","Odstraňování odpadů, kromě nebezpečných"]
[null,null,"38.22","Odstraňování nebezpečných odpadů"]
[]
[null,"38.3",null,"Úprava odpadů k dalšímu využití"]
[null,null,"38.31","Demontáž vraků a vyřazených strojů a zařízení pro účely recyklace"]
[null,null,"38.32","Úprava odpadů k dalšímu využití, kromě demontáže vraků, strojů a zařízení"]
[]
[39,null,null,"Sanace a jiné činnosti související s odpady"]
[]
[null,"39.0",null,"Sanace a jiné činnosti související s odpady"]
[null,null,"39.00","Sanace a jiné činnosti související s odpady"]
[]
[]
[null,null,null,"SEKCE F - STAVEBNICTVÍ"]
[]
[41,null,null,"Výstavba budov"]
[]
[null,"41.1",null,"Developerská činnost "]
[null,null,"41.10","Developerská činnost"]
[]
[null,"41.2",null,"Výstavba bytových a nebytových budov"]
[null,null,"41.20","Výstavba bytových a nebytových budov"]
[null,null,"41.20.1","Výstavba bytových budov"]
[null,null,"41.20.2","Výstavba nebytových budov"]
[]
[42,null,null,"Inženýrské stavitelství"]
[]
[null,"42.1",null,"Výstavba silnic a železnic"]
[null,null,"42.11","Výstavba silnic a dálnic"]
[null,null,"42.12","Výstavba železnic a podzemních drah"]
[null,null,"42.13","Výstavba mostů a tunelů"]
[]
[null,"42.2",null,"Výstavba inženýrských sítí"]
[null,null,"42.21","Výstavba inženýrských sítí pro kapaliny a plyny"]
[null,null,"42.21.1","Výstavba inženýrských sítí pro kapaliny"]
[null,null,"42.21.2","Výstavba inženýrských sítí pro plyny"]
[null,null,"42.22","Výstavba inženýrských sítí pro elektřinu a telekomunikace"]
[]
[null,"42.9",null,"Výstavba ostatních staveb"]
[null,null,"42.91","Výstavba vodních děl"]
[null,null,"42.99","Výstavba ostatních staveb j. n."]
[]
[43,null,null,"Specializované stavební činnosti "]
[]
[null,"43.1",null,"Demolice a příprava staveniště"]
[null,null,"43.11","Demolice"]
[null,null,"43.12","Příprava staveniště"]
[null,null,"43.13","Průzkumné vrtné práce"]
[]
[null,"43.2",null,"Elektroinstalační, instalatérské a ostatní stavebně instalační práce"]
[null,null,"43.21","Elektrické instalace"]
[null,null,"43.22","Instalace vody, odpadu, plynu, topení a klimatizace"]
[null,null,"43.29","Ostatní stavební instalace"]
[]
[null,"43.3",null,"Kompletační a dokončovací práce"]
[null,null,"43.31","Omítkářské práce"]
[null,null,"43.32","Truhlářské práce"]
[null,null,"43.33","Obkládání stěn a pokládání podlahových krytin"]
[null,null,"43.34","Sklenářské, malířské a natěračské práce"]
[null,null,"43.34.1","Sklenářské práce"]
[null,null,"43.34.2","Malířské a natěračské práce"]
[null,null,"43.39","Ostatní kompletační a dokončovací práce"]
[]
[null,"43.9",null,"Ostatní specializované stavební činnosti "]
[null,null,"43.91","Pokrývačské práce"]
[null,null,"43.99","Ostatní specializované stavební činnosti j. n."]
[null,null,"43.99.1","Montáž a demontáž lešení a bednění"]
[null,null,"43.99.9","Jiné specializované stavební činnosti j. n."]
[]
[]
[null,null,null,"SEKCE G - VELKOOBCHOD A MALOOBCHOD; OPRAVY A ÚDRŽBA MOTOROVÝCH VOZIDEL "]
[]
[45,null,null,"Velkoobchod, maloobchod a opravy motorových vozidel "]
[]
[null,"45.1",null,"Obchod s motorovými vozidly, kromě motocyklů"]
[null,null,"45.11","Obchod s automobily a jinými lehkými motorovými vozidly"]
[null,null,"45.19","Obchod s ostatními motorovými vozidly, kromě motocyklů"]
[]
[null,"45.2",null,"Opravy a údržba motorových vozidel, kromě motocyklů"]
[null,null,"45.20","Opravy a údržba motorových vozidel, kromě motocyklů"]
[]
[null,"45.3",null,"Obchod s díly a příslušenstvím pro motorová vozidla, kromě motocyklů"]
[null,null,"45.31","Velkoobchod s díly a příslušenstvím pro motorová vozidla, kromě motocyklů"]
[null,null,"45.32","Maloobchod s díly a příslušenstvím pro motorová vozidla, kromě motocyklů"]
[]
[null,"45.4",null,"Obchod, opravy a údržba motocyklů, jejich dílů a příslušenství"]
[null,null,"45.40","Obchod, opravy a údržba motocyklů, jejich dílů a příslušenství"]
[null,null," "]
[46,null,null,"Velkoobchod, kromě motorových vozidel "]
[]
[null,"46.1",null,"Zprostředkování velkoobchodu a velkoobchod v zastoupení "]
[null,null,"46.11","Zprostředkování velkoobchodu a velkoobchod v zastoupení se základními zemědělskými produkty, živými zvířaty, textilními surovinami a polotovary "]
[null,null,"46.12","Zprostředkování velkoobchodu a velkoobchod v zastoupení s palivy, rudami, kovy a průmyslovými chemikáliemi "]
[null,null,"46.13","Zprostředkování velkoobchodu a velkoobchod v zastoupení se dřevem a stavebními materiály"]
[null,null,"46.14","Zprostředkování velkoobchodu a velkoobchod v zastoupení se stroji, průmyslovým zařízením, loděmi a letadly"]
[null,null,"46.15","Zprostředkování velkoobchodu a velkoobchod v zastoupení s nábytkem, železářským zbožím a potřebami převážně pro domácnost"]
[null,null,"46.16","Zprostředkování velkoobchodu a velkoobchod v zastoupení s textilem, oděvy, kožešinami, obuví a koženými výrobky"]
[null,null,"46.17","Zprostředkování velkoobchodu a velkoobchod v zastoupení s potravinami, nápoji, tabákem a tabákovými výrobky"]
[null,null,"46.18","Zprostředkování specializovaného velkoobchodu a specializovaný velkoobchod v zastoupení s ostatními výrobky"]
[null,null,"46.18.1","Zprostředkování velkoobchodu a velkoobchod v zastoupení s papírenskými výrobky"]
[null,null,"46.18.9","Zprostředkování specializovaného velkoobchodu a velkoobchod v zastoupení s ostatními výrobky j. n."]
[null,null,"46.19","Zprostředkování nespecializovaného velkoobchodu a nespecializovaný velkoobchod v zastoupení"]
[]
[null,"46.2",null,"Velkoobchod se základními zemědělskými produkty a živými zvířaty"]
[null,null,"46.21","Velkoobchod s obilím, surovým tabákem, osivy a krmivy"]
[null,null,"46.22","Velkoobchod s květinami a jinými rostlinami"]
[null,null,"46.23","Velkoobchod s živými zvířaty"]
[null,null,"46.24","Velkoobchod se surovými kůžemi, kožešinami a usněmi"]
[]
[null,"46.3",null,"Velkoobchod s potravinami, nápoji a tabákovými výrobky"]
[null,null,"46.31","Velkoobchod s ovocem a zeleninou "]
[null,null,"46.32","Velkoobchod s masem a masnými výrobky"]
[null,null,"46.33","Velkoobchod s mléčnými výrobky, vejci, jedlými oleji a tuky"]
[null,null,"46.34","Velkoobchod s nápoji"]
[null,null,"46.35","Velkoobchod s tabákovými výrobky"]
[null,null,"46.36","Velkoobchod s cukrem, čokoládou a cukrovinkami"]
[null,null,"46.37","Velkoobchod s kávou, čajem, kakaem a kořením"]
[null,null,"46.38","Specializovaný velkoobchod s jinými potravinami, včetně ryb, korýšů a měkkýšů"]
[null,null,"46.39","Nespecializovaný velkoobchod s potravinami, nápoji a tabákovými výrobky"]
[]
[null,"46.4",null,"Velkoobchod s výrobky převážně pro domácnost"]
[null,null,"46.41","Velkoobchod s textilem"]
[null,null,"46.42","Velkoobchod s oděvy a obuví"]
[null,null,"46.42.1","Velkoobchod s oděvy"]
[null,null,"46.42.2","Velkoobchod s obuví"]
[null,null,"46.43","Velkoobchod s elektrospotřebiči a elektronikou "]
[null,null,"46.44","Velkoobchod s porcelánovými, keramickými a skleněnými výrobky a čisticími prostředky"]
[null,null,"46.44.1","Velkoobchod s porcelánovými, keramickými a skleněnými výrobky"]
[null,null,"46.44.2","Velkoobchod s pracími a čisticími prostředky"]
[null,null,"46.45","Velkoobchod s kosmetickými výrobky"]
[null,null,"46.46","Velkoobchod s farmaceutickými výrobky"]
[null,null,"46.47","Velkoobchod s nábytkem, koberci a svítidly"]
[null,null,"46.48","Velkoobchod s hodinami, hodinkami a klenoty"]
[null,null,"46.49","Velkoobchod s ostatními výrobky převážně pro domácnost"]
[]
[null,"46.5",null,"Velkoobchod s počítačovým a komunikačním zařízením"]
[null,null,"46.51","Velkoobchod s počítači, počítačovým periferním zařízením a softwarem"]
[null,null,"46.52","Velkoobchod s elektronickým a telekomunikačním zařízením a jeho díly"]
[]
[null,"46.6",null,"Velkoobchod s ostatními stroji, strojním zařízením a příslušenstvím"]
[null,null,"46.61","Velkoobchod se zemědělskými stroji, strojním zařízením a příslušenstvím"]
[null,null,"46.62","Velkoobchod s obráběcími stroji"]
[null,null,"46.63","Velkoobchod s těžebními a stavebními stroji a zařízením"]
[null,null,"46.64","Velkoobchod se strojním zařízením pro textilní průmysl, šicími a pletacími stroji"]
[null,null,"46.65","Velkoobchod s kancelářským nábytkem"]
[null,null,"46.66","Velkoobchod s ostatními kancelářskými stroji a zařízením"]
[null,null,"46.69","Velkoobchod s ostatními stroji a zařízením"]
[]
[null,"46.7",null,"Ostatní specializovaný velkoobchod"]
[null,null,"46.71","Velkoobchod s pevnými, kapalnými a plynnými palivy a příbuznými výrobky"]
[null,null,"46.71.1","Velkoobchod s pevnými palivy a příbuznými výrobky"]
[null,null,"46.71.2","Velkoobchod s kapalnými palivy a příbuznými výrobky"]
[null,null,"46.71.3","Velkoobchod s plynnými palivy a příbuznými výrobky"]
[null,null,"46.72","Velkoobchod s rudami, kovy a hutními výrobky"]
[null,null,"46.73","Velkoobchod se dřevem, stavebními materiály a sanitárním vybavením"]
[null,null,"46.74","Velkoobchod s železářským zbožím, instalatérskými a topenářskými potřebami"]
[null,null,"46.75","Velkoobchod s chemickými výrobky"]
[null,null,"46.76","Velkoobchod s ostatními meziprodukty"]
[null,null,"46.76.1","Velkoobchod s papírenskými meziprodukty"]
[null,null,"46.76.9","Velkoobchod s ostatními meziprodukty j. n."]
[null,null,"46.77","Velkoobchod s odpadem a šrotem"]
[]
[null,"46.9",null,"Nespecializovaný velkoobchod"]
[null,null,"46.90","Nespecializovaný velkoobchod"]
[]
[47,null,null,"Maloobchod, kromě motorových vozidel "]
[]
[null,"47.1",null,"Maloobchod v nespecializovaných prodejnách"]
[null,null,"47.11","Maloobchod s převahou potravin, nápojů a tabákových výrobků v nespecializovaných prodejnách"]
[null,null,"47.19","Ostatní maloobchod v nespecializovaných prodejnách"]
[]
[null,"47.2",null,"Maloobchod s potravinami, nápoji a tabákovými výrobky ve specializovaných prodejnách"]
[null,null,"47.21","Maloobchod s ovocem a zeleninou "]
[null,null,"47.22","Maloobchod s masem a masnými výrobky "]
[null,null,"47.23","Maloobchod s rybami, korýši a měkkýši "]
[null,null,"47.24","Maloobchod s chlebem, pečivem, cukrářskými výrobky a cukrovinkami "]
[null,null,"47.25","Maloobchod s nápoji "]
[null,null,"47.26","Maloobchod s tabákovými výrobky "]
[null,null,"47.29","Ostatní maloobchod s potravinami ve specializovaných prodejnách"]
[]
[null,"47.3",null,"Maloobchod s pohonnými hmotami ve specializovaných prodejnách"]
[null,null,"47.30","Maloobchod s pohonnými hmotami ve specializovaných prodejnách"]
[]
[null,"47.4",null,"Maloobchod s počítačovým a komunikačním zařízením ve specializovaných prodejnách"]
[null,null,"47.41","Maloobchod s počítači, počítačovým periferním zařízením a softwarem "]
[null,null,"47.42","Maloobchod s telekomunikačním zařízením "]
[null,null,"47.43","Maloobchod s audio- a videozařízením "]
[]
[null,"47.5",null,"Maloobchod s ostatními výrobky převážně pro domácnost ve specializovaných prodejnách"]
[null,null,"47.51","Maloobchod s textilem "]
[null,null,"47.52","Maloobchod s železářským zbožím, barvami, sklem a potřebami pro kutily "]
[null,null,"47.53","Maloobchod s koberci, podlahovými krytinami a nástěnnými obklady "]
[null,null,"47.54","Maloobchod s elektrospotřebiči a elektronikou "]
[null,null,"47.59","Maloobchod s nábytkem, svítidly a ostatními výrobky převážně pro domácnost ve specializovaných prodejnách"]
[]
[null,"47.6",null,"Maloobchod s výrobky pro kulturní rozhled a rekreaci ve specializovaných prodejnách"]
[null,null,"47.61","Maloobchod s knihami "]
[null,null,"47.62","Maloobchod s novinami, časopisy a papírnickým zbožím "]
[null,null,"47.63","Maloobchod s audio- a videozáznamy "]
[null,null,"47.64","Maloobchod se sportovním vybavením "]
[null,null,"47.65","Maloobchod s hrami a hračkami "]
[]
[null,"47.7",null,"Maloobchod s ostatním zbožím ve specializovaných prodejnách"]
[null,null,"47.71","Maloobchod s oděvy "]
[null,null,"47.72","Maloobchod s obuví a koženými výrobky "]
[null,null,"47.73","Maloobchod s farmaceutickými přípravky "]
[null,null,"47.74","Maloobchod se zdravotnickými a ortopedickými výrobky "]
[null,null,"47.75","Maloobchod s kosmetickými a toaletními výrobky "]
[null,null,"47.76","Maloobchod s květinami, rostlinami, osivy, hnojivy, zvířaty pro zájmový chov a krmivy pro ně "]
[null,null,"47.77","Maloobchod s hodinami, hodinkami a klenoty "]
[null,null,"47.78","Ostatní maloobchod s novým zbožím ve specializovaných prodejnách"]
[null,null,"47.78.1","Maloobchod s fotografickým a optickým zařízením a potřebami"]
[null,null,"47.78.2","Maloobchod s pevnými palivy"]
[null,null,"47.78.3","Maloobchod s kapalnými palivy (kromě pohonných hmot)"]
[null,null,"47.78.4","Maloobchod s plynnými palivy (kromě pohonných hmot)"]
[null,null,"47.78.9","Ostatní maloobchod s novým zbožím ve specializovaných prodejnách j. n."]
[null,null,"47.79","Maloobchod s použitým zbožím v prodejnách"]
[]
[null,"47.8",null,"Maloobchod ve stáncích a na trzích"]
[null,null,"47.81","Maloobchod s potravinami, nápoji a tabákovými výrobky ve stáncích a na trzích"]
[null,null,"47.82","Maloobchod s textilem, oděvy a obuví ve stáncích a na trzích "]
[null,null,"47.89","Maloobchod s ostatním zbožím ve stáncích a na trzích "]
[]
[null,"47.9",null,"Maloobchod mimo prodejny, stánky a trhy"]
[null,null,"47.91","Maloobchod prostřednictvím internetu nebo zásilkové služby "]
[null,null,"47.91.1","Maloobchod prostřednictvím internetu"]
[null,null,"47.91.2","Maloobchod prostřednictvím zásilkové služby (jiný než prostřednictvím internetu)"]
[null,null,"47.99","Ostatní maloobchod mimo prodejny, stánky a trhy"]
[]
[]
[null,null,null,"SEKCE H - DOPRAVA A SKLADOVÁNÍ"]
[]
[49,null,null,"Pozemní a potrubní doprava"]
[]
[null,"49.1",null,"Železniční osobní doprava meziměstská"]
[null,null,"49.10","Železniční osobní doprava meziměstská"]
[]
[null,"49.2",null,"Železniční nákladní doprava"]
[null,null,"49.20","Železniční nákladní doprava"]
[null,null," "]
[null,"49.3",null,"Ostatní pozemní osobní doprava "]
[null,null,"49.31","Městská a příměstská pozemní osobní doprava"]
[null,null,"49.32","Taxislužba a pronájem osobních vozů s řidičem"]
[null,null,"49.39","Ostatní pozemní osobní doprava j. n."]
[null,null,"49.39.1","Meziměstská pravidelná pozemní osobní doprava"]
[null,null,"49.39.2","Osobní doprava lanovkou nebo vlekem"]
[null,null,"49.39.3","Nepravidelná pozemní osobní doprava"]
[null,null,"49.39.9","Jiná pozemní osobní doprava j. n."]
[]
[null,"49.4",null,"Silniční nákladní doprava a stěhovací služby"]
[null,null,"49.41","Silniční nákladní doprava"]
[null,null,"49.42","Stěhovací služby"]
[]
[null,"49.5",null,"Potrubní doprava"]
[null,null,"49.50","Potrubní doprava"]
[null,null,"49.50.1","Potrubní doprava ropovodem"]
[null,null,"49.50.2","Potrubní doprava plynovodem"]
[null,null,"49.50.9","Potrubní doprava ostatní"]
[]
[50,null,null,"Vodní doprava"]
[]
[null,"50.1",null,"Námořní a pobřežní osobní doprava"]
[null,null,"50.10","Námořní a pobřežní osobní doprava"]
[]
[null,"50.2",null,"Námořní a pobřežní nákladní doprava"]
[null,null,"50.20","Námořní a pobřežní nákladní doprava"]
[]
[null,"50.3",null,"Vnitrozemská vodní osobní doprava"]
[null,null,"50.30","Vnitrozemská vodní osobní doprava"]
[]
[null,"50.4",null,"Vnitrozemská vodní nákladní doprava"]
[null,null,"50.40","Vnitrozemská vodní nákladní doprava"]
[]
[51,null,null,"Letecká doprava"]
[]
[null,"51.1",null,"Letecká osobní doprava"]
[null,null,"51.10","Letecká osobní doprava"]
[null,null,"51.10.1","Vnitrostátní pravidelná letecká osobní doprava"]
[null,null,"51.10.2","Vnitrostátní nepravidelná letecká osobní doprava"]
[null,null,"51.10.3","Mezinárodní pravidelná letecká osobní doprava"]
[null,null,"51.10.4","Mezinárodní nepravidelná letecká osobní doprava"]
[null,null,"51.10.9","Ostatní letecká osobní doprava"]
[]
[null,"51.2",null,"Letecká nákladní doprava a kosmická doprava"]
[null,null,"51.21","Letecká nákladní doprava"]
[null,null,"51.22","Kosmická doprava"]
[]
[52,null,null,"Skladování a vedlejší činnosti v dopravě"]
[]
[null,"52.1",null,"Skladování"]
[null,null,"52.10","Skladování"]
[]
[null,"52.2",null,"Vedlejší činnosti v dopravě"]
[null,null,"52.21","Činnosti související s pozemní dopravou "]
[null,null,"52.22","Činnosti související s vodní dopravou "]
[null,null,"52.23","Činnosti související s leteckou dopravou "]
[null,null,"52.24","Manipulace s nákladem"]
[null,null,"52.29","Ostatní vedlejší činnosti v dopravě"]
[]
[53,null,null,"Poštovní a kurýrní činnosti"]
[]
[null,"53.1",null,"Základní poštovní služby poskytované na základě poštovní licence"]
[null,null,"53.10","Základní poštovní služby poskytované na základě poštovní licence"]
[]
[null,"53.2",null,"Ostatní poštovní a kurýrní činnosti"]
[null,null,"53.20","Ostatní poštovní a kurýrní činnosti"]
[]
[]
[null,null,null,"SEKCE I - UBYTOVÁNÍ, STRAVOVÁNÍ A POHOSTINSTVÍ "]
[]
[55,null,null,"Ubytování"]
[]
[null,"55.1",null,"Ubytování v hotelích a podobných ubytovacích zařízeních"]
[null,null,"55.10","Ubytování v hotelích a podobných ubytovacích zařízeních"]
[null,null,"55.10.1","Hotely"]
[null,null,"55.10.2","Motely, botely"]
[null,null,"55.10.9","Ostatní podobná ubytovací zařízení"]
[]
[null,"55.2",null,"Rekreační a ostatní krátkodobé ubytování"]
[null,null,"55.20","Rekreační a ostatní krátkodobé ubytování"]
[]
[null,"55.3",null,"Kempy a tábořiště "]
[null,null,"55.30","Kempy a tábořiště "]
[]
[null,"55.9",null,"Ostatní ubytování"]
[null,null,"55.90","Ostatní ubytování"]
[null,null,"55.90.1","Ubytování v zařízených pronájmech "]
[null,null,"55.90.2","Ubytování ve vysokoškolských kolejích, domovech mládeže"]
[null,null,"55.90.9","Ostatní ubytování j. n. "]
[]
[56,null,null,"Stravování a pohostinství"]
[]
[null,"56.1",null,"Stravování v restauracích, u stánků a v mobilních zařízeních"]
[null,null,"56.10","Stravování v restauracích, u stánků a v mobilních zařízeních"]
[]
[null,"56.2",null,"Poskytování cateringových a ostatních stravovacích služeb"]
[null,null,"56.21","Poskytování cateringových služeb"]
[null,null,"56.29","Poskytování ostatních stravovacích služeb"]
[null,null,"56.29.1","Stravování v závodních kuchyních"]
[null,null,"56.29.2","Stravování ve školních zařízeních, menzách"]
[null,null,"56.29.9","Poskytování jiných stravovacích služeb j. n."]
[]
[null,"56.3",null,"Pohostinství"]
[null,null,"56.30","Pohostinství"]
[]
[]
[null,null,null,"SEKCE J - INFORMAČNÍ A KOMUNIKAČNÍ ČINNOSTI"]
[]
[58,null,null,"Vydavatelské činnosti"]
[]
[null,"58.1",null,"Vydávání knih, periodických publikací a ostatní vydavatelské činnosti"]
[null,null,"58.11","Vydávání knih"]
[null,null,"58.12","Vydávání adresářů a jiných seznamů "]
[null,null,"58.13","Vydávání novin"]
[null,null,"58.14","Vydávání časopisů a ostatních periodických publikací"]
[null,null,"58.19","Ostatní vydavatelské činnosti"]
[]
[null,"58.2",null,"Vydávání softwaru"]
[null,null,"58.21","Vydávání počítačových her"]
[null,null,"58.29","Ostatní vydávání softwaru"]
[]
[59,null,null,"Činnosti v oblasti filmů, videozáznamů a televizních programů, pořizování zvukových nahrávek a hudební vydavatelské činnosti"]
[]
[null,"59.1",null,"Činnosti v oblasti filmů, videozáznamů a televizních programů "]
[null,null,"59.11","Produkce filmů, videozáznamů a televizních programů"]
[null,null,"59.12","Postprodukce filmů, videozáznamů a televizních programů"]
[null,null,"59.13","Distribuce filmů, videozáznamů a televizních programů"]
[null,null,"59.14","Promítání filmů "]
[]
[null,"59.2",null,"Pořizování zvukových nahrávek a hudební vydavatelské činnosti"]
[null,null,"59.20","Pořizování zvukových nahrávek a hudební vydavatelské činnosti"]
[]
[60,null,null,"Tvorba programů a vysílání"]
[]
[null,"60.1",null,"Rozhlasové vysílání"]
[null,null,"60.10","Rozhlasové vysílání"]
[]
[null,"60.2",null,"Tvorba televizních programů a televizní vysílání"]
[null,null,"60.20","Tvorba televizních programů a televizní vysílání"]
[]
[]
[61,null,null,"Telekomunikační činnosti"]
[]
[null,"61.1",null,"Činnosti související s pevnou telekomunikační sítí"]
[null,null,"61.10","Činnosti související s pevnou telekomunikační sítí"]
[null,null,"61.10.1","Poskytování hlasových služeb přes pevnou telekomunikační síť"]
[null,null,"61.10.2","Pronájem pevné telekomunikační sítě"]
[null,null,"61.10.3","Přenos dat přes pevnou telekomunikační síť"]
[null,null,"61.10.4","Poskytování přístupu k internetu přes pevnou telekomunikační síť"]
[null,null,"61.10.9","Ostatní činnosti související s pevnou telekomunikační sítí"]
[]
[null,"61.2",null,"Činnosti související s bezdrátovou telekomunikační sítí"]
[null,null,"61.20","Činnosti související s bezdrátovou telekomunikační sítí"]
[null,null,"61.20.1","Poskytování hlasových služeb přes bezdrátovou telekomunikační síť"]
[null,null,"61.20.2","Pronájem bezdrátové telekomunikační sítě"]
[null,null,"61.20.3","Přenos dat přes bezdrátovou telekomunikační síť"]
[null,null,"61.20.4","Poskytování přístupu k internetu přes bezdrátovou telekomunikační síť"]
[null,null,"61.20.9","Ostatní činnosti související s bezdrátovou telekomunikační sítí"]
[]
[null,"61.3",null,"Činnosti související se satelitní telekomunikační sítí"]
[null,null,"61.30","Činnosti související se satelitní telekomunikační sítí"]
[]
[null,"61.9",null,"Ostatní telekomunikační činnosti"]
[null,null,"61.90","Ostatní telekomunikační činnosti"]
[]
[]
[62,null,null,"Činnosti v oblasti informačních technologií"]
[]
[null,"62.0",null,"Činnosti v oblasti informačních technologií"]
[null,null,"62.01","Programování"]
[null,null,"62.02","Poradenství v oblasti informačních technologií"]
[null,null,"62.03","Správa počítačového vybavení"]
[null,null,"62.09","Ostatní činnosti v oblasti informačních technologií"]
[]
[]
[63,null,null,"Informační činnosti"]
[]
[null,"63.1",null,"Činnosti související se zpracováním dat a hostingem; činnosti související s webovými portály"]
[null,null,"63.11","Činnosti související se zpracováním dat a hostingem"]
[null,null,"63.12","Činnosti související s webovými portály"]
[]
[null,"63.9",null,"Ostatní informační činnosti "]
[null,null,"63.91","Činnosti zpravodajských tiskových kanceláří a agentur"]
[null,null,"63.99","Ostatní informační činnosti j. n."]
[]
[]
[null,null,null,"SEKCE K - PENĚŽNICTVÍ A POJIŠŤOVNICTVÍ"]
[]
[64,null,null,"Finanční zprostředkování, kromě pojišťovnictví a penzijního financování"]
[]
[null,"64.1",null,"Peněžní zprostředkování"]
[null,null,"64.11","Centrální bankovnictví"]
[null,null,"64.19","Ostatní peněžní zprostředkování"]
[]
[null,"64.2",null,"Činnosti holdingových společností"]
[null,null,"64.20","Činnosti holdingových společností"]
[]
[null,"64.3",null,"Činnosti trustů, fondů a podobných finančních subjektů"]
[null,null,"64.30","Činnosti trustů, fondů a podobných finančních subjektů"]
[]
[null,"64.9",null,"Ostatní finanční zprostředkování"]
[null,null,"64.91","Finanční leasing"]
[null,null,"64.92","Ostatní poskytování úvěrů"]
[null,null,"64.92.1","Poskytování úvěrů společnostmi, které nepřijímají vklady"]
[null,null,"64.92.2","Poskytování obchodních úvěrů"]
[null,null,"64.92.3","Činnosti zastaváren"]
[null,null,"64.92.9","Ostatní poskytování úvěrů j. n."]
[null,null,"64.99","Ostatní finanční zprostředkování j. n."]
[null,null,"64.99.1","Faktoringové činnosti"]
[null,null,"64.99.2","Obchodování s cennými papíry na vlastní účet"]
[null,null,"64.99.9","Jiné finanční zprostředkování j. n."]
[]
[65,null,null,"Pojištění, zajištění a penzijní financování, kromě povinného sociálního zabezpečení"]
[]
[null,"65.1",null,"Pojištění"]
[null,null,"65.11","Životní pojištění"]
[null,null,"65.12","Neživotní pojištění"]
[]
[null,"65.2",null,"Zajištění"]
[null,null,"65.20","Zajištění"]
[]
[null,"65.3",null,"Penzijní financování"]
[null,null,"65.30","Penzijní financování"]
[]
[66,null,null,"Ostatní finanční činnosti"]
[]
[null,"66.1",null,"Pomocné činnosti související s finančním zprostředkováním, kromě pojišťovnictví a penzijního financování"]
[null,null,"66.11","Řízení a správa finančních trhů"]
[null,null,"66.12","Obchodování s cennými papíry a komoditami na burzách"]
[null,null,"66.19","Ostatní pomocné činnosti související s finančním zprostředkováním"]
[]
[null,"66.2",null,"Pomocné činnosti související s pojišťovnictvím a penzijním financováním"]
[null,null,"66.21","Vyhodnocování rizik a škod"]
[null,null,"66.22","Činnosti zástupců pojišťovny a makléřů"]
[null,null,"66.29","Ostatní pomocné činnosti související s pojišťovnictvím a penzijním financováním"]
[]
[null,"66.3",null,"Správa fondů"]
[null,null,"66.30","Správa fondů"]
[]
[]
[null,null,null,"SEKCE L - ČINNOSTI V OBLASTI NEMOVITOSTÍ"]
[]
[68,null,null,"Činnosti v oblasti nemovitostí"]
[]
[null,"68.1",null,"Nákup a následný prodej vlastních nemovitostí"]
[null,null,"68.10","Nákup a následný prodej vlastních nemovitostí"]
[]
[null,"68.2",null,"Pronájem a správa vlastních nebo pronajatých nemovitostí"]
[null,null,"68.20","Pronájem a správa vlastních nebo pronajatých nemovitostí"]
[null,null,"68.20.1","Pronájem vlastních nebo pronajatých nemovitostí s bytovými prostory"]
[null,null,"68.20.2","Pronájem vlastních nebo pronajatých nemovitostí s nebytovými prostory"]
[null,null,"68.20.3","Správa vlastních nebo pronajatých nemovitostí s bytovými prostory "]
[null,null,"68.20.4 ","Správa vlastních nebo pronajatých nemovitostí s nebytovými prostory"]
[]
[null,"68.3",null,"Činnosti v oblasti nemovitostí na základě smlouvy nebo dohody"]
[null,null,"68.31","Zprostředkovatelské činnosti realitních agentur"]
[null,null,"68.32","Správa nemovitostí na základě smlouvy"]
[]
[]
[]
[null,null,null,"SEKCE M - PROFESNÍ, VĚDECKÉ A TECHNICKÉ ČINNOSTI"]
[]
[69,null,null,"Právní a účetnické činnosti"]
[]
[null,"69.1",null,"Právní činnosti"]
[null,null,"69.10","Právní činnosti"]
[]
[null,"69.2",null,"Účetnické a auditorské činnosti; daňové poradenství"]
[null,null,"69.20","Účetnické a auditorské činnosti; daňové poradenství"]
[]
[70,null,null,"Činnosti vedení podniků; poradenství v oblasti řízení"]
[]
[null,"70.1",null,"Činnosti vedení podniků"]
[null,null,"70.10","Činnosti vedení podniků"]
[]
[null,"70.2",null,"Poradenství v oblasti řízení"]
[null,null,"70.21","Poradenství v oblasti vztahů s veřejností a komunikace"]
[null,null,"70.22","Ostatní poradenství v oblasti podnikání a řízení"]
[]
[71,null,null,"Architektonické a inženýrské činnosti; technické zkoušky a analýzy"]
[]
[null,"71.1",null,"Architektonické a inženýrské činnosti a související technické poradenství"]
[null,null,"71.11","Architektonické činnosti"]
[null,null,"71.12","Inženýrské činnosti a související technické poradenství"]
[null,null,"71.12.1","Geologický průzkum"]
[null,null,"71.12.2","Zeměměřické a kartografické činnosti"]
[null,null,"71.12.3","Hydrometeorologické a meteorologické činnosti"]
[null,null,"71.12.9","Ostatní inženýrské činnosti a související technické poradenství j. n."]
[]
[null,"71.2",null,"Technické zkoušky a analýzy"]
[null,null,"71.20","Technické zkoušky a analýzy"]
[null,null,"71.20.1  ","Zkoušky a analýzy vyhrazených technických zařízení"]
[null,null,"71.20.9   ","Ostatní technické zkoušky a analýzy"]
[]
[72,null,null,"Výzkum a vývoj"]
[]
[null,"72.1",null,"Výzkum a vývoj v oblasti přírodních a technických věd"]
[null,null,"72.11","Výzkum a vývoj v oblasti biotechnologie"]
[null,null,"72.19","Ostatní výzkum a vývoj v oblasti přírodních a technických věd"]
[null,null,"72.19.1 ","Výzkum a vývoj v oblasti lékařských věd "]
[null,null,"72.19.2","Výzkum a vývoj v oblasti technických věd"]
[null,null,"72.19.9","Výzkum a vývoj v oblasti jiných přírodních věd"]
[]
[null,"72.2",null,"Výzkum a vývoj v oblasti společenských a humanitních věd"]
[null,null,"72.20","Výzkum a vývoj v oblasti společenských a humanitních věd"]
[]
[73,null,null,"Reklama a průzkum trhu"]
[]
[null,"73.1",null,"Reklamní činnosti"]
[null,null,"73.11","Činnosti reklamních agentur"]
[null,null,"73.12","Zastupování médií při prodeji reklamního času a prostoru"]
[]
[null,"73.2",null,"Průzkum trhu a veřejného mínění"]
[null,null,"73.20","Průzkum trhu a veřejného mínění"]
[]
[74,null,null,"Ostatní profesní, vědecké a technické činnosti"]
[]
[null,"74.1",null,"Specializované návrhářské činnosti "]
[null,null,"74.10","Specializované návrhářské činnosti "]
[]
[null,"74.2",null,"Fotografické činnosti"]
[null,null,"74.20","Fotografické činnosti"]
[]
[null,"74.3",null,"Překladatelské a tlumočnické činnosti"]
[null,null,"74.30","Překladatelské a tlumočnické činnosti"]
[]
[null,"74.9",null,"Ostatní profesní, vědecké a technické činnosti j. n."]
[null,null,"74.90","Ostatní profesní, vědecké a technické činnosti j. n."]
[null,null,"74.90.1","Poradenství v oblasti bezpečnosti a ochrany zdraví při práci"]
[null,null,"74.90.2","Poradenství v oblasti požární ochrany"]
[null,null,"74.90.9","Jiné profesní, vědecké a technické činnosti j. n."]
[]
[75,null,null,"Veterinární činnosti"]
[]
[null,"75.0",null,"Veterinární činnosti"]
[null,null,"75.00","Veterinární činnosti"]
[]
[]
[null,null,null,"SEKCE N - ADMINISTRATIVNÍ A PODPŮRNÉ ČINNOSTI"]
[]
[77,null,null,"Činnosti v oblasti pronájmu a operativního leasingu"]
[]
[null," 77.1",null,"Pronájem a leasing motorových vozidel, kromě motocyklů"]
[null,null,"77.11","Pronájem a leasing automobilů a jiných lehkých motorových vozidel, kromě motocyklů"]
[null,null,"77.12","Pronájem a leasing nákladních automobilů"]
[]
[null,"77.2",null,"Pronájem a leasing výrobků pro osobní potřebu a převážně pro domácnost"]
[null,null,"77.21","Pronájem a leasing rekreačních a sportovních potřeb"]
[null,null,"77.22","Pronájem videokazet a disků"]
[null,null,"77.29","Pronájem a leasing ostatních výrobků pro osobní potřebu a převážně pro domácnost"]
[]
[null,"77.3",null,"Pronájem a leasing ostatních strojů, zařízení a výrobků "]
[null,null,"77.31","Pronájem a leasing zemědělských strojů a zařízení"]
[null,null,"77.32","Pronájem a leasing stavebních strojů a zařízení "]
[null,null,"77.33","Pronájem a leasing kancelářských strojů a zařízení, včetně počítačů"]
[null,null,"77.34","Pronájem a leasing vodních dopravních prostředků"]
[null,null,"77.35","Pronájem a leasing leteckých dopravních prostředků"]
[null,null,"77.39","Pronájem a leasing ostatních strojů, zařízení a výrobků j. n."]
[]
[null,"77.4",null,"Leasing duševního vlastnictví a podobných produktů, kromě děl chráněných autorským právem"]
[null,null,"77.40","Leasing duševního vlastnictví a podobných produktů, kromě děl chráněných autorským právem"]
[]
[78,null,null,"Činnosti související se zaměstnáním"]
[]
[null,"78.1",null,"Činnosti agentur zprostředkujících zaměstnání"]
[null,null,"78.10","Činnosti agentur zprostředkujících zaměstnání"]
[]
[null,"78.2",null,"Činnosti agentur zprostředkujících práci na přechodnou dobu"]
[null,null,"78.20","Činnosti agentur zprostředkujících práci na přechodnou dobu"]
[]
[null,"78.3",null,"Ostatní poskytování lidských zdrojů "]
[null,null,"78.30","Ostatní poskytování lidských zdrojů"]
[]
[79,null,null,"Činnosti cestovních agentur, kanceláří a jiné rezervační a související činnosti"]
[]
[null,"79.1",null,"Činnosti cestovních agentur a cestovních kanceláří"]
[null,null,"79.11","Činnosti cestovních agentur "]
[null,null,"79.12","Činnosti cestovních kanceláří"]
[]
[null,"79.9",null,"Ostatní rezervační a související činnosti"]
[null,null,"79.90","Ostatní rezervační a související činnosti"]
[null,null,"79.90.1","Průvodcovské činnosti"]
[null,null,"79.90.9","Ostatní rezervační a související činnosti j. n."]
[]
[80,null,null,"Bezpečnostní a pátrací činnosti"]
[]
[null,"80.1",null,"Činnosti soukromých bezpečnostních agentur"]
[null,null,"80.10","Činnosti soukromých bezpečnostních agentur"]
[]
[null,"80.2",null,"Činnosti související s provozem bezpečnostních systémů"]
[null,null,"80.20","Činnosti související s provozem bezpečnostních systémů"]
[]
[null,"80.3",null,"Pátrací činnosti"]
[null,null,"80.30","Pátrací činnosti "]
[]
[81,null,null,"Činnosti související se stavbami a úpravou krajiny "]
[]
[null,"81.1",null,"Kombinované pomocné činnosti "]
[null,null,"81.10","Kombinované pomocné činnosti "]
[]
[null,"81.2",null,"Úklidové činnosti"]
[null,null,"81.21","Všeobecný úklid budov"]
[null,null,"81.22","Specializované čištění a úklid budov a průmyslových zařízení"]
[null,null,"81.29","Ostatní úklidové činnosti"]
[]
[null,"81.3",null,"Činnosti související s úpravou krajiny "]
[null,null,"81.30","Činnosti související s úpravou krajiny"]
[]
[82,null,null,"Administrativní, kancelářské a jiné podpůrné činnosti pro podnikání"]
[]
[null,"82.1",null,"Administrativní a kancelářské činnosti"]
[null,null,"82.11","Univerzální administrativní činnosti "]
[null,null,"82.19","Kopírování, příprava dokumentů a ostatní specializované kancelářské podpůrné činnosti "]
[]
[null,"82.2",null,"Činnosti zprostředkovatelských středisek"]
[null,null,null,"po telefonu"]
[null,null,"82.20","Činnosti zprostředkovatelských středisek po telefonu"]
[]
[null,"82.3",null,"Pořádání konferencí a hospodářských výstav"]
[null,null,"82.30","Pořádání konferencí a hospodářských výstav"]
[]
[null,"82.9",null,"Podpůrné činnosti pro podnikání j. n."]
[null,null,"82.91","Inkasní činnosti, ověřování solventnosti zákazníka"]
[null,null,"82.92","Balicí činnosti"]
[null,null,"82.99","Ostatní podpůrné činnosti pro podnikání j. n."]
[]
[]
[null,null,null,"SEKCE O - VEŘEJNÁ SPRÁVA A OBRANA; POVINNÉ SOCIÁLNÍ ZABEZPEČENÍ"]
[]
[84,null,null,"Veřejná správa a obrana; povinné sociální zabezpečení"]
[]
[null,"84.1",null,"Veřejná správa a hospodářská a sociální politika"]
[null,null,"84.11","Všeobecné činnosti veřejné správy"]
[null,null,"84.12","Regulace činností souvisejících s poskytováním zdravotní péče, vzděláváním, kulturou a sociální péčí, kromě sociálního zabezpečení"]
[null,null,"84.13","Regulace a podpora podnikatelského prostředí"]
[]
[null,"84.2",null,"Činnosti pro společnost jako celek"]
[null,null,"84.21","Činnosti v oblasti zahraničních věcí"]
[null,null,"84.21.1","Pomoc cizím zemím při katastrofách nebo v nouzových situacích přímo nebo prostřednictvím mezinárodních organizací"]
[null,null,"84.21.2","Rozvíjení vzájemného přátelství a porozumění mezi národy"]
[null,null,"84.21.9","Ostatní činnosti v oblasti zahraničních věcí"]
[null,null,"84.22","Činnosti v oblasti obrany"]
[null,null,"84.23","Činnosti v oblasti spravedlnosti a soudnictví"]
[null,null,"84.24","Činnosti v oblasti veřejného pořádku a bezpečnosti "]
[null,null,"84.25","Činnosti v oblasti protipožární ochrany"]
[]
[null," 84.3",null,"Činnosti v oblasti povinného sociálního zabezpečení"]
[null,null,"84.30","Činnosti v oblasti povinného sociálního zabezpečení"]
[]
[]
[null,null,null,"SEKCE P – VZDĚLÁVÁNÍ"]
[]
[85,null,null,"Vzdělávání"]
[]
[null,"85.1",null,"Předškolní vzdělávání"]
[null,null,"85.10","Předškolní vzdělávání"]
[]
[null,"85.2",null,"Primární vzdělávání"]
[null,null,"85.20","Primární vzdělávání"]
[]
[null,"85.3",null,"Sekundární vzdělávání"]
[null,null,"85.31","Sekundární všeobecné vzdělávání"]
[null,null,"85.31.1","Základní vzdělávání na druhém stupni základních škol"]
[null,null,"85.31.2","Střední všeobecné vzdělávání"]
[null,null,"85.32","Sekundární odborné vzdělávání"]
[null,null,"85.32.1","Střední odborné vzdělávání na učilištích"]
[null,null,"85.32.2","Střední odborné vzdělávání na středních odborných školách"]
[]
[null,"85.4",null,"Postsekundární vzdělávání"]
[null,null,"85.41","Postsekundární nikoli terciární vzdělávání"]
[null,null,"85.42","Terciární vzdělávání"]
[]
[null,"85.5",null,"Ostatní vzdělávání"]
[null,null,"85.51","Sportovní a rekreační vzdělávání"]
[null,null,"85.52","Umělecké vzdělávání"]
[null,null,"85.53","Činnosti autoškol a jiných škol řízení"]
[null,null,"85.53.1","Činnosti autoškol"]
[null,null,"85.53.2","Činnosti leteckých škol"]
[null,null,"85.53.9","Činnosti ostatních škol řízení"]
[null,null,"85.59","Ostatní vzdělávání j. n."]
[null,null,"85.59.1","Vzdělávání v jazykových školách"]
[null,null,"85.59.2","Environmentální vzdělávání"]
[null,null,"85.59.3","Inovační vzdělávání"]
[null,null,"85.59.9","Jiné vzdělávání j. n."]
[]
[null,"85.6",null,"Podpůrné činnosti ve vzdělávání"]
[null,null,"85.60","Podpůrné činnosti ve vzdělávání"]
[]
[]
[null,null,null,"SEKCE Q - ZDRAVOTNÍ A SOCIÁLNÍ PÉČE"]
[]
[86,null,null,"Zdravotní péče"]
[]
[null,"86.1",null,"Ústavní zdravotní péče"]
[null,null,"86.10","Ústavní zdravotní péče"]
[]
[null,"86.2",null,"Ambulantní a zubní zdravotní péče"]
[null,null,"86.21","Všeobecná ambulantní zdravotní péče"]
[null,null,"86.22","Specializovaná ambulantní zdravotní péče"]
[null,null,"86.23","Zubní péče"]
[]
[null,"86.9",null,"Ostatní činnosti související se zdravotní péčí"]
[null,null,"86.90","Ostatní činnosti související se zdravotní péčí"]
[null,null,"86.90.1","Činnosti související s ochranou veřejného zdraví"]
[null,null,"86.90.9","Ostatní činnosti související se zdravotní péčí j. n."]
[]
[87,null,null,"Pobytové služby sociální péče"]
[]
[null,"87.1",null,"Sociální péče ve zdravotnických zařízeních ústavní péče"]
[null,null,"87.10","Sociální péče ve zdravotnických zařízeních ústavní péče"]
[]
[null,"87.2",null,"Sociální péče v zařízeních pro osoby s chronickým duševním onemocněním a osoby závislé na návykových látkách"]
[null,null,"87.20","Sociální péče v zařízeních pro osoby s chronickým duševním onemocněním a osoby závislé na návykových látkách"]
[null,null,"87.20.1","Sociální péče v zařízeních pro osoby s chronickým duševním onemocněním"]
[null,null,"87.20.2","Sociální péče v zařízeních pro osoby závislé na návykových látkách"]
[]
[null,"87.3",null,"Sociální péče v domovech pro seniory a osoby se zdravotním postižením"]
[null,null,"87.30","Sociální péče v domovech pro seniory a osoby se zdravotním postižením"]
[null,null,"87.30.1","Sociální péče v domovech pro seniory"]
[null,null,"87.30.2","Sociální péče v domovech pro osoby se zdravotním postižením"]
[]
[null,"87.9",null,"Ostatní pobytové služby sociální péče"]
[null,null,"87.90","Ostatní pobytové služby sociální péče"]
[]
[88,null,null,"Ambulantní nebo terénní sociální služby"]
[]
[null,"88.1",null,"Ambulantní nebo terénní sociální služby pro seniory a osoby se zdravotním postižením"]
[null,null,"88.10","Ambulantní nebo terénní sociální služby pro seniory a osoby se zdravotním postižením"]
[null,null,"88.10.1","Ambulantní nebo terénní sociální služby pro seniory"]
[null,null,"88.10.2","Ambulantní nebo terénní sociální služby pro osoby se zdravotním postižením"]
[]
[null,"88.9",null,"Ostatní ambulantní nebo terénní sociální služby"]
[null,null,"88.91","Sociální služby poskytované dětem"]
[null,null,"88.99","Ostatní ambulantní nebo terénní sociální služby j. n."]
[null,null,"88.99.1","Sociální služby pro uprchlíky, oběti katastrof"]
[null,null,"88.99.2","Sociální prevence"]
[null,null,"88.99.3","Sociální rehabilitace"]
[null,null,"88.99.9","Jiné ambulantní nebo terénní sociální služby j. n."]
[]
[]
[null,null,null,"SEKCE R - KULTURNÍ, ZÁBAVNÍ A REKREAČNÍ ČINNOSTI"]
[]
[90,null,null,"Tvůrčí, umělecké a zábavní činnosti"]
[]
[null,"90.0",null,"Tvůrčí, umělecké a zábavní činnosti"]
[null,null,"90.01","Scénická umění"]
[null,null,"90.02","Podpůrné činnosti pro scénická umění"]
[null,null,"90.03","Umělecká tvorba"]
[null,null,"90.04","Provozování kulturních zařízení"]
[]
[91,null,null,"Činnosti knihoven, archivů, muzeí a jiných kulturních zařízení"]
[]
[null,"91.0",null,"Činnosti knihoven, archivů, muzeí a jiných kulturních zařízení"]
[null,null,"91.01","Činnosti knihoven a archivů"]
[null,null,"91.02","Činnosti muzeí"]
[null,null,"91.03","Provozování kulturních památek, historických staveb a obdobných turistických zajímavostí"]
[null,null,"91.04","Činnosti botanických a zoologických zahrad, přírodních rezervací a národních parků"]
[null,null,"91.04.1","Činnosti botanických a zoologických zahrad"]
[null,null,"91.04.2","Činnosti přírodních rezervací a národních parků"]
[]
[92,null,null,"Činnosti heren, kasin a sázkových kanceláří"]
[]
[null,"92.0",null,"Činnosti heren, kasin a sázkových kanceláří"]
[null,null,"92.00","Činnosti heren, kasin a sázkových kanceláří"]
[]
[93,null,null,"Sportovní, zábavní a rekreační činnosti "]
[]
[null,"93.1",null,"Sportovní činnosti"]
[null,null,"93.11","Provozování sportovních zařízení"]
[null,null,"93.12","Činnosti sportovních klubů"]
[null,null,"93.13","Činnosti fitcenter"]
[null,null,"93.19","Ostatní sportovní činnosti"]
[]
[null,"93.2",null,"Ostatní zábavní a rekreační činnosti"]
[null,null,"93.21","Činnosti lunaparků a zábavních parků"]
[null,null,"93.29","Ostatní zábavní a rekreační činnosti j. n."]
[]
[]
[null,null,null,"SEKCE S - OSTATNÍ ČINNOSTI"]
[]
[94,null,null,"Činnosti organizací sdružujících osoby za účelem prosazování společných zájmů"]
[]
[null,"94.1",null,"Činnosti podnikatelských, zaměstnavatelských a profesních organizací"]
[null,null,"94.11","Činnosti podnikatelských a zaměstnavatelských organizací"]
[null,null,"94.12","Činnosti profesních organizací"]
[]
[null,"94.2",null,"Činnosti odborových svazů"]
[null,null,"94.20","Činnosti odborových svazů"]
[]
[null,"94.9",null,"Činnosti ostatních organizací sdružujících osoby za účelem prosazování společných zájmů"]
[null,null,"94.91","Činnosti náboženských organizací"]
[null,null,"94.92","Činnosti politických stran a organizací"]
[null,null,"94.99","Činnosti ostatních organizací sdružujících osoby za účelem prosazování společných zájmů j. n."]
[null,null,"94.99.1","Činnosti organizací dětí a mládeže "]
[null,null,"94.99.2","Činnosti organizací na podporu kulturní činnosti"]
[null,null,"94.99.3","Činnosti organizací na podporu rekreační a zájmové činnosti"]
[null,null,"94.99.4","Činnosti spotřebitelských organizací"]
[null,null,"94.99.5","Činnosti environmentálních a ekologických hnutí"]
[null,null,"94.99.6","Činnosti organizací na ochranu a zlepšení postavení etnických, menšinových a jiných speciálních skupin"]
[null,null,"94.99.7","Činnosti občanských iniciativ, protestních hnutí"]
[null,null,"94.99.9","Činnosti ostatních organizací j. n."]
[]
[95,null,null,"Opravy počítačů a výrobků pro osobní potřebu a převážně pro domácnost"]
[]
[null,"95.1",null,"Opravy počítačů a komunikačních zařízení"]
[null,null,"95.11","Opravy počítačů a periferních zařízení"]
[null,null,"95.12","Opravy komunikačních zařízení"]
[]
[null,"95.2",null,"Opravy výrobků pro osobní potřebu a převážně pro domácnost"]
[null,null,"95.21","Opravy spotřební elektroniky "]
[null,null,"95.22","Opravy přístrojů a zařízení převážně pro domácnost, dům a zahradu"]
[null,null,"95.23","Opravy obuvi a kožených výrobků"]
[null,null,"95.24","Opravy nábytku a bytového zařízení"]
[null,null,"95.25","Opravy hodin, hodinek a klenotnických výrobků"]
[null,null,"95.29","Opravy ostatních výrobků pro osobní potřebu a převážně pro domácnost"]
[]
[96,null,null,"Poskytování ostatních osobních služeb"]
[]
[null,"96.0",null,"Poskytování ostatních osobních služeb"]
[null,null,"96.01","Praní a chemické čištění textilních a kožešinových výrobků"]
[null,null,"96.02","Kadeřnické, kosmetické a podobné činnosti "]
[null,null,"96.03","Pohřební a související činnosti "]
[null,null,"96.04","Činnosti pro osobní a fyzickou pohodu"]
[null,null,"96.09","Poskytování ostatních osobních služeb j. n."]
[]
[]
[null,null,null,"SEKCE T - ČINNOSTI DOMÁCNOSTÍ JAKO ZAMĚSTNAVATELŮ; ČINNOSTI DOMÁCNOSTÍ PRODUKUJÍCÍCH BLÍŽE NEURČENÉ VÝROBKY A SLUŽBY PRO VLASTNÍ POTŘEBU"]
[]
[97,null,null,"Činnosti domácností jako zaměstnavatelů domácího personálu "]
[]
[null,"97.0",null,"Činnosti domácností jako zaměstnavatelů domácího personálu "]
[null,null,"97.00","Činnosti domácností jako zaměstnavatelů domácího personálu "]
[]
[98,null,null,"Činnosti domácností produkujících blíže neurčené výrobky a služby pro vlastní potřebu"]
[]
[null," 98.1",null,"Činnosti domácností produkujících blíže neurčené výrobky pro vlastní potřebu"]
[null,null,"98.10","Činnosti domácností produkujících blíže neurčené výrobky pro vlastní potřebu"]
[]
[null,"98.2",null,"Činnosti domácností poskytujících blíže neurčené služby pro vlastní potřebu"]
[null,null,"98.20","Činnosti domácností poskytujících blíže neurčené služby pro vlastní potřebu"]
[]
[]
[null,null,null,"SEKCE U - ČINNOSTI EXTERITORIÁLNÍCH ORGANIZACÍ A ORGÁNŮ"]
[]
[99,null,null,"Činnosti exteritoriálních organizací a orgánů"]
[]
[null,"99.0",null,"Činnosti exteritoriálních organizací a orgánů"]
[null,null,"99.00","Činnosti exteritoriálních organizací a orgánů"]